{"text_format":"1","workbook":"xlsx","n_sheets":7,"sheets":["申込みフォーム","申込内容の確認","→これより右側　健診センター作業シート","【健診センター用】確認シート","【健診センター用】受診日決定シート","作業用","受診者リスト(抽出用）"],"not_rendered":{"charts":0,"images":0,"macros":1,"external_links":0,"defined_names":6,"comments":0,"pivot_tables":0},"unopened":[],"bounds":{"document_bytes":16777216,"sheet_cells":100000,"rows_first":2000,"rows_last":500,"rows_between":2000,"halvings":0,"cell_chars":16384,"cell_head_chars":4096},"cells_cut":0,"cells_raw":0,"read":"whole","date_system":"1900"}

{"sheet":"申込みフォーム","index":0,"n_rows":160,"n_cols":66,"rows_kept":160,"cut":false,"hidden":false,"merged":[[1,18,1,20],[2,1,2,3],[2,4,2,6],[2,13,2,14],[2,15,2,16],[3,1,3,3],[3,4,3,6],[3,13,3,16],[4,1,4,3],[4,4,4,6],[4,13,4,14],[4,15,4,16],[4,18,4,20],[6,1,6,11],[6,12,6,16],[6,19,6,26],[6,27,6,29],[6,30,6,35],[6,36,6,45],[6,46,6,48],[6,49,6,50],[6,51,6,52],[6,53,6,54],[6,55,6,60],[7,19,7,20],[7,21,7,22],[7,23,7,24],[8,15,8,16],[9,19,9,26],[2,18,3,20],[2,62,3,62],[7,25,8,25],[7,62,9,62],[8,0,9,0],[8,1,9,1],[8,2,9,2],[8,3,9,3],[8,4,9,4],[8,5,9,5],[8,6,9,6],[8,7,9,7],[8,8,9,8],[8,9,9,9],[8,10,9,10],[8,11,9,11],[8,12,9,12],[8,13,9,13],[8,14,9,14],[8,17,9,17],[8,18,9,18],[8,27,9,29],[8,30,9,35],[8,36,9,45],[8,46,9,48],[8,49,9,50],[8,51,9,52],[8,53,9,54],[8,55,9,60],[8,61,9,61]]}
[{"$f":"作業用!J4","v":"令和8年度伊勢病院専用申込書（予約フォーム専用）（８月・９月申込分）"}]
[null,null,null,null,null,null,null,null,null,null,null,null,null,null,null,null,null,null,"（事業所情報）　必須項目確認",null,null,null,null,null,null,null,null,null,null,null,null,null,null,null,null,null,null,null,null,null,null,null,null,null,null,null,null,null,null,null,null,null,null,null,null,null,null,null,null,null,null,null,"（事業所情報）　必須項目確認"]
["事業所情報","事業所名\n協会けんぽに加入の場合は\n「対象者一覧」に記載の事業所名",null,null,"担当者氏名\n氏と名の間に\nスペースを入れてください",null,null,"担当者氏名（カナ）\n氏と名の間に\nスペースを入れてください","郵便番号\nハイフンなし","住所","固定番号\nハイフンなし","携帯番号\nハイフンなし","FAX\nハイフンなし","支払方法（受診コース）",null,"支払方法（オプション）",null,"事業所名（カナ）\n※新規事業所のみ","↓　「必須項目漏れあり」と表示された場合は、\n　　事業所情報の黄色のセルで表示されている\n　　部分を確認してください。",null,null,null,null,null,null,null,null,null,null,null,null,null,null,null,null,null,null,null,null,null,null,null,null,null,null,null,null,null,null,null,null,null,null,null,null,null,null,null,null,null,null,null,"↓　「必須項目漏れあり」と表示された場合は、\n　　事業所情報の黄色のセルで表示されている\n　　部分を確認してください。"]
["（記入例　等）","株式会社　伊勢健診",null,null,"伊勢　太郎",null,null,"イセ　タロウ",5160014,"三重県伊勢市楠部町〇〇××番地","0596〇〇××××","090〇〇〇〇××××","0596〇〇××××","※新規事業者は、「本人支払」のみの対応となります\n※年度途中の変更はできません",null,null,null,"カブシキカイシャ　イセケンシン"]
[null,null,null,null,null,null,null,null,null,null,null,null,null,null,null,null,null,null,{"$f":"IF(COUNTIF($B5:$B5,\"\")>0,\"必須項目漏れあり\",IF(COUNTIF($E5:$E5,\"\")>0,\"必須項目漏れあり\",IF(COUNTIF($H5:$J5,\"\")>0,\"必須項目漏れあり\",IF(AND($K5=\"\",$L5=\"\"),\"必須項目漏れあり\",IF(COUNTIF($N5:$N5,\"\")>0,\"必須項目漏れあり\",IF(COUNTIF($P5:$P5,\"\")>0,\"必須項目漏れあり\",\"申込準備完了（事業所情報）\"))))))","v":"必須項目漏れあり"},null,null,null,null,null,null,null,null,null,null,null,null,null,null,null,null,null,null,null,null,null,null,null,null,null,null,null,null,null,null,null,null,null,null,null,null,null,null,null,null,null,null,null,{"$f":"IF(COUNTIF($B5:$B5,\"\")>0,\"必須項目漏れあり\",IF(COUNTIF($E5:$E5,\"\")>0,\"必須項目漏れあり\",IF(COUNTIF($H5:$J5,\"\")>0,\"必須項目漏れあり\",IF(AND($K5=\"\",$L5=\"\"),\"必須項目漏れあり\",IF(COUNTIF($N5:$N5,\"\")>0,\"必須項目漏れあり\",IF(COUNTIF($P5:$P5,\"\")>0,\"必須項目漏れあり\",\"申込準備完了（事業所情報）\"))))))","v":"必須項目漏れあり"}]
[null,null,null,null,null,null,null,null,null,null,null,null,null,null,null,null,null,null,null,null,null,null,null,null,null,null,null,null,null,null,null,null,null,null,null,null,null,null,null,null,null,null,null,null,null,null,null,null,null,null,null,null,null,null,null,null,null,null,null,null,null,{"$f":"COUNTIF($BK$11:$BK$161,\"*申込準備完了*\")","v":0},{"$f":"COUNTIF($BK$11:$BK$161,\"必須項目漏れあり\")","v":0}]
[null,"受診者情報　※住所、電話番号は社用の情報ではなく、受診者ご自身の情報を記入してください",null,null,null,null,null,null,null,null,null,null,"保険証情報　",null,null,null,null,"受診コース","胃検査","協会けんぽ補助対象（条件あり）オプション",null,null,null,null,null,null,null,"婦人科オプション",null,null,"血液検査オプション",null,null,null,null,null,"その他オプション",null,null,null,null,null,null,null,null,null,"受診希望",null,null,"受診希望月",null,"受診希望月",null,"受診希望月",null,"受診希望月",null,null,null,null,null,"備考","（健診申込）　必須項目確認"]
["健診申込","氏名\n（氏）","氏名\n（名）","令和8年度末年齢","氏名\n（氏・フリカナ）","氏名\n（名・フリカナ）","性別","生年月日","郵便番号\nハイフンなし","住所","固定電話\nハイフンなし","携帯電話\nハイフンなし","保険種別","本人・家族区分","保険者番号","記号","番号","受診コース","胃検査","子宮がん",null,"ﾏﾝﾓｸﾞﾗﾌｨ",null,"骨密度",null,"セルが赤くなっている項目は、\n条件対象外の方です。\n下記のオプションを再度ご確認ください。","肝炎ｳｲﾙｽ　\n(HBs抗原、HCV抗体)","子宮がん\n（細胞診・\n膣エコー）","ﾏﾝﾓｸﾞﾗﾌｨ","乳腺ｴｺｰ","腫瘍ﾏｰｶｰ","心機能","ABC　(ﾋﾟﾛﾘ+ﾍﾟﾌﾟｼﾉｹﾞﾝ)","LOX-index","甲状腺ﾎﾙﾓﾝ","肝炎ｳｲﾙｽ　(HBs抗原･抗体､HCV抗体)","脳ﾄﾞｯｸ","胸部CT","肺機能","腹ｴｺｰ","心臓ｴｺｰ","腸内\nﾌﾛｰﾗ","OCT","検便\n(便潜血)","骨密度","骨密度\n＋ﾛｺﾓ","第一候補","第二候補","第三候補","４月","５月","６月","７月","８月","９月","１０月","１１月","１２月","１月","２月","３月","その他ご要望など","↓　「必須項目漏れあり」と表示された場合は、\n　　健診申込の黄色のセルで表示されている\n　　部分を確認してください。"]
["（記入例　等）","伊勢","花子","（自動計算）\n入力不要","イセ","ハナコ","「男」\n「女」\nどちらかを選択","（西暦入力の場合）　　　　 　1980/4/1\n（和暦（昭和）入力の場合）　S55/4/1\n（和暦（平成）入力の場合）　H2/4/1\n※和暦入力後の表示は西暦になります",5160014,"三重県伊勢市楠部町〇〇××番地　伊勢ハイツ101号室","0596〇〇××××\n※ない場合は\n入力不要","090〇〇〇〇××××","「協会けんぽ」\n「その他」\nどちらかを選択","「本人」\n「家族」\nどちらかを選択","※協会けんぽ８桁\n※後期高齢８桁\n※国保６桁"," 「資格情報のお知らせ」や\n 「対象者一覧」にて ご確認下さい",null,"　ご希望の受診コースを選択して下さい\n\n　※当院コース（自費）に協会けんほ補助対象オプション「子宮がん」を追加する場合は、受診コースは当院コースを選択し、オプションで協会けんほ補助対象「子宮がん」を追加してください。","　　胃検査の内容を選択して下さい\n　※受診コースに胃検査が含まれずオプション追加されない場合もご記載ください。\n　※例年、『経鼻ｶﾒﾗ』　『胃検査なし・胃検査ｷｬﾝｾﾙ』については、希望者が多いため、ご希望に添えない場合がありますので、ご承知おきください。","対象の有無","【条件】\n・20歳以上の女性\n・受診年度の年齢が偶数","対象の有無","【条件】・40歳以上の女性　・受診年度の年齢が偶数\n※40代は2方向、50代以上は1方向\n→50代以上で2方向を希望の場合は、婦人科オプションで選択してください（自費）。","対象の有無","【条件】\n・40歳以上の女性\n・受診年度の年齢が偶数",null,"【条件】\n・一度も協会けんぽの補助を受けていない方","ご希望のオプションがある場合は、\n選択して下さい",null,null,"ご希望のオプションがある場合は、選択して下さい",null,null,null,null,null,"ご希望のオプションがある場合は、選択して下さい",null,null,null,null,null,null,null,null,null,"　受診希望日を、第三候補まで入力してください　　（例）4/1\nご記載がない場合は、当センターにて最短日を希望として処理させて頂きます　",null,null,"↓ご希望の受診月を選択して下さい\nご記載がない場合は、当センターにて最短日を希望として処理させて頂きます",null,"↓ご希望の受診月を選択して下さい\nご記載がない場合は、当センターにて最短日を希望として処理させて頂きます",null,"↓ご希望の受診月を選択して下さい\nご記載がない場合は、当センターにて最短日を希望として処理させて頂きます",null,"↓ご希望の受診月を選択して下さい\nご記載がない場合は、当センターにて最短日を希望として処理させて頂きます",null,null,null,null,null,"　受診希望日や曜日がございましたらご記入下さい\n※ご希望に沿えない場合は、近接した日程で調整させて頂きます"]
[null,null,null,null,null,null,null,null,null,null,null,null,null,null,null,"国保・後期は入力不要","枝番は入力不要",null,null,"ご希望のオプションがある場合は、選択して下さい（セルが赤くなった場合は、条件対象外の方になります）"]
[1,null,null,{"$f":"IF(H11<>\"\",DATEDIF(H11,作業用!$K$4,\"Y\"),\"\")","v":""},null,null,null,null,null,null,null,null,null,null,null,null,null,null,null,{"$f":"IF($B11<>\"\",IF($BL11=\"協会子宮がん対象外\",\"対象外\",\"対象\"),\"\")","v":""},null,{"$f":"IF($B11<>\"\",IF($BM11=\"協会ﾏﾝﾓｸﾞﾗﾌｨｰ対象外\",\"対象外\",\"対象\"),\"\")","v":""},null,{"$f":"IF($B11<>\"\",IF($BN11=\"協会骨対象外\",\"対象外\",\"対象\"),\"\")","v":""},null,{"$f":"IF($U11=\"\",\"\",IF(AND(NOT(ISBLANK($U11)),OR($D11<20,$D11>75,$G11=\"男\",ISODD($D11),$M11=\"その他\",$N11=\"家族\")),\"協会子宮がん\",\"\"))&IF($W11=\"\",\"\",IF(AND(NOT(ISBLANK($W11)),OR($D11<40,$D11>75,$G11=\"男\",ISODD($D11),$M11=\"その他\",$N11=\"家族\")),\"　協会ﾏﾝﾓｸﾞﾗﾌｨｰ\",\"\"))&IF($Y11=\"\",\"\",IF(AND(NOT(ISBLANK($Y11)),OR($D11<40,$D11>75,$G11=\"男\",ISODD(D11),$M11=\"その他\",$N11=\"家族\")),\"　協会骨密度\",\"\"))","v":""},null,null,null,null,null,null,null,null,null,null,null,null,null,null,null,null,null,null,null,null,null,null,null,null,null,null,null,null,null,null,null,null,null,null,null,null,{"$f":"IF($B11=\"\",\"\",IF(AND($K11=\"\",$L11=\"\"),\"必須項目漏れあり\",IF(AND($B11<>\"\",COUNTIF($B11:$J11,\"\")>0),\"必須項目漏れあり\",IF(AND($B11<>\"\",COUNTIF($M11:$O11,\"\")>0),\"必須項目漏れあり\",IF(AND($B11<>\"\",COUNTIF($Q11:$S11,\"\")>0),\"必須項目漏れあり\",\"申込準備完了\"&\"(\"&申込内容の確認!$B2&\"様分)\")))))","v":""},{"$f":"IF(AND(NOT(ISBLANK($B11)),OR($D11<20,$D11>75,$G11=\"男\",ISODD($D11),$M11=\"その他\",$N11=\"家族\")),\"協会子宮がん対象外\",\"\")","v":{"$error":"#VALUE!"}},{"$f":"IF(AND(NOT(ISBLANK($B11)),OR($D11<40,$D11>75,$G11=\"男\",ISODD($D11),$M11=\"その他\",$N11=\"家族\")),\"協会ﾏﾝﾓｸﾞﾗﾌｨｰ対象外\",\"\")","v":{"$error":"#VALUE!"}},{"$f":"IF(AND(NOT(ISBLANK($B11)),OR($D11<40,$D11>75,$G11=\"男\",ISODD(D11),$M11=\"その他\",$N11=\"家族\")),\"協会骨対象外\",\"\")","v":{"$error":"#VALUE!"}}]
[2,null,null,{"$f":"IF(H12<>\"\",DATEDIF(H12,作業用!$K$4,\"Y\"),\"\")","v":""},null,null,null,null,null,null,null,null,null,null,null,null,null,null,null,"",null,"",null,"",null,"",null,null,null,null,null,null,null,null,null,null,null,null,null,null,null,null,null,null,null,null,null,null,null,null,null,null,null,null,null,null,null,null,null,null,null,null,{"$f":"IF($B12=\"\",\"\",IF(AND($K12=\"\",$L12=\"\"),\"必須項目漏れあり\",IF(AND($B12<>\"\",COUNTIF($B12:$J12,\"\")>0),\"必須項目漏れあり\",IF(AND($B12<>\"\",COUNTIF($M12:$O12,\"\")>0),\"必須項目漏れあり\",IF(AND($B12<>\"\",COUNTIF($Q12:$S12,\"\")>0),\"必須項目漏れあり\",\"申込準備完了\"&\"(\"&申込内容の確認!$B3&\"様分)\")))))","v":""},{"$error":"#VALUE!"},{"$error":"#VALUE!"},{"$error":"#VALUE!"}]
[3,null,null,{"$f":"IF(H13<>\"\",DATEDIF(H13,作業用!$K$4,\"Y\"),\"\")","v":""},null,null,null,null,null,null,null,null,null,null,null,null,null,null,null,"",null,"",null,"",null,"",null,null,null,null,null,null,null,null,null,null,null,null,null,null,null,null,null,null,null,null,null,null,null,null,null,null,null,null,null,null,null,null,null,null,null,null,{"$f":"IF($B13=\"\",\"\",IF(AND($K13=\"\",$L13=\"\"),\"必須項目漏れあり\",IF(AND($B13<>\"\",COUNTIF($B13:$J13,\"\")>0),\"必須項目漏れあり\",IF(AND($B13<>\"\",COUNTIF($M13:$O13,\"\")>0),\"必須項目漏れあり\",IF(AND($B13<>\"\",COUNTIF($Q13:$S13,\"\")>0),\"必須項目漏れあり\",\"申込準備完了\"&\"(\"&申込内容の確認!$B4&\"様分)\")))))","v":""},{"$error":"#VALUE!"},{"$error":"#VALUE!"},{"$error":"#VALUE!"}]
[4,null,null,{"$f":"IF(H14<>\"\",DATEDIF(H14,作業用!$K$4,\"Y\"),\"\")","v":""},null,null,null,null,null,null,null,null,null,null,null,null,null,null,null,"",null,"",null,"",null,"",null,null,null,null,null,null,null,null,null,null,null,null,null,null,null,null,null,null,null,null,null,null,null,null,null,null,null,null,null,null,null,null,null,null,null,null,{"$f":"IF($B14=\"\",\"\",IF(AND($K14=\"\",$L14=\"\"),\"必須項目漏れあり\",IF(AND($B14<>\"\",COUNTIF($B14:$J14,\"\")>0),\"必須項目漏れあり\",IF(AND($B14<>\"\",COUNTIF($M14:$O14,\"\")>0),\"必須項目漏れあり\",IF(AND($B14<>\"\",COUNTIF($Q14:$S14,\"\")>0),\"必須項目漏れあり\",\"申込準備完了\"&\"(\"&申込内容の確認!$B5&\"様分)\")))))","v":""},{"$error":"#VALUE!"},{"$error":"#VALUE!"},{"$error":"#VALUE!"}]
[5,null,null,{"$f":"IF(H15<>\"\",DATEDIF(H15,作業用!$K$4,\"Y\"),\"\")","v":""},null,null,null,null,null,null,null,null,null,null,null,null,null,null,null,"",null,"",null,"",null,"",null,null,null,null,null,null,null,null,null,null,null,null,null,null,null,null,null,null,null,null,null,null,null,null,null,null,null,null,null,null,null,null,null,null,null,null,{"$f":"IF($B15=\"\",\"\",IF(AND($K15=\"\",$L15=\"\"),\"必須項目漏れあり\",IF(AND($B15<>\"\",COUNTIF($B15:$J15,\"\")>0),\"必須項目漏れあり\",IF(AND($B15<>\"\",COUNTIF($M15:$O15,\"\")>0),\"必須項目漏れあり\",IF(AND($B15<>\"\",COUNTIF($Q15:$S15,\"\")>0),\"必須項目漏れあり\",\"申込準備完了\"&\"(\"&申込内容の確認!$B6&\"様分)\")))))","v":""},{"$error":"#VALUE!"},{"$error":"#VALUE!"},{"$error":"#VALUE!"}]
[6,null,null,{"$f":"IF(H16<>\"\",DATEDIF(H16,作業用!$K$4,\"Y\"),\"\")","v":""},null,null,null,null,null,null,null,null,null,null,null,null,null,null,null,"",null,"",null,"",null,"",null,null,null,null,null,null,null,null,null,null,null,null,null,null,null,null,null,null,null,null,null,null,null,null,null,null,null,null,null,null,null,null,null,null,null,null,{"$f":"IF($B16=\"\",\"\",IF(AND($K16=\"\",$L16=\"\"),\"必須項目漏れあり\",IF(AND($B16<>\"\",COUNTIF($B16:$J16,\"\")>0),\"必須項目漏れあり\",IF(AND($B16<>\"\",COUNTIF($M16:$O16,\"\")>0),\"必須項目漏れあり\",IF(AND($B16<>\"\",COUNTIF($Q16:$S16,\"\")>0),\"必須項目漏れあり\",\"申込準備完了\"&\"(\"&申込内容の確認!$B7&\"様分)\")))))","v":""},{"$error":"#VALUE!"},{"$error":"#VALUE!"},{"$error":"#VALUE!"}]
[7,null,null,{"$f":"IF(H17<>\"\",DATEDIF(H17,作業用!$K$4,\"Y\"),\"\")","v":""},null,null,null,null,null,null,null,null,null,null,null,null,null,null,null,"",null,"",null,"",null,"",null,null,null,null,null,null,null,null,null,null,null,null,null,null,null,null,null,null,null,null,null,null,null,null,null,null,null,null,null,null,null,null,null,null,null,null,{"$f":"IF($B17=\"\",\"\",IF(AND($K17=\"\",$L17=\"\"),\"必須項目漏れあり\",IF(AND($B17<>\"\",COUNTIF($B17:$J17,\"\")>0),\"必須項目漏れあり\",IF(AND($B17<>\"\",COUNTIF($M17:$O17,\"\")>0),\"必須項目漏れあり\",IF(AND($B17<>\"\",COUNTIF($Q17:$S17,\"\")>0),\"必須項目漏れあり\",\"申込準備完了\"&\"(\"&申込内容の確認!$B8&\"様分)\")))))","v":""},{"$error":"#VALUE!"},{"$error":"#VALUE!"},{"$error":"#VALUE!"}]
[8,null,null,{"$f":"IF(H18<>\"\",DATEDIF(H18,作業用!$K$4,\"Y\"),\"\")","v":""},null,null,null,null,null,null,null,null,null,null,null,null,null,null,null,"",null,"",null,"",null,"",null,null,null,null,null,null,null,null,null,null,null,null,null,null,null,null,null,null,null,null,null,null,null,null,null,null,null,null,null,null,null,null,null,null,null,null,{"$f":"IF($B18=\"\",\"\",IF(AND($K18=\"\",$L18=\"\"),\"必須項目漏れあり\",IF(AND($B18<>\"\",COUNTIF($B18:$J18,\"\")>0),\"必須項目漏れあり\",IF(AND($B18<>\"\",COUNTIF($M18:$O18,\"\")>0),\"必須項目漏れあり\",IF(AND($B18<>\"\",COUNTIF($Q18:$S18,\"\")>0),\"必須項目漏れあり\",\"申込準備完了\"&\"(\"&申込内容の確認!$B9&\"様分)\")))))","v":""},{"$error":"#VALUE!"},{"$error":"#VALUE!"},{"$error":"#VALUE!"}]
[9,null,null,{"$f":"IF(H19<>\"\",DATEDIF(H19,作業用!$K$4,\"Y\"),\"\")","v":""},null,null,null,null,null,null,null,null,null,null,null,null,null,null,null,"",null,"",null,"",null,"",null,null,null,null,null,null,null,null,null,null,null,null,null,null,null,null,null,null,null,null,null,null,null,null,null,null,null,null,null,null,null,null,null,null,null,null,{"$f":"IF($B19=\"\",\"\",IF(AND($K19=\"\",$L19=\"\"),\"必須項目漏れあり\",IF(AND($B19<>\"\",COUNTIF($B19:$J19,\"\")>0),\"必須項目漏れあり\",IF(AND($B19<>\"\",COUNTIF($M19:$O19,\"\")>0),\"必須項目漏れあり\",IF(AND($B19<>\"\",COUNTIF($Q19:$S19,\"\")>0),\"必須項目漏れあり\",\"申込準備完了\"&\"(\"&申込内容の確認!$B10&\"様分)\")))))","v":""},{"$error":"#VALUE!"},{"$error":"#VALUE!"},{"$error":"#VALUE!"}]
[10,null,null,{"$f":"IF(H20<>\"\",DATEDIF(H20,作業用!$K$4,\"Y\"),\"\")","v":""},null,null,null,null,null,null,null,null,null,null,null,null,null,null,null,"",null,"",null,"",null,"",null,null,null,null,null,null,null,null,null,null,null,null,null,null,null,null,null,null,null,null,null,null,null,null,null,null,null,null,null,null,null,null,null,null,null,null,{"$f":"IF($B20=\"\",\"\",IF(AND($K20=\"\",$L20=\"\"),\"必須項目漏れあり\",IF(AND($B20<>\"\",COUNTIF($B20:$J20,\"\")>0),\"必須項目漏れあり\",IF(AND($B20<>\"\",COUNTIF($M20:$O20,\"\")>0),\"必須項目漏れあり\",IF(AND($B20<>\"\",COUNTIF($Q20:$S20,\"\")>0),\"必須項目漏れあり\",\"申込準備完了\"&\"(\"&申込内容の確認!$B11&\"様分)\")))))","v":""},{"$error":"#VALUE!"},{"$error":"#VALUE!"},{"$error":"#VALUE!"}]
[11,null,null,{"$f":"IF(H21<>\"\",DATEDIF(H21,作業用!$K$4,\"Y\"),\"\")","v":""},null,null,null,null,null,null,null,null,null,null,null,null,null,null,null,"",null,"",null,"",null,"",null,null,null,null,null,null,null,null,null,null,null,null,null,null,null,null,null,null,null,null,null,null,null,null,null,null,null,null,null,null,null,null,null,null,null,null,{"$f":"IF($B21=\"\",\"\",IF(AND($K21=\"\",$L21=\"\"),\"必須項目漏れあり\",IF(AND($B21<>\"\",COUNTIF($B21:$J21,\"\")>0),\"必須項目漏れあり\",IF(AND($B21<>\"\",COUNTIF($M21:$O21,\"\")>0),\"必須項目漏れあり\",IF(AND($B21<>\"\",COUNTIF($Q21:$S21,\"\")>0),\"必須項目漏れあり\",\"申込準備完了\"&\"(\"&申込内容の確認!$B12&\"様分)\")))))","v":""},{"$error":"#VALUE!"},{"$error":"#VALUE!"},{"$error":"#VALUE!"}]
[12,null,null,{"$f":"IF(H22<>\"\",DATEDIF(H22,作業用!$K$4,\"Y\"),\"\")","v":""},null,null,null,null,null,null,null,null,null,null,null,null,null,null,null,"",null,"",null,"",null,"",null,null,null,null,null,null,null,null,null,null,null,null,null,null,null,null,null,null,null,null,null,null,null,null,null,null,null,null,null,null,null,null,null,null,null,null,{"$f":"IF($B22=\"\",\"\",IF(AND($K22=\"\",$L22=\"\"),\"必須項目漏れあり\",IF(AND($B22<>\"\",COUNTIF($B22:$J22,\"\")>0),\"必須項目漏れあり\",IF(AND($B22<>\"\",COUNTIF($M22:$O22,\"\")>0),\"必須項目漏れあり\",IF(AND($B22<>\"\",COUNTIF($Q22:$S22,\"\")>0),\"必須項目漏れあり\",\"申込準備完了\"&\"(\"&申込内容の確認!$B13&\"様分)\")))))","v":""},{"$error":"#VALUE!"},{"$error":"#VALUE!"},{"$error":"#VALUE!"}]
[13,null,null,{"$f":"IF(H23<>\"\",DATEDIF(H23,作業用!$K$4,\"Y\"),\"\")","v":""},null,null,null,null,null,null,null,null,null,null,null,null,null,null,null,"",null,"",null,"",null,"",null,null,null,null,null,null,null,null,null,null,null,null,null,null,null,null,null,null,null,null,null,null,null,null,null,null,null,null,null,null,null,null,null,null,null,null,{"$f":"IF($B23=\"\",\"\",IF(AND($K23=\"\",$L23=\"\"),\"必須項目漏れあり\",IF(AND($B23<>\"\",COUNTIF($B23:$J23,\"\")>0),\"必須項目漏れあり\",IF(AND($B23<>\"\",COUNTIF($M23:$O23,\"\")>0),\"必須項目漏れあり\",IF(AND($B23<>\"\",COUNTIF($Q23:$S23,\"\")>0),\"必須項目漏れあり\",\"申込準備完了\"&\"(\"&申込内容の確認!$B14&\"様分)\")))))","v":""},{"$error":"#VALUE!"},{"$error":"#VALUE!"},{"$error":"#VALUE!"}]
[14,null,null,{"$f":"IF(H24<>\"\",DATEDIF(H24,作業用!$K$4,\"Y\"),\"\")","v":""},null,null,null,null,null,null,null,null,null,null,null,null,null,null,null,"",null,"",null,"",null,"",null,null,null,null,null,null,null,null,null,null,null,null,null,null,null,null,null,null,null,null,null,null,null,null,null,null,null,null,null,null,null,null,null,null,null,null,{"$f":"IF($B24=\"\",\"\",IF(AND($K24=\"\",$L24=\"\"),\"必須項目漏れあり\",IF(AND($B24<>\"\",COUNTIF($B24:$J24,\"\")>0),\"必須項目漏れあり\",IF(AND($B24<>\"\",COUNTIF($M24:$O24,\"\")>0),\"必須項目漏れあり\",IF(AND($B24<>\"\",COUNTIF($Q24:$S24,\"\")>0),\"必須項目漏れあり\",\"申込準備完了\"&\"(\"&申込内容の確認!$B15&\"様分)\")))))","v":""},{"$error":"#VALUE!"},{"$error":"#VALUE!"},{"$error":"#VALUE!"}]
[15,null,null,{"$f":"IF(H25<>\"\",DATEDIF(H25,作業用!$K$4,\"Y\"),\"\")","v":""},null,null,null,null,null,null,null,null,null,null,null,null,null,null,null,"",null,"",null,"",null,"",null,null,null,null,null,null,null,null,null,null,null,null,null,null,null,null,null,null,null,null,null,null,null,null,null,null,null,null,null,null,null,null,null,null,null,null,{"$f":"IF($B25=\"\",\"\",IF(AND($K25=\"\",$L25=\"\"),\"必須項目漏れあり\",IF(AND($B25<>\"\",COUNTIF($B25:$J25,\"\")>0),\"必須項目漏れあり\",IF(AND($B25<>\"\",COUNTIF($M25:$O25,\"\")>0),\"必須項目漏れあり\",IF(AND($B25<>\"\",COUNTIF($Q25:$S25,\"\")>0),\"必須項目漏れあり\",\"申込準備完了\"&\"(\"&申込内容の確認!$B16&\"様分)\")))))","v":""},{"$error":"#VALUE!"},{"$error":"#VALUE!"},{"$error":"#VALUE!"}]
[16,null,null,{"$f":"IF(H26<>\"\",DATEDIF(H26,作業用!$K$4,\"Y\"),\"\")","v":""},null,null,null,null,null,null,null,null,null,null,null,null,null,null,null,"",null,"",null,"",null,"",null,null,null,null,null,null,null,null,null,null,null,null,null,null,null,null,null,null,null,null,null,null,null,null,null,null,null,null,null,null,null,null,null,null,null,null,{"$f":"IF($B26=\"\",\"\",IF(AND($K26=\"\",$L26=\"\"),\"必須項目漏れあり\",IF(AND($B26<>\"\",COUNTIF($B26:$J26,\"\")>0),\"必須項目漏れあり\",IF(AND($B26<>\"\",COUNTIF($M26:$O26,\"\")>0),\"必須項目漏れあり\",IF(AND($B26<>\"\",COUNTIF($Q26:$S26,\"\")>0),\"必須項目漏れあり\",\"申込準備完了\"&\"(\"&申込内容の確認!$B17&\"様分)\")))))","v":""},{"$error":"#VALUE!"},{"$error":"#VALUE!"},{"$error":"#VALUE!"}]
[17,null,null,{"$f":"IF(H27<>\"\",DATEDIF(H27,作業用!$K$4,\"Y\"),\"\")","v":""},null,null,null,null,null,null,null,null,null,null,null,null,null,null,null,"",null,"",null,"",null,"",null,null,null,null,null,null,null,null,null,null,null,null,null,null,null,null,null,null,null,null,null,null,null,null,null,null,null,null,null,null,null,null,null,null,null,null,{"$f":"IF($B27=\"\",\"\",IF(AND($K27=\"\",$L27=\"\"),\"必須項目漏れあり\",IF(AND($B27<>\"\",COUNTIF($B27:$J27,\"\")>0),\"必須項目漏れあり\",IF(AND($B27<>\"\",COUNTIF($M27:$O27,\"\")>0),\"必須項目漏れあり\",IF(AND($B27<>\"\",COUNTIF($Q27:$S27,\"\")>0),\"必須項目漏れあり\",\"申込準備完了\"&\"(\"&申込内容の確認!$B18&\"様分)\")))))","v":""},{"$error":"#VALUE!"},{"$error":"#VALUE!"},{"$error":"#VALUE!"}]
[18,null,null,{"$f":"IF(H28<>\"\",DATEDIF(H28,作業用!$K$4,\"Y\"),\"\")","v":""},null,null,null,null,null,null,null,null,null,null,null,null,null,null,null,"",null,"",null,"",null,"",null,null,null,null,null,null,null,null,null,null,null,null,null,null,null,null,null,null,null,null,null,null,null,null,null,null,null,null,null,null,null,null,null,null,null,null,{"$f":"IF($B28=\"\",\"\",IF(AND($K28=\"\",$L28=\"\"),\"必須項目漏れあり\",IF(AND($B28<>\"\",COUNTIF($B28:$J28,\"\")>0),\"必須項目漏れあり\",IF(AND($B28<>\"\",COUNTIF($M28:$O28,\"\")>0),\"必須項目漏れあり\",IF(AND($B28<>\"\",COUNTIF($Q28:$S28,\"\")>0),\"必須項目漏れあり\",\"申込準備完了\"&\"(\"&申込内容の確認!$B19&\"様分)\")))))","v":""},{"$error":"#VALUE!"},{"$error":"#VALUE!"},{"$error":"#VALUE!"}]
[19,null,null,{"$f":"IF(H29<>\"\",DATEDIF(H29,作業用!$K$4,\"Y\"),\"\")","v":""},null,null,null,null,null,null,null,null,null,null,null,null,null,null,null,"",null,"",null,"",null,"",null,null,null,null,null,null,null,null,null,null,null,null,null,null,null,null,null,null,null,null,null,null,null,null,null,null,null,null,null,null,null,null,null,null,null,null,{"$f":"IF($B29=\"\",\"\",IF(AND($K29=\"\",$L29=\"\"),\"必須項目漏れあり\",IF(AND($B29<>\"\",COUNTIF($B29:$J29,\"\")>0),\"必須項目漏れあり\",IF(AND($B29<>\"\",COUNTIF($M29:$O29,\"\")>0),\"必須項目漏れあり\",IF(AND($B29<>\"\",COUNTIF($Q29:$S29,\"\")>0),\"必須項目漏れあり\",\"申込準備完了\"&\"(\"&申込内容の確認!$B20&\"様分)\")))))","v":""},{"$error":"#VALUE!"},{"$error":"#VALUE!"},{"$error":"#VALUE!"}]
[20,null,null,{"$f":"IF(H30<>\"\",DATEDIF(H30,作業用!$K$4,\"Y\"),\"\")","v":""},null,null,null,null,null,null,null,null,null,null,null,null,null,null,null,"",null,"",null,"",null,"",null,null,null,null,null,null,null,null,null,null,null,null,null,null,null,null,null,null,null,null,null,null,null,null,null,null,null,null,null,null,null,null,null,null,null,null,{"$f":"IF($B30=\"\",\"\",IF(AND($K30=\"\",$L30=\"\"),\"必須項目漏れあり\",IF(AND($B30<>\"\",COUNTIF($B30:$J30,\"\")>0),\"必須項目漏れあり\",IF(AND($B30<>\"\",COUNTIF($M30:$O30,\"\")>0),\"必須項目漏れあり\",IF(AND($B30<>\"\",COUNTIF($Q30:$S30,\"\")>0),\"必須項目漏れあり\",\"申込準備完了\"&\"(\"&申込内容の確認!$B21&\"様分)\")))))","v":""},{"$error":"#VALUE!"},{"$error":"#VALUE!"},{"$error":"#VALUE!"}]
[21,null,null,{"$f":"IF(H31<>\"\",DATEDIF(H31,作業用!$K$4,\"Y\"),\"\")","v":""},null,null,null,null,null,null,null,null,null,null,null,null,null,null,null,"",null,"",null,"",null,"",null,null,null,null,null,null,null,null,null,null,null,null,null,null,null,null,null,null,null,null,null,null,null,null,null,null,null,null,null,null,null,null,null,null,null,null,{"$f":"IF($B31=\"\",\"\",IF(AND($K31=\"\",$L31=\"\"),\"必須項目漏れあり\",IF(AND($B31<>\"\",COUNTIF($B31:$J31,\"\")>0),\"必須項目漏れあり\",IF(AND($B31<>\"\",COUNTIF($M31:$O31,\"\")>0),\"必須項目漏れあり\",IF(AND($B31<>\"\",COUNTIF($Q31:$S31,\"\")>0),\"必須項目漏れあり\",\"申込準備完了\"&\"(\"&申込内容の確認!$B22&\"様分)\")))))","v":""},{"$error":"#VALUE!"},{"$error":"#VALUE!"},{"$error":"#VALUE!"}]
[22,null,null,{"$f":"IF(H32<>\"\",DATEDIF(H32,作業用!$K$4,\"Y\"),\"\")","v":""},null,null,null,null,null,null,null,null,null,null,null,null,null,null,null,"",null,"",null,"",null,"",null,null,null,null,null,null,null,null,null,null,null,null,null,null,null,null,null,null,null,null,null,null,null,null,null,null,null,null,null,null,null,null,null,null,null,null,{"$f":"IF($B32=\"\",\"\",IF(AND($K32=\"\",$L32=\"\"),\"必須項目漏れあり\",IF(AND($B32<>\"\",COUNTIF($B32:$J32,\"\")>0),\"必須項目漏れあり\",IF(AND($B32<>\"\",COUNTIF($M32:$O32,\"\")>0),\"必須項目漏れあり\",IF(AND($B32<>\"\",COUNTIF($Q32:$S32,\"\")>0),\"必須項目漏れあり\",\"申込準備完了\"&\"(\"&申込内容の確認!$B23&\"様分)\")))))","v":""},{"$error":"#VALUE!"},{"$error":"#VALUE!"},{"$error":"#VALUE!"}]
[23,null,null,{"$f":"IF(H33<>\"\",DATEDIF(H33,作業用!$K$4,\"Y\"),\"\")","v":""},null,null,null,null,null,null,null,null,null,null,null,null,null,null,null,"",null,"",null,"",null,"",null,null,null,null,null,null,null,null,null,null,null,null,null,null,null,null,null,null,null,null,null,null,null,null,null,null,null,null,null,null,null,null,null,null,null,null,{"$f":"IF($B33=\"\",\"\",IF(AND($K33=\"\",$L33=\"\"),\"必須項目漏れあり\",IF(AND($B33<>\"\",COUNTIF($B33:$J33,\"\")>0),\"必須項目漏れあり\",IF(AND($B33<>\"\",COUNTIF($M33:$O33,\"\")>0),\"必須項目漏れあり\",IF(AND($B33<>\"\",COUNTIF($Q33:$S33,\"\")>0),\"必須項目漏れあり\",\"申込準備完了\"&\"(\"&申込内容の確認!$B24&\"様分)\")))))","v":""},{"$error":"#VALUE!"},{"$error":"#VALUE!"},{"$error":"#VALUE!"}]
[24,null,null,{"$f":"IF(H34<>\"\",DATEDIF(H34,作業用!$K$4,\"Y\"),\"\")","v":""},null,null,null,null,null,null,null,null,null,null,null,null,null,null,null,"",null,"",null,"",null,"",null,null,null,null,null,null,null,null,null,null,null,null,null,null,null,null,null,null,null,null,null,null,null,null,null,null,null,null,null,null,null,null,null,null,null,null,{"$f":"IF($B34=\"\",\"\",IF(AND($K34=\"\",$L34=\"\"),\"必須項目漏れあり\",IF(AND($B34<>\"\",COUNTIF($B34:$J34,\"\")>0),\"必須項目漏れあり\",IF(AND($B34<>\"\",COUNTIF($M34:$O34,\"\")>0),\"必須項目漏れあり\",IF(AND($B34<>\"\",COUNTIF($Q34:$S34,\"\")>0),\"必須項目漏れあり\",\"申込準備完了\"&\"(\"&申込内容の確認!$B25&\"様分)\")))))","v":""},{"$error":"#VALUE!"},{"$error":"#VALUE!"},{"$error":"#VALUE!"}]
[25,null,null,{"$f":"IF(H35<>\"\",DATEDIF(H35,作業用!$K$4,\"Y\"),\"\")","v":""},null,null,null,null,null,null,null,null,null,null,null,null,null,null,null,"",null,"",null,"",null,"",null,null,null,null,null,null,null,null,null,null,null,null,null,null,null,null,null,null,null,null,null,null,null,null,null,null,null,null,null,null,null,null,null,null,null,null,{"$f":"IF($B35=\"\",\"\",IF(AND($K35=\"\",$L35=\"\"),\"必須項目漏れあり\",IF(AND($B35<>\"\",COUNTIF($B35:$J35,\"\")>0),\"必須項目漏れあり\",IF(AND($B35<>\"\",COUNTIF($M35:$O35,\"\")>0),\"必須項目漏れあり\",IF(AND($B35<>\"\",COUNTIF($Q35:$S35,\"\")>0),\"必須項目漏れあり\",\"申込準備完了\"&\"(\"&申込内容の確認!$B26&\"様分)\")))))","v":""},{"$error":"#VALUE!"},{"$error":"#VALUE!"},{"$error":"#VALUE!"}]
[26,null,null,{"$f":"IF(H36<>\"\",DATEDIF(H36,作業用!$K$4,\"Y\"),\"\")","v":""},null,null,null,null,null,null,null,null,null,null,null,null,null,null,null,"",null,"",null,"",null,"",null,null,null,null,null,null,null,null,null,null,null,null,null,null,null,null,null,null,null,null,null,null,null,null,null,null,null,null,null,null,null,null,null,null,null,null,{"$f":"IF($B36=\"\",\"\",IF(AND($K36=\"\",$L36=\"\"),\"必須項目漏れあり\",IF(AND($B36<>\"\",COUNTIF($B36:$J36,\"\")>0),\"必須項目漏れあり\",IF(AND($B36<>\"\",COUNTIF($M36:$O36,\"\")>0),\"必須項目漏れあり\",IF(AND($B36<>\"\",COUNTIF($Q36:$S36,\"\")>0),\"必須項目漏れあり\",\"申込準備完了\"&\"(\"&申込内容の確認!$B27&\"様分)\")))))","v":""},{"$error":"#VALUE!"},{"$error":"#VALUE!"},{"$error":"#VALUE!"}]
[27,null,null,{"$f":"IF(H37<>\"\",DATEDIF(H37,作業用!$K$4,\"Y\"),\"\")","v":""},null,null,null,null,null,null,null,null,null,null,null,null,null,null,null,"",null,"",null,"",null,"",null,null,null,null,null,null,null,null,null,null,null,null,null,null,null,null,null,null,null,null,null,null,null,null,null,null,null,null,null,null,null,null,null,null,null,null,{"$f":"IF($B37=\"\",\"\",IF(AND($K37=\"\",$L37=\"\"),\"必須項目漏れあり\",IF(AND($B37<>\"\",COUNTIF($B37:$J37,\"\")>0),\"必須項目漏れあり\",IF(AND($B37<>\"\",COUNTIF($M37:$O37,\"\")>0),\"必須項目漏れあり\",IF(AND($B37<>\"\",COUNTIF($Q37:$S37,\"\")>0),\"必須項目漏れあり\",\"申込準備完了\"&\"(\"&申込内容の確認!$B28&\"様分)\")))))","v":""},{"$error":"#VALUE!"},{"$error":"#VALUE!"},{"$error":"#VALUE!"}]
[28,null,null,{"$f":"IF(H38<>\"\",DATEDIF(H38,作業用!$K$4,\"Y\"),\"\")","v":""},null,null,null,null,null,null,null,null,null,null,null,null,null,null,null,"",null,"",null,"",null,"",null,null,null,null,null,null,null,null,null,null,null,null,null,null,null,null,null,null,null,null,null,null,null,null,null,null,null,null,null,null,null,null,null,null,null,null,{"$f":"IF($B38=\"\",\"\",IF(AND($K38=\"\",$L38=\"\"),\"必須項目漏れあり\",IF(AND($B38<>\"\",COUNTIF($B38:$J38,\"\")>0),\"必須項目漏れあり\",IF(AND($B38<>\"\",COUNTIF($M38:$O38,\"\")>0),\"必須項目漏れあり\",IF(AND($B38<>\"\",COUNTIF($Q38:$S38,\"\")>0),\"必須項目漏れあり\",\"申込準備完了\"&\"(\"&申込内容の確認!$B29&\"様分)\")))))","v":""},{"$error":"#VALUE!"},{"$error":"#VALUE!"},{"$error":"#VALUE!"}]
[29,null,null,{"$f":"IF(H39<>\"\",DATEDIF(H39,作業用!$K$4,\"Y\"),\"\")","v":""},null,null,null,null,null,null,null,null,null,null,null,null,null,null,null,"",null,"",null,"",null,"",null,null,null,null,null,null,null,null,null,null,null,null,null,null,null,null,null,null,null,null,null,null,null,null,null,null,null,null,null,null,null,null,null,null,null,null,{"$f":"IF($B39=\"\",\"\",IF(AND($K39=\"\",$L39=\"\"),\"必須項目漏れあり\",IF(AND($B39<>\"\",COUNTIF($B39:$J39,\"\")>0),\"必須項目漏れあり\",IF(AND($B39<>\"\",COUNTIF($M39:$O39,\"\")>0),\"必須項目漏れあり\",IF(AND($B39<>\"\",COUNTIF($Q39:$S39,\"\")>0),\"必須項目漏れあり\",\"申込準備完了\"&\"(\"&申込内容の確認!$B30&\"様分)\")))))","v":""},{"$error":"#VALUE!"},{"$error":"#VALUE!"},{"$error":"#VALUE!"}]
[30,null,null,{"$f":"IF(H40<>\"\",DATEDIF(H40,作業用!$K$4,\"Y\"),\"\")","v":""},null,null,null,null,null,null,null,null,null,null,null,null,null,null,null,"",null,"",null,"",null,"",null,null,null,null,null,null,null,null,null,null,null,null,null,null,null,null,null,null,null,null,null,null,null,null,null,null,null,null,null,null,null,null,null,null,null,null,{"$f":"IF($B40=\"\",\"\",IF(AND($K40=\"\",$L40=\"\"),\"必須項目漏れあり\",IF(AND($B40<>\"\",COUNTIF($B40:$J40,\"\")>0),\"必須項目漏れあり\",IF(AND($B40<>\"\",COUNTIF($M40:$O40,\"\")>0),\"必須項目漏れあり\",IF(AND($B40<>\"\",COUNTIF($Q40:$S40,\"\")>0),\"必須項目漏れあり\",\"申込準備完了\"&\"(\"&申込内容の確認!$B31&\"様分)\")))))","v":""},{"$error":"#VALUE!"},{"$error":"#VALUE!"},{"$error":"#VALUE!"}]
[31,null,null,{"$f":"IF(H41<>\"\",DATEDIF(H41,作業用!$K$4,\"Y\"),\"\")","v":""},null,null,null,null,null,null,null,null,null,null,null,null,null,null,null,"",null,"",null,"",null,"",null,null,null,null,null,null,null,null,null,null,null,null,null,null,null,null,null,null,null,null,null,null,null,null,null,null,null,null,null,null,null,null,null,null,null,null,{"$f":"IF($B41=\"\",\"\",IF(AND($K41=\"\",$L41=\"\"),\"必須項目漏れあり\",IF(AND($B41<>\"\",COUNTIF($B41:$J41,\"\")>0),\"必須項目漏れあり\",IF(AND($B41<>\"\",COUNTIF($M41:$O41,\"\")>0),\"必須項目漏れあり\",IF(AND($B41<>\"\",COUNTIF($Q41:$S41,\"\")>0),\"必須項目漏れあり\",\"申込準備完了\"&\"(\"&申込内容の確認!$B32&\"様分)\")))))","v":""},{"$error":"#VALUE!"},{"$error":"#VALUE!"},{"$error":"#VALUE!"}]
[32,null,null,{"$f":"IF(H42<>\"\",DATEDIF(H42,作業用!$K$4,\"Y\"),\"\")","v":""},null,null,null,null,null,null,null,null,null,null,null,null,null,null,null,"",null,"",null,"",null,"",null,null,null,null,null,null,null,null,null,null,null,null,null,null,null,null,null,null,null,null,null,null,null,null,null,null,null,null,null,null,null,null,null,null,null,null,{"$f":"IF($B42=\"\",\"\",IF(AND($K42=\"\",$L42=\"\"),\"必須項目漏れあり\",IF(AND($B42<>\"\",COUNTIF($B42:$J42,\"\")>0),\"必須項目漏れあり\",IF(AND($B42<>\"\",COUNTIF($M42:$O42,\"\")>0),\"必須項目漏れあり\",IF(AND($B42<>\"\",COUNTIF($Q42:$S42,\"\")>0),\"必須項目漏れあり\",\"申込準備完了\"&\"(\"&申込内容の確認!$B33&\"様分)\")))))","v":""},{"$error":"#VALUE!"},{"$error":"#VALUE!"},{"$error":"#VALUE!"}]
[33,null,null,{"$f":"IF(H43<>\"\",DATEDIF(H43,作業用!$K$4,\"Y\"),\"\")","v":""},null,null,null,null,null,null,null,null,null,null,null,null,null,null,null,"",null,"",null,"",null,"",null,null,null,null,null,null,null,null,null,null,null,null,null,null,null,null,null,null,null,null,null,null,null,null,null,null,null,null,null,null,null,null,null,null,null,null,{"$f":"IF($B43=\"\",\"\",IF(AND($K43=\"\",$L43=\"\"),\"必須項目漏れあり\",IF(AND($B43<>\"\",COUNTIF($B43:$J43,\"\")>0),\"必須項目漏れあり\",IF(AND($B43<>\"\",COUNTIF($M43:$O43,\"\")>0),\"必須項目漏れあり\",IF(AND($B43<>\"\",COUNTIF($Q43:$S43,\"\")>0),\"必須項目漏れあり\",\"申込準備完了\"&\"(\"&申込内容の確認!$B34&\"様分)\")))))","v":""},{"$error":"#VALUE!"},{"$error":"#VALUE!"},{"$error":"#VALUE!"}]
[34,null,null,{"$f":"IF(H44<>\"\",DATEDIF(H44,作業用!$K$4,\"Y\"),\"\")","v":""},null,null,null,null,null,null,null,null,null,null,null,null,null,null,null,"",null,"",null,"",null,"",null,null,null,null,null,null,null,null,null,null,null,null,null,null,null,null,null,null,null,null,null,null,null,null,null,null,null,null,null,null,null,null,null,null,null,null,{"$f":"IF($B44=\"\",\"\",IF(AND($K44=\"\",$L44=\"\"),\"必須項目漏れあり\",IF(AND($B44<>\"\",COUNTIF($B44:$J44,\"\")>0),\"必須項目漏れあり\",IF(AND($B44<>\"\",COUNTIF($M44:$O44,\"\")>0),\"必須項目漏れあり\",IF(AND($B44<>\"\",COUNTIF($Q44:$S44,\"\")>0),\"必須項目漏れあり\",\"申込準備完了\"&\"(\"&申込内容の確認!$B35&\"様分)\")))))","v":""},{"$error":"#VALUE!"},{"$error":"#VALUE!"},{"$error":"#VALUE!"}]
[35,null,null,{"$f":"IF(H45<>\"\",DATEDIF(H45,作業用!$K$4,\"Y\"),\"\")","v":""},null,null,null,null,null,null,null,null,null,null,null,null,null,null,null,"",null,"",null,"",null,"",null,null,null,null,null,null,null,null,null,null,null,null,null,null,null,null,null,null,null,null,null,null,null,null,null,null,null,null,null,null,null,null,null,null,null,null,{"$f":"IF($B45=\"\",\"\",IF(AND($K45=\"\",$L45=\"\"),\"必須項目漏れあり\",IF(AND($B45<>\"\",COUNTIF($B45:$J45,\"\")>0),\"必須項目漏れあり\",IF(AND($B45<>\"\",COUNTIF($M45:$O45,\"\")>0),\"必須項目漏れあり\",IF(AND($B45<>\"\",COUNTIF($Q45:$S45,\"\")>0),\"必須項目漏れあり\",\"申込準備完了\"&\"(\"&申込内容の確認!$B36&\"様分)\")))))","v":""},{"$error":"#VALUE!"},{"$error":"#VALUE!"},{"$error":"#VALUE!"}]
[36,null,null,{"$f":"IF(H46<>\"\",DATEDIF(H46,作業用!$K$4,\"Y\"),\"\")","v":""},null,null,null,null,null,null,null,null,null,null,null,null,null,null,null,"",null,"",null,"",null,"",null,null,null,null,null,null,null,null,null,null,null,null,null,null,null,null,null,null,null,null,null,null,null,null,null,null,null,null,null,null,null,null,null,null,null,null,{"$f":"IF($B46=\"\",\"\",IF(AND($K46=\"\",$L46=\"\"),\"必須項目漏れあり\",IF(AND($B46<>\"\",COUNTIF($B46:$J46,\"\")>0),\"必須項目漏れあり\",IF(AND($B46<>\"\",COUNTIF($M46:$O46,\"\")>0),\"必須項目漏れあり\",IF(AND($B46<>\"\",COUNTIF($Q46:$S46,\"\")>0),\"必須項目漏れあり\",\"申込準備完了\"&\"(\"&申込内容の確認!$B37&\"様分)\")))))","v":""},{"$error":"#VALUE!"},{"$error":"#VALUE!"},{"$error":"#VALUE!"}]
[37,null,null,{"$f":"IF(H47<>\"\",DATEDIF(H47,作業用!$K$4,\"Y\"),\"\")","v":""},null,null,null,null,null,null,null,null,null,null,null,null,null,null,null,"",null,"",null,"",null,"",null,null,null,null,null,null,null,null,null,null,null,null,null,null,null,null,null,null,null,null,null,null,null,null,null,null,null,null,null,null,null,null,null,null,null,null,{"$f":"IF($B47=\"\",\"\",IF(AND($K47=\"\",$L47=\"\"),\"必須項目漏れあり\",IF(AND($B47<>\"\",COUNTIF($B47:$J47,\"\")>0),\"必須項目漏れあり\",IF(AND($B47<>\"\",COUNTIF($M47:$O47,\"\")>0),\"必須項目漏れあり\",IF(AND($B47<>\"\",COUNTIF($Q47:$S47,\"\")>0),\"必須項目漏れあり\",\"申込準備完了\"&\"(\"&申込内容の確認!$B38&\"様分)\")))))","v":""},{"$error":"#VALUE!"},{"$error":"#VALUE!"},{"$error":"#VALUE!"}]
[38,null,null,{"$f":"IF(H48<>\"\",DATEDIF(H48,作業用!$K$4,\"Y\"),\"\")","v":""},null,null,null,null,null,null,null,null,null,null,null,null,null,null,null,"",null,"",null,"",null,"",null,null,null,null,null,null,null,null,null,null,null,null,null,null,null,null,null,null,null,null,null,null,null,null,null,null,null,null,null,null,null,null,null,null,null,null,{"$f":"IF($B48=\"\",\"\",IF(AND($K48=\"\",$L48=\"\"),\"必須項目漏れあり\",IF(AND($B48<>\"\",COUNTIF($B48:$J48,\"\")>0),\"必須項目漏れあり\",IF(AND($B48<>\"\",COUNTIF($M48:$O48,\"\")>0),\"必須項目漏れあり\",IF(AND($B48<>\"\",COUNTIF($Q48:$S48,\"\")>0),\"必須項目漏れあり\",\"申込準備完了\"&\"(\"&申込内容の確認!$B39&\"様分)\")))))","v":""},{"$error":"#VALUE!"},{"$error":"#VALUE!"},{"$error":"#VALUE!"}]
[39,null,null,{"$f":"IF(H49<>\"\",DATEDIF(H49,作業用!$K$4,\"Y\"),\"\")","v":""},null,null,null,null,null,null,null,null,null,null,null,null,null,null,null,"",null,"",null,"",null,"",null,null,null,null,null,null,null,null,null,null,null,null,null,null,null,null,null,null,null,null,null,null,null,null,null,null,null,null,null,null,null,null,null,null,null,null,{"$f":"IF($B49=\"\",\"\",IF(AND($K49=\"\",$L49=\"\"),\"必須項目漏れあり\",IF(AND($B49<>\"\",COUNTIF($B49:$J49,\"\")>0),\"必須項目漏れあり\",IF(AND($B49<>\"\",COUNTIF($M49:$O49,\"\")>0),\"必須項目漏れあり\",IF(AND($B49<>\"\",COUNTIF($Q49:$S49,\"\")>0),\"必須項目漏れあり\",\"申込準備完了\"&\"(\"&申込内容の確認!$B40&\"様分)\")))))","v":""},{"$error":"#VALUE!"},{"$error":"#VALUE!"},{"$error":"#VALUE!"}]
[40,null,null,{"$f":"IF(H50<>\"\",DATEDIF(H50,作業用!$K$4,\"Y\"),\"\")","v":""},null,null,null,null,null,null,null,null,null,null,null,null,null,null,null,"",null,"",null,"",null,"",null,null,null,null,null,null,null,null,null,null,null,null,null,null,null,null,null,null,null,null,null,null,null,null,null,null,null,null,null,null,null,null,null,null,null,null,{"$f":"IF($B50=\"\",\"\",IF(AND($K50=\"\",$L50=\"\"),\"必須項目漏れあり\",IF(AND($B50<>\"\",COUNTIF($B50:$J50,\"\")>0),\"必須項目漏れあり\",IF(AND($B50<>\"\",COUNTIF($M50:$O50,\"\")>0),\"必須項目漏れあり\",IF(AND($B50<>\"\",COUNTIF($Q50:$S50,\"\")>0),\"必須項目漏れあり\",\"申込準備完了\"&\"(\"&申込内容の確認!$B41&\"様分)\")))))","v":""},{"$error":"#VALUE!"},{"$error":"#VALUE!"},{"$error":"#VALUE!"}]
[41,null,null,{"$f":"IF(H51<>\"\",DATEDIF(H51,作業用!$K$4,\"Y\"),\"\")","v":""},null,null,null,null,null,null,null,null,null,null,null,null,null,null,null,"",null,"",null,"",null,"",null,null,null,null,null,null,null,null,null,null,null,null,null,null,null,null,null,null,null,null,null,null,null,null,null,null,null,null,null,null,null,null,null,null,null,null,{"$f":"IF($B51=\"\",\"\",IF(AND($K51=\"\",$L51=\"\"),\"必須項目漏れあり\",IF(AND($B51<>\"\",COUNTIF($B51:$J51,\"\")>0),\"必須項目漏れあり\",IF(AND($B51<>\"\",COUNTIF($M51:$O51,\"\")>0),\"必須項目漏れあり\",IF(AND($B51<>\"\",COUNTIF($Q51:$S51,\"\")>0),\"必須項目漏れあり\",\"申込準備完了\"&\"(\"&申込内容の確認!$B42&\"様分)\")))))","v":""},{"$error":"#VALUE!"},{"$error":"#VALUE!"},{"$error":"#VALUE!"}]
[42,null,null,{"$f":"IF(H52<>\"\",DATEDIF(H52,作業用!$K$4,\"Y\"),\"\")","v":""},null,null,null,null,null,null,null,null,null,null,null,null,null,null,null,"",null,"",null,"",null,"",null,null,null,null,null,null,null,null,null,null,null,null,null,null,null,null,null,null,null,null,null,null,null,null,null,null,null,null,null,null,null,null,null,null,null,null,{"$f":"IF($B52=\"\",\"\",IF(AND($K52=\"\",$L52=\"\"),\"必須項目漏れあり\",IF(AND($B52<>\"\",COUNTIF($B52:$J52,\"\")>0),\"必須項目漏れあり\",IF(AND($B52<>\"\",COUNTIF($M52:$O52,\"\")>0),\"必須項目漏れあり\",IF(AND($B52<>\"\",COUNTIF($Q52:$S52,\"\")>0),\"必須項目漏れあり\",\"申込準備完了\"&\"(\"&申込内容の確認!$B43&\"様分)\")))))","v":""},{"$error":"#VALUE!"},{"$error":"#VALUE!"},{"$error":"#VALUE!"}]
[43,null,null,{"$f":"IF(H53<>\"\",DATEDIF(H53,作業用!$K$4,\"Y\"),\"\")","v":""},null,null,null,null,null,null,null,null,null,null,null,null,null,null,null,"",null,"",null,"",null,"",null,null,null,null,null,null,null,null,null,null,null,null,null,null,null,null,null,null,null,null,null,null,null,null,null,null,null,null,null,null,null,null,null,null,null,null,{"$f":"IF($B53=\"\",\"\",IF(AND($K53=\"\",$L53=\"\"),\"必須項目漏れあり\",IF(AND($B53<>\"\",COUNTIF($B53:$J53,\"\")>0),\"必須項目漏れあり\",IF(AND($B53<>\"\",COUNTIF($M53:$O53,\"\")>0),\"必須項目漏れあり\",IF(AND($B53<>\"\",COUNTIF($Q53:$S53,\"\")>0),\"必須項目漏れあり\",\"申込準備完了\"&\"(\"&申込内容の確認!$B44&\"様分)\")))))","v":""},{"$error":"#VALUE!"},{"$error":"#VALUE!"},{"$error":"#VALUE!"}]
[44,null,null,{"$f":"IF(H54<>\"\",DATEDIF(H54,作業用!$K$4,\"Y\"),\"\")","v":""},null,null,null,null,null,null,null,null,null,null,null,null,null,null,null,"",null,"",null,"",null,"",null,null,null,null,null,null,null,null,null,null,null,null,null,null,null,null,null,null,null,null,null,null,null,null,null,null,null,null,null,null,null,null,null,null,null,null,{"$f":"IF($B54=\"\",\"\",IF(AND($K54=\"\",$L54=\"\"),\"必須項目漏れあり\",IF(AND($B54<>\"\",COUNTIF($B54:$J54,\"\")>0),\"必須項目漏れあり\",IF(AND($B54<>\"\",COUNTIF($M54:$O54,\"\")>0),\"必須項目漏れあり\",IF(AND($B54<>\"\",COUNTIF($Q54:$S54,\"\")>0),\"必須項目漏れあり\",\"申込準備完了\"&\"(\"&申込内容の確認!$B45&\"様分)\")))))","v":""},{"$error":"#VALUE!"},{"$error":"#VALUE!"},{"$error":"#VALUE!"}]
[45,null,null,{"$f":"IF(H55<>\"\",DATEDIF(H55,作業用!$K$4,\"Y\"),\"\")","v":""},null,null,null,null,null,null,null,null,null,null,null,null,null,null,null,"",null,"",null,"",null,"",null,null,null,null,null,null,null,null,null,null,null,null,null,null,null,null,null,null,null,null,null,null,null,null,null,null,null,null,null,null,null,null,null,null,null,null,{"$f":"IF($B55=\"\",\"\",IF(AND($K55=\"\",$L55=\"\"),\"必須項目漏れあり\",IF(AND($B55<>\"\",COUNTIF($B55:$J55,\"\")>0),\"必須項目漏れあり\",IF(AND($B55<>\"\",COUNTIF($M55:$O55,\"\")>0),\"必須項目漏れあり\",IF(AND($B55<>\"\",COUNTIF($Q55:$S55,\"\")>0),\"必須項目漏れあり\",\"申込準備完了\"&\"(\"&申込内容の確認!$B46&\"様分)\")))))","v":""},{"$error":"#VALUE!"},{"$error":"#VALUE!"},{"$error":"#VALUE!"}]
[46,null,null,{"$f":"IF(H56<>\"\",DATEDIF(H56,作業用!$K$4,\"Y\"),\"\")","v":""},null,null,null,null,null,null,null,null,null,null,null,null,null,null,null,"",null,"",null,"",null,"",null,null,null,null,null,null,null,null,null,null,null,null,null,null,null,null,null,null,null,null,null,null,null,null,null,null,null,null,null,null,null,null,null,null,null,null,{"$f":"IF($B56=\"\",\"\",IF(AND($K56=\"\",$L56=\"\"),\"必須項目漏れあり\",IF(AND($B56<>\"\",COUNTIF($B56:$J56,\"\")>0),\"必須項目漏れあり\",IF(AND($B56<>\"\",COUNTIF($M56:$O56,\"\")>0),\"必須項目漏れあり\",IF(AND($B56<>\"\",COUNTIF($Q56:$S56,\"\")>0),\"必須項目漏れあり\",\"申込準備完了\"&\"(\"&申込内容の確認!$B47&\"様分)\")))))","v":""},{"$error":"#VALUE!"},{"$error":"#VALUE!"},{"$error":"#VALUE!"}]
[47,null,null,{"$f":"IF(H57<>\"\",DATEDIF(H57,作業用!$K$4,\"Y\"),\"\")","v":""},null,null,null,null,null,null,null,null,null,null,null,null,null,null,null,"",null,"",null,"",null,"",null,null,null,null,null,null,null,null,null,null,null,null,null,null,null,null,null,null,null,null,null,null,null,null,null,null,null,null,null,null,null,null,null,null,null,null,{"$f":"IF($B57=\"\",\"\",IF(AND($K57=\"\",$L57=\"\"),\"必須項目漏れあり\",IF(AND($B57<>\"\",COUNTIF($B57:$J57,\"\")>0),\"必須項目漏れあり\",IF(AND($B57<>\"\",COUNTIF($M57:$O57,\"\")>0),\"必須項目漏れあり\",IF(AND($B57<>\"\",COUNTIF($Q57:$S57,\"\")>0),\"必須項目漏れあり\",\"申込準備完了\"&\"(\"&申込内容の確認!$B48&\"様分)\")))))","v":""},{"$error":"#VALUE!"},{"$error":"#VALUE!"},{"$error":"#VALUE!"}]
[48,null,null,{"$f":"IF(H58<>\"\",DATEDIF(H58,作業用!$K$4,\"Y\"),\"\")","v":""},null,null,null,null,null,null,null,null,null,null,null,null,null,null,null,"",null,"",null,"",null,"",null,null,null,null,null,null,null,null,null,null,null,null,null,null,null,null,null,null,null,null,null,null,null,null,null,null,null,null,null,null,null,null,null,null,null,null,{"$f":"IF($B58=\"\",\"\",IF(AND($K58=\"\",$L58=\"\"),\"必須項目漏れあり\",IF(AND($B58<>\"\",COUNTIF($B58:$J58,\"\")>0),\"必須項目漏れあり\",IF(AND($B58<>\"\",COUNTIF($M58:$O58,\"\")>0),\"必須項目漏れあり\",IF(AND($B58<>\"\",COUNTIF($Q58:$S58,\"\")>0),\"必須項目漏れあり\",\"申込準備完了\"&\"(\"&申込内容の確認!$B49&\"様分)\")))))","v":""},{"$error":"#VALUE!"},{"$error":"#VALUE!"},{"$error":"#VALUE!"}]
[49,null,null,{"$f":"IF(H59<>\"\",DATEDIF(H59,作業用!$K$4,\"Y\"),\"\")","v":""},null,null,null,null,null,null,null,null,null,null,null,null,null,null,null,"",null,"",null,"",null,"",null,null,null,null,null,null,null,null,null,null,null,null,null,null,null,null,null,null,null,null,null,null,null,null,null,null,null,null,null,null,null,null,null,null,null,null,{"$f":"IF($B59=\"\",\"\",IF(AND($K59=\"\",$L59=\"\"),\"必須項目漏れあり\",IF(AND($B59<>\"\",COUNTIF($B59:$J59,\"\")>0),\"必須項目漏れあり\",IF(AND($B59<>\"\",COUNTIF($M59:$O59,\"\")>0),\"必須項目漏れあり\",IF(AND($B59<>\"\",COUNTIF($Q59:$S59,\"\")>0),\"必須項目漏れあり\",\"申込準備完了\"&\"(\"&申込内容の確認!$B50&\"様分)\")))))","v":""},{"$error":"#VALUE!"},{"$error":"#VALUE!"},{"$error":"#VALUE!"}]
[50,null,null,{"$f":"IF(H60<>\"\",DATEDIF(H60,作業用!$K$4,\"Y\"),\"\")","v":""},null,null,null,null,null,null,null,null,null,null,null,null,null,null,null,"",null,"",null,"",null,"",null,null,null,null,null,null,null,null,null,null,null,null,null,null,null,null,null,null,null,null,null,null,null,null,null,null,null,null,null,null,null,null,null,null,null,null,{"$f":"IF($B60=\"\",\"\",IF(AND($K60=\"\",$L60=\"\"),\"必須項目漏れあり\",IF(AND($B60<>\"\",COUNTIF($B60:$J60,\"\")>0),\"必須項目漏れあり\",IF(AND($B60<>\"\",COUNTIF($M60:$O60,\"\")>0),\"必須項目漏れあり\",IF(AND($B60<>\"\",COUNTIF($Q60:$S60,\"\")>0),\"必須項目漏れあり\",\"申込準備完了\"&\"(\"&申込内容の確認!$B51&\"様分)\")))))","v":""},{"$error":"#VALUE!"},{"$error":"#VALUE!"},{"$error":"#VALUE!"}]
[51,null,null,{"$f":"IF(H61<>\"\",DATEDIF(H61,作業用!$K$4,\"Y\"),\"\")","v":""},null,null,null,null,null,null,null,null,null,null,null,null,null,null,null,"",null,"",null,"",null,"",null,null,null,null,null,null,null,null,null,null,null,null,null,null,null,null,null,null,null,null,null,null,null,null,null,null,null,null,null,null,null,null,null,null,null,null,{"$f":"IF($B61=\"\",\"\",IF(AND($K61=\"\",$L61=\"\"),\"必須項目漏れあり\",IF(AND($B61<>\"\",COUNTIF($B61:$J61,\"\")>0),\"必須項目漏れあり\",IF(AND($B61<>\"\",COUNTIF($M61:$O61,\"\")>0),\"必須項目漏れあり\",IF(AND($B61<>\"\",COUNTIF($Q61:$S61,\"\")>0),\"必須項目漏れあり\",\"申込準備完了\"&\"(\"&申込内容の確認!$B52&\"様分)\")))))","v":""},{"$error":"#VALUE!"},{"$error":"#VALUE!"},{"$error":"#VALUE!"}]
[52,null,null,{"$f":"IF(H62<>\"\",DATEDIF(H62,作業用!$K$4,\"Y\"),\"\")","v":""},null,null,null,null,null,null,null,null,null,null,null,null,null,null,null,"",null,"",null,"",null,"",null,null,null,null,null,null,null,null,null,null,null,null,null,null,null,null,null,null,null,null,null,null,null,null,null,null,null,null,null,null,null,null,null,null,null,null,{"$f":"IF($B62=\"\",\"\",IF(AND($K62=\"\",$L62=\"\"),\"必須項目漏れあり\",IF(AND($B62<>\"\",COUNTIF($B62:$J62,\"\")>0),\"必須項目漏れあり\",IF(AND($B62<>\"\",COUNTIF($M62:$O62,\"\")>0),\"必須項目漏れあり\",IF(AND($B62<>\"\",COUNTIF($Q62:$S62,\"\")>0),\"必須項目漏れあり\",\"申込準備完了\"&\"(\"&申込内容の確認!$B53&\"様分)\")))))","v":""},{"$error":"#VALUE!"},{"$error":"#VALUE!"},{"$error":"#VALUE!"}]
[53,null,null,{"$f":"IF(H63<>\"\",DATEDIF(H63,作業用!$K$4,\"Y\"),\"\")","v":""},null,null,null,null,null,null,null,null,null,null,null,null,null,null,null,"",null,"",null,"",null,"",null,null,null,null,null,null,null,null,null,null,null,null,null,null,null,null,null,null,null,null,null,null,null,null,null,null,null,null,null,null,null,null,null,null,null,null,{"$f":"IF($B63=\"\",\"\",IF(AND($K63=\"\",$L63=\"\"),\"必須項目漏れあり\",IF(AND($B63<>\"\",COUNTIF($B63:$J63,\"\")>0),\"必須項目漏れあり\",IF(AND($B63<>\"\",COUNTIF($M63:$O63,\"\")>0),\"必須項目漏れあり\",IF(AND($B63<>\"\",COUNTIF($Q63:$S63,\"\")>0),\"必須項目漏れあり\",\"申込準備完了\"&\"(\"&申込内容の確認!$B54&\"様分)\")))))","v":""},{"$error":"#VALUE!"},{"$error":"#VALUE!"},{"$error":"#VALUE!"}]
[54,null,null,{"$f":"IF(H64<>\"\",DATEDIF(H64,作業用!$K$4,\"Y\"),\"\")","v":""},null,null,null,null,null,null,null,null,null,null,null,null,null,null,null,"",null,"",null,"",null,"",null,null,null,null,null,null,null,null,null,null,null,null,null,null,null,null,null,null,null,null,null,null,null,null,null,null,null,null,null,null,null,null,null,null,null,null,{"$f":"IF($B64=\"\",\"\",IF(AND($K64=\"\",$L64=\"\"),\"必須項目漏れあり\",IF(AND($B64<>\"\",COUNTIF($B64:$J64,\"\")>0),\"必須項目漏れあり\",IF(AND($B64<>\"\",COUNTIF($M64:$O64,\"\")>0),\"必須項目漏れあり\",IF(AND($B64<>\"\",COUNTIF($Q64:$S64,\"\")>0),\"必須項目漏れあり\",\"申込準備完了\"&\"(\"&申込内容の確認!$B55&\"様分)\")))))","v":""},{"$error":"#VALUE!"},{"$error":"#VALUE!"},{"$error":"#VALUE!"}]
[55,null,null,{"$f":"IF(H65<>\"\",DATEDIF(H65,作業用!$K$4,\"Y\"),\"\")","v":""},null,null,null,null,null,null,null,null,null,null,null,null,null,null,null,"",null,"",null,"",null,"",null,null,null,null,null,null,null,null,null,null,null,null,null,null,null,null,null,null,null,null,null,null,null,null,null,null,null,null,null,null,null,null,null,null,null,null,{"$f":"IF($B65=\"\",\"\",IF(AND($K65=\"\",$L65=\"\"),\"必須項目漏れあり\",IF(AND($B65<>\"\",COUNTIF($B65:$J65,\"\")>0),\"必須項目漏れあり\",IF(AND($B65<>\"\",COUNTIF($M65:$O65,\"\")>0),\"必須項目漏れあり\",IF(AND($B65<>\"\",COUNTIF($Q65:$S65,\"\")>0),\"必須項目漏れあり\",\"申込準備完了\"&\"(\"&申込内容の確認!$B56&\"様分)\")))))","v":""},{"$error":"#VALUE!"},{"$error":"#VALUE!"},{"$error":"#VALUE!"}]
[56,null,null,{"$f":"IF(H66<>\"\",DATEDIF(H66,作業用!$K$4,\"Y\"),\"\")","v":""},null,null,null,null,null,null,null,null,null,null,null,null,null,null,null,"",null,"",null,"",null,"",null,null,null,null,null,null,null,null,null,null,null,null,null,null,null,null,null,null,null,null,null,null,null,null,null,null,null,null,null,null,null,null,null,null,null,null,{"$f":"IF($B66=\"\",\"\",IF(AND($K66=\"\",$L66=\"\"),\"必須項目漏れあり\",IF(AND($B66<>\"\",COUNTIF($B66:$J66,\"\")>0),\"必須項目漏れあり\",IF(AND($B66<>\"\",COUNTIF($M66:$O66,\"\")>0),\"必須項目漏れあり\",IF(AND($B66<>\"\",COUNTIF($Q66:$S66,\"\")>0),\"必須項目漏れあり\",\"申込準備完了\"&\"(\"&申込内容の確認!$B57&\"様分)\")))))","v":""},{"$error":"#VALUE!"},{"$error":"#VALUE!"},{"$error":"#VALUE!"}]
[57,null,null,{"$f":"IF(H67<>\"\",DATEDIF(H67,作業用!$K$4,\"Y\"),\"\")","v":""},null,null,null,null,null,null,null,null,null,null,null,null,null,null,null,"",null,"",null,"",null,"",null,null,null,null,null,null,null,null,null,null,null,null,null,null,null,null,null,null,null,null,null,null,null,null,null,null,null,null,null,null,null,null,null,null,null,null,{"$f":"IF($B67=\"\",\"\",IF(AND($K67=\"\",$L67=\"\"),\"必須項目漏れあり\",IF(AND($B67<>\"\",COUNTIF($B67:$J67,\"\")>0),\"必須項目漏れあり\",IF(AND($B67<>\"\",COUNTIF($M67:$O67,\"\")>0),\"必須項目漏れあり\",IF(AND($B67<>\"\",COUNTIF($Q67:$S67,\"\")>0),\"必須項目漏れあり\",\"申込準備完了\"&\"(\"&申込内容の確認!$B58&\"様分)\")))))","v":""},{"$error":"#VALUE!"},{"$error":"#VALUE!"},{"$error":"#VALUE!"}]
[58,null,null,{"$f":"IF(H68<>\"\",DATEDIF(H68,作業用!$K$4,\"Y\"),\"\")","v":""},null,null,null,null,null,null,null,null,null,null,null,null,null,null,null,"",null,"",null,"",null,"",null,null,null,null,null,null,null,null,null,null,null,null,null,null,null,null,null,null,null,null,null,null,null,null,null,null,null,null,null,null,null,null,null,null,null,null,{"$f":"IF($B68=\"\",\"\",IF(AND($K68=\"\",$L68=\"\"),\"必須項目漏れあり\",IF(AND($B68<>\"\",COUNTIF($B68:$J68,\"\")>0),\"必須項目漏れあり\",IF(AND($B68<>\"\",COUNTIF($M68:$O68,\"\")>0),\"必須項目漏れあり\",IF(AND($B68<>\"\",COUNTIF($Q68:$S68,\"\")>0),\"必須項目漏れあり\",\"申込準備完了\"&\"(\"&申込内容の確認!$B59&\"様分)\")))))","v":""},{"$error":"#VALUE!"},{"$error":"#VALUE!"},{"$error":"#VALUE!"}]
[59,null,null,{"$f":"IF(H69<>\"\",DATEDIF(H69,作業用!$K$4,\"Y\"),\"\")","v":""},null,null,null,null,null,null,null,null,null,null,null,null,null,null,null,"",null,"",null,"",null,"",null,null,null,null,null,null,null,null,null,null,null,null,null,null,null,null,null,null,null,null,null,null,null,null,null,null,null,null,null,null,null,null,null,null,null,null,{"$f":"IF($B69=\"\",\"\",IF(AND($K69=\"\",$L69=\"\"),\"必須項目漏れあり\",IF(AND($B69<>\"\",COUNTIF($B69:$J69,\"\")>0),\"必須項目漏れあり\",IF(AND($B69<>\"\",COUNTIF($M69:$O69,\"\")>0),\"必須項目漏れあり\",IF(AND($B69<>\"\",COUNTIF($Q69:$S69,\"\")>0),\"必須項目漏れあり\",\"申込準備完了\"&\"(\"&申込内容の確認!$B60&\"様分)\")))))","v":""},{"$error":"#VALUE!"},{"$error":"#VALUE!"},{"$error":"#VALUE!"}]
[60,null,null,{"$f":"IF(H70<>\"\",DATEDIF(H70,作業用!$K$4,\"Y\"),\"\")","v":""},null,null,null,null,null,null,null,null,null,null,null,null,null,null,null,"",null,"",null,"",null,"",null,null,null,null,null,null,null,null,null,null,null,null,null,null,null,null,null,null,null,null,null,null,null,null,null,null,null,null,null,null,null,null,null,null,null,null,{"$f":"IF($B70=\"\",\"\",IF(AND($K70=\"\",$L70=\"\"),\"必須項目漏れあり\",IF(AND($B70<>\"\",COUNTIF($B70:$J70,\"\")>0),\"必須項目漏れあり\",IF(AND($B70<>\"\",COUNTIF($M70:$O70,\"\")>0),\"必須項目漏れあり\",IF(AND($B70<>\"\",COUNTIF($Q70:$S70,\"\")>0),\"必須項目漏れあり\",\"申込準備完了\"&\"(\"&申込内容の確認!$B61&\"様分)\")))))","v":""},{"$error":"#VALUE!"},{"$error":"#VALUE!"},{"$error":"#VALUE!"}]
[61,null,null,{"$f":"IF(H71<>\"\",DATEDIF(H71,作業用!$K$4,\"Y\"),\"\")","v":""},null,null,null,null,null,null,null,null,null,null,null,null,null,null,null,"",null,"",null,"",null,"",null,null,null,null,null,null,null,null,null,null,null,null,null,null,null,null,null,null,null,null,null,null,null,null,null,null,null,null,null,null,null,null,null,null,null,null,{"$f":"IF($B71=\"\",\"\",IF(AND($K71=\"\",$L71=\"\"),\"必須項目漏れあり\",IF(AND($B71<>\"\",COUNTIF($B71:$J71,\"\")>0),\"必須項目漏れあり\",IF(AND($B71<>\"\",COUNTIF($M71:$O71,\"\")>0),\"必須項目漏れあり\",IF(AND($B71<>\"\",COUNTIF($Q71:$S71,\"\")>0),\"必須項目漏れあり\",\"申込準備完了\"&\"(\"&申込内容の確認!$B62&\"様分)\")))))","v":""},{"$error":"#VALUE!"},{"$error":"#VALUE!"},{"$error":"#VALUE!"}]
[62,null,null,{"$f":"IF(H72<>\"\",DATEDIF(H72,作業用!$K$4,\"Y\"),\"\")","v":""},null,null,null,null,null,null,null,null,null,null,null,null,null,null,null,"",null,"",null,"",null,"",null,null,null,null,null,null,null,null,null,null,null,null,null,null,null,null,null,null,null,null,null,null,null,null,null,null,null,null,null,null,null,null,null,null,null,null,{"$f":"IF($B72=\"\",\"\",IF(AND($K72=\"\",$L72=\"\"),\"必須項目漏れあり\",IF(AND($B72<>\"\",COUNTIF($B72:$J72,\"\")>0),\"必須項目漏れあり\",IF(AND($B72<>\"\",COUNTIF($M72:$O72,\"\")>0),\"必須項目漏れあり\",IF(AND($B72<>\"\",COUNTIF($Q72:$S72,\"\")>0),\"必須項目漏れあり\",\"申込準備完了\"&\"(\"&申込内容の確認!$B63&\"様分)\")))))","v":""},{"$error":"#VALUE!"},{"$error":"#VALUE!"},{"$error":"#VALUE!"}]
[63,null,null,{"$f":"IF(H73<>\"\",DATEDIF(H73,作業用!$K$4,\"Y\"),\"\")","v":""},null,null,null,null,null,null,null,null,null,null,null,null,null,null,null,"",null,"",null,"",null,"",null,null,null,null,null,null,null,null,null,null,null,null,null,null,null,null,null,null,null,null,null,null,null,null,null,null,null,null,null,null,null,null,null,null,null,null,{"$f":"IF($B73=\"\",\"\",IF(AND($K73=\"\",$L73=\"\"),\"必須項目漏れあり\",IF(AND($B73<>\"\",COUNTIF($B73:$J73,\"\")>0),\"必須項目漏れあり\",IF(AND($B73<>\"\",COUNTIF($M73:$O73,\"\")>0),\"必須項目漏れあり\",IF(AND($B73<>\"\",COUNTIF($Q73:$S73,\"\")>0),\"必須項目漏れあり\",\"申込準備完了\"&\"(\"&申込内容の確認!$B64&\"様分)\")))))","v":""},{"$error":"#VALUE!"},{"$error":"#VALUE!"},{"$error":"#VALUE!"}]
[64,null,null,{"$f":"IF(H74<>\"\",DATEDIF(H74,作業用!$K$4,\"Y\"),\"\")","v":""},null,null,null,null,null,null,null,null,null,null,null,null,null,null,null,"",null,"",null,"",null,"",null,null,null,null,null,null,null,null,null,null,null,null,null,null,null,null,null,null,null,null,null,null,null,null,null,null,null,null,null,null,null,null,null,null,null,null,{"$f":"IF($B74=\"\",\"\",IF(AND($K74=\"\",$L74=\"\"),\"必須項目漏れあり\",IF(AND($B74<>\"\",COUNTIF($B74:$J74,\"\")>0),\"必須項目漏れあり\",IF(AND($B74<>\"\",COUNTIF($M74:$O74,\"\")>0),\"必須項目漏れあり\",IF(AND($B74<>\"\",COUNTIF($Q74:$S74,\"\")>0),\"必須項目漏れあり\",\"申込準備完了\"&\"(\"&申込内容の確認!$B65&\"様分)\")))))","v":""},{"$error":"#VALUE!"},{"$error":"#VALUE!"},{"$error":"#VALUE!"}]
[65,null,null,{"$f":"IF(H75<>\"\",DATEDIF(H75,作業用!$K$4,\"Y\"),\"\")","v":""},null,null,null,null,null,null,null,null,null,null,null,null,null,null,null,{"$f":"IF($B75<>\"\",IF($BL75=\"協会子宮がん対象外\",\"対象外\",\"対象\"),\"\")","v":""},null,{"$f":"IF($B75<>\"\",IF($BM75=\"協会ﾏﾝﾓｸﾞﾗﾌｨｰ対象外\",\"対象外\",\"対象\"),\"\")","v":""},null,{"$f":"IF($B75<>\"\",IF($BN75=\"協会骨対象外\",\"対象外\",\"対象\"),\"\")","v":""},null,{"$f":"IF($U75=\"\",\"\",IF(AND(NOT(ISBLANK($U75)),OR($D75<20,$D75>75,$G75=\"男\",ISODD($D75),$M75=\"その他\",$N75=\"家族\")),\"協会子宮がん\",\"\"))&IF($W75=\"\",\"\",IF(AND(NOT(ISBLANK($W75)),OR($D75<40,$D75>75,$G75=\"男\",ISODD($D75),$M75=\"その他\",$N75=\"家族\")),\"　協会ﾏﾝﾓｸﾞﾗﾌｨｰ\",\"\"))&IF($Y75=\"\",\"\",IF(AND(NOT(ISBLANK($Y75)),OR($D75<40,$D75>75,$G75=\"男\",ISODD(D75),$M75=\"その他\",$N75=\"家族\")),\"　協会骨密度\",\"\"))","v":""},null,null,null,null,null,null,null,null,null,null,null,null,null,null,null,null,null,null,null,null,null,null,null,null,null,null,null,null,null,null,null,null,null,null,null,null,{"$f":"IF($B75=\"\",\"\",IF(AND($K75=\"\",$L75=\"\"),\"必須項目漏れあり\",IF(AND($B75<>\"\",COUNTIF($B75:$J75,\"\")>0),\"必須項目漏れあり\",IF(AND($B75<>\"\",COUNTIF($M75:$O75,\"\")>0),\"必須項目漏れあり\",IF(AND($B75<>\"\",COUNTIF($Q75:$S75,\"\")>0),\"必須項目漏れあり\",\"申込準備完了\"&\"(\"&申込内容の確認!$B66&\"様分)\")))))","v":""},{"$f":"IF(AND(NOT(ISBLANK($B75)),OR($D75<20,$D75>75,$G75=\"男\",ISODD($D75),$M75=\"その他\",$N75=\"家族\")),\"協会子宮がん対象外\",\"\")","v":{"$error":"#VALUE!"}},{"$f":"IF(AND(NOT(ISBLANK($B75)),OR($D75<40,$D75>75,$G75=\"男\",ISODD($D75),$M75=\"その他\",$N75=\"家族\")),\"協会ﾏﾝﾓｸﾞﾗﾌｨｰ対象外\",\"\")","v":{"$error":"#VALUE!"}},{"$f":"IF(AND(NOT(ISBLANK($B75)),OR($D75<40,$D75>75,$G75=\"男\",ISODD(D75),$M75=\"その他\",$N75=\"家族\")),\"協会骨対象外\",\"\")","v":{"$error":"#VALUE!"}}]
[66,null,null,{"$f":"IF(H76<>\"\",DATEDIF(H76,作業用!$K$4,\"Y\"),\"\")","v":""},null,null,null,null,null,null,null,null,null,null,null,null,null,null,null,"",null,"",null,"",null,"",null,null,null,null,null,null,null,null,null,null,null,null,null,null,null,null,null,null,null,null,null,null,null,null,null,null,null,null,null,null,null,null,null,null,null,null,{"$f":"IF($B76=\"\",\"\",IF(AND($K76=\"\",$L76=\"\"),\"必須項目漏れあり\",IF(AND($B76<>\"\",COUNTIF($B76:$J76,\"\")>0),\"必須項目漏れあり\",IF(AND($B76<>\"\",COUNTIF($M76:$O76,\"\")>0),\"必須項目漏れあり\",IF(AND($B76<>\"\",COUNTIF($Q76:$S76,\"\")>0),\"必須項目漏れあり\",\"申込準備完了\"&\"(\"&申込内容の確認!$B67&\"様分)\")))))","v":""},{"$error":"#VALUE!"},{"$error":"#VALUE!"},{"$error":"#VALUE!"}]
[67,null,null,{"$f":"IF(H77<>\"\",DATEDIF(H77,作業用!$K$4,\"Y\"),\"\")","v":""},null,null,null,null,null,null,null,null,null,null,null,null,null,null,null,"",null,"",null,"",null,"",null,null,null,null,null,null,null,null,null,null,null,null,null,null,null,null,null,null,null,null,null,null,null,null,null,null,null,null,null,null,null,null,null,null,null,null,{"$f":"IF($B77=\"\",\"\",IF(AND($K77=\"\",$L77=\"\"),\"必須項目漏れあり\",IF(AND($B77<>\"\",COUNTIF($B77:$J77,\"\")>0),\"必須項目漏れあり\",IF(AND($B77<>\"\",COUNTIF($M77:$O77,\"\")>0),\"必須項目漏れあり\",IF(AND($B77<>\"\",COUNTIF($Q77:$S77,\"\")>0),\"必須項目漏れあり\",\"申込準備完了\"&\"(\"&申込内容の確認!$B68&\"様分)\")))))","v":""},{"$error":"#VALUE!"},{"$error":"#VALUE!"},{"$error":"#VALUE!"}]
[68,null,null,{"$f":"IF(H78<>\"\",DATEDIF(H78,作業用!$K$4,\"Y\"),\"\")","v":""},null,null,null,null,null,null,null,null,null,null,null,null,null,null,null,"",null,"",null,"",null,"",null,null,null,null,null,null,null,null,null,null,null,null,null,null,null,null,null,null,null,null,null,null,null,null,null,null,null,null,null,null,null,null,null,null,null,null,{"$f":"IF($B78=\"\",\"\",IF(AND($K78=\"\",$L78=\"\"),\"必須項目漏れあり\",IF(AND($B78<>\"\",COUNTIF($B78:$J78,\"\")>0),\"必須項目漏れあり\",IF(AND($B78<>\"\",COUNTIF($M78:$O78,\"\")>0),\"必須項目漏れあり\",IF(AND($B78<>\"\",COUNTIF($Q78:$S78,\"\")>0),\"必須項目漏れあり\",\"申込準備完了\"&\"(\"&申込内容の確認!$B69&\"様分)\")))))","v":""},{"$error":"#VALUE!"},{"$error":"#VALUE!"},{"$error":"#VALUE!"}]
[69,null,null,{"$f":"IF(H79<>\"\",DATEDIF(H79,作業用!$K$4,\"Y\"),\"\")","v":""},null,null,null,null,null,null,null,null,null,null,null,null,null,null,null,"",null,"",null,"",null,"",null,null,null,null,null,null,null,null,null,null,null,null,null,null,null,null,null,null,null,null,null,null,null,null,null,null,null,null,null,null,null,null,null,null,null,null,{"$f":"IF($B79=\"\",\"\",IF(AND($K79=\"\",$L79=\"\"),\"必須項目漏れあり\",IF(AND($B79<>\"\",COUNTIF($B79:$J79,\"\")>0),\"必須項目漏れあり\",IF(AND($B79<>\"\",COUNTIF($M79:$O79,\"\")>0),\"必須項目漏れあり\",IF(AND($B79<>\"\",COUNTIF($Q79:$S79,\"\")>0),\"必須項目漏れあり\",\"申込準備完了\"&\"(\"&申込内容の確認!$B70&\"様分)\")))))","v":""},{"$error":"#VALUE!"},{"$error":"#VALUE!"},{"$error":"#VALUE!"}]
[70,null,null,{"$f":"IF(H80<>\"\",DATEDIF(H80,作業用!$K$4,\"Y\"),\"\")","v":""},null,null,null,null,null,null,null,null,null,null,null,null,null,null,null,"",null,"",null,"",null,"",null,null,null,null,null,null,null,null,null,null,null,null,null,null,null,null,null,null,null,null,null,null,null,null,null,null,null,null,null,null,null,null,null,null,null,null,{"$f":"IF($B80=\"\",\"\",IF(AND($K80=\"\",$L80=\"\"),\"必須項目漏れあり\",IF(AND($B80<>\"\",COUNTIF($B80:$J80,\"\")>0),\"必須項目漏れあり\",IF(AND($B80<>\"\",COUNTIF($M80:$O80,\"\")>0),\"必須項目漏れあり\",IF(AND($B80<>\"\",COUNTIF($Q80:$S80,\"\")>0),\"必須項目漏れあり\",\"申込準備完了\"&\"(\"&申込内容の確認!$B71&\"様分)\")))))","v":""},{"$error":"#VALUE!"},{"$error":"#VALUE!"},{"$error":"#VALUE!"}]
[71,null,null,{"$f":"IF(H81<>\"\",DATEDIF(H81,作業用!$K$4,\"Y\"),\"\")","v":""},null,null,null,null,null,null,null,null,null,null,null,null,null,null,null,"",null,"",null,"",null,"",null,null,null,null,null,null,null,null,null,null,null,null,null,null,null,null,null,null,null,null,null,null,null,null,null,null,null,null,null,null,null,null,null,null,null,null,{"$f":"IF($B81=\"\",\"\",IF(AND($K81=\"\",$L81=\"\"),\"必須項目漏れあり\",IF(AND($B81<>\"\",COUNTIF($B81:$J81,\"\")>0),\"必須項目漏れあり\",IF(AND($B81<>\"\",COUNTIF($M81:$O81,\"\")>0),\"必須項目漏れあり\",IF(AND($B81<>\"\",COUNTIF($Q81:$S81,\"\")>0),\"必須項目漏れあり\",\"申込準備完了\"&\"(\"&申込内容の確認!$B72&\"様分)\")))))","v":""},{"$error":"#VALUE!"},{"$error":"#VALUE!"},{"$error":"#VALUE!"}]
[72,null,null,{"$f":"IF(H82<>\"\",DATEDIF(H82,作業用!$K$4,\"Y\"),\"\")","v":""},null,null,null,null,null,null,null,null,null,null,null,null,null,null,null,"",null,"",null,"",null,"",null,null,null,null,null,null,null,null,null,null,null,null,null,null,null,null,null,null,null,null,null,null,null,null,null,null,null,null,null,null,null,null,null,null,null,null,{"$f":"IF($B82=\"\",\"\",IF(AND($K82=\"\",$L82=\"\"),\"必須項目漏れあり\",IF(AND($B82<>\"\",COUNTIF($B82:$J82,\"\")>0),\"必須項目漏れあり\",IF(AND($B82<>\"\",COUNTIF($M82:$O82,\"\")>0),\"必須項目漏れあり\",IF(AND($B82<>\"\",COUNTIF($Q82:$S82,\"\")>0),\"必須項目漏れあり\",\"申込準備完了\"&\"(\"&申込内容の確認!$B73&\"様分)\")))))","v":""},{"$error":"#VALUE!"},{"$error":"#VALUE!"},{"$error":"#VALUE!"}]
[73,null,null,{"$f":"IF(H83<>\"\",DATEDIF(H83,作業用!$K$4,\"Y\"),\"\")","v":""},null,null,null,null,null,null,null,null,null,null,null,null,null,null,null,"",null,"",null,"",null,"",null,null,null,null,null,null,null,null,null,null,null,null,null,null,null,null,null,null,null,null,null,null,null,null,null,null,null,null,null,null,null,null,null,null,null,null,{"$f":"IF($B83=\"\",\"\",IF(AND($K83=\"\",$L83=\"\"),\"必須項目漏れあり\",IF(AND($B83<>\"\",COUNTIF($B83:$J83,\"\")>0),\"必須項目漏れあり\",IF(AND($B83<>\"\",COUNTIF($M83:$O83,\"\")>0),\"必須項目漏れあり\",IF(AND($B83<>\"\",COUNTIF($Q83:$S83,\"\")>0),\"必須項目漏れあり\",\"申込準備完了\"&\"(\"&申込内容の確認!$B74&\"様分)\")))))","v":""},{"$error":"#VALUE!"},{"$error":"#VALUE!"},{"$error":"#VALUE!"}]
[74,null,null,{"$f":"IF(H84<>\"\",DATEDIF(H84,作業用!$K$4,\"Y\"),\"\")","v":""},null,null,null,null,null,null,null,null,null,null,null,null,null,null,null,"",null,"",null,"",null,"",null,null,null,null,null,null,null,null,null,null,null,null,null,null,null,null,null,null,null,null,null,null,null,null,null,null,null,null,null,null,null,null,null,null,null,null,{"$f":"IF($B84=\"\",\"\",IF(AND($K84=\"\",$L84=\"\"),\"必須項目漏れあり\",IF(AND($B84<>\"\",COUNTIF($B84:$J84,\"\")>0),\"必須項目漏れあり\",IF(AND($B84<>\"\",COUNTIF($M84:$O84,\"\")>0),\"必須項目漏れあり\",IF(AND($B84<>\"\",COUNTIF($Q84:$S84,\"\")>0),\"必須項目漏れあり\",\"申込準備完了\"&\"(\"&申込内容の確認!$B75&\"様分)\")))))","v":""},{"$error":"#VALUE!"},{"$error":"#VALUE!"},{"$error":"#VALUE!"}]
[75,null,null,{"$f":"IF(H85<>\"\",DATEDIF(H85,作業用!$K$4,\"Y\"),\"\")","v":""},null,null,null,null,null,null,null,null,null,null,null,null,null,null,null,"",null,"",null,"",null,"",null,null,null,null,null,null,null,null,null,null,null,null,null,null,null,null,null,null,null,null,null,null,null,null,null,null,null,null,null,null,null,null,null,null,null,null,{"$f":"IF($B85=\"\",\"\",IF(AND($K85=\"\",$L85=\"\"),\"必須項目漏れあり\",IF(AND($B85<>\"\",COUNTIF($B85:$J85,\"\")>0),\"必須項目漏れあり\",IF(AND($B85<>\"\",COUNTIF($M85:$O85,\"\")>0),\"必須項目漏れあり\",IF(AND($B85<>\"\",COUNTIF($Q85:$S85,\"\")>0),\"必須項目漏れあり\",\"申込準備完了\"&\"(\"&申込内容の確認!$B76&\"様分)\")))))","v":""},{"$error":"#VALUE!"},{"$error":"#VALUE!"},{"$error":"#VALUE!"}]
[76,null,null,{"$f":"IF(H86<>\"\",DATEDIF(H86,作業用!$K$4,\"Y\"),\"\")","v":""},null,null,null,null,null,null,null,null,null,null,null,null,null,null,null,"",null,"",null,"",null,"",null,null,null,null,null,null,null,null,null,null,null,null,null,null,null,null,null,null,null,null,null,null,null,null,null,null,null,null,null,null,null,null,null,null,null,null,{"$f":"IF($B86=\"\",\"\",IF(AND($K86=\"\",$L86=\"\"),\"必須項目漏れあり\",IF(AND($B86<>\"\",COUNTIF($B86:$J86,\"\")>0),\"必須項目漏れあり\",IF(AND($B86<>\"\",COUNTIF($M86:$O86,\"\")>0),\"必須項目漏れあり\",IF(AND($B86<>\"\",COUNTIF($Q86:$S86,\"\")>0),\"必須項目漏れあり\",\"申込準備完了\"&\"(\"&申込内容の確認!$B77&\"様分)\")))))","v":""},{"$error":"#VALUE!"},{"$error":"#VALUE!"},{"$error":"#VALUE!"}]
[77,null,null,{"$f":"IF(H87<>\"\",DATEDIF(H87,作業用!$K$4,\"Y\"),\"\")","v":""},null,null,null,null,null,null,null,null,null,null,null,null,null,null,null,"",null,"",null,"",null,"",null,null,null,null,null,null,null,null,null,null,null,null,null,null,null,null,null,null,null,null,null,null,null,null,null,null,null,null,null,null,null,null,null,null,null,null,{"$f":"IF($B87=\"\",\"\",IF(AND($K87=\"\",$L87=\"\"),\"必須項目漏れあり\",IF(AND($B87<>\"\",COUNTIF($B87:$J87,\"\")>0),\"必須項目漏れあり\",IF(AND($B87<>\"\",COUNTIF($M87:$O87,\"\")>0),\"必須項目漏れあり\",IF(AND($B87<>\"\",COUNTIF($Q87:$S87,\"\")>0),\"必須項目漏れあり\",\"申込準備完了\"&\"(\"&申込内容の確認!$B78&\"様分)\")))))","v":""},{"$error":"#VALUE!"},{"$error":"#VALUE!"},{"$error":"#VALUE!"}]
[78,null,null,{"$f":"IF(H88<>\"\",DATEDIF(H88,作業用!$K$4,\"Y\"),\"\")","v":""},null,null,null,null,null,null,null,null,null,null,null,null,null,null,null,"",null,"",null,"",null,"",null,null,null,null,null,null,null,null,null,null,null,null,null,null,null,null,null,null,null,null,null,null,null,null,null,null,null,null,null,null,null,null,null,null,null,null,{"$f":"IF($B88=\"\",\"\",IF(AND($K88=\"\",$L88=\"\"),\"必須項目漏れあり\",IF(AND($B88<>\"\",COUNTIF($B88:$J88,\"\")>0),\"必須項目漏れあり\",IF(AND($B88<>\"\",COUNTIF($M88:$O88,\"\")>0),\"必須項目漏れあり\",IF(AND($B88<>\"\",COUNTIF($Q88:$S88,\"\")>0),\"必須項目漏れあり\",\"申込準備完了\"&\"(\"&申込内容の確認!$B79&\"様分)\")))))","v":""},{"$error":"#VALUE!"},{"$error":"#VALUE!"},{"$error":"#VALUE!"}]
[79,null,null,{"$f":"IF(H89<>\"\",DATEDIF(H89,作業用!$K$4,\"Y\"),\"\")","v":""},null,null,null,null,null,null,null,null,null,null,null,null,null,null,null,"",null,"",null,"",null,"",null,null,null,null,null,null,null,null,null,null,null,null,null,null,null,null,null,null,null,null,null,null,null,null,null,null,null,null,null,null,null,null,null,null,null,null,{"$f":"IF($B89=\"\",\"\",IF(AND($K89=\"\",$L89=\"\"),\"必須項目漏れあり\",IF(AND($B89<>\"\",COUNTIF($B89:$J89,\"\")>0),\"必須項目漏れあり\",IF(AND($B89<>\"\",COUNTIF($M89:$O89,\"\")>0),\"必須項目漏れあり\",IF(AND($B89<>\"\",COUNTIF($Q89:$S89,\"\")>0),\"必須項目漏れあり\",\"申込準備完了\"&\"(\"&申込内容の確認!$B80&\"様分)\")))))","v":""},{"$error":"#VALUE!"},{"$error":"#VALUE!"},{"$error":"#VALUE!"}]
[80,null,null,{"$f":"IF(H90<>\"\",DATEDIF(H90,作業用!$K$4,\"Y\"),\"\")","v":""},null,null,null,null,null,null,null,null,null,null,null,null,null,null,null,"",null,"",null,"",null,"",null,null,null,null,null,null,null,null,null,null,null,null,null,null,null,null,null,null,null,null,null,null,null,null,null,null,null,null,null,null,null,null,null,null,null,null,{"$f":"IF($B90=\"\",\"\",IF(AND($K90=\"\",$L90=\"\"),\"必須項目漏れあり\",IF(AND($B90<>\"\",COUNTIF($B90:$J90,\"\")>0),\"必須項目漏れあり\",IF(AND($B90<>\"\",COUNTIF($M90:$O90,\"\")>0),\"必須項目漏れあり\",IF(AND($B90<>\"\",COUNTIF($Q90:$S90,\"\")>0),\"必須項目漏れあり\",\"申込準備完了\"&\"(\"&申込内容の確認!$B81&\"様分)\")))))","v":""},{"$error":"#VALUE!"},{"$error":"#VALUE!"},{"$error":"#VALUE!"}]
[81,null,null,{"$f":"IF(H91<>\"\",DATEDIF(H91,作業用!$K$4,\"Y\"),\"\")","v":""},null,null,null,null,null,null,null,null,null,null,null,null,null,null,null,"",null,"",null,"",null,"",null,null,null,null,null,null,null,null,null,null,null,null,null,null,null,null,null,null,null,null,null,null,null,null,null,null,null,null,null,null,null,null,null,null,null,null,{"$f":"IF($B91=\"\",\"\",IF(AND($K91=\"\",$L91=\"\"),\"必須項目漏れあり\",IF(AND($B91<>\"\",COUNTIF($B91:$J91,\"\")>0),\"必須項目漏れあり\",IF(AND($B91<>\"\",COUNTIF($M91:$O91,\"\")>0),\"必須項目漏れあり\",IF(AND($B91<>\"\",COUNTIF($Q91:$S91,\"\")>0),\"必須項目漏れあり\",\"申込準備完了\"&\"(\"&申込内容の確認!$B82&\"様分)\")))))","v":""},{"$error":"#VALUE!"},{"$error":"#VALUE!"},{"$error":"#VALUE!"}]
[82,null,null,{"$f":"IF(H92<>\"\",DATEDIF(H92,作業用!$K$4,\"Y\"),\"\")","v":""},null,null,null,null,null,null,null,null,null,null,null,null,null,null,null,"",null,"",null,"",null,"",null,null,null,null,null,null,null,null,null,null,null,null,null,null,null,null,null,null,null,null,null,null,null,null,null,null,null,null,null,null,null,null,null,null,null,null,{"$f":"IF($B92=\"\",\"\",IF(AND($K92=\"\",$L92=\"\"),\"必須項目漏れあり\",IF(AND($B92<>\"\",COUNTIF($B92:$J92,\"\")>0),\"必須項目漏れあり\",IF(AND($B92<>\"\",COUNTIF($M92:$O92,\"\")>0),\"必須項目漏れあり\",IF(AND($B92<>\"\",COUNTIF($Q92:$S92,\"\")>0),\"必須項目漏れあり\",\"申込準備完了\"&\"(\"&申込内容の確認!$B83&\"様分)\")))))","v":""},{"$error":"#VALUE!"},{"$error":"#VALUE!"},{"$error":"#VALUE!"}]
[83,null,null,{"$f":"IF(H93<>\"\",DATEDIF(H93,作業用!$K$4,\"Y\"),\"\")","v":""},null,null,null,null,null,null,null,null,null,null,null,null,null,null,null,"",null,"",null,"",null,"",null,null,null,null,null,null,null,null,null,null,null,null,null,null,null,null,null,null,null,null,null,null,null,null,null,null,null,null,null,null,null,null,null,null,null,null,{"$f":"IF($B93=\"\",\"\",IF(AND($K93=\"\",$L93=\"\"),\"必須項目漏れあり\",IF(AND($B93<>\"\",COUNTIF($B93:$J93,\"\")>0),\"必須項目漏れあり\",IF(AND($B93<>\"\",COUNTIF($M93:$O93,\"\")>0),\"必須項目漏れあり\",IF(AND($B93<>\"\",COUNTIF($Q93:$S93,\"\")>0),\"必須項目漏れあり\",\"申込準備完了\"&\"(\"&申込内容の確認!$B84&\"様分)\")))))","v":""},{"$error":"#VALUE!"},{"$error":"#VALUE!"},{"$error":"#VALUE!"}]
[84,null,null,{"$f":"IF(H94<>\"\",DATEDIF(H94,作業用!$K$4,\"Y\"),\"\")","v":""},null,null,null,null,null,null,null,null,null,null,null,null,null,null,null,"",null,"",null,"",null,"",null,null,null,null,null,null,null,null,null,null,null,null,null,null,null,null,null,null,null,null,null,null,null,null,null,null,null,null,null,null,null,null,null,null,null,null,{"$f":"IF($B94=\"\",\"\",IF(AND($K94=\"\",$L94=\"\"),\"必須項目漏れあり\",IF(AND($B94<>\"\",COUNTIF($B94:$J94,\"\")>0),\"必須項目漏れあり\",IF(AND($B94<>\"\",COUNTIF($M94:$O94,\"\")>0),\"必須項目漏れあり\",IF(AND($B94<>\"\",COUNTIF($Q94:$S94,\"\")>0),\"必須項目漏れあり\",\"申込準備完了\"&\"(\"&申込内容の確認!$B85&\"様分)\")))))","v":""},{"$error":"#VALUE!"},{"$error":"#VALUE!"},{"$error":"#VALUE!"}]
[85,null,null,{"$f":"IF(H95<>\"\",DATEDIF(H95,作業用!$K$4,\"Y\"),\"\")","v":""},null,null,null,null,null,null,null,null,null,null,null,null,null,null,null,"",null,"",null,"",null,"",null,null,null,null,null,null,null,null,null,null,null,null,null,null,null,null,null,null,null,null,null,null,null,null,null,null,null,null,null,null,null,null,null,null,null,null,{"$f":"IF($B95=\"\",\"\",IF(AND($K95=\"\",$L95=\"\"),\"必須項目漏れあり\",IF(AND($B95<>\"\",COUNTIF($B95:$J95,\"\")>0),\"必須項目漏れあり\",IF(AND($B95<>\"\",COUNTIF($M95:$O95,\"\")>0),\"必須項目漏れあり\",IF(AND($B95<>\"\",COUNTIF($Q95:$S95,\"\")>0),\"必須項目漏れあり\",\"申込準備完了\"&\"(\"&申込内容の確認!$B86&\"様分)\")))))","v":""},{"$error":"#VALUE!"},{"$error":"#VALUE!"},{"$error":"#VALUE!"}]
[86,null,null,{"$f":"IF(H96<>\"\",DATEDIF(H96,作業用!$K$4,\"Y\"),\"\")","v":""},null,null,null,null,null,null,null,null,null,null,null,null,null,null,null,"",null,"",null,"",null,"",null,null,null,null,null,null,null,null,null,null,null,null,null,null,null,null,null,null,null,null,null,null,null,null,null,null,null,null,null,null,null,null,null,null,null,null,{"$f":"IF($B96=\"\",\"\",IF(AND($K96=\"\",$L96=\"\"),\"必須項目漏れあり\",IF(AND($B96<>\"\",COUNTIF($B96:$J96,\"\")>0),\"必須項目漏れあり\",IF(AND($B96<>\"\",COUNTIF($M96:$O96,\"\")>0),\"必須項目漏れあり\",IF(AND($B96<>\"\",COUNTIF($Q96:$S96,\"\")>0),\"必須項目漏れあり\",\"申込準備完了\"&\"(\"&申込内容の確認!$B87&\"様分)\")))))","v":""},{"$error":"#VALUE!"},{"$error":"#VALUE!"},{"$error":"#VALUE!"}]
[87,null,null,{"$f":"IF(H97<>\"\",DATEDIF(H97,作業用!$K$4,\"Y\"),\"\")","v":""},null,null,null,null,null,null,null,null,null,null,null,null,null,null,null,"",null,"",null,"",null,"",null,null,null,null,null,null,null,null,null,null,null,null,null,null,null,null,null,null,null,null,null,null,null,null,null,null,null,null,null,null,null,null,null,null,null,null,{"$f":"IF($B97=\"\",\"\",IF(AND($K97=\"\",$L97=\"\"),\"必須項目漏れあり\",IF(AND($B97<>\"\",COUNTIF($B97:$J97,\"\")>0),\"必須項目漏れあり\",IF(AND($B97<>\"\",COUNTIF($M97:$O97,\"\")>0),\"必須項目漏れあり\",IF(AND($B97<>\"\",COUNTIF($Q97:$S97,\"\")>0),\"必須項目漏れあり\",\"申込準備完了\"&\"(\"&申込内容の確認!$B88&\"様分)\")))))","v":""},{"$error":"#VALUE!"},{"$error":"#VALUE!"},{"$error":"#VALUE!"}]
[88,null,null,{"$f":"IF(H98<>\"\",DATEDIF(H98,作業用!$K$4,\"Y\"),\"\")","v":""},null,null,null,null,null,null,null,null,null,null,null,null,null,null,null,"",null,"",null,"",null,"",null,null,null,null,null,null,null,null,null,null,null,null,null,null,null,null,null,null,null,null,null,null,null,null,null,null,null,null,null,null,null,null,null,null,null,null,{"$f":"IF($B98=\"\",\"\",IF(AND($K98=\"\",$L98=\"\"),\"必須項目漏れあり\",IF(AND($B98<>\"\",COUNTIF($B98:$J98,\"\")>0),\"必須項目漏れあり\",IF(AND($B98<>\"\",COUNTIF($M98:$O98,\"\")>0),\"必須項目漏れあり\",IF(AND($B98<>\"\",COUNTIF($Q98:$S98,\"\")>0),\"必須項目漏れあり\",\"申込準備完了\"&\"(\"&申込内容の確認!$B89&\"様分)\")))))","v":""},{"$error":"#VALUE!"},{"$error":"#VALUE!"},{"$error":"#VALUE!"}]
[89,null,null,{"$f":"IF(H99<>\"\",DATEDIF(H99,作業用!$K$4,\"Y\"),\"\")","v":""},null,null,null,null,null,null,null,null,null,null,null,null,null,null,null,"",null,"",null,"",null,"",null,null,null,null,null,null,null,null,null,null,null,null,null,null,null,null,null,null,null,null,null,null,null,null,null,null,null,null,null,null,null,null,null,null,null,null,{"$f":"IF($B99=\"\",\"\",IF(AND($K99=\"\",$L99=\"\"),\"必須項目漏れあり\",IF(AND($B99<>\"\",COUNTIF($B99:$J99,\"\")>0),\"必須項目漏れあり\",IF(AND($B99<>\"\",COUNTIF($M99:$O99,\"\")>0),\"必須項目漏れあり\",IF(AND($B99<>\"\",COUNTIF($Q99:$S99,\"\")>0),\"必須項目漏れあり\",\"申込準備完了\"&\"(\"&申込内容の確認!$B90&\"様分)\")))))","v":""},{"$error":"#VALUE!"},{"$error":"#VALUE!"},{"$error":"#VALUE!"}]
[90,null,null,{"$f":"IF(H100<>\"\",DATEDIF(H100,作業用!$K$4,\"Y\"),\"\")","v":""},null,null,null,null,null,null,null,null,null,null,null,null,null,null,null,"",null,"",null,"",null,"",null,null,null,null,null,null,null,null,null,null,null,null,null,null,null,null,null,null,null,null,null,null,null,null,null,null,null,null,null,null,null,null,null,null,null,null,{"$f":"IF($B100=\"\",\"\",IF(AND($K100=\"\",$L100=\"\"),\"必須項目漏れあり\",IF(AND($B100<>\"\",COUNTIF($B100:$J100,\"\")>0),\"必須項目漏れあり\",IF(AND($B100<>\"\",COUNTIF($M100:$O100,\"\")>0),\"必須項目漏れあり\",IF(AND($B100<>\"\",COUNTIF($Q100:$S100,\"\")>0),\"必須項目漏れあり\",\"申込準備完了\"&\"(\"&申込内容の確認!$B91&\"様分)\")))))","v":""},{"$error":"#VALUE!"},{"$error":"#VALUE!"},{"$error":"#VALUE!"}]
[91,null,null,{"$f":"IF(H101<>\"\",DATEDIF(H101,作業用!$K$4,\"Y\"),\"\")","v":""},null,null,null,null,null,null,null,null,null,null,null,null,null,null,null,"",null,"",null,"",null,"",null,null,null,null,null,null,null,null,null,null,null,null,null,null,null,null,null,null,null,null,null,null,null,null,null,null,null,null,null,null,null,null,null,null,null,null,{"$f":"IF($B101=\"\",\"\",IF(AND($K101=\"\",$L101=\"\"),\"必須項目漏れあり\",IF(AND($B101<>\"\",COUNTIF($B101:$J101,\"\")>0),\"必須項目漏れあり\",IF(AND($B101<>\"\",COUNTIF($M101:$O101,\"\")>0),\"必須項目漏れあり\",IF(AND($B101<>\"\",COUNTIF($Q101:$S101,\"\")>0),\"必須項目漏れあり\",\"申込準備完了\"&\"(\"&申込内容の確認!$B92&\"様分)\")))))","v":""},{"$error":"#VALUE!"},{"$error":"#VALUE!"},{"$error":"#VALUE!"}]
[92,null,null,{"$f":"IF(H102<>\"\",DATEDIF(H102,作業用!$K$4,\"Y\"),\"\")","v":""},null,null,null,null,null,null,null,null,null,null,null,null,null,null,null,"",null,"",null,"",null,"",null,null,null,null,null,null,null,null,null,null,null,null,null,null,null,null,null,null,null,null,null,null,null,null,null,null,null,null,null,null,null,null,null,null,null,null,{"$f":"IF($B102=\"\",\"\",IF(AND($K102=\"\",$L102=\"\"),\"必須項目漏れあり\",IF(AND($B102<>\"\",COUNTIF($B102:$J102,\"\")>0),\"必須項目漏れあり\",IF(AND($B102<>\"\",COUNTIF($M102:$O102,\"\")>0),\"必須項目漏れあり\",IF(AND($B102<>\"\",COUNTIF($Q102:$S102,\"\")>0),\"必須項目漏れあり\",\"申込準備完了\"&\"(\"&申込内容の確認!$B93&\"様分)\")))))","v":""},{"$error":"#VALUE!"},{"$error":"#VALUE!"},{"$error":"#VALUE!"}]
[93,null,null,{"$f":"IF(H103<>\"\",DATEDIF(H103,作業用!$K$4,\"Y\"),\"\")","v":""},null,null,null,null,null,null,null,null,null,null,null,null,null,null,null,"",null,"",null,"",null,"",null,null,null,null,null,null,null,null,null,null,null,null,null,null,null,null,null,null,null,null,null,null,null,null,null,null,null,null,null,null,null,null,null,null,null,null,{"$f":"IF($B103=\"\",\"\",IF(AND($K103=\"\",$L103=\"\"),\"必須項目漏れあり\",IF(AND($B103<>\"\",COUNTIF($B103:$J103,\"\")>0),\"必須項目漏れあり\",IF(AND($B103<>\"\",COUNTIF($M103:$O103,\"\")>0),\"必須項目漏れあり\",IF(AND($B103<>\"\",COUNTIF($Q103:$S103,\"\")>0),\"必須項目漏れあり\",\"申込準備完了\"&\"(\"&申込内容の確認!$B94&\"様分)\")))))","v":""},{"$error":"#VALUE!"},{"$error":"#VALUE!"},{"$error":"#VALUE!"}]
[94,null,null,{"$f":"IF(H104<>\"\",DATEDIF(H104,作業用!$K$4,\"Y\"),\"\")","v":""},null,null,null,null,null,null,null,null,null,null,null,null,null,null,null,"",null,"",null,"",null,"",null,null,null,null,null,null,null,null,null,null,null,null,null,null,null,null,null,null,null,null,null,null,null,null,null,null,null,null,null,null,null,null,null,null,null,null,{"$f":"IF($B104=\"\",\"\",IF(AND($K104=\"\",$L104=\"\"),\"必須項目漏れあり\",IF(AND($B104<>\"\",COUNTIF($B104:$J104,\"\")>0),\"必須項目漏れあり\",IF(AND($B104<>\"\",COUNTIF($M104:$O104,\"\")>0),\"必須項目漏れあり\",IF(AND($B104<>\"\",COUNTIF($Q104:$S104,\"\")>0),\"必須項目漏れあり\",\"申込準備完了\"&\"(\"&申込内容の確認!$B95&\"様分)\")))))","v":""},{"$error":"#VALUE!"},{"$error":"#VALUE!"},{"$error":"#VALUE!"}]
[95,null,null,{"$f":"IF(H105<>\"\",DATEDIF(H105,作業用!$K$4,\"Y\"),\"\")","v":""},null,null,null,null,null,null,null,null,null,null,null,null,null,null,null,"",null,"",null,"",null,"",null,null,null,null,null,null,null,null,null,null,null,null,null,null,null,null,null,null,null,null,null,null,null,null,null,null,null,null,null,null,null,null,null,null,null,null,{"$f":"IF($B105=\"\",\"\",IF(AND($K105=\"\",$L105=\"\"),\"必須項目漏れあり\",IF(AND($B105<>\"\",COUNTIF($B105:$J105,\"\")>0),\"必須項目漏れあり\",IF(AND($B105<>\"\",COUNTIF($M105:$O105,\"\")>0),\"必須項目漏れあり\",IF(AND($B105<>\"\",COUNTIF($Q105:$S105,\"\")>0),\"必須項目漏れあり\",\"申込準備完了\"&\"(\"&申込内容の確認!$B96&\"様分)\")))))","v":""},{"$error":"#VALUE!"},{"$error":"#VALUE!"},{"$error":"#VALUE!"}]
[96,null,null,{"$f":"IF(H106<>\"\",DATEDIF(H106,作業用!$K$4,\"Y\"),\"\")","v":""},null,null,null,null,null,null,null,null,null,null,null,null,null,null,null,"",null,"",null,"",null,"",null,null,null,null,null,null,null,null,null,null,null,null,null,null,null,null,null,null,null,null,null,null,null,null,null,null,null,null,null,null,null,null,null,null,null,null,{"$f":"IF($B106=\"\",\"\",IF(AND($K106=\"\",$L106=\"\"),\"必須項目漏れあり\",IF(AND($B106<>\"\",COUNTIF($B106:$J106,\"\")>0),\"必須項目漏れあり\",IF(AND($B106<>\"\",COUNTIF($M106:$O106,\"\")>0),\"必須項目漏れあり\",IF(AND($B106<>\"\",COUNTIF($Q106:$S106,\"\")>0),\"必須項目漏れあり\",\"申込準備完了\"&\"(\"&申込内容の確認!$B97&\"様分)\")))))","v":""},{"$error":"#VALUE!"},{"$error":"#VALUE!"},{"$error":"#VALUE!"}]
[97,null,null,{"$f":"IF(H107<>\"\",DATEDIF(H107,作業用!$K$4,\"Y\"),\"\")","v":""},null,null,null,null,null,null,null,null,null,null,null,null,null,null,null,"",null,"",null,"",null,"",null,null,null,null,null,null,null,null,null,null,null,null,null,null,null,null,null,null,null,null,null,null,null,null,null,null,null,null,null,null,null,null,null,null,null,null,{"$f":"IF($B107=\"\",\"\",IF(AND($K107=\"\",$L107=\"\"),\"必須項目漏れあり\",IF(AND($B107<>\"\",COUNTIF($B107:$J107,\"\")>0),\"必須項目漏れあり\",IF(AND($B107<>\"\",COUNTIF($M107:$O107,\"\")>0),\"必須項目漏れあり\",IF(AND($B107<>\"\",COUNTIF($Q107:$S107,\"\")>0),\"必須項目漏れあり\",\"申込準備完了\"&\"(\"&申込内容の確認!$B98&\"様分)\")))))","v":""},{"$error":"#VALUE!"},{"$error":"#VALUE!"},{"$error":"#VALUE!"}]
[98,null,null,{"$f":"IF(H108<>\"\",DATEDIF(H108,作業用!$K$4,\"Y\"),\"\")","v":""},null,null,null,null,null,null,null,null,null,null,null,null,null,null,null,"",null,"",null,"",null,"",null,null,null,null,null,null,null,null,null,null,null,null,null,null,null,null,null,null,null,null,null,null,null,null,null,null,null,null,null,null,null,null,null,null,null,null,{"$f":"IF($B108=\"\",\"\",IF(AND($K108=\"\",$L108=\"\"),\"必須項目漏れあり\",IF(AND($B108<>\"\",COUNTIF($B108:$J108,\"\")>0),\"必須項目漏れあり\",IF(AND($B108<>\"\",COUNTIF($M108:$O108,\"\")>0),\"必須項目漏れあり\",IF(AND($B108<>\"\",COUNTIF($Q108:$S108,\"\")>0),\"必須項目漏れあり\",\"申込準備完了\"&\"(\"&申込内容の確認!$B99&\"様分)\")))))","v":""},{"$error":"#VALUE!"},{"$error":"#VALUE!"},{"$error":"#VALUE!"}]
[99,null,null,{"$f":"IF(H109<>\"\",DATEDIF(H109,作業用!$K$4,\"Y\"),\"\")","v":""},null,null,null,null,null,null,null,null,null,null,null,null,null,null,null,"",null,"",null,"",null,"",null,null,null,null,null,null,null,null,null,null,null,null,null,null,null,null,null,null,null,null,null,null,null,null,null,null,null,null,null,null,null,null,null,null,null,null,{"$f":"IF($B109=\"\",\"\",IF(AND($K109=\"\",$L109=\"\"),\"必須項目漏れあり\",IF(AND($B109<>\"\",COUNTIF($B109:$J109,\"\")>0),\"必須項目漏れあり\",IF(AND($B109<>\"\",COUNTIF($M109:$O109,\"\")>0),\"必須項目漏れあり\",IF(AND($B109<>\"\",COUNTIF($Q109:$S109,\"\")>0),\"必須項目漏れあり\",\"申込準備完了\"&\"(\"&申込内容の確認!$B100&\"様分)\")))))","v":""},{"$error":"#VALUE!"},{"$error":"#VALUE!"},{"$error":"#VALUE!"}]
[100,null,null,{"$f":"IF(H110<>\"\",DATEDIF(H110,作業用!$K$4,\"Y\"),\"\")","v":""},null,null,null,null,null,null,null,null,null,null,null,null,null,null,null,"",null,"",null,"",null,"",null,null,null,null,null,null,null,null,null,null,null,null,null,null,null,null,null,null,null,null,null,null,null,null,null,null,null,null,null,null,null,null,null,null,null,null,{"$f":"IF($B110=\"\",\"\",IF(AND($K110=\"\",$L110=\"\"),\"必須項目漏れあり\",IF(AND($B110<>\"\",COUNTIF($B110:$J110,\"\")>0),\"必須項目漏れあり\",IF(AND($B110<>\"\",COUNTIF($M110:$O110,\"\")>0),\"必須項目漏れあり\",IF(AND($B110<>\"\",COUNTIF($Q110:$S110,\"\")>0),\"必須項目漏れあり\",\"申込準備完了\"&\"(\"&申込内容の確認!$B101&\"様分)\")))))","v":""},{"$error":"#VALUE!"},{"$error":"#VALUE!"},{"$error":"#VALUE!"}]
[101,null,null,{"$f":"IF(H111<>\"\",DATEDIF(H111,作業用!$K$4,\"Y\"),\"\")","v":""},null,null,null,null,null,null,null,null,null,null,null,null,null,null,null,"",null,"",null,"",null,"",null,null,null,null,null,null,null,null,null,null,null,null,null,null,null,null,null,null,null,null,null,null,null,null,null,null,null,null,null,null,null,null,null,null,null,null,{"$f":"IF($B111=\"\",\"\",IF(AND($K111=\"\",$L111=\"\"),\"必須項目漏れあり\",IF(AND($B111<>\"\",COUNTIF($B111:$J111,\"\")>0),\"必須項目漏れあり\",IF(AND($B111<>\"\",COUNTIF($M111:$O111,\"\")>0),\"必須項目漏れあり\",IF(AND($B111<>\"\",COUNTIF($Q111:$S111,\"\")>0),\"必須項目漏れあり\",\"申込準備完了\"&\"(\"&申込内容の確認!$B102&\"様分)\")))))","v":""},{"$error":"#VALUE!"},{"$error":"#VALUE!"},{"$error":"#VALUE!"}]
[102,null,null,{"$f":"IF(H112<>\"\",DATEDIF(H112,作業用!$K$4,\"Y\"),\"\")","v":""},null,null,null,null,null,null,null,null,null,null,null,null,null,null,null,"",null,"",null,"",null,"",null,null,null,null,null,null,null,null,null,null,null,null,null,null,null,null,null,null,null,null,null,null,null,null,null,null,null,null,null,null,null,null,null,null,null,null,{"$f":"IF($B112=\"\",\"\",IF(AND($K112=\"\",$L112=\"\"),\"必須項目漏れあり\",IF(AND($B112<>\"\",COUNTIF($B112:$J112,\"\")>0),\"必須項目漏れあり\",IF(AND($B112<>\"\",COUNTIF($M112:$O112,\"\")>0),\"必須項目漏れあり\",IF(AND($B112<>\"\",COUNTIF($Q112:$S112,\"\")>0),\"必須項目漏れあり\",\"申込準備完了\"&\"(\"&申込内容の確認!$B103&\"様分)\")))))","v":""},{"$error":"#VALUE!"},{"$error":"#VALUE!"},{"$error":"#VALUE!"}]
[103,null,null,{"$f":"IF(H113<>\"\",DATEDIF(H113,作業用!$K$4,\"Y\"),\"\")","v":""},null,null,null,null,null,null,null,null,null,null,null,null,null,null,null,"",null,"",null,"",null,"",null,null,null,null,null,null,null,null,null,null,null,null,null,null,null,null,null,null,null,null,null,null,null,null,null,null,null,null,null,null,null,null,null,null,null,null,{"$f":"IF($B113=\"\",\"\",IF(AND($K113=\"\",$L113=\"\"),\"必須項目漏れあり\",IF(AND($B113<>\"\",COUNTIF($B113:$J113,\"\")>0),\"必須項目漏れあり\",IF(AND($B113<>\"\",COUNTIF($M113:$O113,\"\")>0),\"必須項目漏れあり\",IF(AND($B113<>\"\",COUNTIF($Q113:$S113,\"\")>0),\"必須項目漏れあり\",\"申込準備完了\"&\"(\"&申込内容の確認!$B104&\"様分)\")))))","v":""},{"$error":"#VALUE!"},{"$error":"#VALUE!"},{"$error":"#VALUE!"}]
[104,null,null,{"$f":"IF(H114<>\"\",DATEDIF(H114,作業用!$K$4,\"Y\"),\"\")","v":""},null,null,null,null,null,null,null,null,null,null,null,null,null,null,null,"",null,"",null,"",null,"",null,null,null,null,null,null,null,null,null,null,null,null,null,null,null,null,null,null,null,null,null,null,null,null,null,null,null,null,null,null,null,null,null,null,null,null,{"$f":"IF($B114=\"\",\"\",IF(AND($K114=\"\",$L114=\"\"),\"必須項目漏れあり\",IF(AND($B114<>\"\",COUNTIF($B114:$J114,\"\")>0),\"必須項目漏れあり\",IF(AND($B114<>\"\",COUNTIF($M114:$O114,\"\")>0),\"必須項目漏れあり\",IF(AND($B114<>\"\",COUNTIF($Q114:$S114,\"\")>0),\"必須項目漏れあり\",\"申込準備完了\"&\"(\"&申込内容の確認!$B105&\"様分)\")))))","v":""},{"$error":"#VALUE!"},{"$error":"#VALUE!"},{"$error":"#VALUE!"}]
[105,null,null,{"$f":"IF(H115<>\"\",DATEDIF(H115,作業用!$K$4,\"Y\"),\"\")","v":""},null,null,null,null,null,null,null,null,null,null,null,null,null,null,null,"",null,"",null,"",null,"",null,null,null,null,null,null,null,null,null,null,null,null,null,null,null,null,null,null,null,null,null,null,null,null,null,null,null,null,null,null,null,null,null,null,null,null,{"$f":"IF($B115=\"\",\"\",IF(AND($K115=\"\",$L115=\"\"),\"必須項目漏れあり\",IF(AND($B115<>\"\",COUNTIF($B115:$J115,\"\")>0),\"必須項目漏れあり\",IF(AND($B115<>\"\",COUNTIF($M115:$O115,\"\")>0),\"必須項目漏れあり\",IF(AND($B115<>\"\",COUNTIF($Q115:$S115,\"\")>0),\"必須項目漏れあり\",\"申込準備完了\"&\"(\"&申込内容の確認!$B106&\"様分)\")))))","v":""},{"$error":"#VALUE!"},{"$error":"#VALUE!"},{"$error":"#VALUE!"}]
[106,null,null,{"$f":"IF(H116<>\"\",DATEDIF(H116,作業用!$K$4,\"Y\"),\"\")","v":""},null,null,null,null,null,null,null,null,null,null,null,null,null,null,null,"",null,"",null,"",null,"",null,null,null,null,null,null,null,null,null,null,null,null,null,null,null,null,null,null,null,null,null,null,null,null,null,null,null,null,null,null,null,null,null,null,null,null,{"$f":"IF($B116=\"\",\"\",IF(AND($K116=\"\",$L116=\"\"),\"必須項目漏れあり\",IF(AND($B116<>\"\",COUNTIF($B116:$J116,\"\")>0),\"必須項目漏れあり\",IF(AND($B116<>\"\",COUNTIF($M116:$O116,\"\")>0),\"必須項目漏れあり\",IF(AND($B116<>\"\",COUNTIF($Q116:$S116,\"\")>0),\"必須項目漏れあり\",\"申込準備完了\"&\"(\"&申込内容の確認!$B107&\"様分)\")))))","v":""},{"$error":"#VALUE!"},{"$error":"#VALUE!"},{"$error":"#VALUE!"}]
[107,null,null,{"$f":"IF(H117<>\"\",DATEDIF(H117,作業用!$K$4,\"Y\"),\"\")","v":""},null,null,null,null,null,null,null,null,null,null,null,null,null,null,null,"",null,"",null,"",null,"",null,null,null,null,null,null,null,null,null,null,null,null,null,null,null,null,null,null,null,null,null,null,null,null,null,null,null,null,null,null,null,null,null,null,null,null,{"$f":"IF($B117=\"\",\"\",IF(AND($K117=\"\",$L117=\"\"),\"必須項目漏れあり\",IF(AND($B117<>\"\",COUNTIF($B117:$J117,\"\")>0),\"必須項目漏れあり\",IF(AND($B117<>\"\",COUNTIF($M117:$O117,\"\")>0),\"必須項目漏れあり\",IF(AND($B117<>\"\",COUNTIF($Q117:$S117,\"\")>0),\"必須項目漏れあり\",\"申込準備完了\"&\"(\"&申込内容の確認!$B108&\"様分)\")))))","v":""},{"$error":"#VALUE!"},{"$error":"#VALUE!"},{"$error":"#VALUE!"}]
[108,null,null,{"$f":"IF(H118<>\"\",DATEDIF(H118,作業用!$K$4,\"Y\"),\"\")","v":""},null,null,null,null,null,null,null,null,null,null,null,null,null,null,null,"",null,"",null,"",null,"",null,null,null,null,null,null,null,null,null,null,null,null,null,null,null,null,null,null,null,null,null,null,null,null,null,null,null,null,null,null,null,null,null,null,null,null,{"$f":"IF($B118=\"\",\"\",IF(AND($K118=\"\",$L118=\"\"),\"必須項目漏れあり\",IF(AND($B118<>\"\",COUNTIF($B118:$J118,\"\")>0),\"必須項目漏れあり\",IF(AND($B118<>\"\",COUNTIF($M118:$O118,\"\")>0),\"必須項目漏れあり\",IF(AND($B118<>\"\",COUNTIF($Q118:$S118,\"\")>0),\"必須項目漏れあり\",\"申込準備完了\"&\"(\"&申込内容の確認!$B109&\"様分)\")))))","v":""},{"$error":"#VALUE!"},{"$error":"#VALUE!"},{"$error":"#VALUE!"}]
[109,null,null,{"$f":"IF(H119<>\"\",DATEDIF(H119,作業用!$K$4,\"Y\"),\"\")","v":""},null,null,null,null,null,null,null,null,null,null,null,null,null,null,null,"",null,"",null,"",null,"",null,null,null,null,null,null,null,null,null,null,null,null,null,null,null,null,null,null,null,null,null,null,null,null,null,null,null,null,null,null,null,null,null,null,null,null,{"$f":"IF($B119=\"\",\"\",IF(AND($K119=\"\",$L119=\"\"),\"必須項目漏れあり\",IF(AND($B119<>\"\",COUNTIF($B119:$J119,\"\")>0),\"必須項目漏れあり\",IF(AND($B119<>\"\",COUNTIF($M119:$O119,\"\")>0),\"必須項目漏れあり\",IF(AND($B119<>\"\",COUNTIF($Q119:$S119,\"\")>0),\"必須項目漏れあり\",\"申込準備完了\"&\"(\"&申込内容の確認!$B110&\"様分)\")))))","v":""},{"$error":"#VALUE!"},{"$error":"#VALUE!"},{"$error":"#VALUE!"}]
[110,null,null,{"$f":"IF(H120<>\"\",DATEDIF(H120,作業用!$K$4,\"Y\"),\"\")","v":""},null,null,null,null,null,null,null,null,null,null,null,null,null,null,null,"",null,"",null,"",null,"",null,null,null,null,null,null,null,null,null,null,null,null,null,null,null,null,null,null,null,null,null,null,null,null,null,null,null,null,null,null,null,null,null,null,null,null,{"$f":"IF($B120=\"\",\"\",IF(AND($K120=\"\",$L120=\"\"),\"必須項目漏れあり\",IF(AND($B120<>\"\",COUNTIF($B120:$J120,\"\")>0),\"必須項目漏れあり\",IF(AND($B120<>\"\",COUNTIF($M120:$O120,\"\")>0),\"必須項目漏れあり\",IF(AND($B120<>\"\",COUNTIF($Q120:$S120,\"\")>0),\"必須項目漏れあり\",\"申込準備完了\"&\"(\"&申込内容の確認!$B111&\"様分)\")))))","v":""},{"$error":"#VALUE!"},{"$error":"#VALUE!"},{"$error":"#VALUE!"}]
[111,null,null,{"$f":"IF(H121<>\"\",DATEDIF(H121,作業用!$K$4,\"Y\"),\"\")","v":""},null,null,null,null,null,null,null,null,null,null,null,null,null,null,null,"",null,"",null,"",null,"",null,null,null,null,null,null,null,null,null,null,null,null,null,null,null,null,null,null,null,null,null,null,null,null,null,null,null,null,null,null,null,null,null,null,null,null,{"$f":"IF($B121=\"\",\"\",IF(AND($K121=\"\",$L121=\"\"),\"必須項目漏れあり\",IF(AND($B121<>\"\",COUNTIF($B121:$J121,\"\")>0),\"必須項目漏れあり\",IF(AND($B121<>\"\",COUNTIF($M121:$O121,\"\")>0),\"必須項目漏れあり\",IF(AND($B121<>\"\",COUNTIF($Q121:$S121,\"\")>0),\"必須項目漏れあり\",\"申込準備完了\"&\"(\"&申込内容の確認!$B112&\"様分)\")))))","v":""},{"$error":"#VALUE!"},{"$error":"#VALUE!"},{"$error":"#VALUE!"}]
[112,null,null,{"$f":"IF(H122<>\"\",DATEDIF(H122,作業用!$K$4,\"Y\"),\"\")","v":""},null,null,null,null,null,null,null,null,null,null,null,null,null,null,null,"",null,"",null,"",null,"",null,null,null,null,null,null,null,null,null,null,null,null,null,null,null,null,null,null,null,null,null,null,null,null,null,null,null,null,null,null,null,null,null,null,null,null,{"$f":"IF($B122=\"\",\"\",IF(AND($K122=\"\",$L122=\"\"),\"必須項目漏れあり\",IF(AND($B122<>\"\",COUNTIF($B122:$J122,\"\")>0),\"必須項目漏れあり\",IF(AND($B122<>\"\",COUNTIF($M122:$O122,\"\")>0),\"必須項目漏れあり\",IF(AND($B122<>\"\",COUNTIF($Q122:$S122,\"\")>0),\"必須項目漏れあり\",\"申込準備完了\"&\"(\"&申込内容の確認!$B113&\"様分)\")))))","v":""},{"$error":"#VALUE!"},{"$error":"#VALUE!"},{"$error":"#VALUE!"}]
[113,null,null,{"$f":"IF(H123<>\"\",DATEDIF(H123,作業用!$K$4,\"Y\"),\"\")","v":""},null,null,null,null,null,null,null,null,null,null,null,null,null,null,null,"",null,"",null,"",null,"",null,null,null,null,null,null,null,null,null,null,null,null,null,null,null,null,null,null,null,null,null,null,null,null,null,null,null,null,null,null,null,null,null,null,null,null,{"$f":"IF($B123=\"\",\"\",IF(AND($K123=\"\",$L123=\"\"),\"必須項目漏れあり\",IF(AND($B123<>\"\",COUNTIF($B123:$J123,\"\")>0),\"必須項目漏れあり\",IF(AND($B123<>\"\",COUNTIF($M123:$O123,\"\")>0),\"必須項目漏れあり\",IF(AND($B123<>\"\",COUNTIF($Q123:$S123,\"\")>0),\"必須項目漏れあり\",\"申込準備完了\"&\"(\"&申込内容の確認!$B114&\"様分)\")))))","v":""},{"$error":"#VALUE!"},{"$error":"#VALUE!"},{"$error":"#VALUE!"}]
[114,null,null,{"$f":"IF(H124<>\"\",DATEDIF(H124,作業用!$K$4,\"Y\"),\"\")","v":""},null,null,null,null,null,null,null,null,null,null,null,null,null,null,null,"",null,"",null,"",null,"",null,null,null,null,null,null,null,null,null,null,null,null,null,null,null,null,null,null,null,null,null,null,null,null,null,null,null,null,null,null,null,null,null,null,null,null,{"$f":"IF($B124=\"\",\"\",IF(AND($K124=\"\",$L124=\"\"),\"必須項目漏れあり\",IF(AND($B124<>\"\",COUNTIF($B124:$J124,\"\")>0),\"必須項目漏れあり\",IF(AND($B124<>\"\",COUNTIF($M124:$O124,\"\")>0),\"必須項目漏れあり\",IF(AND($B124<>\"\",COUNTIF($Q124:$S124,\"\")>0),\"必須項目漏れあり\",\"申込準備完了\"&\"(\"&申込内容の確認!$B115&\"様分)\")))))","v":""},{"$error":"#VALUE!"},{"$error":"#VALUE!"},{"$error":"#VALUE!"}]
[115,null,null,{"$f":"IF(H125<>\"\",DATEDIF(H125,作業用!$K$4,\"Y\"),\"\")","v":""},null,null,null,null,null,null,null,null,null,null,null,null,null,null,null,"",null,"",null,"",null,"",null,null,null,null,null,null,null,null,null,null,null,null,null,null,null,null,null,null,null,null,null,null,null,null,null,null,null,null,null,null,null,null,null,null,null,null,{"$f":"IF($B125=\"\",\"\",IF(AND($K125=\"\",$L125=\"\"),\"必須項目漏れあり\",IF(AND($B125<>\"\",COUNTIF($B125:$J125,\"\")>0),\"必須項目漏れあり\",IF(AND($B125<>\"\",COUNTIF($M125:$O125,\"\")>0),\"必須項目漏れあり\",IF(AND($B125<>\"\",COUNTIF($Q125:$S125,\"\")>0),\"必須項目漏れあり\",\"申込準備完了\"&\"(\"&申込内容の確認!$B116&\"様分)\")))))","v":""},{"$error":"#VALUE!"},{"$error":"#VALUE!"},{"$error":"#VALUE!"}]
[116,null,null,{"$f":"IF(H126<>\"\",DATEDIF(H126,作業用!$K$4,\"Y\"),\"\")","v":""},null,null,null,null,null,null,null,null,null,null,null,null,null,null,null,"",null,"",null,"",null,"",null,null,null,null,null,null,null,null,null,null,null,null,null,null,null,null,null,null,null,null,null,null,null,null,null,null,null,null,null,null,null,null,null,null,null,null,{"$f":"IF($B126=\"\",\"\",IF(AND($K126=\"\",$L126=\"\"),\"必須項目漏れあり\",IF(AND($B126<>\"\",COUNTIF($B126:$J126,\"\")>0),\"必須項目漏れあり\",IF(AND($B126<>\"\",COUNTIF($M126:$O126,\"\")>0),\"必須項目漏れあり\",IF(AND($B126<>\"\",COUNTIF($Q126:$S126,\"\")>0),\"必須項目漏れあり\",\"申込準備完了\"&\"(\"&申込内容の確認!$B117&\"様分)\")))))","v":""},{"$error":"#VALUE!"},{"$error":"#VALUE!"},{"$error":"#VALUE!"}]
[117,null,null,{"$f":"IF(H127<>\"\",DATEDIF(H127,作業用!$K$4,\"Y\"),\"\")","v":""},null,null,null,null,null,null,null,null,null,null,null,null,null,null,null,"",null,"",null,"",null,"",null,null,null,null,null,null,null,null,null,null,null,null,null,null,null,null,null,null,null,null,null,null,null,null,null,null,null,null,null,null,null,null,null,null,null,null,{"$f":"IF($B127=\"\",\"\",IF(AND($K127=\"\",$L127=\"\"),\"必須項目漏れあり\",IF(AND($B127<>\"\",COUNTIF($B127:$J127,\"\")>0),\"必須項目漏れあり\",IF(AND($B127<>\"\",COUNTIF($M127:$O127,\"\")>0),\"必須項目漏れあり\",IF(AND($B127<>\"\",COUNTIF($Q127:$S127,\"\")>0),\"必須項目漏れあり\",\"申込準備完了\"&\"(\"&申込内容の確認!$B118&\"様分)\")))))","v":""},{"$error":"#VALUE!"},{"$error":"#VALUE!"},{"$error":"#VALUE!"}]
[118,null,null,{"$f":"IF(H128<>\"\",DATEDIF(H128,作業用!$K$4,\"Y\"),\"\")","v":""},null,null,null,null,null,null,null,null,null,null,null,null,null,null,null,"",null,"",null,"",null,"",null,null,null,null,null,null,null,null,null,null,null,null,null,null,null,null,null,null,null,null,null,null,null,null,null,null,null,null,null,null,null,null,null,null,null,null,{"$f":"IF($B128=\"\",\"\",IF(AND($K128=\"\",$L128=\"\"),\"必須項目漏れあり\",IF(AND($B128<>\"\",COUNTIF($B128:$J128,\"\")>0),\"必須項目漏れあり\",IF(AND($B128<>\"\",COUNTIF($M128:$O128,\"\")>0),\"必須項目漏れあり\",IF(AND($B128<>\"\",COUNTIF($Q128:$S128,\"\")>0),\"必須項目漏れあり\",\"申込準備完了\"&\"(\"&申込内容の確認!$B119&\"様分)\")))))","v":""},{"$error":"#VALUE!"},{"$error":"#VALUE!"},{"$error":"#VALUE!"}]
[119,null,null,{"$f":"IF(H129<>\"\",DATEDIF(H129,作業用!$K$4,\"Y\"),\"\")","v":""},null,null,null,null,null,null,null,null,null,null,null,null,null,null,null,"",null,"",null,"",null,"",null,null,null,null,null,null,null,null,null,null,null,null,null,null,null,null,null,null,null,null,null,null,null,null,null,null,null,null,null,null,null,null,null,null,null,null,{"$f":"IF($B129=\"\",\"\",IF(AND($K129=\"\",$L129=\"\"),\"必須項目漏れあり\",IF(AND($B129<>\"\",COUNTIF($B129:$J129,\"\")>0),\"必須項目漏れあり\",IF(AND($B129<>\"\",COUNTIF($M129:$O129,\"\")>0),\"必須項目漏れあり\",IF(AND($B129<>\"\",COUNTIF($Q129:$S129,\"\")>0),\"必須項目漏れあり\",\"申込準備完了\"&\"(\"&申込内容の確認!$B120&\"様分)\")))))","v":""},{"$error":"#VALUE!"},{"$error":"#VALUE!"},{"$error":"#VALUE!"}]
[120,null,null,{"$f":"IF(H130<>\"\",DATEDIF(H130,作業用!$K$4,\"Y\"),\"\")","v":""},null,null,null,null,null,null,null,null,null,null,null,null,null,null,null,"",null,"",null,"",null,"",null,null,null,null,null,null,null,null,null,null,null,null,null,null,null,null,null,null,null,null,null,null,null,null,null,null,null,null,null,null,null,null,null,null,null,null,{"$f":"IF($B130=\"\",\"\",IF(AND($K130=\"\",$L130=\"\"),\"必須項目漏れあり\",IF(AND($B130<>\"\",COUNTIF($B130:$J130,\"\")>0),\"必須項目漏れあり\",IF(AND($B130<>\"\",COUNTIF($M130:$O130,\"\")>0),\"必須項目漏れあり\",IF(AND($B130<>\"\",COUNTIF($Q130:$S130,\"\")>0),\"必須項目漏れあり\",\"申込準備完了\"&\"(\"&申込内容の確認!$B121&\"様分)\")))))","v":""},{"$error":"#VALUE!"},{"$error":"#VALUE!"},{"$error":"#VALUE!"}]
[121,null,null,{"$f":"IF(H131<>\"\",DATEDIF(H131,作業用!$K$4,\"Y\"),\"\")","v":""},null,null,null,null,null,null,null,null,null,null,null,null,null,null,null,"",null,"",null,"",null,"",null,null,null,null,null,null,null,null,null,null,null,null,null,null,null,null,null,null,null,null,null,null,null,null,null,null,null,null,null,null,null,null,null,null,null,null,{"$f":"IF($B131=\"\",\"\",IF(AND($K131=\"\",$L131=\"\"),\"必須項目漏れあり\",IF(AND($B131<>\"\",COUNTIF($B131:$J131,\"\")>0),\"必須項目漏れあり\",IF(AND($B131<>\"\",COUNTIF($M131:$O131,\"\")>0),\"必須項目漏れあり\",IF(AND($B131<>\"\",COUNTIF($Q131:$S131,\"\")>0),\"必須項目漏れあり\",\"申込準備完了\"&\"(\"&申込内容の確認!$B122&\"様分)\")))))","v":""},{"$error":"#VALUE!"},{"$error":"#VALUE!"},{"$error":"#VALUE!"}]
[122,null,null,{"$f":"IF(H132<>\"\",DATEDIF(H132,作業用!$K$4,\"Y\"),\"\")","v":""},null,null,null,null,null,null,null,null,null,null,null,null,null,null,null,"",null,"",null,"",null,"",null,null,null,null,null,null,null,null,null,null,null,null,null,null,null,null,null,null,null,null,null,null,null,null,null,null,null,null,null,null,null,null,null,null,null,null,{"$f":"IF($B132=\"\",\"\",IF(AND($K132=\"\",$L132=\"\"),\"必須項目漏れあり\",IF(AND($B132<>\"\",COUNTIF($B132:$J132,\"\")>0),\"必須項目漏れあり\",IF(AND($B132<>\"\",COUNTIF($M132:$O132,\"\")>0),\"必須項目漏れあり\",IF(AND($B132<>\"\",COUNTIF($Q132:$S132,\"\")>0),\"必須項目漏れあり\",\"申込準備完了\"&\"(\"&申込内容の確認!$B123&\"様分)\")))))","v":""},{"$error":"#VALUE!"},{"$error":"#VALUE!"},{"$error":"#VALUE!"}]
[123,null,null,{"$f":"IF(H133<>\"\",DATEDIF(H133,作業用!$K$4,\"Y\"),\"\")","v":""},null,null,null,null,null,null,null,null,null,null,null,null,null,null,null,"",null,"",null,"",null,"",null,null,null,null,null,null,null,null,null,null,null,null,null,null,null,null,null,null,null,null,null,null,null,null,null,null,null,null,null,null,null,null,null,null,null,null,{"$f":"IF($B133=\"\",\"\",IF(AND($K133=\"\",$L133=\"\"),\"必須項目漏れあり\",IF(AND($B133<>\"\",COUNTIF($B133:$J133,\"\")>0),\"必須項目漏れあり\",IF(AND($B133<>\"\",COUNTIF($M133:$O133,\"\")>0),\"必須項目漏れあり\",IF(AND($B133<>\"\",COUNTIF($Q133:$S133,\"\")>0),\"必須項目漏れあり\",\"申込準備完了\"&\"(\"&申込内容の確認!$B124&\"様分)\")))))","v":""},{"$error":"#VALUE!"},{"$error":"#VALUE!"},{"$error":"#VALUE!"}]
[124,null,null,{"$f":"IF(H134<>\"\",DATEDIF(H134,作業用!$K$4,\"Y\"),\"\")","v":""},null,null,null,null,null,null,null,null,null,null,null,null,null,null,null,"",null,"",null,"",null,"",null,null,null,null,null,null,null,null,null,null,null,null,null,null,null,null,null,null,null,null,null,null,null,null,null,null,null,null,null,null,null,null,null,null,null,null,{"$f":"IF($B134=\"\",\"\",IF(AND($K134=\"\",$L134=\"\"),\"必須項目漏れあり\",IF(AND($B134<>\"\",COUNTIF($B134:$J134,\"\")>0),\"必須項目漏れあり\",IF(AND($B134<>\"\",COUNTIF($M134:$O134,\"\")>0),\"必須項目漏れあり\",IF(AND($B134<>\"\",COUNTIF($Q134:$S134,\"\")>0),\"必須項目漏れあり\",\"申込準備完了\"&\"(\"&申込内容の確認!$B125&\"様分)\")))))","v":""},{"$error":"#VALUE!"},{"$error":"#VALUE!"},{"$error":"#VALUE!"}]
[125,null,null,{"$f":"IF(H135<>\"\",DATEDIF(H135,作業用!$K$4,\"Y\"),\"\")","v":""},null,null,null,null,null,null,null,null,null,null,null,null,null,null,null,"",null,"",null,"",null,"",null,null,null,null,null,null,null,null,null,null,null,null,null,null,null,null,null,null,null,null,null,null,null,null,null,null,null,null,null,null,null,null,null,null,null,null,{"$f":"IF($B135=\"\",\"\",IF(AND($K135=\"\",$L135=\"\"),\"必須項目漏れあり\",IF(AND($B135<>\"\",COUNTIF($B135:$J135,\"\")>0),\"必須項目漏れあり\",IF(AND($B135<>\"\",COUNTIF($M135:$O135,\"\")>0),\"必須項目漏れあり\",IF(AND($B135<>\"\",COUNTIF($Q135:$S135,\"\")>0),\"必須項目漏れあり\",\"申込準備完了\"&\"(\"&申込内容の確認!$B126&\"様分)\")))))","v":""},{"$error":"#VALUE!"},{"$error":"#VALUE!"},{"$error":"#VALUE!"}]
[126,null,null,{"$f":"IF(H136<>\"\",DATEDIF(H136,作業用!$K$4,\"Y\"),\"\")","v":""},null,null,null,null,null,null,null,null,null,null,null,null,null,null,null,"",null,"",null,"",null,"",null,null,null,null,null,null,null,null,null,null,null,null,null,null,null,null,null,null,null,null,null,null,null,null,null,null,null,null,null,null,null,null,null,null,null,null,{"$f":"IF($B136=\"\",\"\",IF(AND($K136=\"\",$L136=\"\"),\"必須項目漏れあり\",IF(AND($B136<>\"\",COUNTIF($B136:$J136,\"\")>0),\"必須項目漏れあり\",IF(AND($B136<>\"\",COUNTIF($M136:$O136,\"\")>0),\"必須項目漏れあり\",IF(AND($B136<>\"\",COUNTIF($Q136:$S136,\"\")>0),\"必須項目漏れあり\",\"申込準備完了\"&\"(\"&申込内容の確認!$B127&\"様分)\")))))","v":""},{"$error":"#VALUE!"},{"$error":"#VALUE!"},{"$error":"#VALUE!"}]
[127,null,null,{"$f":"IF(H137<>\"\",DATEDIF(H137,作業用!$K$4,\"Y\"),\"\")","v":""},null,null,null,null,null,null,null,null,null,null,null,null,null,null,null,"",null,"",null,"",null,"",null,null,null,null,null,null,null,null,null,null,null,null,null,null,null,null,null,null,null,null,null,null,null,null,null,null,null,null,null,null,null,null,null,null,null,null,{"$f":"IF($B137=\"\",\"\",IF(AND($K137=\"\",$L137=\"\"),\"必須項目漏れあり\",IF(AND($B137<>\"\",COUNTIF($B137:$J137,\"\")>0),\"必須項目漏れあり\",IF(AND($B137<>\"\",COUNTIF($M137:$O137,\"\")>0),\"必須項目漏れあり\",IF(AND($B137<>\"\",COUNTIF($Q137:$S137,\"\")>0),\"必須項目漏れあり\",\"申込準備完了\"&\"(\"&申込内容の確認!$B128&\"様分)\")))))","v":""},{"$error":"#VALUE!"},{"$error":"#VALUE!"},{"$error":"#VALUE!"}]
[128,null,null,{"$f":"IF(H138<>\"\",DATEDIF(H138,作業用!$K$4,\"Y\"),\"\")","v":""},null,null,null,null,null,null,null,null,null,null,null,null,null,null,null,"",null,"",null,"",null,"",null,null,null,null,null,null,null,null,null,null,null,null,null,null,null,null,null,null,null,null,null,null,null,null,null,null,null,null,null,null,null,null,null,null,null,null,{"$f":"IF($B138=\"\",\"\",IF(AND($K138=\"\",$L138=\"\"),\"必須項目漏れあり\",IF(AND($B138<>\"\",COUNTIF($B138:$J138,\"\")>0),\"必須項目漏れあり\",IF(AND($B138<>\"\",COUNTIF($M138:$O138,\"\")>0),\"必須項目漏れあり\",IF(AND($B138<>\"\",COUNTIF($Q138:$S138,\"\")>0),\"必須項目漏れあり\",\"申込準備完了\"&\"(\"&申込内容の確認!$B129&\"様分)\")))))","v":""},{"$error":"#VALUE!"},{"$error":"#VALUE!"},{"$error":"#VALUE!"}]
[129,null,null,{"$f":"IF(H139<>\"\",DATEDIF(H139,作業用!$K$4,\"Y\"),\"\")","v":""},null,null,null,null,null,null,null,null,null,null,null,null,null,null,null,{"$f":"IF($B139<>\"\",IF($BL139=\"協会子宮がん対象外\",\"対象外\",\"対象\"),\"\")","v":""},null,{"$f":"IF($B139<>\"\",IF($BM139=\"協会ﾏﾝﾓｸﾞﾗﾌｨｰ対象外\",\"対象外\",\"対象\"),\"\")","v":""},null,{"$f":"IF($B139<>\"\",IF($BN139=\"協会骨対象外\",\"対象外\",\"対象\"),\"\")","v":""},null,{"$f":"IF($U139=\"\",\"\",IF(AND(NOT(ISBLANK($U139)),OR($D139<20,$D139>75,$G139=\"男\",ISODD($D139),$M139=\"その他\",$N139=\"家族\")),\"協会子宮がん\",\"\"))&IF($W139=\"\",\"\",IF(AND(NOT(ISBLANK($W139)),OR($D139<40,$D139>75,$G139=\"男\",ISODD($D139),$M139=\"その他\",$N139=\"家族\")),\"　協会ﾏﾝﾓｸﾞﾗﾌｨｰ\",\"\"))&IF($Y139=\"\",\"\",IF(AND(NOT(ISBLANK($Y139)),OR($D139<40,$D139>75,$G139=\"男\",ISODD(D139),$M139=\"その他\",$N139=\"家族\")),\"　協会骨密度\",\"\"))","v":""},null,null,null,null,null,null,null,null,null,null,null,null,null,null,null,null,null,null,null,null,null,null,null,null,null,null,null,null,null,null,null,null,null,null,null,null,{"$f":"IF($B139=\"\",\"\",IF(AND($K139=\"\",$L139=\"\"),\"必須項目漏れあり\",IF(AND($B139<>\"\",COUNTIF($B139:$J139,\"\")>0),\"必須項目漏れあり\",IF(AND($B139<>\"\",COUNTIF($M139:$O139,\"\")>0),\"必須項目漏れあり\",IF(AND($B139<>\"\",COUNTIF($Q139:$S139,\"\")>0),\"必須項目漏れあり\",\"申込準備完了\"&\"(\"&申込内容の確認!$B130&\"様分)\")))))","v":""},{"$f":"IF(AND(NOT(ISBLANK($B139)),OR($D139<20,$D139>75,$G139=\"男\",ISODD($D139),$M139=\"その他\",$N139=\"家族\")),\"協会子宮がん対象外\",\"\")","v":{"$error":"#VALUE!"}},{"$f":"IF(AND(NOT(ISBLANK($B139)),OR($D139<40,$D139>75,$G139=\"男\",ISODD($D139),$M139=\"その他\",$N139=\"家族\")),\"協会ﾏﾝﾓｸﾞﾗﾌｨｰ対象外\",\"\")","v":{"$error":"#VALUE!"}},{"$f":"IF(AND(NOT(ISBLANK($B139)),OR($D139<40,$D139>75,$G139=\"男\",ISODD(D139),$M139=\"その他\",$N139=\"家族\")),\"協会骨対象外\",\"\")","v":{"$error":"#VALUE!"}}]
[130,null,null,{"$f":"IF(H140<>\"\",DATEDIF(H140,作業用!$K$4,\"Y\"),\"\")","v":""},null,null,null,null,null,null,null,null,null,null,null,null,null,null,null,"",null,"",null,"",null,"",null,null,null,null,null,null,null,null,null,null,null,null,null,null,null,null,null,null,null,null,null,null,null,null,null,null,null,null,null,null,null,null,null,null,null,null,{"$f":"IF($B140=\"\",\"\",IF(AND($K140=\"\",$L140=\"\"),\"必須項目漏れあり\",IF(AND($B140<>\"\",COUNTIF($B140:$J140,\"\")>0),\"必須項目漏れあり\",IF(AND($B140<>\"\",COUNTIF($M140:$O140,\"\")>0),\"必須項目漏れあり\",IF(AND($B140<>\"\",COUNTIF($Q140:$S140,\"\")>0),\"必須項目漏れあり\",\"申込準備完了\"&\"(\"&申込内容の確認!$B131&\"様分)\")))))","v":""},{"$error":"#VALUE!"},{"$error":"#VALUE!"},{"$error":"#VALUE!"}]
[131,null,null,{"$f":"IF(H141<>\"\",DATEDIF(H141,作業用!$K$4,\"Y\"),\"\")","v":""},null,null,null,null,null,null,null,null,null,null,null,null,null,null,null,"",null,"",null,"",null,"",null,null,null,null,null,null,null,null,null,null,null,null,null,null,null,null,null,null,null,null,null,null,null,null,null,null,null,null,null,null,null,null,null,null,null,null,{"$f":"IF($B141=\"\",\"\",IF(AND($K141=\"\",$L141=\"\"),\"必須項目漏れあり\",IF(AND($B141<>\"\",COUNTIF($B141:$J141,\"\")>0),\"必須項目漏れあり\",IF(AND($B141<>\"\",COUNTIF($M141:$O141,\"\")>0),\"必須項目漏れあり\",IF(AND($B141<>\"\",COUNTIF($Q141:$S141,\"\")>0),\"必須項目漏れあり\",\"申込準備完了\"&\"(\"&申込内容の確認!$B132&\"様分)\")))))","v":""},{"$error":"#VALUE!"},{"$error":"#VALUE!"},{"$error":"#VALUE!"}]
[132,null,null,{"$f":"IF(H142<>\"\",DATEDIF(H142,作業用!$K$4,\"Y\"),\"\")","v":""},null,null,null,null,null,null,null,null,null,null,null,null,null,null,null,"",null,"",null,"",null,"",null,null,null,null,null,null,null,null,null,null,null,null,null,null,null,null,null,null,null,null,null,null,null,null,null,null,null,null,null,null,null,null,null,null,null,null,{"$f":"IF($B142=\"\",\"\",IF(AND($K142=\"\",$L142=\"\"),\"必須項目漏れあり\",IF(AND($B142<>\"\",COUNTIF($B142:$J142,\"\")>0),\"必須項目漏れあり\",IF(AND($B142<>\"\",COUNTIF($M142:$O142,\"\")>0),\"必須項目漏れあり\",IF(AND($B142<>\"\",COUNTIF($Q142:$S142,\"\")>0),\"必須項目漏れあり\",\"申込準備完了\"&\"(\"&申込内容の確認!$B133&\"様分)\")))))","v":""},{"$error":"#VALUE!"},{"$error":"#VALUE!"},{"$error":"#VALUE!"}]
[133,null,null,{"$f":"IF(H143<>\"\",DATEDIF(H143,作業用!$K$4,\"Y\"),\"\")","v":""},null,null,null,null,null,null,null,null,null,null,null,null,null,null,null,"",null,"",null,"",null,"",null,null,null,null,null,null,null,null,null,null,null,null,null,null,null,null,null,null,null,null,null,null,null,null,null,null,null,null,null,null,null,null,null,null,null,null,{"$f":"IF($B143=\"\",\"\",IF(AND($K143=\"\",$L143=\"\"),\"必須項目漏れあり\",IF(AND($B143<>\"\",COUNTIF($B143:$J143,\"\")>0),\"必須項目漏れあり\",IF(AND($B143<>\"\",COUNTIF($M143:$O143,\"\")>0),\"必須項目漏れあり\",IF(AND($B143<>\"\",COUNTIF($Q143:$S143,\"\")>0),\"必須項目漏れあり\",\"申込準備完了\"&\"(\"&申込内容の確認!$B134&\"様分)\")))))","v":""},{"$error":"#VALUE!"},{"$error":"#VALUE!"},{"$error":"#VALUE!"}]
[134,null,null,{"$f":"IF(H144<>\"\",DATEDIF(H144,作業用!$K$4,\"Y\"),\"\")","v":""},null,null,null,null,null,null,null,null,null,null,null,null,null,null,null,"",null,"",null,"",null,"",null,null,null,null,null,null,null,null,null,null,null,null,null,null,null,null,null,null,null,null,null,null,null,null,null,null,null,null,null,null,null,null,null,null,null,null,{"$f":"IF($B144=\"\",\"\",IF(AND($K144=\"\",$L144=\"\"),\"必須項目漏れあり\",IF(AND($B144<>\"\",COUNTIF($B144:$J144,\"\")>0),\"必須項目漏れあり\",IF(AND($B144<>\"\",COUNTIF($M144:$O144,\"\")>0),\"必須項目漏れあり\",IF(AND($B144<>\"\",COUNTIF($Q144:$S144,\"\")>0),\"必須項目漏れあり\",\"申込準備完了\"&\"(\"&申込内容の確認!$B135&\"様分)\")))))","v":""},{"$error":"#VALUE!"},{"$error":"#VALUE!"},{"$error":"#VALUE!"}]
[135,null,null,{"$f":"IF(H145<>\"\",DATEDIF(H145,作業用!$K$4,\"Y\"),\"\")","v":""},null,null,null,null,null,null,null,null,null,null,null,null,null,null,null,"",null,"",null,"",null,"",null,null,null,null,null,null,null,null,null,null,null,null,null,null,null,null,null,null,null,null,null,null,null,null,null,null,null,null,null,null,null,null,null,null,null,null,{"$f":"IF($B145=\"\",\"\",IF(AND($K145=\"\",$L145=\"\"),\"必須項目漏れあり\",IF(AND($B145<>\"\",COUNTIF($B145:$J145,\"\")>0),\"必須項目漏れあり\",IF(AND($B145<>\"\",COUNTIF($M145:$O145,\"\")>0),\"必須項目漏れあり\",IF(AND($B145<>\"\",COUNTIF($Q145:$S145,\"\")>0),\"必須項目漏れあり\",\"申込準備完了\"&\"(\"&申込内容の確認!$B136&\"様分)\")))))","v":""},{"$error":"#VALUE!"},{"$error":"#VALUE!"},{"$error":"#VALUE!"}]
[136,null,null,{"$f":"IF(H146<>\"\",DATEDIF(H146,作業用!$K$4,\"Y\"),\"\")","v":""},null,null,null,null,null,null,null,null,null,null,null,null,null,null,null,"",null,"",null,"",null,"",null,null,null,null,null,null,null,null,null,null,null,null,null,null,null,null,null,null,null,null,null,null,null,null,null,null,null,null,null,null,null,null,null,null,null,null,{"$f":"IF($B146=\"\",\"\",IF(AND($K146=\"\",$L146=\"\"),\"必須項目漏れあり\",IF(AND($B146<>\"\",COUNTIF($B146:$J146,\"\")>0),\"必須項目漏れあり\",IF(AND($B146<>\"\",COUNTIF($M146:$O146,\"\")>0),\"必須項目漏れあり\",IF(AND($B146<>\"\",COUNTIF($Q146:$S146,\"\")>0),\"必須項目漏れあり\",\"申込準備完了\"&\"(\"&申込内容の確認!$B137&\"様分)\")))))","v":""},{"$error":"#VALUE!"},{"$error":"#VALUE!"},{"$error":"#VALUE!"}]
[137,null,null,{"$f":"IF(H147<>\"\",DATEDIF(H147,作業用!$K$4,\"Y\"),\"\")","v":""},null,null,null,null,null,null,null,null,null,null,null,null,null,null,null,"",null,"",null,"",null,"",null,null,null,null,null,null,null,null,null,null,null,null,null,null,null,null,null,null,null,null,null,null,null,null,null,null,null,null,null,null,null,null,null,null,null,null,{"$f":"IF($B147=\"\",\"\",IF(AND($K147=\"\",$L147=\"\"),\"必須項目漏れあり\",IF(AND($B147<>\"\",COUNTIF($B147:$J147,\"\")>0),\"必須項目漏れあり\",IF(AND($B147<>\"\",COUNTIF($M147:$O147,\"\")>0),\"必須項目漏れあり\",IF(AND($B147<>\"\",COUNTIF($Q147:$S147,\"\")>0),\"必須項目漏れあり\",\"申込準備完了\"&\"(\"&申込内容の確認!$B138&\"様分)\")))))","v":""},{"$error":"#VALUE!"},{"$error":"#VALUE!"},{"$error":"#VALUE!"}]
[138,null,null,{"$f":"IF(H148<>\"\",DATEDIF(H148,作業用!$K$4,\"Y\"),\"\")","v":""},null,null,null,null,null,null,null,null,null,null,null,null,null,null,null,"",null,"",null,"",null,"",null,null,null,null,null,null,null,null,null,null,null,null,null,null,null,null,null,null,null,null,null,null,null,null,null,null,null,null,null,null,null,null,null,null,null,null,{"$f":"IF($B148=\"\",\"\",IF(AND($K148=\"\",$L148=\"\"),\"必須項目漏れあり\",IF(AND($B148<>\"\",COUNTIF($B148:$J148,\"\")>0),\"必須項目漏れあり\",IF(AND($B148<>\"\",COUNTIF($M148:$O148,\"\")>0),\"必須項目漏れあり\",IF(AND($B148<>\"\",COUNTIF($Q148:$S148,\"\")>0),\"必須項目漏れあり\",\"申込準備完了\"&\"(\"&申込内容の確認!$B139&\"様分)\")))))","v":""},{"$error":"#VALUE!"},{"$error":"#VALUE!"},{"$error":"#VALUE!"}]
[139,null,null,{"$f":"IF(H149<>\"\",DATEDIF(H149,作業用!$K$4,\"Y\"),\"\")","v":""},null,null,null,null,null,null,null,null,null,null,null,null,null,null,null,"",null,"",null,"",null,"",null,null,null,null,null,null,null,null,null,null,null,null,null,null,null,null,null,null,null,null,null,null,null,null,null,null,null,null,null,null,null,null,null,null,null,null,{"$f":"IF($B149=\"\",\"\",IF(AND($K149=\"\",$L149=\"\"),\"必須項目漏れあり\",IF(AND($B149<>\"\",COUNTIF($B149:$J149,\"\")>0),\"必須項目漏れあり\",IF(AND($B149<>\"\",COUNTIF($M149:$O149,\"\")>0),\"必須項目漏れあり\",IF(AND($B149<>\"\",COUNTIF($Q149:$S149,\"\")>0),\"必須項目漏れあり\",\"申込準備完了\"&\"(\"&申込内容の確認!$B140&\"様分)\")))))","v":""},{"$error":"#VALUE!"},{"$error":"#VALUE!"},{"$error":"#VALUE!"}]
[140,null,null,{"$f":"IF(H150<>\"\",DATEDIF(H150,作業用!$K$4,\"Y\"),\"\")","v":""},null,null,null,null,null,null,null,null,null,null,null,null,null,null,null,"",null,"",null,"",null,"",null,null,null,null,null,null,null,null,null,null,null,null,null,null,null,null,null,null,null,null,null,null,null,null,null,null,null,null,null,null,null,null,null,null,null,null,{"$f":"IF($B150=\"\",\"\",IF(AND($K150=\"\",$L150=\"\"),\"必須項目漏れあり\",IF(AND($B150<>\"\",COUNTIF($B150:$J150,\"\")>0),\"必須項目漏れあり\",IF(AND($B150<>\"\",COUNTIF($M150:$O150,\"\")>0),\"必須項目漏れあり\",IF(AND($B150<>\"\",COUNTIF($Q150:$S150,\"\")>0),\"必須項目漏れあり\",\"申込準備完了\"&\"(\"&申込内容の確認!$B141&\"様分)\")))))","v":""},{"$error":"#VALUE!"},{"$error":"#VALUE!"},{"$error":"#VALUE!"}]
[141,null,null,{"$f":"IF(H151<>\"\",DATEDIF(H151,作業用!$K$4,\"Y\"),\"\")","v":""},null,null,null,null,null,null,null,null,null,null,null,null,null,null,null,"",null,"",null,"",null,"",null,null,null,null,null,null,null,null,null,null,null,null,null,null,null,null,null,null,null,null,null,null,null,null,null,null,null,null,null,null,null,null,null,null,null,null,{"$f":"IF($B151=\"\",\"\",IF(AND($K151=\"\",$L151=\"\"),\"必須項目漏れあり\",IF(AND($B151<>\"\",COUNTIF($B151:$J151,\"\")>0),\"必須項目漏れあり\",IF(AND($B151<>\"\",COUNTIF($M151:$O151,\"\")>0),\"必須項目漏れあり\",IF(AND($B151<>\"\",COUNTIF($Q151:$S151,\"\")>0),\"必須項目漏れあり\",\"申込準備完了\"&\"(\"&申込内容の確認!$B142&\"様分)\")))))","v":""},{"$error":"#VALUE!"},{"$error":"#VALUE!"},{"$error":"#VALUE!"}]
[142,null,null,{"$f":"IF(H152<>\"\",DATEDIF(H152,作業用!$K$4,\"Y\"),\"\")","v":""},null,null,null,null,null,null,null,null,null,null,null,null,null,null,null,"",null,"",null,"",null,"",null,null,null,null,null,null,null,null,null,null,null,null,null,null,null,null,null,null,null,null,null,null,null,null,null,null,null,null,null,null,null,null,null,null,null,null,{"$f":"IF($B152=\"\",\"\",IF(AND($K152=\"\",$L152=\"\"),\"必須項目漏れあり\",IF(AND($B152<>\"\",COUNTIF($B152:$J152,\"\")>0),\"必須項目漏れあり\",IF(AND($B152<>\"\",COUNTIF($M152:$O152,\"\")>0),\"必須項目漏れあり\",IF(AND($B152<>\"\",COUNTIF($Q152:$S152,\"\")>0),\"必須項目漏れあり\",\"申込準備完了\"&\"(\"&申込内容の確認!$B143&\"様分)\")))))","v":""},{"$error":"#VALUE!"},{"$error":"#VALUE!"},{"$error":"#VALUE!"}]
[143,null,null,{"$f":"IF(H153<>\"\",DATEDIF(H153,作業用!$K$4,\"Y\"),\"\")","v":""},null,null,null,null,null,null,null,null,null,null,null,null,null,null,null,"",null,"",null,"",null,"",null,null,null,null,null,null,null,null,null,null,null,null,null,null,null,null,null,null,null,null,null,null,null,null,null,null,null,null,null,null,null,null,null,null,null,null,{"$f":"IF($B153=\"\",\"\",IF(AND($K153=\"\",$L153=\"\"),\"必須項目漏れあり\",IF(AND($B153<>\"\",COUNTIF($B153:$J153,\"\")>0),\"必須項目漏れあり\",IF(AND($B153<>\"\",COUNTIF($M153:$O153,\"\")>0),\"必須項目漏れあり\",IF(AND($B153<>\"\",COUNTIF($Q153:$S153,\"\")>0),\"必須項目漏れあり\",\"申込準備完了\"&\"(\"&申込内容の確認!$B144&\"様分)\")))))","v":""},{"$error":"#VALUE!"},{"$error":"#VALUE!"},{"$error":"#VALUE!"}]
[144,null,null,{"$f":"IF(H154<>\"\",DATEDIF(H154,作業用!$K$4,\"Y\"),\"\")","v":""},null,null,null,null,null,null,null,null,null,null,null,null,null,null,null,"",null,"",null,"",null,"",null,null,null,null,null,null,null,null,null,null,null,null,null,null,null,null,null,null,null,null,null,null,null,null,null,null,null,null,null,null,null,null,null,null,null,null,{"$f":"IF($B154=\"\",\"\",IF(AND($K154=\"\",$L154=\"\"),\"必須項目漏れあり\",IF(AND($B154<>\"\",COUNTIF($B154:$J154,\"\")>0),\"必須項目漏れあり\",IF(AND($B154<>\"\",COUNTIF($M154:$O154,\"\")>0),\"必須項目漏れあり\",IF(AND($B154<>\"\",COUNTIF($Q154:$S154,\"\")>0),\"必須項目漏れあり\",\"申込準備完了\"&\"(\"&申込内容の確認!$B145&\"様分)\")))))","v":""},{"$error":"#VALUE!"},{"$error":"#VALUE!"},{"$error":"#VALUE!"}]
[145,null,null,{"$f":"IF(H155<>\"\",DATEDIF(H155,作業用!$K$4,\"Y\"),\"\")","v":""},null,null,null,null,null,null,null,null,null,null,null,null,null,null,null,"",null,"",null,"",null,"",null,null,null,null,null,null,null,null,null,null,null,null,null,null,null,null,null,null,null,null,null,null,null,null,null,null,null,null,null,null,null,null,null,null,null,null,{"$f":"IF($B155=\"\",\"\",IF(AND($K155=\"\",$L155=\"\"),\"必須項目漏れあり\",IF(AND($B155<>\"\",COUNTIF($B155:$J155,\"\")>0),\"必須項目漏れあり\",IF(AND($B155<>\"\",COUNTIF($M155:$O155,\"\")>0),\"必須項目漏れあり\",IF(AND($B155<>\"\",COUNTIF($Q155:$S155,\"\")>0),\"必須項目漏れあり\",\"申込準備完了\"&\"(\"&申込内容の確認!$B146&\"様分)\")))))","v":""},{"$error":"#VALUE!"},{"$error":"#VALUE!"},{"$error":"#VALUE!"}]
[146,null,null,{"$f":"IF(H156<>\"\",DATEDIF(H156,作業用!$K$4,\"Y\"),\"\")","v":""},null,null,null,null,null,null,null,null,null,null,null,null,null,null,null,"",null,"",null,"",null,"",null,null,null,null,null,null,null,null,null,null,null,null,null,null,null,null,null,null,null,null,null,null,null,null,null,null,null,null,null,null,null,null,null,null,null,null,{"$f":"IF($B156=\"\",\"\",IF(AND($K156=\"\",$L156=\"\"),\"必須項目漏れあり\",IF(AND($B156<>\"\",COUNTIF($B156:$J156,\"\")>0),\"必須項目漏れあり\",IF(AND($B156<>\"\",COUNTIF($M156:$O156,\"\")>0),\"必須項目漏れあり\",IF(AND($B156<>\"\",COUNTIF($Q156:$S156,\"\")>0),\"必須項目漏れあり\",\"申込準備完了\"&\"(\"&申込内容の確認!$B147&\"様分)\")))))","v":""},{"$error":"#VALUE!"},{"$error":"#VALUE!"},{"$error":"#VALUE!"}]
[147,null,null,{"$f":"IF(H157<>\"\",DATEDIF(H157,作業用!$K$4,\"Y\"),\"\")","v":""},null,null,null,null,null,null,null,null,null,null,null,null,null,null,null,"",null,"",null,"",null,"",null,null,null,null,null,null,null,null,null,null,null,null,null,null,null,null,null,null,null,null,null,null,null,null,null,null,null,null,null,null,null,null,null,null,null,null,{"$f":"IF($B157=\"\",\"\",IF(AND($K157=\"\",$L157=\"\"),\"必須項目漏れあり\",IF(AND($B157<>\"\",COUNTIF($B157:$J157,\"\")>0),\"必須項目漏れあり\",IF(AND($B157<>\"\",COUNTIF($M157:$O157,\"\")>0),\"必須項目漏れあり\",IF(AND($B157<>\"\",COUNTIF($Q157:$S157,\"\")>0),\"必須項目漏れあり\",\"申込準備完了\"&\"(\"&申込内容の確認!$B148&\"様分)\")))))","v":""},{"$error":"#VALUE!"},{"$error":"#VALUE!"},{"$error":"#VALUE!"}]
[148,null,null,{"$f":"IF(H158<>\"\",DATEDIF(H158,作業用!$K$4,\"Y\"),\"\")","v":""},null,null,null,null,null,null,null,null,null,null,null,null,null,null,null,"",null,"",null,"",null,"",null,null,null,null,null,null,null,null,null,null,null,null,null,null,null,null,null,null,null,null,null,null,null,null,null,null,null,null,null,null,null,null,null,null,null,null,{"$f":"IF($B158=\"\",\"\",IF(AND($K158=\"\",$L158=\"\"),\"必須項目漏れあり\",IF(AND($B158<>\"\",COUNTIF($B158:$J158,\"\")>0),\"必須項目漏れあり\",IF(AND($B158<>\"\",COUNTIF($M158:$O158,\"\")>0),\"必須項目漏れあり\",IF(AND($B158<>\"\",COUNTIF($Q158:$S158,\"\")>0),\"必須項目漏れあり\",\"申込準備完了\"&\"(\"&申込内容の確認!$B149&\"様分)\")))))","v":""},{"$error":"#VALUE!"},{"$error":"#VALUE!"},{"$error":"#VALUE!"}]
[149,null,null,{"$f":"IF(H159<>\"\",DATEDIF(H159,作業用!$K$4,\"Y\"),\"\")","v":""},null,null,null,null,null,null,null,null,null,null,null,null,null,null,null,"",null,"",null,"",null,"",null,null,null,null,null,null,null,null,null,null,null,null,null,null,null,null,null,null,null,null,null,null,null,null,null,null,null,null,null,null,null,null,null,null,null,null,{"$f":"IF($B159=\"\",\"\",IF(AND($K159=\"\",$L159=\"\"),\"必須項目漏れあり\",IF(AND($B159<>\"\",COUNTIF($B159:$J159,\"\")>0),\"必須項目漏れあり\",IF(AND($B159<>\"\",COUNTIF($M159:$O159,\"\")>0),\"必須項目漏れあり\",IF(AND($B159<>\"\",COUNTIF($Q159:$S159,\"\")>0),\"必須項目漏れあり\",\"申込準備完了\"&\"(\"&申込内容の確認!$B150&\"様分)\")))))","v":""},{"$error":"#VALUE!"},{"$error":"#VALUE!"},{"$error":"#VALUE!"}]
[150,null,null,{"$f":"IF(H160<>\"\",DATEDIF(H160,作業用!$K$4,\"Y\"),\"\")","v":""},null,null,null,null,null,null,null,null,null,null,null,null,null,null,null,"",null,"",null,"",null,"",null,null,null,null,null,null,null,null,null,null,null,null,null,null,null,null,null,null,null,null,null,null,null,null,null,null,null,null,null,null,null,null,null,null,null,null,{"$f":"IF($B160=\"\",\"\",IF(AND($K160=\"\",$L160=\"\"),\"必須項目漏れあり\",IF(AND($B160<>\"\",COUNTIF($B160:$J160,\"\")>0),\"必須項目漏れあり\",IF(AND($B160<>\"\",COUNTIF($M160:$O160,\"\")>0),\"必須項目漏れあり\",IF(AND($B160<>\"\",COUNTIF($Q160:$S160,\"\")>0),\"必須項目漏れあり\",\"申込準備完了\"&\"(\"&申込内容の確認!$B151&\"様分)\")))))","v":""},{"$error":"#VALUE!"},{"$error":"#VALUE!"},{"$error":"#VALUE!"}]

{"sheet":"申込内容の確認","index":1,"n_rows":151,"n_cols":27,"rows_kept":151,"cut":false,"hidden":false,"merged":[]}
["NO.","氏名","氏名（カナ）",{"$f":"申込みフォーム!G8","v":"性別"},{"$f":"申込みフォーム!H8","v":"生年月日"},"年度末\n年齢","郵便番号",{"$f":"申込みフォーム!J8","v":"住所"},"固定電話","携帯電話",{"$f":"申込みフォーム!M8","v":"保険種別"},{"$f":"申込みフォーム!N8","v":"本人・家族区分"},{"$f":"申込みフォーム!O8","v":"保険者番号"},{"$f":"申込みフォーム!P8","v":"記号"},{"$f":"申込みフォーム!Q8","v":"番号"},{"$f":"申込みフォーム!R8","v":"受診コース"},{"$f":"申込みフォーム!S8","v":"胃検査"},{"$f":"申込みフォーム!T7","v":"協会けんぽ補助対象（条件あり）オプション"},{"$f":"申込みフォーム!AB7","v":"婦人科オプション"},{"$f":"申込みフォーム!AE7","v":"血液検査オプション"},{"$f":"申込みフォーム!AK7","v":"その他オプション"},{"$f":"申込みフォーム!AU7","v":"受診希望"},{"$f":"申込みフォーム!BJ7","v":"備考"},{"$f":"申込みフォーム!BK7","v":"（健診申込）　必須項目確認"},"協会けんぽ補助対象（条件あり）オプション　対象外チェック","協会けんぽ補助対象（条件あり）オプション　対象外項目"]
[1,{"$f":"IF(申込みフォーム!B11<>\"\",申込みフォーム!B11&\"　\"&申込みフォーム!C11,\"\")","v":""},{"$f":"IF(申込みフォーム!E11<>\"\",申込みフォーム!E11&\"　\"&申込みフォーム!F11,\"\")","v":""},{"$f":"IF(申込みフォーム!G11<>\"\",申込みフォーム!G11,\"\")","v":""},{"$f":"IF(申込みフォーム!H11<>\"\",申込みフォーム!H11,\"\")","v":""},{"$f":"IF(申込みフォーム!D11<>\"\",申込みフォーム!D11,\"\")","v":""},{"$f":"IF(申込みフォーム!I11<>\"\",REPLACE(申込みフォーム!I11,4,,\"-\"),\"\")","v":""},{"$f":"IF(申込みフォーム!J11<>\"\",申込みフォーム!J11,\"\")","v":""},{"$f":"IF(申込みフォーム!K11<>\"\",申込みフォーム!K11,\"\")","v":""},{"$f":"IF(申込みフォーム!L11<>\"\",MID(申込みフォーム!L11,1,3)&\"-\"&MID(申込みフォーム!L11,4,4)&\"-\"&MID(申込みフォーム!L11,8,4),\"\")","v":""},{"$f":"IF(申込みフォーム!M11<>\"\",申込みフォーム!M11,\"\")","v":""},{"$f":"IF(申込みフォーム!N11<>\"\",申込みフォーム!N11,\"\")","v":""},{"$f":"IF(申込みフォーム!O11<>\"\",申込みフォーム!O11,\"\")","v":""},{"$f":"IF(申込みフォーム!P11<>\"\",申込みフォーム!P11,\"\")","v":""},{"$f":"IF(申込みフォーム!Q11<>\"\",申込みフォーム!Q11,\"\")","v":""},{"$f":"IF(申込みフォーム!R11<>\"\",申込みフォーム!R11,\"\")","v":""},{"$f":"IF(申込みフォーム!S11<>\"\",申込みフォーム!S11,\"\")","v":""},{"$f":"IF(申込みフォーム!U11=\"細胞診のみ\",\"協会子宮　\",IF(申込みフォーム!U11=\"細胞診＋（自費）膣エコー\",\"協会子宮＋自費膣エコー　\",\"\"))&IF(申込みフォーム!W11<>\"\",\"協会ﾏﾝﾓ　\",\"\")&IF(申込みフォーム!Y11<>\"\",\"協会骨　\",\"\")&IF(申込みフォーム!AA11<>\"\",\"協会肝炎　\",\"\")","v":""},{"$f":"IF(申込みフォーム!AB11<>\"\",\"子宮　\",\"\")&IF(申込みフォーム!AC11<>\"\",\"ﾏﾝﾓ　\",\"\")&IF(申込みフォーム!AD11<>\"\",\"乳ｴｺｰ\",\"\")","v":""},{"$f":"IF(申込みフォーム!AE11<>\"\",\"ﾏｰｶｰ　\",\"\")&IF(申込みフォーム!AF11<>\"\",\"心機能　\",\"\")&IF(申込みフォーム!AG11<>\"\",\"ABC　\",\"\")&IF(申込みフォーム!AH11<>\"\",\"Lox　\",\"\")&IF(申込みフォーム!AI11<>\"\",\"甲状腺　\",\"\")&IF(申込みフォーム!AJ11<>\"\",\"肝炎\",\"\")","v":""},{"$f":"IF(申込みフォーム!AK11<>\"\",\"脳　\",\"\")&IF(申込みフォーム!AL11<>\"\",\"胸部CT　\",\"\")&IF(申込みフォーム!AM11<>\"\",\"肺機能　\",\"\")&IF(申込みフォーム!AN11<>\"\",\"腹ｴｺｰ　\",\"\")&IF(申込みフォーム!AO11<>\"\",\"心ｴｺｰ　\",\"\")&IF(申込みフォーム!AP11<>\"\",\"ﾌﾛｰﾗ　\",\"\")&IF(申込みフォーム!AQ11<>\"\",\"OCT　\",\"\")&IF(申込みフォーム!AR11<>\"\",\"検便　\",\"\")&IF(申込みフォーム!AS11<>\"\",\"骨　\",\"\")&IF(申込みフォーム!AT11<>\"\",\"骨＋ﾛｺﾓ\",\"\")","v":""},{"$f":"IF(申込みフォーム!AU11<>\"\",申込みフォーム!AU11&\"　　\",\"\")&IF(申込みフォーム!AV11<>\"\",申込みフォーム!AV11&\"　　\",\"\")&IF(申込みフォーム!AW11<>\"\",申込みフォーム!AW11&\"　　\",\"\")&IF(申込みフォーム!$AX11=\"〇\",\"4月　\",\"\")&IF(申込みフォーム!$AY11=\"〇\",\"5月　\",\"\")&IF(申込みフォーム!$AZ11=\"〇\",\"6月　\",\"\")&IF(申込みフォーム!$BA11=\"〇\",\"7月　\",\"\")&IF(申込みフォーム!$BB11=\"〇\",\"8月　\",\"\")&IF(申込みフォーム!$BC11=\"〇\",\"9月　\",\"\")&IF(申込みフォーム!$BD11=\"〇\",\"10月　\",\"\")&IF(申込みフォーム!$BE11=\"〇\",\"11月　\",\"\")&IF(申込みフォーム!$BF11=\"〇\",\"12月　\",\"\")&IF(申込みフォーム!$BG11=\"〇\",\"1月　\",\"\")&IF(申込みフォーム!$BH11=\"〇\",\"2月　\",\"\")&IF(申込みフォーム!$BI11=\"〇\",\"3月　\",\"\")","v":""},{"$f":"IF(申込みフォーム!BJ11<>\"\",申込みフォーム!BJ11,\"\")","v":""},{"$f":"IF(申込みフォーム!BK11<>\"\",申込みフォーム!BK11,\"\")","v":""},{"$f":"申込みフォーム!$Z11","v":""},{"$f":"IF(申込みフォーム!BL11<>\"\",申込みフォーム!BL11&\"　　\",\"\")&IF(申込みフォーム!BM11<>\"\",申込みフォーム!BM11&\"　　\",\"\")&IF(申込みフォーム!BN11<>\"\",申込みフォーム!BN11&\"　　\",\"\")","v":{"$error":"#VALUE!"}},{"$f":"IF($B2=VLOOKUP($B2,'受診者リスト(抽出用）'!$A:$F,1,0),VLOOKUP($B2,'受診者リスト(抽出用）'!$A:$F,3,0)&\"　（団体マスタ）\"&VLOOKUP($B2,'受診者リスト(抽出用）'!$A:$F,4,0)&\"　（枝番）\"&VLOOKUP(B2,'受診者リスト(抽出用）'!$A:$F,5,0),\"\")","v":{"$error":"#N/A"}}]
[2,{"$f":"IF(申込みフォーム!B12<>\"\",申込みフォーム!B12&\"　\"&申込みフォーム!C12,\"\")","v":""},{"$f":"IF(申込みフォーム!E12<>\"\",申込みフォーム!E12&\"　\"&申込みフォーム!F12,\"\")","v":""},{"$f":"IF(申込みフォーム!G12<>\"\",申込みフォーム!G12,\"\")","v":""},{"$f":"IF(申込みフォーム!H12<>\"\",申込みフォーム!H12,\"\")","v":""},{"$f":"IF(申込みフォーム!D12<>\"\",申込みフォーム!D12,\"\")","v":""},{"$f":"IF(申込みフォーム!I12<>\"\",REPLACE(申込みフォーム!I12,4,,\"-\"),\"\")","v":""},{"$f":"IF(申込みフォーム!J12<>\"\",申込みフォーム!J12,\"\")","v":""},{"$f":"IF(申込みフォーム!K12<>\"\",申込みフォーム!K12,\"\")","v":""},{"$f":"IF(申込みフォーム!L12<>\"\",MID(申込みフォーム!L12,1,3)&\"-\"&MID(申込みフォーム!L12,4,4)&\"-\"&MID(申込みフォーム!L12,8,4),\"\")","v":""},{"$f":"IF(申込みフォーム!M12<>\"\",申込みフォーム!M12,\"\")","v":""},{"$f":"IF(申込みフォーム!N12<>\"\",申込みフォーム!N12,\"\")","v":""},{"$f":"IF(申込みフォーム!O12<>\"\",申込みフォーム!O12,\"\")","v":""},{"$f":"IF(申込みフォーム!P12<>\"\",申込みフォーム!P12,\"\")","v":""},{"$f":"IF(申込みフォーム!Q12<>\"\",申込みフォーム!Q12,\"\")","v":""},{"$f":"IF(申込みフォーム!R12<>\"\",申込みフォーム!R12,\"\")","v":""},{"$f":"IF(申込みフォーム!S12<>\"\",申込みフォーム!S12,\"\")","v":""},{"$f":"IF(申込みフォーム!U12=\"細胞診のみ\",\"協会子宮　\",IF(申込みフォーム!U12=\"細胞診＋（自費）膣エコー\",\"協会子宮＋自費膣エコー　\",\"\"))&IF(申込みフォーム!W12<>\"\",\"協会ﾏﾝﾓ　\",\"\")&IF(申込みフォーム!Y12<>\"\",\"協会骨　\",\"\")&IF(申込みフォーム!AA12<>\"\",\"協会肝炎　\",\"\")","v":""},{"$f":"IF(申込みフォーム!AB12<>\"\",\"子宮　\",\"\")&IF(申込みフォーム!AC12<>\"\",\"ﾏﾝﾓ　\",\"\")&IF(申込みフォーム!AD12<>\"\",\"乳ｴｺｰ\",\"\")","v":""},{"$f":"IF(申込みフォーム!AE12<>\"\",\"ﾏｰｶｰ　\",\"\")&IF(申込みフォーム!AF12<>\"\",\"心機能　\",\"\")&IF(申込みフォーム!AG12<>\"\",\"ABC　\",\"\")&IF(申込みフォーム!AH12<>\"\",\"Lox　\",\"\")&IF(申込みフォーム!AI12<>\"\",\"甲状腺　\",\"\")&IF(申込みフォーム!AJ12<>\"\",\"肝炎\",\"\")","v":""},{"$f":"IF(申込みフォーム!AK12<>\"\",\"脳　\",\"\")&IF(申込みフォーム!AL12<>\"\",\"胸部CT　\",\"\")&IF(申込みフォーム!AM12<>\"\",\"肺機能　\",\"\")&IF(申込みフォーム!AN12<>\"\",\"腹ｴｺｰ　\",\"\")&IF(申込みフォーム!AO12<>\"\",\"心ｴｺｰ　\",\"\")&IF(申込みフォーム!AP12<>\"\",\"ﾌﾛｰﾗ　\",\"\")&IF(申込みフォーム!AQ12<>\"\",\"OCT　\",\"\")&IF(申込みフォーム!AR12<>\"\",\"検便　\",\"\")&IF(申込みフォーム!AS12<>\"\",\"骨　\",\"\")&IF(申込みフォーム!AT12<>\"\",\"骨＋ﾛｺﾓ\",\"\")","v":""},{"$f":"IF(申込みフォーム!AU12<>\"\",申込みフォーム!AU12&\"　　\",\"\")&IF(申込みフォーム!AV12<>\"\",申込みフォーム!AV12&\"　　\",\"\")&IF(申込みフォーム!AW12<>\"\",申込みフォーム!AW12&\"　　\",\"\")&IF(申込みフォーム!$AX12=\"〇\",\"4月　\",\"\")&IF(申込みフォーム!$AY12=\"〇\",\"5月　\",\"\")&IF(申込みフォーム!$AZ12=\"〇\",\"6月　\",\"\")&IF(申込みフォーム!$BA12=\"〇\",\"7月　\",\"\")&IF(申込みフォーム!$BB12=\"〇\",\"8月　\",\"\")&IF(申込みフォーム!$BC12=\"〇\",\"9月　\",\"\")&IF(申込みフォーム!$BD12=\"〇\",\"10月　\",\"\")&IF(申込みフォーム!$BE12=\"〇\",\"11月　\",\"\")&IF(申込みフォーム!$BF12=\"〇\",\"12月　\",\"\")&IF(申込みフォーム!$BG12=\"〇\",\"1月　\",\"\")&IF(申込みフォーム!$BH12=\"〇\",\"2月　\",\"\")&IF(申込みフォーム!$BI12=\"〇\",\"3月　\",\"\")","v":""},{"$f":"IF(申込みフォーム!BJ12<>\"\",申込みフォーム!BJ12,\"\")","v":""},{"$f":"IF(申込みフォーム!BK12<>\"\",申込みフォーム!BK12,\"\")","v":""},{"$f":"申込みフォーム!$Z12","v":""},{"$f":"IF(申込みフォーム!BL12<>\"\",申込みフォーム!BL12&\"　　\",\"\")&IF(申込みフォーム!BM12<>\"\",申込みフォーム!BM12&\"　　\",\"\")&IF(申込みフォーム!BN12<>\"\",申込みフォーム!BN12&\"　　\",\"\")","v":{"$error":"#VALUE!"}},{"$f":"IF($B3=VLOOKUP($B3,'受診者リスト(抽出用）'!$A:$F,1,0),VLOOKUP($B3,'受診者リスト(抽出用）'!$A:$F,3,0)&\"　（団体マスタ）\"&VLOOKUP($B3,'受診者リスト(抽出用）'!$A:$F,4,0)&\"　（枝番）\"&VLOOKUP(B3,'受診者リスト(抽出用）'!$A:$F,5,0),\"\")","v":{"$error":"#N/A"}}]
[3,{"$f":"IF(申込みフォーム!B13<>\"\",申込みフォーム!B13&\"　\"&申込みフォーム!C13,\"\")","v":""},{"$f":"IF(申込みフォーム!E13<>\"\",申込みフォーム!E13&\"　\"&申込みフォーム!F13,\"\")","v":""},{"$f":"IF(申込みフォーム!G13<>\"\",申込みフォーム!G13,\"\")","v":""},{"$f":"IF(申込みフォーム!H13<>\"\",申込みフォーム!H13,\"\")","v":""},{"$f":"IF(申込みフォーム!D13<>\"\",申込みフォーム!D13,\"\")","v":""},{"$f":"IF(申込みフォーム!I13<>\"\",REPLACE(申込みフォーム!I13,4,,\"-\"),\"\")","v":""},{"$f":"IF(申込みフォーム!J13<>\"\",申込みフォーム!J13,\"\")","v":""},{"$f":"IF(申込みフォーム!K13<>\"\",申込みフォーム!K13,\"\")","v":""},{"$f":"IF(申込みフォーム!L13<>\"\",MID(申込みフォーム!L13,1,3)&\"-\"&MID(申込みフォーム!L13,4,4)&\"-\"&MID(申込みフォーム!L13,8,4),\"\")","v":""},{"$f":"IF(申込みフォーム!M13<>\"\",申込みフォーム!M13,\"\")","v":""},{"$f":"IF(申込みフォーム!N13<>\"\",申込みフォーム!N13,\"\")","v":""},{"$f":"IF(申込みフォーム!O13<>\"\",申込みフォーム!O13,\"\")","v":""},{"$f":"IF(申込みフォーム!P13<>\"\",申込みフォーム!P13,\"\")","v":""},{"$f":"IF(申込みフォーム!Q13<>\"\",申込みフォーム!Q13,\"\")","v":""},{"$f":"IF(申込みフォーム!R13<>\"\",申込みフォーム!R13,\"\")","v":""},{"$f":"IF(申込みフォーム!S13<>\"\",申込みフォーム!S13,\"\")","v":""},{"$f":"IF(申込みフォーム!U13=\"細胞診のみ\",\"協会子宮　\",IF(申込みフォーム!U13=\"細胞診＋（自費）膣エコー\",\"協会子宮＋自費膣エコー　\",\"\"))&IF(申込みフォーム!W13<>\"\",\"協会ﾏﾝﾓ　\",\"\")&IF(申込みフォーム!Y13<>\"\",\"協会骨　\",\"\")&IF(申込みフォーム!AA13<>\"\",\"協会肝炎　\",\"\")","v":""},{"$f":"IF(申込みフォーム!AB13<>\"\",\"子宮　\",\"\")&IF(申込みフォーム!AC13<>\"\",\"ﾏﾝﾓ　\",\"\")&IF(申込みフォーム!AD13<>\"\",\"乳ｴｺｰ\",\"\")","v":""},{"$f":"IF(申込みフォーム!AE13<>\"\",\"ﾏｰｶｰ　\",\"\")&IF(申込みフォーム!AF13<>\"\",\"心機能　\",\"\")&IF(申込みフォーム!AG13<>\"\",\"ABC　\",\"\")&IF(申込みフォーム!AH13<>\"\",\"Lox　\",\"\")&IF(申込みフォーム!AI13<>\"\",\"甲状腺　\",\"\")&IF(申込みフォーム!AJ13<>\"\",\"肝炎\",\"\")","v":""},{"$f":"IF(申込みフォーム!AK13<>\"\",\"脳　\",\"\")&IF(申込みフォーム!AL13<>\"\",\"胸部CT　\",\"\")&IF(申込みフォーム!AM13<>\"\",\"肺機能　\",\"\")&IF(申込みフォーム!AN13<>\"\",\"腹ｴｺｰ　\",\"\")&IF(申込みフォーム!AO13<>\"\",\"心ｴｺｰ　\",\"\")&IF(申込みフォーム!AP13<>\"\",\"ﾌﾛｰﾗ　\",\"\")&IF(申込みフォーム!AQ13<>\"\",\"OCT　\",\"\")&IF(申込みフォーム!AR13<>\"\",\"検便　\",\"\")&IF(申込みフォーム!AS13<>\"\",\"骨　\",\"\")&IF(申込みフォーム!AT13<>\"\",\"骨＋ﾛｺﾓ\",\"\")","v":""},{"$f":"IF(申込みフォーム!AU13<>\"\",申込みフォーム!AU13&\"　　\",\"\")&IF(申込みフォーム!AV13<>\"\",申込みフォーム!AV13&\"　　\",\"\")&IF(申込みフォーム!AW13<>\"\",申込みフォーム!AW13&\"　　\",\"\")&IF(申込みフォーム!$AX13=\"〇\",\"4月　\",\"\")&IF(申込みフォーム!$AY13=\"〇\",\"5月　\",\"\")&IF(申込みフォーム!$AZ13=\"〇\",\"6月　\",\"\")&IF(申込みフォーム!$BA13=\"〇\",\"7月　\",\"\")&IF(申込みフォーム!$BB13=\"〇\",\"8月　\",\"\")&IF(申込みフォーム!$BC13=\"〇\",\"9月　\",\"\")&IF(申込みフォーム!$BD13=\"〇\",\"10月　\",\"\")&IF(申込みフォーム!$BE13=\"〇\",\"11月　\",\"\")&IF(申込みフォーム!$BF13=\"〇\",\"12月　\",\"\")&IF(申込みフォーム!$BG13=\"〇\",\"1月　\",\"\")&IF(申込みフォーム!$BH13=\"〇\",\"2月　\",\"\")&IF(申込みフォーム!$BI13=\"〇\",\"3月　\",\"\")","v":""},{"$f":"IF(申込みフォーム!BJ13<>\"\",申込みフォーム!BJ13,\"\")","v":""},{"$f":"IF(申込みフォーム!BK13<>\"\",申込みフォーム!BK13,\"\")","v":""},{"$f":"申込みフォーム!$Z13","v":""},{"$f":"IF(申込みフォーム!BL13<>\"\",申込みフォーム!BL13&\"　　\",\"\")&IF(申込みフォーム!BM13<>\"\",申込みフォーム!BM13&\"　　\",\"\")&IF(申込みフォーム!BN13<>\"\",申込みフォーム!BN13&\"　　\",\"\")","v":{"$error":"#VALUE!"}},{"$f":"IF($B4=VLOOKUP($B4,'受診者リスト(抽出用）'!$A:$F,1,0),VLOOKUP($B4,'受診者リスト(抽出用）'!$A:$F,3,0)&\"　（団体マスタ）\"&VLOOKUP($B4,'受診者リスト(抽出用）'!$A:$F,4,0)&\"　（枝番）\"&VLOOKUP(B4,'受診者リスト(抽出用）'!$A:$F,5,0),\"\")","v":{"$error":"#N/A"}}]
[4,{"$f":"IF(申込みフォーム!B14<>\"\",申込みフォーム!B14&\"　\"&申込みフォーム!C14,\"\")","v":""},{"$f":"IF(申込みフォーム!E14<>\"\",申込みフォーム!E14&\"　\"&申込みフォーム!F14,\"\")","v":""},{"$f":"IF(申込みフォーム!G14<>\"\",申込みフォーム!G14,\"\")","v":""},{"$f":"IF(申込みフォーム!H14<>\"\",申込みフォーム!H14,\"\")","v":""},{"$f":"IF(申込みフォーム!D14<>\"\",申込みフォーム!D14,\"\")","v":""},{"$f":"IF(申込みフォーム!I14<>\"\",REPLACE(申込みフォーム!I14,4,,\"-\"),\"\")","v":""},{"$f":"IF(申込みフォーム!J14<>\"\",申込みフォーム!J14,\"\")","v":""},{"$f":"IF(申込みフォーム!K14<>\"\",申込みフォーム!K14,\"\")","v":""},{"$f":"IF(申込みフォーム!L14<>\"\",MID(申込みフォーム!L14,1,3)&\"-\"&MID(申込みフォーム!L14,4,4)&\"-\"&MID(申込みフォーム!L14,8,4),\"\")","v":""},{"$f":"IF(申込みフォーム!M14<>\"\",申込みフォーム!M14,\"\")","v":""},{"$f":"IF(申込みフォーム!N14<>\"\",申込みフォーム!N14,\"\")","v":""},{"$f":"IF(申込みフォーム!O14<>\"\",申込みフォーム!O14,\"\")","v":""},{"$f":"IF(申込みフォーム!P14<>\"\",申込みフォーム!P14,\"\")","v":""},{"$f":"IF(申込みフォーム!Q14<>\"\",申込みフォーム!Q14,\"\")","v":""},{"$f":"IF(申込みフォーム!R14<>\"\",申込みフォーム!R14,\"\")","v":""},{"$f":"IF(申込みフォーム!S14<>\"\",申込みフォーム!S14,\"\")","v":""},{"$f":"IF(申込みフォーム!U14=\"細胞診のみ\",\"協会子宮　\",IF(申込みフォーム!U14=\"細胞診＋（自費）膣エコー\",\"協会子宮＋自費膣エコー　\",\"\"))&IF(申込みフォーム!W14<>\"\",\"協会ﾏﾝﾓ　\",\"\")&IF(申込みフォーム!Y14<>\"\",\"協会骨　\",\"\")&IF(申込みフォーム!AA14<>\"\",\"協会肝炎　\",\"\")","v":""},{"$f":"IF(申込みフォーム!AB14<>\"\",\"子宮　\",\"\")&IF(申込みフォーム!AC14<>\"\",\"ﾏﾝﾓ　\",\"\")&IF(申込みフォーム!AD14<>\"\",\"乳ｴｺｰ\",\"\")","v":""},{"$f":"IF(申込みフォーム!AE14<>\"\",\"ﾏｰｶｰ　\",\"\")&IF(申込みフォーム!AF14<>\"\",\"心機能　\",\"\")&IF(申込みフォーム!AG14<>\"\",\"ABC　\",\"\")&IF(申込みフォーム!AH14<>\"\",\"Lox　\",\"\")&IF(申込みフォーム!AI14<>\"\",\"甲状腺　\",\"\")&IF(申込みフォーム!AJ14<>\"\",\"肝炎\",\"\")","v":""},{"$f":"IF(申込みフォーム!AK14<>\"\",\"脳　\",\"\")&IF(申込みフォーム!AL14<>\"\",\"胸部CT　\",\"\")&IF(申込みフォーム!AM14<>\"\",\"肺機能　\",\"\")&IF(申込みフォーム!AN14<>\"\",\"腹ｴｺｰ　\",\"\")&IF(申込みフォーム!AO14<>\"\",\"心ｴｺｰ　\",\"\")&IF(申込みフォーム!AP14<>\"\",\"ﾌﾛｰﾗ　\",\"\")&IF(申込みフォーム!AQ14<>\"\",\"OCT　\",\"\")&IF(申込みフォーム!AR14<>\"\",\"検便　\",\"\")&IF(申込みフォーム!AS14<>\"\",\"骨　\",\"\")&IF(申込みフォーム!AT14<>\"\",\"骨＋ﾛｺﾓ\",\"\")","v":""},{"$f":"IF(申込みフォーム!AU14<>\"\",申込みフォーム!AU14&\"　　\",\"\")&IF(申込みフォーム!AV14<>\"\",申込みフォーム!AV14&\"　　\",\"\")&IF(申込みフォーム!AW14<>\"\",申込みフォーム!AW14&\"　　\",\"\")&IF(申込みフォーム!$AX14=\"〇\",\"4月　\",\"\")&IF(申込みフォーム!$AY14=\"〇\",\"5月　\",\"\")&IF(申込みフォーム!$AZ14=\"〇\",\"6月　\",\"\")&IF(申込みフォーム!$BA14=\"〇\",\"7月　\",\"\")&IF(申込みフォーム!$BB14=\"〇\",\"8月　\",\"\")&IF(申込みフォーム!$BC14=\"〇\",\"9月　\",\"\")&IF(申込みフォーム!$BD14=\"〇\",\"10月　\",\"\")&IF(申込みフォーム!$BE14=\"〇\",\"11月　\",\"\")&IF(申込みフォーム!$BF14=\"〇\",\"12月　\",\"\")&IF(申込みフォーム!$BG14=\"〇\",\"1月　\",\"\")&IF(申込みフォーム!$BH14=\"〇\",\"2月　\",\"\")&IF(申込みフォーム!$BI14=\"〇\",\"3月　\",\"\")","v":""},{"$f":"IF(申込みフォーム!BJ14<>\"\",申込みフォーム!BJ14,\"\")","v":""},{"$f":"IF(申込みフォーム!BK14<>\"\",申込みフォーム!BK14,\"\")","v":""},{"$f":"申込みフォーム!$Z14","v":""},{"$f":"IF(申込みフォーム!BL14<>\"\",申込みフォーム!BL14&\"　　\",\"\")&IF(申込みフォーム!BM14<>\"\",申込みフォーム!BM14&\"　　\",\"\")&IF(申込みフォーム!BN14<>\"\",申込みフォーム!BN14&\"　　\",\"\")","v":{"$error":"#VALUE!"}},{"$f":"IF($B5=VLOOKUP($B5,'受診者リスト(抽出用）'!$A:$F,1,0),VLOOKUP($B5,'受診者リスト(抽出用）'!$A:$F,3,0)&\"　（団体マスタ）\"&VLOOKUP($B5,'受診者リスト(抽出用）'!$A:$F,4,0)&\"　（枝番）\"&VLOOKUP(B5,'受診者リスト(抽出用）'!$A:$F,5,0),\"\")","v":{"$error":"#N/A"}}]
[5,{"$f":"IF(申込みフォーム!B15<>\"\",申込みフォーム!B15&\"　\"&申込みフォーム!C15,\"\")","v":""},{"$f":"IF(申込みフォーム!E15<>\"\",申込みフォーム!E15&\"　\"&申込みフォーム!F15,\"\")","v":""},{"$f":"IF(申込みフォーム!G15<>\"\",申込みフォーム!G15,\"\")","v":""},{"$f":"IF(申込みフォーム!H15<>\"\",申込みフォーム!H15,\"\")","v":""},{"$f":"IF(申込みフォーム!D15<>\"\",申込みフォーム!D15,\"\")","v":""},{"$f":"IF(申込みフォーム!I15<>\"\",REPLACE(申込みフォーム!I15,4,,\"-\"),\"\")","v":""},{"$f":"IF(申込みフォーム!J15<>\"\",申込みフォーム!J15,\"\")","v":""},{"$f":"IF(申込みフォーム!K15<>\"\",申込みフォーム!K15,\"\")","v":""},{"$f":"IF(申込みフォーム!L15<>\"\",MID(申込みフォーム!L15,1,3)&\"-\"&MID(申込みフォーム!L15,4,4)&\"-\"&MID(申込みフォーム!L15,8,4),\"\")","v":""},{"$f":"IF(申込みフォーム!M15<>\"\",申込みフォーム!M15,\"\")","v":""},{"$f":"IF(申込みフォーム!N15<>\"\",申込みフォーム!N15,\"\")","v":""},{"$f":"IF(申込みフォーム!O15<>\"\",申込みフォーム!O15,\"\")","v":""},{"$f":"IF(申込みフォーム!P15<>\"\",申込みフォーム!P15,\"\")","v":""},{"$f":"IF(申込みフォーム!Q15<>\"\",申込みフォーム!Q15,\"\")","v":""},{"$f":"IF(申込みフォーム!R15<>\"\",申込みフォーム!R15,\"\")","v":""},{"$f":"IF(申込みフォーム!S15<>\"\",申込みフォーム!S15,\"\")","v":""},{"$f":"IF(申込みフォーム!U15=\"細胞診のみ\",\"協会子宮　\",IF(申込みフォーム!U15=\"細胞診＋（自費）膣エコー\",\"協会子宮＋自費膣エコー　\",\"\"))&IF(申込みフォーム!W15<>\"\",\"協会ﾏﾝﾓ　\",\"\")&IF(申込みフォーム!Y15<>\"\",\"協会骨　\",\"\")&IF(申込みフォーム!AA15<>\"\",\"協会肝炎　\",\"\")","v":""},{"$f":"IF(申込みフォーム!AB15<>\"\",\"子宮　\",\"\")&IF(申込みフォーム!AC15<>\"\",\"ﾏﾝﾓ　\",\"\")&IF(申込みフォーム!AD15<>\"\",\"乳ｴｺｰ\",\"\")","v":""},{"$f":"IF(申込みフォーム!AE15<>\"\",\"ﾏｰｶｰ　\",\"\")&IF(申込みフォーム!AF15<>\"\",\"心機能　\",\"\")&IF(申込みフォーム!AG15<>\"\",\"ABC　\",\"\")&IF(申込みフォーム!AH15<>\"\",\"Lox　\",\"\")&IF(申込みフォーム!AI15<>\"\",\"甲状腺　\",\"\")&IF(申込みフォーム!AJ15<>\"\",\"肝炎\",\"\")","v":""},{"$f":"IF(申込みフォーム!AK15<>\"\",\"脳　\",\"\")&IF(申込みフォーム!AL15<>\"\",\"胸部CT　\",\"\")&IF(申込みフォーム!AM15<>\"\",\"肺機能　\",\"\")&IF(申込みフォーム!AN15<>\"\",\"腹ｴｺｰ　\",\"\")&IF(申込みフォーム!AO15<>\"\",\"心ｴｺｰ　\",\"\")&IF(申込みフォーム!AP15<>\"\",\"ﾌﾛｰﾗ　\",\"\")&IF(申込みフォーム!AQ15<>\"\",\"OCT　\",\"\")&IF(申込みフォーム!AR15<>\"\",\"検便　\",\"\")&IF(申込みフォーム!AS15<>\"\",\"骨　\",\"\")&IF(申込みフォーム!AT15<>\"\",\"骨＋ﾛｺﾓ\",\"\")","v":""},{"$f":"IF(申込みフォーム!AU15<>\"\",申込みフォーム!AU15&\"　　\",\"\")&IF(申込みフォーム!AV15<>\"\",申込みフォーム!AV15&\"　　\",\"\")&IF(申込みフォーム!AW15<>\"\",申込みフォーム!AW15&\"　　\",\"\")&IF(申込みフォーム!$AX15=\"〇\",\"4月　\",\"\")&IF(申込みフォーム!$AY15=\"〇\",\"5月　\",\"\")&IF(申込みフォーム!$AZ15=\"〇\",\"6月　\",\"\")&IF(申込みフォーム!$BA15=\"〇\",\"7月　\",\"\")&IF(申込みフォーム!$BB15=\"〇\",\"8月　\",\"\")&IF(申込みフォーム!$BC15=\"〇\",\"9月　\",\"\")&IF(申込みフォーム!$BD15=\"〇\",\"10月　\",\"\")&IF(申込みフォーム!$BE15=\"〇\",\"11月　\",\"\")&IF(申込みフォーム!$BF15=\"〇\",\"12月　\",\"\")&IF(申込みフォーム!$BG15=\"〇\",\"1月　\",\"\")&IF(申込みフォーム!$BH15=\"〇\",\"2月　\",\"\")&IF(申込みフォーム!$BI15=\"〇\",\"3月　\",\"\")","v":""},{"$f":"IF(申込みフォーム!BJ15<>\"\",申込みフォーム!BJ15,\"\")","v":""},{"$f":"IF(申込みフォーム!BK15<>\"\",申込みフォーム!BK15,\"\")","v":""},{"$f":"申込みフォーム!$Z15","v":""},{"$f":"IF(申込みフォーム!BL15<>\"\",申込みフォーム!BL15&\"　　\",\"\")&IF(申込みフォーム!BM15<>\"\",申込みフォーム!BM15&\"　　\",\"\")&IF(申込みフォーム!BN15<>\"\",申込みフォーム!BN15&\"　　\",\"\")","v":{"$error":"#VALUE!"}},{"$f":"IF($B6=VLOOKUP($B6,'受診者リスト(抽出用）'!$A:$F,1,0),VLOOKUP($B6,'受診者リスト(抽出用）'!$A:$F,3,0)&\"　（団体マスタ）\"&VLOOKUP($B6,'受診者リスト(抽出用）'!$A:$F,4,0)&\"　（枝番）\"&VLOOKUP(B6,'受診者リスト(抽出用）'!$A:$F,5,0),\"\")","v":{"$error":"#N/A"}}]
[6,{"$f":"IF(申込みフォーム!B16<>\"\",申込みフォーム!B16&\"　\"&申込みフォーム!C16,\"\")","v":""},{"$f":"IF(申込みフォーム!E16<>\"\",申込みフォーム!E16&\"　\"&申込みフォーム!F16,\"\")","v":""},{"$f":"IF(申込みフォーム!G16<>\"\",申込みフォーム!G16,\"\")","v":""},{"$f":"IF(申込みフォーム!H16<>\"\",申込みフォーム!H16,\"\")","v":""},{"$f":"IF(申込みフォーム!D16<>\"\",申込みフォーム!D16,\"\")","v":""},{"$f":"IF(申込みフォーム!I16<>\"\",REPLACE(申込みフォーム!I16,4,,\"-\"),\"\")","v":""},{"$f":"IF(申込みフォーム!J16<>\"\",申込みフォーム!J16,\"\")","v":""},{"$f":"IF(申込みフォーム!K16<>\"\",申込みフォーム!K16,\"\")","v":""},{"$f":"IF(申込みフォーム!L16<>\"\",MID(申込みフォーム!L16,1,3)&\"-\"&MID(申込みフォーム!L16,4,4)&\"-\"&MID(申込みフォーム!L16,8,4),\"\")","v":""},{"$f":"IF(申込みフォーム!M16<>\"\",申込みフォーム!M16,\"\")","v":""},{"$f":"IF(申込みフォーム!N16<>\"\",申込みフォーム!N16,\"\")","v":""},{"$f":"IF(申込みフォーム!O16<>\"\",申込みフォーム!O16,\"\")","v":""},{"$f":"IF(申込みフォーム!P16<>\"\",申込みフォーム!P16,\"\")","v":""},{"$f":"IF(申込みフォーム!Q16<>\"\",申込みフォーム!Q16,\"\")","v":""},{"$f":"IF(申込みフォーム!R16<>\"\",申込みフォーム!R16,\"\")","v":""},{"$f":"IF(申込みフォーム!S16<>\"\",申込みフォーム!S16,\"\")","v":""},{"$f":"IF(申込みフォーム!U16=\"細胞診のみ\",\"協会子宮　\",IF(申込みフォーム!U16=\"細胞診＋（自費）膣エコー\",\"協会子宮＋自費膣エコー　\",\"\"))&IF(申込みフォーム!W16<>\"\",\"協会ﾏﾝﾓ　\",\"\")&IF(申込みフォーム!Y16<>\"\",\"協会骨　\",\"\")&IF(申込みフォーム!AA16<>\"\",\"協会肝炎　\",\"\")","v":""},{"$f":"IF(申込みフォーム!AB16<>\"\",\"子宮　\",\"\")&IF(申込みフォーム!AC16<>\"\",\"ﾏﾝﾓ　\",\"\")&IF(申込みフォーム!AD16<>\"\",\"乳ｴｺｰ\",\"\")","v":""},{"$f":"IF(申込みフォーム!AE16<>\"\",\"ﾏｰｶｰ　\",\"\")&IF(申込みフォーム!AF16<>\"\",\"心機能　\",\"\")&IF(申込みフォーム!AG16<>\"\",\"ABC　\",\"\")&IF(申込みフォーム!AH16<>\"\",\"Lox　\",\"\")&IF(申込みフォーム!AI16<>\"\",\"甲状腺　\",\"\")&IF(申込みフォーム!AJ16<>\"\",\"肝炎\",\"\")","v":""},{"$f":"IF(申込みフォーム!AK16<>\"\",\"脳　\",\"\")&IF(申込みフォーム!AL16<>\"\",\"胸部CT　\",\"\")&IF(申込みフォーム!AM16<>\"\",\"肺機能　\",\"\")&IF(申込みフォーム!AN16<>\"\",\"腹ｴｺｰ　\",\"\")&IF(申込みフォーム!AO16<>\"\",\"心ｴｺｰ　\",\"\")&IF(申込みフォーム!AP16<>\"\",\"ﾌﾛｰﾗ　\",\"\")&IF(申込みフォーム!AQ16<>\"\",\"OCT　\",\"\")&IF(申込みフォーム!AR16<>\"\",\"検便　\",\"\")&IF(申込みフォーム!AS16<>\"\",\"骨　\",\"\")&IF(申込みフォーム!AT16<>\"\",\"骨＋ﾛｺﾓ\",\"\")","v":""},{"$f":"IF(申込みフォーム!AU16<>\"\",申込みフォーム!AU16&\"　　\",\"\")&IF(申込みフォーム!AV16<>\"\",申込みフォーム!AV16&\"　　\",\"\")&IF(申込みフォーム!AW16<>\"\",申込みフォーム!AW16&\"　　\",\"\")&IF(申込みフォーム!$AX16=\"〇\",\"4月　\",\"\")&IF(申込みフォーム!$AY16=\"〇\",\"5月　\",\"\")&IF(申込みフォーム!$AZ16=\"〇\",\"6月　\",\"\")&IF(申込みフォーム!$BA16=\"〇\",\"7月　\",\"\")&IF(申込みフォーム!$BB16=\"〇\",\"8月　\",\"\")&IF(申込みフォーム!$BC16=\"〇\",\"9月　\",\"\")&IF(申込みフォーム!$BD16=\"〇\",\"10月　\",\"\")&IF(申込みフォーム!$BE16=\"〇\",\"11月　\",\"\")&IF(申込みフォーム!$BF16=\"〇\",\"12月　\",\"\")&IF(申込みフォーム!$BG16=\"〇\",\"1月　\",\"\")&IF(申込みフォーム!$BH16=\"〇\",\"2月　\",\"\")&IF(申込みフォーム!$BI16=\"〇\",\"3月　\",\"\")","v":""},{"$f":"IF(申込みフォーム!BJ16<>\"\",申込みフォーム!BJ16,\"\")","v":""},{"$f":"IF(申込みフォーム!BK16<>\"\",申込みフォーム!BK16,\"\")","v":""},{"$f":"申込みフォーム!$Z16","v":""},{"$f":"IF(申込みフォーム!BL16<>\"\",申込みフォーム!BL16&\"　　\",\"\")&IF(申込みフォーム!BM16<>\"\",申込みフォーム!BM16&\"　　\",\"\")&IF(申込みフォーム!BN16<>\"\",申込みフォーム!BN16&\"　　\",\"\")","v":{"$error":"#VALUE!"}},{"$f":"IF($B7=VLOOKUP($B7,'受診者リスト(抽出用）'!$A:$F,1,0),VLOOKUP($B7,'受診者リスト(抽出用）'!$A:$F,3,0)&\"　（団体マスタ）\"&VLOOKUP($B7,'受診者リスト(抽出用）'!$A:$F,4,0)&\"　（枝番）\"&VLOOKUP(B7,'受診者リスト(抽出用）'!$A:$F,5,0),\"\")","v":{"$error":"#N/A"}}]
[7,{"$f":"IF(申込みフォーム!B17<>\"\",申込みフォーム!B17&\"　\"&申込みフォーム!C17,\"\")","v":""},{"$f":"IF(申込みフォーム!E17<>\"\",申込みフォーム!E17&\"　\"&申込みフォーム!F17,\"\")","v":""},{"$f":"IF(申込みフォーム!G17<>\"\",申込みフォーム!G17,\"\")","v":""},{"$f":"IF(申込みフォーム!H17<>\"\",申込みフォーム!H17,\"\")","v":""},{"$f":"IF(申込みフォーム!D17<>\"\",申込みフォーム!D17,\"\")","v":""},{"$f":"IF(申込みフォーム!I17<>\"\",REPLACE(申込みフォーム!I17,4,,\"-\"),\"\")","v":""},{"$f":"IF(申込みフォーム!J17<>\"\",申込みフォーム!J17,\"\")","v":""},{"$f":"IF(申込みフォーム!K17<>\"\",申込みフォーム!K17,\"\")","v":""},{"$f":"IF(申込みフォーム!L17<>\"\",MID(申込みフォーム!L17,1,3)&\"-\"&MID(申込みフォーム!L17,4,4)&\"-\"&MID(申込みフォーム!L17,8,4),\"\")","v":""},{"$f":"IF(申込みフォーム!M17<>\"\",申込みフォーム!M17,\"\")","v":""},{"$f":"IF(申込みフォーム!N17<>\"\",申込みフォーム!N17,\"\")","v":""},{"$f":"IF(申込みフォーム!O17<>\"\",申込みフォーム!O17,\"\")","v":""},{"$f":"IF(申込みフォーム!P17<>\"\",申込みフォーム!P17,\"\")","v":""},{"$f":"IF(申込みフォーム!Q17<>\"\",申込みフォーム!Q17,\"\")","v":""},{"$f":"IF(申込みフォーム!R17<>\"\",申込みフォーム!R17,\"\")","v":""},{"$f":"IF(申込みフォーム!S17<>\"\",申込みフォーム!S17,\"\")","v":""},{"$f":"IF(申込みフォーム!U17=\"細胞診のみ\",\"協会子宮　\",IF(申込みフォーム!U17=\"細胞診＋（自費）膣エコー\",\"協会子宮＋自費膣エコー　\",\"\"))&IF(申込みフォーム!W17<>\"\",\"協会ﾏﾝﾓ　\",\"\")&IF(申込みフォーム!Y17<>\"\",\"協会骨　\",\"\")&IF(申込みフォーム!AA17<>\"\",\"協会肝炎　\",\"\")","v":""},{"$f":"IF(申込みフォーム!AB17<>\"\",\"子宮　\",\"\")&IF(申込みフォーム!AC17<>\"\",\"ﾏﾝﾓ　\",\"\")&IF(申込みフォーム!AD17<>\"\",\"乳ｴｺｰ\",\"\")","v":""},{"$f":"IF(申込みフォーム!AE17<>\"\",\"ﾏｰｶｰ　\",\"\")&IF(申込みフォーム!AF17<>\"\",\"心機能　\",\"\")&IF(申込みフォーム!AG17<>\"\",\"ABC　\",\"\")&IF(申込みフォーム!AH17<>\"\",\"Lox　\",\"\")&IF(申込みフォーム!AI17<>\"\",\"甲状腺　\",\"\")&IF(申込みフォーム!AJ17<>\"\",\"肝炎\",\"\")","v":""},{"$f":"IF(申込みフォーム!AK17<>\"\",\"脳　\",\"\")&IF(申込みフォーム!AL17<>\"\",\"胸部CT　\",\"\")&IF(申込みフォーム!AM17<>\"\",\"肺機能　\",\"\")&IF(申込みフォーム!AN17<>\"\",\"腹ｴｺｰ　\",\"\")&IF(申込みフォーム!AO17<>\"\",\"心ｴｺｰ　\",\"\")&IF(申込みフォーム!AP17<>\"\",\"ﾌﾛｰﾗ　\",\"\")&IF(申込みフォーム!AQ17<>\"\",\"OCT　\",\"\")&IF(申込みフォーム!AR17<>\"\",\"検便　\",\"\")&IF(申込みフォーム!AS17<>\"\",\"骨　\",\"\")&IF(申込みフォーム!AT17<>\"\",\"骨＋ﾛｺﾓ\",\"\")","v":""},{"$f":"IF(申込みフォーム!AU17<>\"\",申込みフォーム!AU17&\"　　\",\"\")&IF(申込みフォーム!AV17<>\"\",申込みフォーム!AV17&\"　　\",\"\")&IF(申込みフォーム!AW17<>\"\",申込みフォーム!AW17&\"　　\",\"\")&IF(申込みフォーム!$AX17=\"〇\",\"4月　\",\"\")&IF(申込みフォーム!$AY17=\"〇\",\"5月　\",\"\")&IF(申込みフォーム!$AZ17=\"〇\",\"6月　\",\"\")&IF(申込みフォーム!$BA17=\"〇\",\"7月　\",\"\")&IF(申込みフォーム!$BB17=\"〇\",\"8月　\",\"\")&IF(申込みフォーム!$BC17=\"〇\",\"9月　\",\"\")&IF(申込みフォーム!$BD17=\"〇\",\"10月　\",\"\")&IF(申込みフォーム!$BE17=\"〇\",\"11月　\",\"\")&IF(申込みフォーム!$BF17=\"〇\",\"12月　\",\"\")&IF(申込みフォーム!$BG17=\"〇\",\"1月　\",\"\")&IF(申込みフォーム!$BH17=\"〇\",\"2月　\",\"\")&IF(申込みフォーム!$BI17=\"〇\",\"3月　\",\"\")","v":""},{"$f":"IF(申込みフォーム!BJ17<>\"\",申込みフォーム!BJ17,\"\")","v":""},{"$f":"IF(申込みフォーム!BK17<>\"\",申込みフォーム!BK17,\"\")","v":""},{"$f":"申込みフォーム!$Z17","v":""},{"$f":"IF(申込みフォーム!BL17<>\"\",申込みフォーム!BL17&\"　　\",\"\")&IF(申込みフォーム!BM17<>\"\",申込みフォーム!BM17&\"　　\",\"\")&IF(申込みフォーム!BN17<>\"\",申込みフォーム!BN17&\"　　\",\"\")","v":{"$error":"#VALUE!"}},{"$f":"IF($B8=VLOOKUP($B8,'受診者リスト(抽出用）'!$A:$F,1,0),VLOOKUP($B8,'受診者リスト(抽出用）'!$A:$F,3,0)&\"　（団体マスタ）\"&VLOOKUP($B8,'受診者リスト(抽出用）'!$A:$F,4,0)&\"　（枝番）\"&VLOOKUP(B8,'受診者リスト(抽出用）'!$A:$F,5,0),\"\")","v":{"$error":"#N/A"}}]
[8,{"$f":"IF(申込みフォーム!B18<>\"\",申込みフォーム!B18&\"　\"&申込みフォーム!C18,\"\")","v":""},{"$f":"IF(申込みフォーム!E18<>\"\",申込みフォーム!E18&\"　\"&申込みフォーム!F18,\"\")","v":""},{"$f":"IF(申込みフォーム!G18<>\"\",申込みフォーム!G18,\"\")","v":""},{"$f":"IF(申込みフォーム!H18<>\"\",申込みフォーム!H18,\"\")","v":""},{"$f":"IF(申込みフォーム!D18<>\"\",申込みフォーム!D18,\"\")","v":""},{"$f":"IF(申込みフォーム!I18<>\"\",REPLACE(申込みフォーム!I18,4,,\"-\"),\"\")","v":""},{"$f":"IF(申込みフォーム!J18<>\"\",申込みフォーム!J18,\"\")","v":""},{"$f":"IF(申込みフォーム!K18<>\"\",申込みフォーム!K18,\"\")","v":""},{"$f":"IF(申込みフォーム!L18<>\"\",MID(申込みフォーム!L18,1,3)&\"-\"&MID(申込みフォーム!L18,4,4)&\"-\"&MID(申込みフォーム!L18,8,4),\"\")","v":""},{"$f":"IF(申込みフォーム!M18<>\"\",申込みフォーム!M18,\"\")","v":""},{"$f":"IF(申込みフォーム!N18<>\"\",申込みフォーム!N18,\"\")","v":""},{"$f":"IF(申込みフォーム!O18<>\"\",申込みフォーム!O18,\"\")","v":""},{"$f":"IF(申込みフォーム!P18<>\"\",申込みフォーム!P18,\"\")","v":""},{"$f":"IF(申込みフォーム!Q18<>\"\",申込みフォーム!Q18,\"\")","v":""},{"$f":"IF(申込みフォーム!R18<>\"\",申込みフォーム!R18,\"\")","v":""},{"$f":"IF(申込みフォーム!S18<>\"\",申込みフォーム!S18,\"\")","v":""},{"$f":"IF(申込みフォーム!U18=\"細胞診のみ\",\"協会子宮　\",IF(申込みフォーム!U18=\"細胞診＋（自費）膣エコー\",\"協会子宮＋自費膣エコー　\",\"\"))&IF(申込みフォーム!W18<>\"\",\"協会ﾏﾝﾓ　\",\"\")&IF(申込みフォーム!Y18<>\"\",\"協会骨　\",\"\")&IF(申込みフォーム!AA18<>\"\",\"協会肝炎　\",\"\")","v":""},{"$f":"IF(申込みフォーム!AB18<>\"\",\"子宮　\",\"\")&IF(申込みフォーム!AC18<>\"\",\"ﾏﾝﾓ　\",\"\")&IF(申込みフォーム!AD18<>\"\",\"乳ｴｺｰ\",\"\")","v":""},{"$f":"IF(申込みフォーム!AE18<>\"\",\"ﾏｰｶｰ　\",\"\")&IF(申込みフォーム!AF18<>\"\",\"心機能　\",\"\")&IF(申込みフォーム!AG18<>\"\",\"ABC　\",\"\")&IF(申込みフォーム!AH18<>\"\",\"Lox　\",\"\")&IF(申込みフォーム!AI18<>\"\",\"甲状腺　\",\"\")&IF(申込みフォーム!AJ18<>\"\",\"肝炎\",\"\")","v":""},{"$f":"IF(申込みフォーム!AK18<>\"\",\"脳　\",\"\")&IF(申込みフォーム!AL18<>\"\",\"胸部CT　\",\"\")&IF(申込みフォーム!AM18<>\"\",\"肺機能　\",\"\")&IF(申込みフォーム!AN18<>\"\",\"腹ｴｺｰ　\",\"\")&IF(申込みフォーム!AO18<>\"\",\"心ｴｺｰ　\",\"\")&IF(申込みフォーム!AP18<>\"\",\"ﾌﾛｰﾗ　\",\"\")&IF(申込みフォーム!AQ18<>\"\",\"OCT　\",\"\")&IF(申込みフォーム!AR18<>\"\",\"検便　\",\"\")&IF(申込みフォーム!AS18<>\"\",\"骨　\",\"\")&IF(申込みフォーム!AT18<>\"\",\"骨＋ﾛｺﾓ\",\"\")","v":""},{"$f":"IF(申込みフォーム!AU18<>\"\",申込みフォーム!AU18&\"　　\",\"\")&IF(申込みフォーム!AV18<>\"\",申込みフォーム!AV18&\"　　\",\"\")&IF(申込みフォーム!AW18<>\"\",申込みフォーム!AW18&\"　　\",\"\")&IF(申込みフォーム!$AX18=\"〇\",\"4月　\",\"\")&IF(申込みフォーム!$AY18=\"〇\",\"5月　\",\"\")&IF(申込みフォーム!$AZ18=\"〇\",\"6月　\",\"\")&IF(申込みフォーム!$BA18=\"〇\",\"7月　\",\"\")&IF(申込みフォーム!$BB18=\"〇\",\"8月　\",\"\")&IF(申込みフォーム!$BC18=\"〇\",\"9月　\",\"\")&IF(申込みフォーム!$BD18=\"〇\",\"10月　\",\"\")&IF(申込みフォーム!$BE18=\"〇\",\"11月　\",\"\")&IF(申込みフォーム!$BF18=\"〇\",\"12月　\",\"\")&IF(申込みフォーム!$BG18=\"〇\",\"1月　\",\"\")&IF(申込みフォーム!$BH18=\"〇\",\"2月　\",\"\")&IF(申込みフォーム!$BI18=\"〇\",\"3月　\",\"\")","v":""},{"$f":"IF(申込みフォーム!BJ18<>\"\",申込みフォーム!BJ18,\"\")","v":""},{"$f":"IF(申込みフォーム!BK18<>\"\",申込みフォーム!BK18,\"\")","v":""},{"$f":"申込みフォーム!$Z18","v":""},{"$f":"IF(申込みフォーム!BL18<>\"\",申込みフォーム!BL18&\"　　\",\"\")&IF(申込みフォーム!BM18<>\"\",申込みフォーム!BM18&\"　　\",\"\")&IF(申込みフォーム!BN18<>\"\",申込みフォーム!BN18&\"　　\",\"\")","v":{"$error":"#VALUE!"}},{"$f":"IF($B9=VLOOKUP($B9,'受診者リスト(抽出用）'!$A:$F,1,0),VLOOKUP($B9,'受診者リスト(抽出用）'!$A:$F,3,0)&\"　（団体マスタ）\"&VLOOKUP($B9,'受診者リスト(抽出用）'!$A:$F,4,0)&\"　（枝番）\"&VLOOKUP(B9,'受診者リスト(抽出用）'!$A:$F,5,0),\"\")","v":{"$error":"#N/A"}}]
[9,{"$f":"IF(申込みフォーム!B19<>\"\",申込みフォーム!B19&\"　\"&申込みフォーム!C19,\"\")","v":""},{"$f":"IF(申込みフォーム!E19<>\"\",申込みフォーム!E19&\"　\"&申込みフォーム!F19,\"\")","v":""},{"$f":"IF(申込みフォーム!G19<>\"\",申込みフォーム!G19,\"\")","v":""},{"$f":"IF(申込みフォーム!H19<>\"\",申込みフォーム!H19,\"\")","v":""},{"$f":"IF(申込みフォーム!D19<>\"\",申込みフォーム!D19,\"\")","v":""},{"$f":"IF(申込みフォーム!I19<>\"\",REPLACE(申込みフォーム!I19,4,,\"-\"),\"\")","v":""},{"$f":"IF(申込みフォーム!J19<>\"\",申込みフォーム!J19,\"\")","v":""},{"$f":"IF(申込みフォーム!K19<>\"\",申込みフォーム!K19,\"\")","v":""},{"$f":"IF(申込みフォーム!L19<>\"\",MID(申込みフォーム!L19,1,3)&\"-\"&MID(申込みフォーム!L19,4,4)&\"-\"&MID(申込みフォーム!L19,8,4),\"\")","v":""},{"$f":"IF(申込みフォーム!M19<>\"\",申込みフォーム!M19,\"\")","v":""},{"$f":"IF(申込みフォーム!N19<>\"\",申込みフォーム!N19,\"\")","v":""},{"$f":"IF(申込みフォーム!O19<>\"\",申込みフォーム!O19,\"\")","v":""},{"$f":"IF(申込みフォーム!P19<>\"\",申込みフォーム!P19,\"\")","v":""},{"$f":"IF(申込みフォーム!Q19<>\"\",申込みフォーム!Q19,\"\")","v":""},{"$f":"IF(申込みフォーム!R19<>\"\",申込みフォーム!R19,\"\")","v":""},{"$f":"IF(申込みフォーム!S19<>\"\",申込みフォーム!S19,\"\")","v":""},{"$f":"IF(申込みフォーム!U19=\"細胞診のみ\",\"協会子宮　\",IF(申込みフォーム!U19=\"細胞診＋（自費）膣エコー\",\"協会子宮＋自費膣エコー　\",\"\"))&IF(申込みフォーム!W19<>\"\",\"協会ﾏﾝﾓ　\",\"\")&IF(申込みフォーム!Y19<>\"\",\"協会骨　\",\"\")&IF(申込みフォーム!AA19<>\"\",\"協会肝炎　\",\"\")","v":""},{"$f":"IF(申込みフォーム!AB19<>\"\",\"子宮　\",\"\")&IF(申込みフォーム!AC19<>\"\",\"ﾏﾝﾓ　\",\"\")&IF(申込みフォーム!AD19<>\"\",\"乳ｴｺｰ\",\"\")","v":""},{"$f":"IF(申込みフォーム!AE19<>\"\",\"ﾏｰｶｰ　\",\"\")&IF(申込みフォーム!AF19<>\"\",\"心機能　\",\"\")&IF(申込みフォーム!AG19<>\"\",\"ABC　\",\"\")&IF(申込みフォーム!AH19<>\"\",\"Lox　\",\"\")&IF(申込みフォーム!AI19<>\"\",\"甲状腺　\",\"\")&IF(申込みフォーム!AJ19<>\"\",\"肝炎\",\"\")","v":""},{"$f":"IF(申込みフォーム!AK19<>\"\",\"脳　\",\"\")&IF(申込みフォーム!AL19<>\"\",\"胸部CT　\",\"\")&IF(申込みフォーム!AM19<>\"\",\"肺機能　\",\"\")&IF(申込みフォーム!AN19<>\"\",\"腹ｴｺｰ　\",\"\")&IF(申込みフォーム!AO19<>\"\",\"心ｴｺｰ　\",\"\")&IF(申込みフォーム!AP19<>\"\",\"ﾌﾛｰﾗ　\",\"\")&IF(申込みフォーム!AQ19<>\"\",\"OCT　\",\"\")&IF(申込みフォーム!AR19<>\"\",\"検便　\",\"\")&IF(申込みフォーム!AS19<>\"\",\"骨　\",\"\")&IF(申込みフォーム!AT19<>\"\",\"骨＋ﾛｺﾓ\",\"\")","v":""},{"$f":"IF(申込みフォーム!AU19<>\"\",申込みフォーム!AU19&\"　　\",\"\")&IF(申込みフォーム!AV19<>\"\",申込みフォーム!AV19&\"　　\",\"\")&IF(申込みフォーム!AW19<>\"\",申込みフォーム!AW19&\"　　\",\"\")&IF(申込みフォーム!$AX19=\"〇\",\"4月　\",\"\")&IF(申込みフォーム!$AY19=\"〇\",\"5月　\",\"\")&IF(申込みフォーム!$AZ19=\"〇\",\"6月　\",\"\")&IF(申込みフォーム!$BA19=\"〇\",\"7月　\",\"\")&IF(申込みフォーム!$BB19=\"〇\",\"8月　\",\"\")&IF(申込みフォーム!$BC19=\"〇\",\"9月　\",\"\")&IF(申込みフォーム!$BD19=\"〇\",\"10月　\",\"\")&IF(申込みフォーム!$BE19=\"〇\",\"11月　\",\"\")&IF(申込みフォーム!$BF19=\"〇\",\"12月　\",\"\")&IF(申込みフォーム!$BG19=\"〇\",\"1月　\",\"\")&IF(申込みフォーム!$BH19=\"〇\",\"2月　\",\"\")&IF(申込みフォーム!$BI19=\"〇\",\"3月　\",\"\")","v":""},{"$f":"IF(申込みフォーム!BJ19<>\"\",申込みフォーム!BJ19,\"\")","v":""},{"$f":"IF(申込みフォーム!BK19<>\"\",申込みフォーム!BK19,\"\")","v":""},{"$f":"申込みフォーム!$Z19","v":""},{"$f":"IF(申込みフォーム!BL19<>\"\",申込みフォーム!BL19&\"　　\",\"\")&IF(申込みフォーム!BM19<>\"\",申込みフォーム!BM19&\"　　\",\"\")&IF(申込みフォーム!BN19<>\"\",申込みフォーム!BN19&\"　　\",\"\")","v":{"$error":"#VALUE!"}},{"$f":"IF($B10=VLOOKUP($B10,'受診者リスト(抽出用）'!$A:$F,1,0),VLOOKUP($B10,'受診者リスト(抽出用）'!$A:$F,3,0)&\"　（団体マスタ）\"&VLOOKUP($B10,'受診者リスト(抽出用）'!$A:$F,4,0)&\"　（枝番）\"&VLOOKUP(B10,'受診者リスト(抽出用）'!$A:$F,5,0),\"\")","v":{"$error":"#N/A"}}]
[10,{"$f":"IF(申込みフォーム!B20<>\"\",申込みフォーム!B20&\"　\"&申込みフォーム!C20,\"\")","v":""},{"$f":"IF(申込みフォーム!E20<>\"\",申込みフォーム!E20&\"　\"&申込みフォーム!F20,\"\")","v":""},{"$f":"IF(申込みフォーム!G20<>\"\",申込みフォーム!G20,\"\")","v":""},{"$f":"IF(申込みフォーム!H20<>\"\",申込みフォーム!H20,\"\")","v":""},{"$f":"IF(申込みフォーム!D20<>\"\",申込みフォーム!D20,\"\")","v":""},{"$f":"IF(申込みフォーム!I20<>\"\",REPLACE(申込みフォーム!I20,4,,\"-\"),\"\")","v":""},{"$f":"IF(申込みフォーム!J20<>\"\",申込みフォーム!J20,\"\")","v":""},{"$f":"IF(申込みフォーム!K20<>\"\",申込みフォーム!K20,\"\")","v":""},{"$f":"IF(申込みフォーム!L20<>\"\",MID(申込みフォーム!L20,1,3)&\"-\"&MID(申込みフォーム!L20,4,4)&\"-\"&MID(申込みフォーム!L20,8,4),\"\")","v":""},{"$f":"IF(申込みフォーム!M20<>\"\",申込みフォーム!M20,\"\")","v":""},{"$f":"IF(申込みフォーム!N20<>\"\",申込みフォーム!N20,\"\")","v":""},{"$f":"IF(申込みフォーム!O20<>\"\",申込みフォーム!O20,\"\")","v":""},{"$f":"IF(申込みフォーム!P20<>\"\",申込みフォーム!P20,\"\")","v":""},{"$f":"IF(申込みフォーム!Q20<>\"\",申込みフォーム!Q20,\"\")","v":""},{"$f":"IF(申込みフォーム!R20<>\"\",申込みフォーム!R20,\"\")","v":""},{"$f":"IF(申込みフォーム!S20<>\"\",申込みフォーム!S20,\"\")","v":""},{"$f":"IF(申込みフォーム!U20=\"細胞診のみ\",\"協会子宮　\",IF(申込みフォーム!U20=\"細胞診＋（自費）膣エコー\",\"協会子宮＋自費膣エコー　\",\"\"))&IF(申込みフォーム!W20<>\"\",\"協会ﾏﾝﾓ　\",\"\")&IF(申込みフォーム!Y20<>\"\",\"協会骨　\",\"\")&IF(申込みフォーム!AA20<>\"\",\"協会肝炎　\",\"\")","v":""},{"$f":"IF(申込みフォーム!AB20<>\"\",\"子宮　\",\"\")&IF(申込みフォーム!AC20<>\"\",\"ﾏﾝﾓ　\",\"\")&IF(申込みフォーム!AD20<>\"\",\"乳ｴｺｰ\",\"\")","v":""},{"$f":"IF(申込みフォーム!AE20<>\"\",\"ﾏｰｶｰ　\",\"\")&IF(申込みフォーム!AF20<>\"\",\"心機能　\",\"\")&IF(申込みフォーム!AG20<>\"\",\"ABC　\",\"\")&IF(申込みフォーム!AH20<>\"\",\"Lox　\",\"\")&IF(申込みフォーム!AI20<>\"\",\"甲状腺　\",\"\")&IF(申込みフォーム!AJ20<>\"\",\"肝炎\",\"\")","v":""},{"$f":"IF(申込みフォーム!AK20<>\"\",\"脳　\",\"\")&IF(申込みフォーム!AL20<>\"\",\"胸部CT　\",\"\")&IF(申込みフォーム!AM20<>\"\",\"肺機能　\",\"\")&IF(申込みフォーム!AN20<>\"\",\"腹ｴｺｰ　\",\"\")&IF(申込みフォーム!AO20<>\"\",\"心ｴｺｰ　\",\"\")&IF(申込みフォーム!AP20<>\"\",\"ﾌﾛｰﾗ　\",\"\")&IF(申込みフォーム!AQ20<>\"\",\"OCT　\",\"\")&IF(申込みフォーム!AR20<>\"\",\"検便　\",\"\")&IF(申込みフォーム!AS20<>\"\",\"骨　\",\"\")&IF(申込みフォーム!AT20<>\"\",\"骨＋ﾛｺﾓ\",\"\")","v":""},{"$f":"IF(申込みフォーム!AU20<>\"\",申込みフォーム!AU20&\"　　\",\"\")&IF(申込みフォーム!AV20<>\"\",申込みフォーム!AV20&\"　　\",\"\")&IF(申込みフォーム!AW20<>\"\",申込みフォーム!AW20&\"　　\",\"\")&IF(申込みフォーム!$AX20=\"〇\",\"4月　\",\"\")&IF(申込みフォーム!$AY20=\"〇\",\"5月　\",\"\")&IF(申込みフォーム!$AZ20=\"〇\",\"6月　\",\"\")&IF(申込みフォーム!$BA20=\"〇\",\"7月　\",\"\")&IF(申込みフォーム!$BB20=\"〇\",\"8月　\",\"\")&IF(申込みフォーム!$BC20=\"〇\",\"9月　\",\"\")&IF(申込みフォーム!$BD20=\"〇\",\"10月　\",\"\")&IF(申込みフォーム!$BE20=\"〇\",\"11月　\",\"\")&IF(申込みフォーム!$BF20=\"〇\",\"12月　\",\"\")&IF(申込みフォーム!$BG20=\"〇\",\"1月　\",\"\")&IF(申込みフォーム!$BH20=\"〇\",\"2月　\",\"\")&IF(申込みフォーム!$BI20=\"〇\",\"3月　\",\"\")","v":""},{"$f":"IF(申込みフォーム!BJ20<>\"\",申込みフォーム!BJ20,\"\")","v":""},{"$f":"IF(申込みフォーム!BK20<>\"\",申込みフォーム!BK20,\"\")","v":""},{"$f":"申込みフォーム!$Z20","v":""},{"$f":"IF(申込みフォーム!BL20<>\"\",申込みフォーム!BL20&\"　　\",\"\")&IF(申込みフォーム!BM20<>\"\",申込みフォーム!BM20&\"　　\",\"\")&IF(申込みフォーム!BN20<>\"\",申込みフォーム!BN20&\"　　\",\"\")","v":{"$error":"#VALUE!"}},{"$f":"IF($B11=VLOOKUP($B11,'受診者リスト(抽出用）'!$A:$F,1,0),VLOOKUP($B11,'受診者リスト(抽出用）'!$A:$F,3,0)&\"　（団体マスタ）\"&VLOOKUP($B11,'受診者リスト(抽出用）'!$A:$F,4,0)&\"　（枝番）\"&VLOOKUP(B11,'受診者リスト(抽出用）'!$A:$F,5,0),\"\")","v":{"$error":"#N/A"}}]
[11,{"$f":"IF(申込みフォーム!B21<>\"\",申込みフォーム!B21&\"　\"&申込みフォーム!C21,\"\")","v":""},{"$f":"IF(申込みフォーム!E21<>\"\",申込みフォーム!E21&\"　\"&申込みフォーム!F21,\"\")","v":""},{"$f":"IF(申込みフォーム!G21<>\"\",申込みフォーム!G21,\"\")","v":""},{"$f":"IF(申込みフォーム!H21<>\"\",申込みフォーム!H21,\"\")","v":""},{"$f":"IF(申込みフォーム!D21<>\"\",申込みフォーム!D21,\"\")","v":""},{"$f":"IF(申込みフォーム!I21<>\"\",REPLACE(申込みフォーム!I21,4,,\"-\"),\"\")","v":""},{"$f":"IF(申込みフォーム!J21<>\"\",申込みフォーム!J21,\"\")","v":""},{"$f":"IF(申込みフォーム!K21<>\"\",申込みフォーム!K21,\"\")","v":""},{"$f":"IF(申込みフォーム!L21<>\"\",MID(申込みフォーム!L21,1,3)&\"-\"&MID(申込みフォーム!L21,4,4)&\"-\"&MID(申込みフォーム!L21,8,4),\"\")","v":""},{"$f":"IF(申込みフォーム!M21<>\"\",申込みフォーム!M21,\"\")","v":""},{"$f":"IF(申込みフォーム!N21<>\"\",申込みフォーム!N21,\"\")","v":""},{"$f":"IF(申込みフォーム!O21<>\"\",申込みフォーム!O21,\"\")","v":""},{"$f":"IF(申込みフォーム!P21<>\"\",申込みフォーム!P21,\"\")","v":""},{"$f":"IF(申込みフォーム!Q21<>\"\",申込みフォーム!Q21,\"\")","v":""},{"$f":"IF(申込みフォーム!R21<>\"\",申込みフォーム!R21,\"\")","v":""},{"$f":"IF(申込みフォーム!S21<>\"\",申込みフォーム!S21,\"\")","v":""},{"$f":"IF(申込みフォーム!U21=\"細胞診のみ\",\"協会子宮　\",IF(申込みフォーム!U21=\"細胞診＋（自費）膣エコー\",\"協会子宮＋自費膣エコー　\",\"\"))&IF(申込みフォーム!W21<>\"\",\"協会ﾏﾝﾓ　\",\"\")&IF(申込みフォーム!Y21<>\"\",\"協会骨　\",\"\")&IF(申込みフォーム!AA21<>\"\",\"協会肝炎　\",\"\")","v":""},{"$f":"IF(申込みフォーム!AB21<>\"\",\"子宮　\",\"\")&IF(申込みフォーム!AC21<>\"\",\"ﾏﾝﾓ　\",\"\")&IF(申込みフォーム!AD21<>\"\",\"乳ｴｺｰ\",\"\")","v":""},{"$f":"IF(申込みフォーム!AE21<>\"\",\"ﾏｰｶｰ　\",\"\")&IF(申込みフォーム!AF21<>\"\",\"心機能　\",\"\")&IF(申込みフォーム!AG21<>\"\",\"ABC　\",\"\")&IF(申込みフォーム!AH21<>\"\",\"Lox　\",\"\")&IF(申込みフォーム!AI21<>\"\",\"甲状腺　\",\"\")&IF(申込みフォーム!AJ21<>\"\",\"肝炎\",\"\")","v":""},{"$f":"IF(申込みフォーム!AK21<>\"\",\"脳　\",\"\")&IF(申込みフォーム!AL21<>\"\",\"胸部CT　\",\"\")&IF(申込みフォーム!AM21<>\"\",\"肺機能　\",\"\")&IF(申込みフォーム!AN21<>\"\",\"腹ｴｺｰ　\",\"\")&IF(申込みフォーム!AO21<>\"\",\"心ｴｺｰ　\",\"\")&IF(申込みフォーム!AP21<>\"\",\"ﾌﾛｰﾗ　\",\"\")&IF(申込みフォーム!AQ21<>\"\",\"OCT　\",\"\")&IF(申込みフォーム!AR21<>\"\",\"検便　\",\"\")&IF(申込みフォーム!AS21<>\"\",\"骨　\",\"\")&IF(申込みフォーム!AT21<>\"\",\"骨＋ﾛｺﾓ\",\"\")","v":""},{"$f":"IF(申込みフォーム!AU21<>\"\",申込みフォーム!AU21&\"　　\",\"\")&IF(申込みフォーム!AV21<>\"\",申込みフォーム!AV21&\"　　\",\"\")&IF(申込みフォーム!AW21<>\"\",申込みフォーム!AW21&\"　　\",\"\")&IF(申込みフォーム!$AX21=\"〇\",\"4月　\",\"\")&IF(申込みフォーム!$AY21=\"〇\",\"5月　\",\"\")&IF(申込みフォーム!$AZ21=\"〇\",\"6月　\",\"\")&IF(申込みフォーム!$BA21=\"〇\",\"7月　\",\"\")&IF(申込みフォーム!$BB21=\"〇\",\"8月　\",\"\")&IF(申込みフォーム!$BC21=\"〇\",\"9月　\",\"\")&IF(申込みフォーム!$BD21=\"〇\",\"10月　\",\"\")&IF(申込みフォーム!$BE21=\"〇\",\"11月　\",\"\")&IF(申込みフォーム!$BF21=\"〇\",\"12月　\",\"\")&IF(申込みフォーム!$BG21=\"〇\",\"1月　\",\"\")&IF(申込みフォーム!$BH21=\"〇\",\"2月　\",\"\")&IF(申込みフォーム!$BI21=\"〇\",\"3月　\",\"\")","v":""},{"$f":"IF(申込みフォーム!BJ21<>\"\",申込みフォーム!BJ21,\"\")","v":""},{"$f":"IF(申込みフォーム!BK21<>\"\",申込みフォーム!BK21,\"\")","v":""},{"$f":"申込みフォーム!$Z21","v":""},{"$f":"IF(申込みフォーム!BL21<>\"\",申込みフォーム!BL21&\"　　\",\"\")&IF(申込みフォーム!BM21<>\"\",申込みフォーム!BM21&\"　　\",\"\")&IF(申込みフォーム!BN21<>\"\",申込みフォーム!BN21&\"　　\",\"\")","v":{"$error":"#VALUE!"}},{"$f":"IF($B12=VLOOKUP($B12,'受診者リスト(抽出用）'!$A:$F,1,0),VLOOKUP($B12,'受診者リスト(抽出用）'!$A:$F,3,0)&\"　（団体マスタ）\"&VLOOKUP($B12,'受診者リスト(抽出用）'!$A:$F,4,0)&\"　（枝番）\"&VLOOKUP(B12,'受診者リスト(抽出用）'!$A:$F,5,0),\"\")","v":{"$error":"#N/A"}}]
[12,{"$f":"IF(申込みフォーム!B22<>\"\",申込みフォーム!B22&\"　\"&申込みフォーム!C22,\"\")","v":""},{"$f":"IF(申込みフォーム!E22<>\"\",申込みフォーム!E22&\"　\"&申込みフォーム!F22,\"\")","v":""},{"$f":"IF(申込みフォーム!G22<>\"\",申込みフォーム!G22,\"\")","v":""},{"$f":"IF(申込みフォーム!H22<>\"\",申込みフォーム!H22,\"\")","v":""},{"$f":"IF(申込みフォーム!D22<>\"\",申込みフォーム!D22,\"\")","v":""},{"$f":"IF(申込みフォーム!I22<>\"\",REPLACE(申込みフォーム!I22,4,,\"-\"),\"\")","v":""},{"$f":"IF(申込みフォーム!J22<>\"\",申込みフォーム!J22,\"\")","v":""},{"$f":"IF(申込みフォーム!K22<>\"\",申込みフォーム!K22,\"\")","v":""},{"$f":"IF(申込みフォーム!L22<>\"\",MID(申込みフォーム!L22,1,3)&\"-\"&MID(申込みフォーム!L22,4,4)&\"-\"&MID(申込みフォーム!L22,8,4),\"\")","v":""},{"$f":"IF(申込みフォーム!M22<>\"\",申込みフォーム!M22,\"\")","v":""},{"$f":"IF(申込みフォーム!N22<>\"\",申込みフォーム!N22,\"\")","v":""},{"$f":"IF(申込みフォーム!O22<>\"\",申込みフォーム!O22,\"\")","v":""},{"$f":"IF(申込みフォーム!P22<>\"\",申込みフォーム!P22,\"\")","v":""},{"$f":"IF(申込みフォーム!Q22<>\"\",申込みフォーム!Q22,\"\")","v":""},{"$f":"IF(申込みフォーム!R22<>\"\",申込みフォーム!R22,\"\")","v":""},{"$f":"IF(申込みフォーム!S22<>\"\",申込みフォーム!S22,\"\")","v":""},{"$f":"IF(申込みフォーム!U22=\"細胞診のみ\",\"協会子宮　\",IF(申込みフォーム!U22=\"細胞診＋（自費）膣エコー\",\"協会子宮＋自費膣エコー　\",\"\"))&IF(申込みフォーム!W22<>\"\",\"協会ﾏﾝﾓ　\",\"\")&IF(申込みフォーム!Y22<>\"\",\"協会骨　\",\"\")&IF(申込みフォーム!AA22<>\"\",\"協会肝炎　\",\"\")","v":""},{"$f":"IF(申込みフォーム!AB22<>\"\",\"子宮　\",\"\")&IF(申込みフォーム!AC22<>\"\",\"ﾏﾝﾓ　\",\"\")&IF(申込みフォーム!AD22<>\"\",\"乳ｴｺｰ\",\"\")","v":""},{"$f":"IF(申込みフォーム!AE22<>\"\",\"ﾏｰｶｰ　\",\"\")&IF(申込みフォーム!AF22<>\"\",\"心機能　\",\"\")&IF(申込みフォーム!AG22<>\"\",\"ABC　\",\"\")&IF(申込みフォーム!AH22<>\"\",\"Lox　\",\"\")&IF(申込みフォーム!AI22<>\"\",\"甲状腺　\",\"\")&IF(申込みフォーム!AJ22<>\"\",\"肝炎\",\"\")","v":""},{"$f":"IF(申込みフォーム!AK22<>\"\",\"脳　\",\"\")&IF(申込みフォーム!AL22<>\"\",\"胸部CT　\",\"\")&IF(申込みフォーム!AM22<>\"\",\"肺機能　\",\"\")&IF(申込みフォーム!AN22<>\"\",\"腹ｴｺｰ　\",\"\")&IF(申込みフォーム!AO22<>\"\",\"心ｴｺｰ　\",\"\")&IF(申込みフォーム!AP22<>\"\",\"ﾌﾛｰﾗ　\",\"\")&IF(申込みフォーム!AQ22<>\"\",\"OCT　\",\"\")&IF(申込みフォーム!AR22<>\"\",\"検便　\",\"\")&IF(申込みフォーム!AS22<>\"\",\"骨　\",\"\")&IF(申込みフォーム!AT22<>\"\",\"骨＋ﾛｺﾓ\",\"\")","v":""},{"$f":"IF(申込みフォーム!AU22<>\"\",申込みフォーム!AU22&\"　　\",\"\")&IF(申込みフォーム!AV22<>\"\",申込みフォーム!AV22&\"　　\",\"\")&IF(申込みフォーム!AW22<>\"\",申込みフォーム!AW22&\"　　\",\"\")&IF(申込みフォーム!$AX22=\"〇\",\"4月　\",\"\")&IF(申込みフォーム!$AY22=\"〇\",\"5月　\",\"\")&IF(申込みフォーム!$AZ22=\"〇\",\"6月　\",\"\")&IF(申込みフォーム!$BA22=\"〇\",\"7月　\",\"\")&IF(申込みフォーム!$BB22=\"〇\",\"8月　\",\"\")&IF(申込みフォーム!$BC22=\"〇\",\"9月　\",\"\")&IF(申込みフォーム!$BD22=\"〇\",\"10月　\",\"\")&IF(申込みフォーム!$BE22=\"〇\",\"11月　\",\"\")&IF(申込みフォーム!$BF22=\"〇\",\"12月　\",\"\")&IF(申込みフォーム!$BG22=\"〇\",\"1月　\",\"\")&IF(申込みフォーム!$BH22=\"〇\",\"2月　\",\"\")&IF(申込みフォーム!$BI22=\"〇\",\"3月　\",\"\")","v":""},{"$f":"IF(申込みフォーム!BJ22<>\"\",申込みフォーム!BJ22,\"\")","v":""},{"$f":"IF(申込みフォーム!BK22<>\"\",申込みフォーム!BK22,\"\")","v":""},{"$f":"申込みフォーム!$Z22","v":""},{"$f":"IF(申込みフォーム!BL22<>\"\",申込みフォーム!BL22&\"　　\",\"\")&IF(申込みフォーム!BM22<>\"\",申込みフォーム!BM22&\"　　\",\"\")&IF(申込みフォーム!BN22<>\"\",申込みフォーム!BN22&\"　　\",\"\")","v":{"$error":"#VALUE!"}},{"$f":"IF($B13=VLOOKUP($B13,'受診者リスト(抽出用）'!$A:$F,1,0),VLOOKUP($B13,'受診者リスト(抽出用）'!$A:$F,3,0)&\"　（団体マスタ）\"&VLOOKUP($B13,'受診者リスト(抽出用）'!$A:$F,4,0)&\"　（枝番）\"&VLOOKUP(B13,'受診者リスト(抽出用）'!$A:$F,5,0),\"\")","v":{"$error":"#N/A"}}]
[13,{"$f":"IF(申込みフォーム!B23<>\"\",申込みフォーム!B23&\"　\"&申込みフォーム!C23,\"\")","v":""},{"$f":"IF(申込みフォーム!E23<>\"\",申込みフォーム!E23&\"　\"&申込みフォーム!F23,\"\")","v":""},{"$f":"IF(申込みフォーム!G23<>\"\",申込みフォーム!G23,\"\")","v":""},{"$f":"IF(申込みフォーム!H23<>\"\",申込みフォーム!H23,\"\")","v":""},{"$f":"IF(申込みフォーム!D23<>\"\",申込みフォーム!D23,\"\")","v":""},{"$f":"IF(申込みフォーム!I23<>\"\",REPLACE(申込みフォーム!I23,4,,\"-\"),\"\")","v":""},{"$f":"IF(申込みフォーム!J23<>\"\",申込みフォーム!J23,\"\")","v":""},{"$f":"IF(申込みフォーム!K23<>\"\",申込みフォーム!K23,\"\")","v":""},{"$f":"IF(申込みフォーム!L23<>\"\",MID(申込みフォーム!L23,1,3)&\"-\"&MID(申込みフォーム!L23,4,4)&\"-\"&MID(申込みフォーム!L23,8,4),\"\")","v":""},{"$f":"IF(申込みフォーム!M23<>\"\",申込みフォーム!M23,\"\")","v":""},{"$f":"IF(申込みフォーム!N23<>\"\",申込みフォーム!N23,\"\")","v":""},{"$f":"IF(申込みフォーム!O23<>\"\",申込みフォーム!O23,\"\")","v":""},{"$f":"IF(申込みフォーム!P23<>\"\",申込みフォーム!P23,\"\")","v":""},{"$f":"IF(申込みフォーム!Q23<>\"\",申込みフォーム!Q23,\"\")","v":""},{"$f":"IF(申込みフォーム!R23<>\"\",申込みフォーム!R23,\"\")","v":""},{"$f":"IF(申込みフォーム!S23<>\"\",申込みフォーム!S23,\"\")","v":""},{"$f":"IF(申込みフォーム!U23=\"細胞診のみ\",\"協会子宮　\",IF(申込みフォーム!U23=\"細胞診＋（自費）膣エコー\",\"協会子宮＋自費膣エコー　\",\"\"))&IF(申込みフォーム!W23<>\"\",\"協会ﾏﾝﾓ　\",\"\")&IF(申込みフォーム!Y23<>\"\",\"協会骨　\",\"\")&IF(申込みフォーム!AA23<>\"\",\"協会肝炎　\",\"\")","v":""},{"$f":"IF(申込みフォーム!AB23<>\"\",\"子宮　\",\"\")&IF(申込みフォーム!AC23<>\"\",\"ﾏﾝﾓ　\",\"\")&IF(申込みフォーム!AD23<>\"\",\"乳ｴｺｰ\",\"\")","v":""},{"$f":"IF(申込みフォーム!AE23<>\"\",\"ﾏｰｶｰ　\",\"\")&IF(申込みフォーム!AF23<>\"\",\"心機能　\",\"\")&IF(申込みフォーム!AG23<>\"\",\"ABC　\",\"\")&IF(申込みフォーム!AH23<>\"\",\"Lox　\",\"\")&IF(申込みフォーム!AI23<>\"\",\"甲状腺　\",\"\")&IF(申込みフォーム!AJ23<>\"\",\"肝炎\",\"\")","v":""},{"$f":"IF(申込みフォーム!AK23<>\"\",\"脳　\",\"\")&IF(申込みフォーム!AL23<>\"\",\"胸部CT　\",\"\")&IF(申込みフォーム!AM23<>\"\",\"肺機能　\",\"\")&IF(申込みフォーム!AN23<>\"\",\"腹ｴｺｰ　\",\"\")&IF(申込みフォーム!AO23<>\"\",\"心ｴｺｰ　\",\"\")&IF(申込みフォーム!AP23<>\"\",\"ﾌﾛｰﾗ　\",\"\")&IF(申込みフォーム!AQ23<>\"\",\"OCT　\",\"\")&IF(申込みフォーム!AR23<>\"\",\"検便　\",\"\")&IF(申込みフォーム!AS23<>\"\",\"骨　\",\"\")&IF(申込みフォーム!AT23<>\"\",\"骨＋ﾛｺﾓ\",\"\")","v":""},{"$f":"IF(申込みフォーム!AU23<>\"\",申込みフォーム!AU23&\"　　\",\"\")&IF(申込みフォーム!AV23<>\"\",申込みフォーム!AV23&\"　　\",\"\")&IF(申込みフォーム!AW23<>\"\",申込みフォーム!AW23&\"　　\",\"\")&IF(申込みフォーム!$AX23=\"〇\",\"4月　\",\"\")&IF(申込みフォーム!$AY23=\"〇\",\"5月　\",\"\")&IF(申込みフォーム!$AZ23=\"〇\",\"6月　\",\"\")&IF(申込みフォーム!$BA23=\"〇\",\"7月　\",\"\")&IF(申込みフォーム!$BB23=\"〇\",\"8月　\",\"\")&IF(申込みフォーム!$BC23=\"〇\",\"9月　\",\"\")&IF(申込みフォーム!$BD23=\"〇\",\"10月　\",\"\")&IF(申込みフォーム!$BE23=\"〇\",\"11月　\",\"\")&IF(申込みフォーム!$BF23=\"〇\",\"12月　\",\"\")&IF(申込みフォーム!$BG23=\"〇\",\"1月　\",\"\")&IF(申込みフォーム!$BH23=\"〇\",\"2月　\",\"\")&IF(申込みフォーム!$BI23=\"〇\",\"3月　\",\"\")","v":""},{"$f":"IF(申込みフォーム!BJ23<>\"\",申込みフォーム!BJ23,\"\")","v":""},{"$f":"IF(申込みフォーム!BK23<>\"\",申込みフォーム!BK23,\"\")","v":""},{"$f":"申込みフォーム!$Z23","v":""},{"$f":"IF(申込みフォーム!BL23<>\"\",申込みフォーム!BL23&\"　　\",\"\")&IF(申込みフォーム!BM23<>\"\",申込みフォーム!BM23&\"　　\",\"\")&IF(申込みフォーム!BN23<>\"\",申込みフォーム!BN23&\"　　\",\"\")","v":{"$error":"#VALUE!"}},{"$f":"IF($B14=VLOOKUP($B14,'受診者リスト(抽出用）'!$A:$F,1,0),VLOOKUP($B14,'受診者リスト(抽出用）'!$A:$F,3,0)&\"　（団体マスタ）\"&VLOOKUP($B14,'受診者リスト(抽出用）'!$A:$F,4,0)&\"　（枝番）\"&VLOOKUP(B14,'受診者リスト(抽出用）'!$A:$F,5,0),\"\")","v":{"$error":"#N/A"}}]
[14,{"$f":"IF(申込みフォーム!B24<>\"\",申込みフォーム!B24&\"　\"&申込みフォーム!C24,\"\")","v":""},{"$f":"IF(申込みフォーム!E24<>\"\",申込みフォーム!E24&\"　\"&申込みフォーム!F24,\"\")","v":""},{"$f":"IF(申込みフォーム!G24<>\"\",申込みフォーム!G24,\"\")","v":""},{"$f":"IF(申込みフォーム!H24<>\"\",申込みフォーム!H24,\"\")","v":""},{"$f":"IF(申込みフォーム!D24<>\"\",申込みフォーム!D24,\"\")","v":""},{"$f":"IF(申込みフォーム!I24<>\"\",REPLACE(申込みフォーム!I24,4,,\"-\"),\"\")","v":""},{"$f":"IF(申込みフォーム!J24<>\"\",申込みフォーム!J24,\"\")","v":""},{"$f":"IF(申込みフォーム!K24<>\"\",申込みフォーム!K24,\"\")","v":""},{"$f":"IF(申込みフォーム!L24<>\"\",MID(申込みフォーム!L24,1,3)&\"-\"&MID(申込みフォーム!L24,4,4)&\"-\"&MID(申込みフォーム!L24,8,4),\"\")","v":""},{"$f":"IF(申込みフォーム!M24<>\"\",申込みフォーム!M24,\"\")","v":""},{"$f":"IF(申込みフォーム!N24<>\"\",申込みフォーム!N24,\"\")","v":""},{"$f":"IF(申込みフォーム!O24<>\"\",申込みフォーム!O24,\"\")","v":""},{"$f":"IF(申込みフォーム!P24<>\"\",申込みフォーム!P24,\"\")","v":""},{"$f":"IF(申込みフォーム!Q24<>\"\",申込みフォーム!Q24,\"\")","v":""},{"$f":"IF(申込みフォーム!R24<>\"\",申込みフォーム!R24,\"\")","v":""},{"$f":"IF(申込みフォーム!S24<>\"\",申込みフォーム!S24,\"\")","v":""},{"$f":"IF(申込みフォーム!U24=\"細胞診のみ\",\"協会子宮　\",IF(申込みフォーム!U24=\"細胞診＋（自費）膣エコー\",\"協会子宮＋自費膣エコー　\",\"\"))&IF(申込みフォーム!W24<>\"\",\"協会ﾏﾝﾓ　\",\"\")&IF(申込みフォーム!Y24<>\"\",\"協会骨　\",\"\")&IF(申込みフォーム!AA24<>\"\",\"協会肝炎　\",\"\")","v":""},{"$f":"IF(申込みフォーム!AB24<>\"\",\"子宮　\",\"\")&IF(申込みフォーム!AC24<>\"\",\"ﾏﾝﾓ　\",\"\")&IF(申込みフォーム!AD24<>\"\",\"乳ｴｺｰ\",\"\")","v":""},{"$f":"IF(申込みフォーム!AE24<>\"\",\"ﾏｰｶｰ　\",\"\")&IF(申込みフォーム!AF24<>\"\",\"心機能　\",\"\")&IF(申込みフォーム!AG24<>\"\",\"ABC　\",\"\")&IF(申込みフォーム!AH24<>\"\",\"Lox　\",\"\")&IF(申込みフォーム!AI24<>\"\",\"甲状腺　\",\"\")&IF(申込みフォーム!AJ24<>\"\",\"肝炎\",\"\")","v":""},{"$f":"IF(申込みフォーム!AK24<>\"\",\"脳　\",\"\")&IF(申込みフォーム!AL24<>\"\",\"胸部CT　\",\"\")&IF(申込みフォーム!AM24<>\"\",\"肺機能　\",\"\")&IF(申込みフォーム!AN24<>\"\",\"腹ｴｺｰ　\",\"\")&IF(申込みフォーム!AO24<>\"\",\"心ｴｺｰ　\",\"\")&IF(申込みフォーム!AP24<>\"\",\"ﾌﾛｰﾗ　\",\"\")&IF(申込みフォーム!AQ24<>\"\",\"OCT　\",\"\")&IF(申込みフォーム!AR24<>\"\",\"検便　\",\"\")&IF(申込みフォーム!AS24<>\"\",\"骨　\",\"\")&IF(申込みフォーム!AT24<>\"\",\"骨＋ﾛｺﾓ\",\"\")","v":""},{"$f":"IF(申込みフォーム!AU24<>\"\",申込みフォーム!AU24&\"　　\",\"\")&IF(申込みフォーム!AV24<>\"\",申込みフォーム!AV24&\"　　\",\"\")&IF(申込みフォーム!AW24<>\"\",申込みフォーム!AW24&\"　　\",\"\")&IF(申込みフォーム!$AX24=\"〇\",\"4月　\",\"\")&IF(申込みフォーム!$AY24=\"〇\",\"5月　\",\"\")&IF(申込みフォーム!$AZ24=\"〇\",\"6月　\",\"\")&IF(申込みフォーム!$BA24=\"〇\",\"7月　\",\"\")&IF(申込みフォーム!$BB24=\"〇\",\"8月　\",\"\")&IF(申込みフォーム!$BC24=\"〇\",\"9月　\",\"\")&IF(申込みフォーム!$BD24=\"〇\",\"10月　\",\"\")&IF(申込みフォーム!$BE24=\"〇\",\"11月　\",\"\")&IF(申込みフォーム!$BF24=\"〇\",\"12月　\",\"\")&IF(申込みフォーム!$BG24=\"〇\",\"1月　\",\"\")&IF(申込みフォーム!$BH24=\"〇\",\"2月　\",\"\")&IF(申込みフォーム!$BI24=\"〇\",\"3月　\",\"\")","v":""},{"$f":"IF(申込みフォーム!BJ24<>\"\",申込みフォーム!BJ24,\"\")","v":""},{"$f":"IF(申込みフォーム!BK24<>\"\",申込みフォーム!BK24,\"\")","v":""},{"$f":"申込みフォーム!$Z24","v":""},{"$f":"IF(申込みフォーム!BL24<>\"\",申込みフォーム!BL24&\"　　\",\"\")&IF(申込みフォーム!BM24<>\"\",申込みフォーム!BM24&\"　　\",\"\")&IF(申込みフォーム!BN24<>\"\",申込みフォーム!BN24&\"　　\",\"\")","v":{"$error":"#VALUE!"}},{"$f":"IF($B15=VLOOKUP($B15,'受診者リスト(抽出用）'!$A:$F,1,0),VLOOKUP($B15,'受診者リスト(抽出用）'!$A:$F,3,0)&\"　（団体マスタ）\"&VLOOKUP($B15,'受診者リスト(抽出用）'!$A:$F,4,0)&\"　（枝番）\"&VLOOKUP(B15,'受診者リスト(抽出用）'!$A:$F,5,0),\"\")","v":{"$error":"#N/A"}}]
[15,{"$f":"IF(申込みフォーム!B25<>\"\",申込みフォーム!B25&\"　\"&申込みフォーム!C25,\"\")","v":""},{"$f":"IF(申込みフォーム!E25<>\"\",申込みフォーム!E25&\"　\"&申込みフォーム!F25,\"\")","v":""},{"$f":"IF(申込みフォーム!G25<>\"\",申込みフォーム!G25,\"\")","v":""},{"$f":"IF(申込みフォーム!H25<>\"\",申込みフォーム!H25,\"\")","v":""},{"$f":"IF(申込みフォーム!D25<>\"\",申込みフォーム!D25,\"\")","v":""},{"$f":"IF(申込みフォーム!I25<>\"\",REPLACE(申込みフォーム!I25,4,,\"-\"),\"\")","v":""},{"$f":"IF(申込みフォーム!J25<>\"\",申込みフォーム!J25,\"\")","v":""},{"$f":"IF(申込みフォーム!K25<>\"\",申込みフォーム!K25,\"\")","v":""},{"$f":"IF(申込みフォーム!L25<>\"\",MID(申込みフォーム!L25,1,3)&\"-\"&MID(申込みフォーム!L25,4,4)&\"-\"&MID(申込みフォーム!L25,8,4),\"\")","v":""},{"$f":"IF(申込みフォーム!M25<>\"\",申込みフォーム!M25,\"\")","v":""},{"$f":"IF(申込みフォーム!N25<>\"\",申込みフォーム!N25,\"\")","v":""},{"$f":"IF(申込みフォーム!O25<>\"\",申込みフォーム!O25,\"\")","v":""},{"$f":"IF(申込みフォーム!P25<>\"\",申込みフォーム!P25,\"\")","v":""},{"$f":"IF(申込みフォーム!Q25<>\"\",申込みフォーム!Q25,\"\")","v":""},{"$f":"IF(申込みフォーム!R25<>\"\",申込みフォーム!R25,\"\")","v":""},{"$f":"IF(申込みフォーム!S25<>\"\",申込みフォーム!S25,\"\")","v":""},{"$f":"IF(申込みフォーム!U25=\"細胞診のみ\",\"協会子宮　\",IF(申込みフォーム!U25=\"細胞診＋（自費）膣エコー\",\"協会子宮＋自費膣エコー　\",\"\"))&IF(申込みフォーム!W25<>\"\",\"協会ﾏﾝﾓ　\",\"\")&IF(申込みフォーム!Y25<>\"\",\"協会骨　\",\"\")&IF(申込みフォーム!AA25<>\"\",\"協会肝炎　\",\"\")","v":""},{"$f":"IF(申込みフォーム!AB25<>\"\",\"子宮　\",\"\")&IF(申込みフォーム!AC25<>\"\",\"ﾏﾝﾓ　\",\"\")&IF(申込みフォーム!AD25<>\"\",\"乳ｴｺｰ\",\"\")","v":""},{"$f":"IF(申込みフォーム!AE25<>\"\",\"ﾏｰｶｰ　\",\"\")&IF(申込みフォーム!AF25<>\"\",\"心機能　\",\"\")&IF(申込みフォーム!AG25<>\"\",\"ABC　\",\"\")&IF(申込みフォーム!AH25<>\"\",\"Lox　\",\"\")&IF(申込みフォーム!AI25<>\"\",\"甲状腺　\",\"\")&IF(申込みフォーム!AJ25<>\"\",\"肝炎\",\"\")","v":""},{"$f":"IF(申込みフォーム!AK25<>\"\",\"脳　\",\"\")&IF(申込みフォーム!AL25<>\"\",\"胸部CT　\",\"\")&IF(申込みフォーム!AM25<>\"\",\"肺機能　\",\"\")&IF(申込みフォーム!AN25<>\"\",\"腹ｴｺｰ　\",\"\")&IF(申込みフォーム!AO25<>\"\",\"心ｴｺｰ　\",\"\")&IF(申込みフォーム!AP25<>\"\",\"ﾌﾛｰﾗ　\",\"\")&IF(申込みフォーム!AQ25<>\"\",\"OCT　\",\"\")&IF(申込みフォーム!AR25<>\"\",\"検便　\",\"\")&IF(申込みフォーム!AS25<>\"\",\"骨　\",\"\")&IF(申込みフォーム!AT25<>\"\",\"骨＋ﾛｺﾓ\",\"\")","v":""},{"$f":"IF(申込みフォーム!AU25<>\"\",申込みフォーム!AU25&\"　　\",\"\")&IF(申込みフォーム!AV25<>\"\",申込みフォーム!AV25&\"　　\",\"\")&IF(申込みフォーム!AW25<>\"\",申込みフォーム!AW25&\"　　\",\"\")&IF(申込みフォーム!$AX25=\"〇\",\"4月　\",\"\")&IF(申込みフォーム!$AY25=\"〇\",\"5月　\",\"\")&IF(申込みフォーム!$AZ25=\"〇\",\"6月　\",\"\")&IF(申込みフォーム!$BA25=\"〇\",\"7月　\",\"\")&IF(申込みフォーム!$BB25=\"〇\",\"8月　\",\"\")&IF(申込みフォーム!$BC25=\"〇\",\"9月　\",\"\")&IF(申込みフォーム!$BD25=\"〇\",\"10月　\",\"\")&IF(申込みフォーム!$BE25=\"〇\",\"11月　\",\"\")&IF(申込みフォーム!$BF25=\"〇\",\"12月　\",\"\")&IF(申込みフォーム!$BG25=\"〇\",\"1月　\",\"\")&IF(申込みフォーム!$BH25=\"〇\",\"2月　\",\"\")&IF(申込みフォーム!$BI25=\"〇\",\"3月　\",\"\")","v":""},{"$f":"IF(申込みフォーム!BJ25<>\"\",申込みフォーム!BJ25,\"\")","v":""},{"$f":"IF(申込みフォーム!BK25<>\"\",申込みフォーム!BK25,\"\")","v":""},{"$f":"申込みフォーム!$Z25","v":""},{"$f":"IF(申込みフォーム!BL25<>\"\",申込みフォーム!BL25&\"　　\",\"\")&IF(申込みフォーム!BM25<>\"\",申込みフォーム!BM25&\"　　\",\"\")&IF(申込みフォーム!BN25<>\"\",申込みフォーム!BN25&\"　　\",\"\")","v":{"$error":"#VALUE!"}},{"$f":"IF($B16=VLOOKUP($B16,'受診者リスト(抽出用）'!$A:$F,1,0),VLOOKUP($B16,'受診者リスト(抽出用）'!$A:$F,3,0)&\"　（団体マスタ）\"&VLOOKUP($B16,'受診者リスト(抽出用）'!$A:$F,4,0)&\"　（枝番）\"&VLOOKUP(B16,'受診者リスト(抽出用）'!$A:$F,5,0),\"\")","v":{"$error":"#N/A"}}]
[16,{"$f":"IF(申込みフォーム!B26<>\"\",申込みフォーム!B26&\"　\"&申込みフォーム!C26,\"\")","v":""},{"$f":"IF(申込みフォーム!E26<>\"\",申込みフォーム!E26&\"　\"&申込みフォーム!F26,\"\")","v":""},{"$f":"IF(申込みフォーム!G26<>\"\",申込みフォーム!G26,\"\")","v":""},{"$f":"IF(申込みフォーム!H26<>\"\",申込みフォーム!H26,\"\")","v":""},{"$f":"IF(申込みフォーム!D26<>\"\",申込みフォーム!D26,\"\")","v":""},{"$f":"IF(申込みフォーム!I26<>\"\",REPLACE(申込みフォーム!I26,4,,\"-\"),\"\")","v":""},{"$f":"IF(申込みフォーム!J26<>\"\",申込みフォーム!J26,\"\")","v":""},{"$f":"IF(申込みフォーム!K26<>\"\",申込みフォーム!K26,\"\")","v":""},{"$f":"IF(申込みフォーム!L26<>\"\",MID(申込みフォーム!L26,1,3)&\"-\"&MID(申込みフォーム!L26,4,4)&\"-\"&MID(申込みフォーム!L26,8,4),\"\")","v":""},{"$f":"IF(申込みフォーム!M26<>\"\",申込みフォーム!M26,\"\")","v":""},{"$f":"IF(申込みフォーム!N26<>\"\",申込みフォーム!N26,\"\")","v":""},{"$f":"IF(申込みフォーム!O26<>\"\",申込みフォーム!O26,\"\")","v":""},{"$f":"IF(申込みフォーム!P26<>\"\",申込みフォーム!P26,\"\")","v":""},{"$f":"IF(申込みフォーム!Q26<>\"\",申込みフォーム!Q26,\"\")","v":""},{"$f":"IF(申込みフォーム!R26<>\"\",申込みフォーム!R26,\"\")","v":""},{"$f":"IF(申込みフォーム!S26<>\"\",申込みフォーム!S26,\"\")","v":""},{"$f":"IF(申込みフォーム!U26=\"細胞診のみ\",\"協会子宮　\",IF(申込みフォーム!U26=\"細胞診＋（自費）膣エコー\",\"協会子宮＋自費膣エコー　\",\"\"))&IF(申込みフォーム!W26<>\"\",\"協会ﾏﾝﾓ　\",\"\")&IF(申込みフォーム!Y26<>\"\",\"協会骨　\",\"\")&IF(申込みフォーム!AA26<>\"\",\"協会肝炎　\",\"\")","v":""},{"$f":"IF(申込みフォーム!AB26<>\"\",\"子宮　\",\"\")&IF(申込みフォーム!AC26<>\"\",\"ﾏﾝﾓ　\",\"\")&IF(申込みフォーム!AD26<>\"\",\"乳ｴｺｰ\",\"\")","v":""},{"$f":"IF(申込みフォーム!AE26<>\"\",\"ﾏｰｶｰ　\",\"\")&IF(申込みフォーム!AF26<>\"\",\"心機能　\",\"\")&IF(申込みフォーム!AG26<>\"\",\"ABC　\",\"\")&IF(申込みフォーム!AH26<>\"\",\"Lox　\",\"\")&IF(申込みフォーム!AI26<>\"\",\"甲状腺　\",\"\")&IF(申込みフォーム!AJ26<>\"\",\"肝炎\",\"\")","v":""},{"$f":"IF(申込みフォーム!AK26<>\"\",\"脳　\",\"\")&IF(申込みフォーム!AL26<>\"\",\"胸部CT　\",\"\")&IF(申込みフォーム!AM26<>\"\",\"肺機能　\",\"\")&IF(申込みフォーム!AN26<>\"\",\"腹ｴｺｰ　\",\"\")&IF(申込みフォーム!AO26<>\"\",\"心ｴｺｰ　\",\"\")&IF(申込みフォーム!AP26<>\"\",\"ﾌﾛｰﾗ　\",\"\")&IF(申込みフォーム!AQ26<>\"\",\"OCT　\",\"\")&IF(申込みフォーム!AR26<>\"\",\"検便　\",\"\")&IF(申込みフォーム!AS26<>\"\",\"骨　\",\"\")&IF(申込みフォーム!AT26<>\"\",\"骨＋ﾛｺﾓ\",\"\")","v":""},{"$f":"IF(申込みフォーム!AU26<>\"\",申込みフォーム!AU26&\"　　\",\"\")&IF(申込みフォーム!AV26<>\"\",申込みフォーム!AV26&\"　　\",\"\")&IF(申込みフォーム!AW26<>\"\",申込みフォーム!AW26&\"　　\",\"\")&IF(申込みフォーム!$AX26=\"〇\",\"4月　\",\"\")&IF(申込みフォーム!$AY26=\"〇\",\"5月　\",\"\")&IF(申込みフォーム!$AZ26=\"〇\",\"6月　\",\"\")&IF(申込みフォーム!$BA26=\"〇\",\"7月　\",\"\")&IF(申込みフォーム!$BB26=\"〇\",\"8月　\",\"\")&IF(申込みフォーム!$BC26=\"〇\",\"9月　\",\"\")&IF(申込みフォーム!$BD26=\"〇\",\"10月　\",\"\")&IF(申込みフォーム!$BE26=\"〇\",\"11月　\",\"\")&IF(申込みフォーム!$BF26=\"〇\",\"12月　\",\"\")&IF(申込みフォーム!$BG26=\"〇\",\"1月　\",\"\")&IF(申込みフォーム!$BH26=\"〇\",\"2月　\",\"\")&IF(申込みフォーム!$BI26=\"〇\",\"3月　\",\"\")","v":""},{"$f":"IF(申込みフォーム!BJ26<>\"\",申込みフォーム!BJ26,\"\")","v":""},{"$f":"IF(申込みフォーム!BK26<>\"\",申込みフォーム!BK26,\"\")","v":""},{"$f":"申込みフォーム!$Z26","v":""},{"$f":"IF(申込みフォーム!BL26<>\"\",申込みフォーム!BL26&\"　　\",\"\")&IF(申込みフォーム!BM26<>\"\",申込みフォーム!BM26&\"　　\",\"\")&IF(申込みフォーム!BN26<>\"\",申込みフォーム!BN26&\"　　\",\"\")","v":{"$error":"#VALUE!"}},{"$f":"IF($B17=VLOOKUP($B17,'受診者リスト(抽出用）'!$A:$F,1,0),VLOOKUP($B17,'受診者リスト(抽出用）'!$A:$F,3,0)&\"　（団体マスタ）\"&VLOOKUP($B17,'受診者リスト(抽出用）'!$A:$F,4,0)&\"　（枝番）\"&VLOOKUP(B17,'受診者リスト(抽出用）'!$A:$F,5,0),\"\")","v":{"$error":"#N/A"}}]
[17,{"$f":"IF(申込みフォーム!B27<>\"\",申込みフォーム!B27&\"　\"&申込みフォーム!C27,\"\")","v":""},{"$f":"IF(申込みフォーム!E27<>\"\",申込みフォーム!E27&\"　\"&申込みフォーム!F27,\"\")","v":""},{"$f":"IF(申込みフォーム!G27<>\"\",申込みフォーム!G27,\"\")","v":""},{"$f":"IF(申込みフォーム!H27<>\"\",申込みフォーム!H27,\"\")","v":""},{"$f":"IF(申込みフォーム!D27<>\"\",申込みフォーム!D27,\"\")","v":""},{"$f":"IF(申込みフォーム!I27<>\"\",REPLACE(申込みフォーム!I27,4,,\"-\"),\"\")","v":""},{"$f":"IF(申込みフォーム!J27<>\"\",申込みフォーム!J27,\"\")","v":""},{"$f":"IF(申込みフォーム!K27<>\"\",申込みフォーム!K27,\"\")","v":""},{"$f":"IF(申込みフォーム!L27<>\"\",MID(申込みフォーム!L27,1,3)&\"-\"&MID(申込みフォーム!L27,4,4)&\"-\"&MID(申込みフォーム!L27,8,4),\"\")","v":""},{"$f":"IF(申込みフォーム!M27<>\"\",申込みフォーム!M27,\"\")","v":""},{"$f":"IF(申込みフォーム!N27<>\"\",申込みフォーム!N27,\"\")","v":""},{"$f":"IF(申込みフォーム!O27<>\"\",申込みフォーム!O27,\"\")","v":""},{"$f":"IF(申込みフォーム!P27<>\"\",申込みフォーム!P27,\"\")","v":""},{"$f":"IF(申込みフォーム!Q27<>\"\",申込みフォーム!Q27,\"\")","v":""},{"$f":"IF(申込みフォーム!R27<>\"\",申込みフォーム!R27,\"\")","v":""},{"$f":"IF(申込みフォーム!S27<>\"\",申込みフォーム!S27,\"\")","v":""},{"$f":"IF(申込みフォーム!U27=\"細胞診のみ\",\"協会子宮　\",IF(申込みフォーム!U27=\"細胞診＋（自費）膣エコー\",\"協会子宮＋自費膣エコー　\",\"\"))&IF(申込みフォーム!W27<>\"\",\"協会ﾏﾝﾓ　\",\"\")&IF(申込みフォーム!Y27<>\"\",\"協会骨　\",\"\")&IF(申込みフォーム!AA27<>\"\",\"協会肝炎　\",\"\")","v":""},{"$f":"IF(申込みフォーム!AB27<>\"\",\"子宮　\",\"\")&IF(申込みフォーム!AC27<>\"\",\"ﾏﾝﾓ　\",\"\")&IF(申込みフォーム!AD27<>\"\",\"乳ｴｺｰ\",\"\")","v":""},{"$f":"IF(申込みフォーム!AE27<>\"\",\"ﾏｰｶｰ　\",\"\")&IF(申込みフォーム!AF27<>\"\",\"心機能　\",\"\")&IF(申込みフォーム!AG27<>\"\",\"ABC　\",\"\")&IF(申込みフォーム!AH27<>\"\",\"Lox　\",\"\")&IF(申込みフォーム!AI27<>\"\",\"甲状腺　\",\"\")&IF(申込みフォーム!AJ27<>\"\",\"肝炎\",\"\")","v":""},{"$f":"IF(申込みフォーム!AK27<>\"\",\"脳　\",\"\")&IF(申込みフォーム!AL27<>\"\",\"胸部CT　\",\"\")&IF(申込みフォーム!AM27<>\"\",\"肺機能　\",\"\")&IF(申込みフォーム!AN27<>\"\",\"腹ｴｺｰ　\",\"\")&IF(申込みフォーム!AO27<>\"\",\"心ｴｺｰ　\",\"\")&IF(申込みフォーム!AP27<>\"\",\"ﾌﾛｰﾗ　\",\"\")&IF(申込みフォーム!AQ27<>\"\",\"OCT　\",\"\")&IF(申込みフォーム!AR27<>\"\",\"検便　\",\"\")&IF(申込みフォーム!AS27<>\"\",\"骨　\",\"\")&IF(申込みフォーム!AT27<>\"\",\"骨＋ﾛｺﾓ\",\"\")","v":""},{"$f":"IF(申込みフォーム!AU27<>\"\",申込みフォーム!AU27&\"　　\",\"\")&IF(申込みフォーム!AV27<>\"\",申込みフォーム!AV27&\"　　\",\"\")&IF(申込みフォーム!AW27<>\"\",申込みフォーム!AW27&\"　　\",\"\")&IF(申込みフォーム!$AX27=\"〇\",\"4月　\",\"\")&IF(申込みフォーム!$AY27=\"〇\",\"5月　\",\"\")&IF(申込みフォーム!$AZ27=\"〇\",\"6月　\",\"\")&IF(申込みフォーム!$BA27=\"〇\",\"7月　\",\"\")&IF(申込みフォーム!$BB27=\"〇\",\"8月　\",\"\")&IF(申込みフォーム!$BC27=\"〇\",\"9月　\",\"\")&IF(申込みフォーム!$BD27=\"〇\",\"10月　\",\"\")&IF(申込みフォーム!$BE27=\"〇\",\"11月　\",\"\")&IF(申込みフォーム!$BF27=\"〇\",\"12月　\",\"\")&IF(申込みフォーム!$BG27=\"〇\",\"1月　\",\"\")&IF(申込みフォーム!$BH27=\"〇\",\"2月　\",\"\")&IF(申込みフォーム!$BI27=\"〇\",\"3月　\",\"\")","v":""},{"$f":"IF(申込みフォーム!BJ27<>\"\",申込みフォーム!BJ27,\"\")","v":""},{"$f":"IF(申込みフォーム!BK27<>\"\",申込みフォーム!BK27,\"\")","v":""},{"$f":"申込みフォーム!$Z27","v":""},{"$f":"IF(申込みフォーム!BL27<>\"\",申込みフォーム!BL27&\"　　\",\"\")&IF(申込みフォーム!BM27<>\"\",申込みフォーム!BM27&\"　　\",\"\")&IF(申込みフォーム!BN27<>\"\",申込みフォーム!BN27&\"　　\",\"\")","v":{"$error":"#VALUE!"}},{"$f":"IF($B18=VLOOKUP($B18,'受診者リスト(抽出用）'!$A:$F,1,0),VLOOKUP($B18,'受診者リスト(抽出用）'!$A:$F,3,0)&\"　（団体マスタ）\"&VLOOKUP($B18,'受診者リスト(抽出用）'!$A:$F,4,0)&\"　（枝番）\"&VLOOKUP(B18,'受診者リスト(抽出用）'!$A:$F,5,0),\"\")","v":{"$error":"#N/A"}}]
[18,{"$f":"IF(申込みフォーム!B28<>\"\",申込みフォーム!B28&\"　\"&申込みフォーム!C28,\"\")","v":""},{"$f":"IF(申込みフォーム!E28<>\"\",申込みフォーム!E28&\"　\"&申込みフォーム!F28,\"\")","v":""},{"$f":"IF(申込みフォーム!G28<>\"\",申込みフォーム!G28,\"\")","v":""},{"$f":"IF(申込みフォーム!H28<>\"\",申込みフォーム!H28,\"\")","v":""},{"$f":"IF(申込みフォーム!D28<>\"\",申込みフォーム!D28,\"\")","v":""},{"$f":"IF(申込みフォーム!I28<>\"\",REPLACE(申込みフォーム!I28,4,,\"-\"),\"\")","v":""},{"$f":"IF(申込みフォーム!J28<>\"\",申込みフォーム!J28,\"\")","v":""},{"$f":"IF(申込みフォーム!K28<>\"\",申込みフォーム!K28,\"\")","v":""},{"$f":"IF(申込みフォーム!L28<>\"\",MID(申込みフォーム!L28,1,3)&\"-\"&MID(申込みフォーム!L28,4,4)&\"-\"&MID(申込みフォーム!L28,8,4),\"\")","v":""},{"$f":"IF(申込みフォーム!M28<>\"\",申込みフォーム!M28,\"\")","v":""},{"$f":"IF(申込みフォーム!N28<>\"\",申込みフォーム!N28,\"\")","v":""},{"$f":"IF(申込みフォーム!O28<>\"\",申込みフォーム!O28,\"\")","v":""},{"$f":"IF(申込みフォーム!P28<>\"\",申込みフォーム!P28,\"\")","v":""},{"$f":"IF(申込みフォーム!Q28<>\"\",申込みフォーム!Q28,\"\")","v":""},{"$f":"IF(申込みフォーム!R28<>\"\",申込みフォーム!R28,\"\")","v":""},{"$f":"IF(申込みフォーム!S28<>\"\",申込みフォーム!S28,\"\")","v":""},{"$f":"IF(申込みフォーム!U28=\"細胞診のみ\",\"協会子宮　\",IF(申込みフォーム!U28=\"細胞診＋（自費）膣エコー\",\"協会子宮＋自費膣エコー　\",\"\"))&IF(申込みフォーム!W28<>\"\",\"協会ﾏﾝﾓ　\",\"\")&IF(申込みフォーム!Y28<>\"\",\"協会骨　\",\"\")&IF(申込みフォーム!AA28<>\"\",\"協会肝炎　\",\"\")","v":""},{"$f":"IF(申込みフォーム!AB28<>\"\",\"子宮　\",\"\")&IF(申込みフォーム!AC28<>\"\",\"ﾏﾝﾓ　\",\"\")&IF(申込みフォーム!AD28<>\"\",\"乳ｴｺｰ\",\"\")","v":""},{"$f":"IF(申込みフォーム!AE28<>\"\",\"ﾏｰｶｰ　\",\"\")&IF(申込みフォーム!AF28<>\"\",\"心機能　\",\"\")&IF(申込みフォーム!AG28<>\"\",\"ABC　\",\"\")&IF(申込みフォーム!AH28<>\"\",\"Lox　\",\"\")&IF(申込みフォーム!AI28<>\"\",\"甲状腺　\",\"\")&IF(申込みフォーム!AJ28<>\"\",\"肝炎\",\"\")","v":""},{"$f":"IF(申込みフォーム!AK28<>\"\",\"脳　\",\"\")&IF(申込みフォーム!AL28<>\"\",\"胸部CT　\",\"\")&IF(申込みフォーム!AM28<>\"\",\"肺機能　\",\"\")&IF(申込みフォーム!AN28<>\"\",\"腹ｴｺｰ　\",\"\")&IF(申込みフォーム!AO28<>\"\",\"心ｴｺｰ　\",\"\")&IF(申込みフォーム!AP28<>\"\",\"ﾌﾛｰﾗ　\",\"\")&IF(申込みフォーム!AQ28<>\"\",\"OCT　\",\"\")&IF(申込みフォーム!AR28<>\"\",\"検便　\",\"\")&IF(申込みフォーム!AS28<>\"\",\"骨　\",\"\")&IF(申込みフォーム!AT28<>\"\",\"骨＋ﾛｺﾓ\",\"\")","v":""},{"$f":"IF(申込みフォーム!AU28<>\"\",申込みフォーム!AU28&\"　　\",\"\")&IF(申込みフォーム!AV28<>\"\",申込みフォーム!AV28&\"　　\",\"\")&IF(申込みフォーム!AW28<>\"\",申込みフォーム!AW28&\"　　\",\"\")&IF(申込みフォーム!$AX28=\"〇\",\"4月　\",\"\")&IF(申込みフォーム!$AY28=\"〇\",\"5月　\",\"\")&IF(申込みフォーム!$AZ28=\"〇\",\"6月　\",\"\")&IF(申込みフォーム!$BA28=\"〇\",\"7月　\",\"\")&IF(申込みフォーム!$BB28=\"〇\",\"8月　\",\"\")&IF(申込みフォーム!$BC28=\"〇\",\"9月　\",\"\")&IF(申込みフォーム!$BD28=\"〇\",\"10月　\",\"\")&IF(申込みフォーム!$BE28=\"〇\",\"11月　\",\"\")&IF(申込みフォーム!$BF28=\"〇\",\"12月　\",\"\")&IF(申込みフォーム!$BG28=\"〇\",\"1月　\",\"\")&IF(申込みフォーム!$BH28=\"〇\",\"2月　\",\"\")&IF(申込みフォーム!$BI28=\"〇\",\"3月　\",\"\")","v":""},{"$f":"IF(申込みフォーム!BJ28<>\"\",申込みフォーム!BJ28,\"\")","v":""},{"$f":"IF(申込みフォーム!BK28<>\"\",申込みフォーム!BK28,\"\")","v":""},{"$f":"申込みフォーム!$Z28","v":""},{"$f":"IF(申込みフォーム!BL28<>\"\",申込みフォーム!BL28&\"　　\",\"\")&IF(申込みフォーム!BM28<>\"\",申込みフォーム!BM28&\"　　\",\"\")&IF(申込みフォーム!BN28<>\"\",申込みフォーム!BN28&\"　　\",\"\")","v":{"$error":"#VALUE!"}},{"$f":"IF($B19=VLOOKUP($B19,'受診者リスト(抽出用）'!$A:$F,1,0),VLOOKUP($B19,'受診者リスト(抽出用）'!$A:$F,3,0)&\"　（団体マスタ）\"&VLOOKUP($B19,'受診者リスト(抽出用）'!$A:$F,4,0)&\"　（枝番）\"&VLOOKUP(B19,'受診者リスト(抽出用）'!$A:$F,5,0),\"\")","v":{"$error":"#N/A"}}]
[19,{"$f":"IF(申込みフォーム!B29<>\"\",申込みフォーム!B29&\"　\"&申込みフォーム!C29,\"\")","v":""},{"$f":"IF(申込みフォーム!E29<>\"\",申込みフォーム!E29&\"　\"&申込みフォーム!F29,\"\")","v":""},{"$f":"IF(申込みフォーム!G29<>\"\",申込みフォーム!G29,\"\")","v":""},{"$f":"IF(申込みフォーム!H29<>\"\",申込みフォーム!H29,\"\")","v":""},{"$f":"IF(申込みフォーム!D29<>\"\",申込みフォーム!D29,\"\")","v":""},{"$f":"IF(申込みフォーム!I29<>\"\",REPLACE(申込みフォーム!I29,4,,\"-\"),\"\")","v":""},{"$f":"IF(申込みフォーム!J29<>\"\",申込みフォーム!J29,\"\")","v":""},{"$f":"IF(申込みフォーム!K29<>\"\",申込みフォーム!K29,\"\")","v":""},{"$f":"IF(申込みフォーム!L29<>\"\",MID(申込みフォーム!L29,1,3)&\"-\"&MID(申込みフォーム!L29,4,4)&\"-\"&MID(申込みフォーム!L29,8,4),\"\")","v":""},{"$f":"IF(申込みフォーム!M29<>\"\",申込みフォーム!M29,\"\")","v":""},{"$f":"IF(申込みフォーム!N29<>\"\",申込みフォーム!N29,\"\")","v":""},{"$f":"IF(申込みフォーム!O29<>\"\",申込みフォーム!O29,\"\")","v":""},{"$f":"IF(申込みフォーム!P29<>\"\",申込みフォーム!P29,\"\")","v":""},{"$f":"IF(申込みフォーム!Q29<>\"\",申込みフォーム!Q29,\"\")","v":""},{"$f":"IF(申込みフォーム!R29<>\"\",申込みフォーム!R29,\"\")","v":""},{"$f":"IF(申込みフォーム!S29<>\"\",申込みフォーム!S29,\"\")","v":""},{"$f":"IF(申込みフォーム!U29=\"細胞診のみ\",\"協会子宮　\",IF(申込みフォーム!U29=\"細胞診＋（自費）膣エコー\",\"協会子宮＋自費膣エコー　\",\"\"))&IF(申込みフォーム!W29<>\"\",\"協会ﾏﾝﾓ　\",\"\")&IF(申込みフォーム!Y29<>\"\",\"協会骨　\",\"\")&IF(申込みフォーム!AA29<>\"\",\"協会肝炎　\",\"\")","v":""},{"$f":"IF(申込みフォーム!AB29<>\"\",\"子宮　\",\"\")&IF(申込みフォーム!AC29<>\"\",\"ﾏﾝﾓ　\",\"\")&IF(申込みフォーム!AD29<>\"\",\"乳ｴｺｰ\",\"\")","v":""},{"$f":"IF(申込みフォーム!AE29<>\"\",\"ﾏｰｶｰ　\",\"\")&IF(申込みフォーム!AF29<>\"\",\"心機能　\",\"\")&IF(申込みフォーム!AG29<>\"\",\"ABC　\",\"\")&IF(申込みフォーム!AH29<>\"\",\"Lox　\",\"\")&IF(申込みフォーム!AI29<>\"\",\"甲状腺　\",\"\")&IF(申込みフォーム!AJ29<>\"\",\"肝炎\",\"\")","v":""},{"$f":"IF(申込みフォーム!AK29<>\"\",\"脳　\",\"\")&IF(申込みフォーム!AL29<>\"\",\"胸部CT　\",\"\")&IF(申込みフォーム!AM29<>\"\",\"肺機能　\",\"\")&IF(申込みフォーム!AN29<>\"\",\"腹ｴｺｰ　\",\"\")&IF(申込みフォーム!AO29<>\"\",\"心ｴｺｰ　\",\"\")&IF(申込みフォーム!AP29<>\"\",\"ﾌﾛｰﾗ　\",\"\")&IF(申込みフォーム!AQ29<>\"\",\"OCT　\",\"\")&IF(申込みフォーム!AR29<>\"\",\"検便　\",\"\")&IF(申込みフォーム!AS29<>\"\",\"骨　\",\"\")&IF(申込みフォーム!AT29<>\"\",\"骨＋ﾛｺﾓ\",\"\")","v":""},{"$f":"IF(申込みフォーム!AU29<>\"\",申込みフォーム!AU29&\"　　\",\"\")&IF(申込みフォーム!AV29<>\"\",申込みフォーム!AV29&\"　　\",\"\")&IF(申込みフォーム!AW29<>\"\",申込みフォーム!AW29&\"　　\",\"\")&IF(申込みフォーム!$AX29=\"〇\",\"4月　\",\"\")&IF(申込みフォーム!$AY29=\"〇\",\"5月　\",\"\")&IF(申込みフォーム!$AZ29=\"〇\",\"6月　\",\"\")&IF(申込みフォーム!$BA29=\"〇\",\"7月　\",\"\")&IF(申込みフォーム!$BB29=\"〇\",\"8月　\",\"\")&IF(申込みフォーム!$BC29=\"〇\",\"9月　\",\"\")&IF(申込みフォーム!$BD29=\"〇\",\"10月　\",\"\")&IF(申込みフォーム!$BE29=\"〇\",\"11月　\",\"\")&IF(申込みフォーム!$BF29=\"〇\",\"12月　\",\"\")&IF(申込みフォーム!$BG29=\"〇\",\"1月　\",\"\")&IF(申込みフォーム!$BH29=\"〇\",\"2月　\",\"\")&IF(申込みフォーム!$BI29=\"〇\",\"3月　\",\"\")","v":""},{"$f":"IF(申込みフォーム!BJ29<>\"\",申込みフォーム!BJ29,\"\")","v":""},{"$f":"IF(申込みフォーム!BK29<>\"\",申込みフォーム!BK29,\"\")","v":""},{"$f":"申込みフォーム!$Z29","v":""},{"$f":"IF(申込みフォーム!BL29<>\"\",申込みフォーム!BL29&\"　　\",\"\")&IF(申込みフォーム!BM29<>\"\",申込みフォーム!BM29&\"　　\",\"\")&IF(申込みフォーム!BN29<>\"\",申込みフォーム!BN29&\"　　\",\"\")","v":{"$error":"#VALUE!"}},{"$f":"IF($B20=VLOOKUP($B20,'受診者リスト(抽出用）'!$A:$F,1,0),VLOOKUP($B20,'受診者リスト(抽出用）'!$A:$F,3,0)&\"　（団体マスタ）\"&VLOOKUP($B20,'受診者リスト(抽出用）'!$A:$F,4,0)&\"　（枝番）\"&VLOOKUP(B20,'受診者リスト(抽出用）'!$A:$F,5,0),\"\")","v":{"$error":"#N/A"}}]
[20,{"$f":"IF(申込みフォーム!B30<>\"\",申込みフォーム!B30&\"　\"&申込みフォーム!C30,\"\")","v":""},{"$f":"IF(申込みフォーム!E30<>\"\",申込みフォーム!E30&\"　\"&申込みフォーム!F30,\"\")","v":""},{"$f":"IF(申込みフォーム!G30<>\"\",申込みフォーム!G30,\"\")","v":""},{"$f":"IF(申込みフォーム!H30<>\"\",申込みフォーム!H30,\"\")","v":""},{"$f":"IF(申込みフォーム!D30<>\"\",申込みフォーム!D30,\"\")","v":""},{"$f":"IF(申込みフォーム!I30<>\"\",REPLACE(申込みフォーム!I30,4,,\"-\"),\"\")","v":""},{"$f":"IF(申込みフォーム!J30<>\"\",申込みフォーム!J30,\"\")","v":""},{"$f":"IF(申込みフォーム!K30<>\"\",申込みフォーム!K30,\"\")","v":""},{"$f":"IF(申込みフォーム!L30<>\"\",MID(申込みフォーム!L30,1,3)&\"-\"&MID(申込みフォーム!L30,4,4)&\"-\"&MID(申込みフォーム!L30,8,4),\"\")","v":""},{"$f":"IF(申込みフォーム!M30<>\"\",申込みフォーム!M30,\"\")","v":""},{"$f":"IF(申込みフォーム!N30<>\"\",申込みフォーム!N30,\"\")","v":""},{"$f":"IF(申込みフォーム!O30<>\"\",申込みフォーム!O30,\"\")","v":""},{"$f":"IF(申込みフォーム!P30<>\"\",申込みフォーム!P30,\"\")","v":""},{"$f":"IF(申込みフォーム!Q30<>\"\",申込みフォーム!Q30,\"\")","v":""},{"$f":"IF(申込みフォーム!R30<>\"\",申込みフォーム!R30,\"\")","v":""},{"$f":"IF(申込みフォーム!S30<>\"\",申込みフォーム!S30,\"\")","v":""},{"$f":"IF(申込みフォーム!U30=\"細胞診のみ\",\"協会子宮　\",IF(申込みフォーム!U30=\"細胞診＋（自費）膣エコー\",\"協会子宮＋自費膣エコー　\",\"\"))&IF(申込みフォーム!W30<>\"\",\"協会ﾏﾝﾓ　\",\"\")&IF(申込みフォーム!Y30<>\"\",\"協会骨　\",\"\")&IF(申込みフォーム!AA30<>\"\",\"協会肝炎　\",\"\")","v":""},{"$f":"IF(申込みフォーム!AB30<>\"\",\"子宮　\",\"\")&IF(申込みフォーム!AC30<>\"\",\"ﾏﾝﾓ　\",\"\")&IF(申込みフォーム!AD30<>\"\",\"乳ｴｺｰ\",\"\")","v":""},{"$f":"IF(申込みフォーム!AE30<>\"\",\"ﾏｰｶｰ　\",\"\")&IF(申込みフォーム!AF30<>\"\",\"心機能　\",\"\")&IF(申込みフォーム!AG30<>\"\",\"ABC　\",\"\")&IF(申込みフォーム!AH30<>\"\",\"Lox　\",\"\")&IF(申込みフォーム!AI30<>\"\",\"甲状腺　\",\"\")&IF(申込みフォーム!AJ30<>\"\",\"肝炎\",\"\")","v":""},{"$f":"IF(申込みフォーム!AK30<>\"\",\"脳　\",\"\")&IF(申込みフォーム!AL30<>\"\",\"胸部CT　\",\"\")&IF(申込みフォーム!AM30<>\"\",\"肺機能　\",\"\")&IF(申込みフォーム!AN30<>\"\",\"腹ｴｺｰ　\",\"\")&IF(申込みフォーム!AO30<>\"\",\"心ｴｺｰ　\",\"\")&IF(申込みフォーム!AP30<>\"\",\"ﾌﾛｰﾗ　\",\"\")&IF(申込みフォーム!AQ30<>\"\",\"OCT　\",\"\")&IF(申込みフォーム!AR30<>\"\",\"検便　\",\"\")&IF(申込みフォーム!AS30<>\"\",\"骨　\",\"\")&IF(申込みフォーム!AT30<>\"\",\"骨＋ﾛｺﾓ\",\"\")","v":""},{"$f":"IF(申込みフォーム!AU30<>\"\",申込みフォーム!AU30&\"　　\",\"\")&IF(申込みフォーム!AV30<>\"\",申込みフォーム!AV30&\"　　\",\"\")&IF(申込みフォーム!AW30<>\"\",申込みフォーム!AW30&\"　　\",\"\")&IF(申込みフォーム!$AX30=\"〇\",\"4月　\",\"\")&IF(申込みフォーム!$AY30=\"〇\",\"5月　\",\"\")&IF(申込みフォーム!$AZ30=\"〇\",\"6月　\",\"\")&IF(申込みフォーム!$BA30=\"〇\",\"7月　\",\"\")&IF(申込みフォーム!$BB30=\"〇\",\"8月　\",\"\")&IF(申込みフォーム!$BC30=\"〇\",\"9月　\",\"\")&IF(申込みフォーム!$BD30=\"〇\",\"10月　\",\"\")&IF(申込みフォーム!$BE30=\"〇\",\"11月　\",\"\")&IF(申込みフォーム!$BF30=\"〇\",\"12月　\",\"\")&IF(申込みフォーム!$BG30=\"〇\",\"1月　\",\"\")&IF(申込みフォーム!$BH30=\"〇\",\"2月　\",\"\")&IF(申込みフォーム!$BI30=\"〇\",\"3月　\",\"\")","v":""},{"$f":"IF(申込みフォーム!BJ30<>\"\",申込みフォーム!BJ30,\"\")","v":""},{"$f":"IF(申込みフォーム!BK30<>\"\",申込みフォーム!BK30,\"\")","v":""},{"$f":"申込みフォーム!$Z30","v":""},{"$f":"IF(申込みフォーム!BL30<>\"\",申込みフォーム!BL30&\"　　\",\"\")&IF(申込みフォーム!BM30<>\"\",申込みフォーム!BM30&\"　　\",\"\")&IF(申込みフォーム!BN30<>\"\",申込みフォーム!BN30&\"　　\",\"\")","v":{"$error":"#VALUE!"}},{"$f":"IF($B21=VLOOKUP($B21,'受診者リスト(抽出用）'!$A:$F,1,0),VLOOKUP($B21,'受診者リスト(抽出用）'!$A:$F,3,0)&\"　（団体マスタ）\"&VLOOKUP($B21,'受診者リスト(抽出用）'!$A:$F,4,0)&\"　（枝番）\"&VLOOKUP(B21,'受診者リスト(抽出用）'!$A:$F,5,0),\"\")","v":{"$error":"#N/A"}}]
[21,{"$f":"IF(申込みフォーム!B31<>\"\",申込みフォーム!B31&\"　\"&申込みフォーム!C31,\"\")","v":""},{"$f":"IF(申込みフォーム!E31<>\"\",申込みフォーム!E31&\"　\"&申込みフォーム!F31,\"\")","v":""},{"$f":"IF(申込みフォーム!G31<>\"\",申込みフォーム!G31,\"\")","v":""},{"$f":"IF(申込みフォーム!H31<>\"\",申込みフォーム!H31,\"\")","v":""},{"$f":"IF(申込みフォーム!D31<>\"\",申込みフォーム!D31,\"\")","v":""},{"$f":"IF(申込みフォーム!I31<>\"\",REPLACE(申込みフォーム!I31,4,,\"-\"),\"\")","v":""},{"$f":"IF(申込みフォーム!J31<>\"\",申込みフォーム!J31,\"\")","v":""},{"$f":"IF(申込みフォーム!K31<>\"\",申込みフォーム!K31,\"\")","v":""},{"$f":"IF(申込みフォーム!L31<>\"\",MID(申込みフォーム!L31,1,3)&\"-\"&MID(申込みフォーム!L31,4,4)&\"-\"&MID(申込みフォーム!L31,8,4),\"\")","v":""},{"$f":"IF(申込みフォーム!M31<>\"\",申込みフォーム!M31,\"\")","v":""},{"$f":"IF(申込みフォーム!N31<>\"\",申込みフォーム!N31,\"\")","v":""},{"$f":"IF(申込みフォーム!O31<>\"\",申込みフォーム!O31,\"\")","v":""},{"$f":"IF(申込みフォーム!P31<>\"\",申込みフォーム!P31,\"\")","v":""},{"$f":"IF(申込みフォーム!Q31<>\"\",申込みフォーム!Q31,\"\")","v":""},{"$f":"IF(申込みフォーム!R31<>\"\",申込みフォーム!R31,\"\")","v":""},{"$f":"IF(申込みフォーム!S31<>\"\",申込みフォーム!S31,\"\")","v":""},{"$f":"IF(申込みフォーム!U31=\"細胞診のみ\",\"協会子宮　\",IF(申込みフォーム!U31=\"細胞診＋（自費）膣エコー\",\"協会子宮＋自費膣エコー　\",\"\"))&IF(申込みフォーム!W31<>\"\",\"協会ﾏﾝﾓ　\",\"\")&IF(申込みフォーム!Y31<>\"\",\"協会骨　\",\"\")&IF(申込みフォーム!AA31<>\"\",\"協会肝炎　\",\"\")","v":""},{"$f":"IF(申込みフォーム!AB31<>\"\",\"子宮　\",\"\")&IF(申込みフォーム!AC31<>\"\",\"ﾏﾝﾓ　\",\"\")&IF(申込みフォーム!AD31<>\"\",\"乳ｴｺｰ\",\"\")","v":""},{"$f":"IF(申込みフォーム!AE31<>\"\",\"ﾏｰｶｰ　\",\"\")&IF(申込みフォーム!AF31<>\"\",\"心機能　\",\"\")&IF(申込みフォーム!AG31<>\"\",\"ABC　\",\"\")&IF(申込みフォーム!AH31<>\"\",\"Lox　\",\"\")&IF(申込みフォーム!AI31<>\"\",\"甲状腺　\",\"\")&IF(申込みフォーム!AJ31<>\"\",\"肝炎\",\"\")","v":""},{"$f":"IF(申込みフォーム!AK31<>\"\",\"脳　\",\"\")&IF(申込みフォーム!AL31<>\"\",\"胸部CT　\",\"\")&IF(申込みフォーム!AM31<>\"\",\"肺機能　\",\"\")&IF(申込みフォーム!AN31<>\"\",\"腹ｴｺｰ　\",\"\")&IF(申込みフォーム!AO31<>\"\",\"心ｴｺｰ　\",\"\")&IF(申込みフォーム!AP31<>\"\",\"ﾌﾛｰﾗ　\",\"\")&IF(申込みフォーム!AQ31<>\"\",\"OCT　\",\"\")&IF(申込みフォーム!AR31<>\"\",\"検便　\",\"\")&IF(申込みフォーム!AS31<>\"\",\"骨　\",\"\")&IF(申込みフォーム!AT31<>\"\",\"骨＋ﾛｺﾓ\",\"\")","v":""},{"$f":"IF(申込みフォーム!AU31<>\"\",申込みフォーム!AU31&\"　　\",\"\")&IF(申込みフォーム!AV31<>\"\",申込みフォーム!AV31&\"　　\",\"\")&IF(申込みフォーム!AW31<>\"\",申込みフォーム!AW31&\"　　\",\"\")&IF(申込みフォーム!$AX31=\"〇\",\"4月　\",\"\")&IF(申込みフォーム!$AY31=\"〇\",\"5月　\",\"\")&IF(申込みフォーム!$AZ31=\"〇\",\"6月　\",\"\")&IF(申込みフォーム!$BA31=\"〇\",\"7月　\",\"\")&IF(申込みフォーム!$BB31=\"〇\",\"8月　\",\"\")&IF(申込みフォーム!$BC31=\"〇\",\"9月　\",\"\")&IF(申込みフォーム!$BD31=\"〇\",\"10月　\",\"\")&IF(申込みフォーム!$BE31=\"〇\",\"11月　\",\"\")&IF(申込みフォーム!$BF31=\"〇\",\"12月　\",\"\")&IF(申込みフォーム!$BG31=\"〇\",\"1月　\",\"\")&IF(申込みフォーム!$BH31=\"〇\",\"2月　\",\"\")&IF(申込みフォーム!$BI31=\"〇\",\"3月　\",\"\")","v":""},{"$f":"IF(申込みフォーム!BJ31<>\"\",申込みフォーム!BJ31,\"\")","v":""},{"$f":"IF(申込みフォーム!BK31<>\"\",申込みフォーム!BK31,\"\")","v":""},{"$f":"申込みフォーム!$Z31","v":""},{"$f":"IF(申込みフォーム!BL31<>\"\",申込みフォーム!BL31&\"　　\",\"\")&IF(申込みフォーム!BM31<>\"\",申込みフォーム!BM31&\"　　\",\"\")&IF(申込みフォーム!BN31<>\"\",申込みフォーム!BN31&\"　　\",\"\")","v":{"$error":"#VALUE!"}},{"$f":"IF($B22=VLOOKUP($B22,'受診者リスト(抽出用）'!$A:$F,1,0),VLOOKUP($B22,'受診者リスト(抽出用）'!$A:$F,3,0)&\"　（団体マスタ）\"&VLOOKUP($B22,'受診者リスト(抽出用）'!$A:$F,4,0)&\"　（枝番）\"&VLOOKUP(B22,'受診者リスト(抽出用）'!$A:$F,5,0),\"\")","v":{"$error":"#N/A"}}]
[22,{"$f":"IF(申込みフォーム!B32<>\"\",申込みフォーム!B32&\"　\"&申込みフォーム!C32,\"\")","v":""},{"$f":"IF(申込みフォーム!E32<>\"\",申込みフォーム!E32&\"　\"&申込みフォーム!F32,\"\")","v":""},{"$f":"IF(申込みフォーム!G32<>\"\",申込みフォーム!G32,\"\")","v":""},{"$f":"IF(申込みフォーム!H32<>\"\",申込みフォーム!H32,\"\")","v":""},{"$f":"IF(申込みフォーム!D32<>\"\",申込みフォーム!D32,\"\")","v":""},{"$f":"IF(申込みフォーム!I32<>\"\",REPLACE(申込みフォーム!I32,4,,\"-\"),\"\")","v":""},{"$f":"IF(申込みフォーム!J32<>\"\",申込みフォーム!J32,\"\")","v":""},{"$f":"IF(申込みフォーム!K32<>\"\",申込みフォーム!K32,\"\")","v":""},{"$f":"IF(申込みフォーム!L32<>\"\",MID(申込みフォーム!L32,1,3)&\"-\"&MID(申込みフォーム!L32,4,4)&\"-\"&MID(申込みフォーム!L32,8,4),\"\")","v":""},{"$f":"IF(申込みフォーム!M32<>\"\",申込みフォーム!M32,\"\")","v":""},{"$f":"IF(申込みフォーム!N32<>\"\",申込みフォーム!N32,\"\")","v":""},{"$f":"IF(申込みフォーム!O32<>\"\",申込みフォーム!O32,\"\")","v":""},{"$f":"IF(申込みフォーム!P32<>\"\",申込みフォーム!P32,\"\")","v":""},{"$f":"IF(申込みフォーム!Q32<>\"\",申込みフォーム!Q32,\"\")","v":""},{"$f":"IF(申込みフォーム!R32<>\"\",申込みフォーム!R32,\"\")","v":""},{"$f":"IF(申込みフォーム!S32<>\"\",申込みフォーム!S32,\"\")","v":""},{"$f":"IF(申込みフォーム!U32=\"細胞診のみ\",\"協会子宮　\",IF(申込みフォーム!U32=\"細胞診＋（自費）膣エコー\",\"協会子宮＋自費膣エコー　\",\"\"))&IF(申込みフォーム!W32<>\"\",\"協会ﾏﾝﾓ　\",\"\")&IF(申込みフォーム!Y32<>\"\",\"協会骨　\",\"\")&IF(申込みフォーム!AA32<>\"\",\"協会肝炎　\",\"\")","v":""},{"$f":"IF(申込みフォーム!AB32<>\"\",\"子宮　\",\"\")&IF(申込みフォーム!AC32<>\"\",\"ﾏﾝﾓ　\",\"\")&IF(申込みフォーム!AD32<>\"\",\"乳ｴｺｰ\",\"\")","v":""},{"$f":"IF(申込みフォーム!AE32<>\"\",\"ﾏｰｶｰ　\",\"\")&IF(申込みフォーム!AF32<>\"\",\"心機能　\",\"\")&IF(申込みフォーム!AG32<>\"\",\"ABC　\",\"\")&IF(申込みフォーム!AH32<>\"\",\"Lox　\",\"\")&IF(申込みフォーム!AI32<>\"\",\"甲状腺　\",\"\")&IF(申込みフォーム!AJ32<>\"\",\"肝炎\",\"\")","v":""},{"$f":"IF(申込みフォーム!AK32<>\"\",\"脳　\",\"\")&IF(申込みフォーム!AL32<>\"\",\"胸部CT　\",\"\")&IF(申込みフォーム!AM32<>\"\",\"肺機能　\",\"\")&IF(申込みフォーム!AN32<>\"\",\"腹ｴｺｰ　\",\"\")&IF(申込みフォーム!AO32<>\"\",\"心ｴｺｰ　\",\"\")&IF(申込みフォーム!AP32<>\"\",\"ﾌﾛｰﾗ　\",\"\")&IF(申込みフォーム!AQ32<>\"\",\"OCT　\",\"\")&IF(申込みフォーム!AR32<>\"\",\"検便　\",\"\")&IF(申込みフォーム!AS32<>\"\",\"骨　\",\"\")&IF(申込みフォーム!AT32<>\"\",\"骨＋ﾛｺﾓ\",\"\")","v":""},{"$f":"IF(申込みフォーム!AU32<>\"\",申込みフォーム!AU32&\"　　\",\"\")&IF(申込みフォーム!AV32<>\"\",申込みフォーム!AV32&\"　　\",\"\")&IF(申込みフォーム!AW32<>\"\",申込みフォーム!AW32&\"　　\",\"\")&IF(申込みフォーム!$AX32=\"〇\",\"4月　\",\"\")&IF(申込みフォーム!$AY32=\"〇\",\"5月　\",\"\")&IF(申込みフォーム!$AZ32=\"〇\",\"6月　\",\"\")&IF(申込みフォーム!$BA32=\"〇\",\"7月　\",\"\")&IF(申込みフォーム!$BB32=\"〇\",\"8月　\",\"\")&IF(申込みフォーム!$BC32=\"〇\",\"9月　\",\"\")&IF(申込みフォーム!$BD32=\"〇\",\"10月　\",\"\")&IF(申込みフォーム!$BE32=\"〇\",\"11月　\",\"\")&IF(申込みフォーム!$BF32=\"〇\",\"12月　\",\"\")&IF(申込みフォーム!$BG32=\"〇\",\"1月　\",\"\")&IF(申込みフォーム!$BH32=\"〇\",\"2月　\",\"\")&IF(申込みフォーム!$BI32=\"〇\",\"3月　\",\"\")","v":""},{"$f":"IF(申込みフォーム!BJ32<>\"\",申込みフォーム!BJ32,\"\")","v":""},{"$f":"IF(申込みフォーム!BK32<>\"\",申込みフォーム!BK32,\"\")","v":""},{"$f":"申込みフォーム!$Z32","v":""},{"$f":"IF(申込みフォーム!BL32<>\"\",申込みフォーム!BL32&\"　　\",\"\")&IF(申込みフォーム!BM32<>\"\",申込みフォーム!BM32&\"　　\",\"\")&IF(申込みフォーム!BN32<>\"\",申込みフォーム!BN32&\"　　\",\"\")","v":{"$error":"#VALUE!"}},{"$f":"IF($B23=VLOOKUP($B23,'受診者リスト(抽出用）'!$A:$F,1,0),VLOOKUP($B23,'受診者リスト(抽出用）'!$A:$F,3,0)&\"　（団体マスタ）\"&VLOOKUP($B23,'受診者リスト(抽出用）'!$A:$F,4,0)&\"　（枝番）\"&VLOOKUP(B23,'受診者リスト(抽出用）'!$A:$F,5,0),\"\")","v":{"$error":"#N/A"}}]
[23,{"$f":"IF(申込みフォーム!B33<>\"\",申込みフォーム!B33&\"　\"&申込みフォーム!C33,\"\")","v":""},{"$f":"IF(申込みフォーム!E33<>\"\",申込みフォーム!E33&\"　\"&申込みフォーム!F33,\"\")","v":""},{"$f":"IF(申込みフォーム!G33<>\"\",申込みフォーム!G33,\"\")","v":""},{"$f":"IF(申込みフォーム!H33<>\"\",申込みフォーム!H33,\"\")","v":""},{"$f":"IF(申込みフォーム!D33<>\"\",申込みフォーム!D33,\"\")","v":""},{"$f":"IF(申込みフォーム!I33<>\"\",REPLACE(申込みフォーム!I33,4,,\"-\"),\"\")","v":""},{"$f":"IF(申込みフォーム!J33<>\"\",申込みフォーム!J33,\"\")","v":""},{"$f":"IF(申込みフォーム!K33<>\"\",申込みフォーム!K33,\"\")","v":""},{"$f":"IF(申込みフォーム!L33<>\"\",MID(申込みフォーム!L33,1,3)&\"-\"&MID(申込みフォーム!L33,4,4)&\"-\"&MID(申込みフォーム!L33,8,4),\"\")","v":""},{"$f":"IF(申込みフォーム!M33<>\"\",申込みフォーム!M33,\"\")","v":""},{"$f":"IF(申込みフォーム!N33<>\"\",申込みフォーム!N33,\"\")","v":""},{"$f":"IF(申込みフォーム!O33<>\"\",申込みフォーム!O33,\"\")","v":""},{"$f":"IF(申込みフォーム!P33<>\"\",申込みフォーム!P33,\"\")","v":""},{"$f":"IF(申込みフォーム!Q33<>\"\",申込みフォーム!Q33,\"\")","v":""},{"$f":"IF(申込みフォーム!R33<>\"\",申込みフォーム!R33,\"\")","v":""},{"$f":"IF(申込みフォーム!S33<>\"\",申込みフォーム!S33,\"\")","v":""},{"$f":"IF(申込みフォーム!U33=\"細胞診のみ\",\"協会子宮　\",IF(申込みフォーム!U33=\"細胞診＋（自費）膣エコー\",\"協会子宮＋自費膣エコー　\",\"\"))&IF(申込みフォーム!W33<>\"\",\"協会ﾏﾝﾓ　\",\"\")&IF(申込みフォーム!Y33<>\"\",\"協会骨　\",\"\")&IF(申込みフォーム!AA33<>\"\",\"協会肝炎　\",\"\")","v":""},{"$f":"IF(申込みフォーム!AB33<>\"\",\"子宮　\",\"\")&IF(申込みフォーム!AC33<>\"\",\"ﾏﾝﾓ　\",\"\")&IF(申込みフォーム!AD33<>\"\",\"乳ｴｺｰ\",\"\")","v":""},{"$f":"IF(申込みフォーム!AE33<>\"\",\"ﾏｰｶｰ　\",\"\")&IF(申込みフォーム!AF33<>\"\",\"心機能　\",\"\")&IF(申込みフォーム!AG33<>\"\",\"ABC　\",\"\")&IF(申込みフォーム!AH33<>\"\",\"Lox　\",\"\")&IF(申込みフォーム!AI33<>\"\",\"甲状腺　\",\"\")&IF(申込みフォーム!AJ33<>\"\",\"肝炎\",\"\")","v":""},{"$f":"IF(申込みフォーム!AK33<>\"\",\"脳　\",\"\")&IF(申込みフォーム!AL33<>\"\",\"胸部CT　\",\"\")&IF(申込みフォーム!AM33<>\"\",\"肺機能　\",\"\")&IF(申込みフォーム!AN33<>\"\",\"腹ｴｺｰ　\",\"\")&IF(申込みフォーム!AO33<>\"\",\"心ｴｺｰ　\",\"\")&IF(申込みフォーム!AP33<>\"\",\"ﾌﾛｰﾗ　\",\"\")&IF(申込みフォーム!AQ33<>\"\",\"OCT　\",\"\")&IF(申込みフォーム!AR33<>\"\",\"検便　\",\"\")&IF(申込みフォーム!AS33<>\"\",\"骨　\",\"\")&IF(申込みフォーム!AT33<>\"\",\"骨＋ﾛｺﾓ\",\"\")","v":""},{"$f":"IF(申込みフォーム!AU33<>\"\",申込みフォーム!AU33&\"　　\",\"\")&IF(申込みフォーム!AV33<>\"\",申込みフォーム!AV33&\"　　\",\"\")&IF(申込みフォーム!AW33<>\"\",申込みフォーム!AW33&\"　　\",\"\")&IF(申込みフォーム!$AX33=\"〇\",\"4月　\",\"\")&IF(申込みフォーム!$AY33=\"〇\",\"5月　\",\"\")&IF(申込みフォーム!$AZ33=\"〇\",\"6月　\",\"\")&IF(申込みフォーム!$BA33=\"〇\",\"7月　\",\"\")&IF(申込みフォーム!$BB33=\"〇\",\"8月　\",\"\")&IF(申込みフォーム!$BC33=\"〇\",\"9月　\",\"\")&IF(申込みフォーム!$BD33=\"〇\",\"10月　\",\"\")&IF(申込みフォーム!$BE33=\"〇\",\"11月　\",\"\")&IF(申込みフォーム!$BF33=\"〇\",\"12月　\",\"\")&IF(申込みフォーム!$BG33=\"〇\",\"1月　\",\"\")&IF(申込みフォーム!$BH33=\"〇\",\"2月　\",\"\")&IF(申込みフォーム!$BI33=\"〇\",\"3月　\",\"\")","v":""},{"$f":"IF(申込みフォーム!BJ33<>\"\",申込みフォーム!BJ33,\"\")","v":""},{"$f":"IF(申込みフォーム!BK33<>\"\",申込みフォーム!BK33,\"\")","v":""},{"$f":"申込みフォーム!$Z33","v":""},{"$f":"IF(申込みフォーム!BL33<>\"\",申込みフォーム!BL33&\"　　\",\"\")&IF(申込みフォーム!BM33<>\"\",申込みフォーム!BM33&\"　　\",\"\")&IF(申込みフォーム!BN33<>\"\",申込みフォーム!BN33&\"　　\",\"\")","v":{"$error":"#VALUE!"}},{"$f":"IF($B24=VLOOKUP($B24,'受診者リスト(抽出用）'!$A:$F,1,0),VLOOKUP($B24,'受診者リスト(抽出用）'!$A:$F,3,0)&\"　（団体マスタ）\"&VLOOKUP($B24,'受診者リスト(抽出用）'!$A:$F,4,0)&\"　（枝番）\"&VLOOKUP(B24,'受診者リスト(抽出用）'!$A:$F,5,0),\"\")","v":{"$error":"#N/A"}}]
[24,{"$f":"IF(申込みフォーム!B34<>\"\",申込みフォーム!B34&\"　\"&申込みフォーム!C34,\"\")","v":""},{"$f":"IF(申込みフォーム!E34<>\"\",申込みフォーム!E34&\"　\"&申込みフォーム!F34,\"\")","v":""},{"$f":"IF(申込みフォーム!G34<>\"\",申込みフォーム!G34,\"\")","v":""},{"$f":"IF(申込みフォーム!H34<>\"\",申込みフォーム!H34,\"\")","v":""},{"$f":"IF(申込みフォーム!D34<>\"\",申込みフォーム!D34,\"\")","v":""},{"$f":"IF(申込みフォーム!I34<>\"\",REPLACE(申込みフォーム!I34,4,,\"-\"),\"\")","v":""},{"$f":"IF(申込みフォーム!J34<>\"\",申込みフォーム!J34,\"\")","v":""},{"$f":"IF(申込みフォーム!K34<>\"\",申込みフォーム!K34,\"\")","v":""},{"$f":"IF(申込みフォーム!L34<>\"\",MID(申込みフォーム!L34,1,3)&\"-\"&MID(申込みフォーム!L34,4,4)&\"-\"&MID(申込みフォーム!L34,8,4),\"\")","v":""},{"$f":"IF(申込みフォーム!M34<>\"\",申込みフォーム!M34,\"\")","v":""},{"$f":"IF(申込みフォーム!N34<>\"\",申込みフォーム!N34,\"\")","v":""},{"$f":"IF(申込みフォーム!O34<>\"\",申込みフォーム!O34,\"\")","v":""},{"$f":"IF(申込みフォーム!P34<>\"\",申込みフォーム!P34,\"\")","v":""},{"$f":"IF(申込みフォーム!Q34<>\"\",申込みフォーム!Q34,\"\")","v":""},{"$f":"IF(申込みフォーム!R34<>\"\",申込みフォーム!R34,\"\")","v":""},{"$f":"IF(申込みフォーム!S34<>\"\",申込みフォーム!S34,\"\")","v":""},{"$f":"IF(申込みフォーム!U34=\"細胞診のみ\",\"協会子宮　\",IF(申込みフォーム!U34=\"細胞診＋（自費）膣エコー\",\"協会子宮＋自費膣エコー　\",\"\"))&IF(申込みフォーム!W34<>\"\",\"協会ﾏﾝﾓ　\",\"\")&IF(申込みフォーム!Y34<>\"\",\"協会骨　\",\"\")&IF(申込みフォーム!AA34<>\"\",\"協会肝炎　\",\"\")","v":""},{"$f":"IF(申込みフォーム!AB34<>\"\",\"子宮　\",\"\")&IF(申込みフォーム!AC34<>\"\",\"ﾏﾝﾓ　\",\"\")&IF(申込みフォーム!AD34<>\"\",\"乳ｴｺｰ\",\"\")","v":""},{"$f":"IF(申込みフォーム!AE34<>\"\",\"ﾏｰｶｰ　\",\"\")&IF(申込みフォーム!AF34<>\"\",\"心機能　\",\"\")&IF(申込みフォーム!AG34<>\"\",\"ABC　\",\"\")&IF(申込みフォーム!AH34<>\"\",\"Lox　\",\"\")&IF(申込みフォーム!AI34<>\"\",\"甲状腺　\",\"\")&IF(申込みフォーム!AJ34<>\"\",\"肝炎\",\"\")","v":""},{"$f":"IF(申込みフォーム!AK34<>\"\",\"脳　\",\"\")&IF(申込みフォーム!AL34<>\"\",\"胸部CT　\",\"\")&IF(申込みフォーム!AM34<>\"\",\"肺機能　\",\"\")&IF(申込みフォーム!AN34<>\"\",\"腹ｴｺｰ　\",\"\")&IF(申込みフォーム!AO34<>\"\",\"心ｴｺｰ　\",\"\")&IF(申込みフォーム!AP34<>\"\",\"ﾌﾛｰﾗ　\",\"\")&IF(申込みフォーム!AQ34<>\"\",\"OCT　\",\"\")&IF(申込みフォーム!AR34<>\"\",\"検便　\",\"\")&IF(申込みフォーム!AS34<>\"\",\"骨　\",\"\")&IF(申込みフォーム!AT34<>\"\",\"骨＋ﾛｺﾓ\",\"\")","v":""},{"$f":"IF(申込みフォーム!AU34<>\"\",申込みフォーム!AU34&\"　　\",\"\")&IF(申込みフォーム!AV34<>\"\",申込みフォーム!AV34&\"　　\",\"\")&IF(申込みフォーム!AW34<>\"\",申込みフォーム!AW34&\"　　\",\"\")&IF(申込みフォーム!$AX34=\"〇\",\"4月　\",\"\")&IF(申込みフォーム!$AY34=\"〇\",\"5月　\",\"\")&IF(申込みフォーム!$AZ34=\"〇\",\"6月　\",\"\")&IF(申込みフォーム!$BA34=\"〇\",\"7月　\",\"\")&IF(申込みフォーム!$BB34=\"〇\",\"8月　\",\"\")&IF(申込みフォーム!$BC34=\"〇\",\"9月　\",\"\")&IF(申込みフォーム!$BD34=\"〇\",\"10月　\",\"\")&IF(申込みフォーム!$BE34=\"〇\",\"11月　\",\"\")&IF(申込みフォーム!$BF34=\"〇\",\"12月　\",\"\")&IF(申込みフォーム!$BG34=\"〇\",\"1月　\",\"\")&IF(申込みフォーム!$BH34=\"〇\",\"2月　\",\"\")&IF(申込みフォーム!$BI34=\"〇\",\"3月　\",\"\")","v":""},{"$f":"IF(申込みフォーム!BJ34<>\"\",申込みフォーム!BJ34,\"\")","v":""},{"$f":"IF(申込みフォーム!BK34<>\"\",申込みフォーム!BK34,\"\")","v":""},{"$f":"申込みフォーム!$Z34","v":""},{"$f":"IF(申込みフォーム!BL34<>\"\",申込みフォーム!BL34&\"　　\",\"\")&IF(申込みフォーム!BM34<>\"\",申込みフォーム!BM34&\"　　\",\"\")&IF(申込みフォーム!BN34<>\"\",申込みフォーム!BN34&\"　　\",\"\")","v":{"$error":"#VALUE!"}},{"$f":"IF($B25=VLOOKUP($B25,'受診者リスト(抽出用）'!$A:$F,1,0),VLOOKUP($B25,'受診者リスト(抽出用）'!$A:$F,3,0)&\"　（団体マスタ）\"&VLOOKUP($B25,'受診者リスト(抽出用）'!$A:$F,4,0)&\"　（枝番）\"&VLOOKUP(B25,'受診者リスト(抽出用）'!$A:$F,5,0),\"\")","v":{"$error":"#N/A"}}]
[25,{"$f":"IF(申込みフォーム!B35<>\"\",申込みフォーム!B35&\"　\"&申込みフォーム!C35,\"\")","v":""},{"$f":"IF(申込みフォーム!E35<>\"\",申込みフォーム!E35&\"　\"&申込みフォーム!F35,\"\")","v":""},{"$f":"IF(申込みフォーム!G35<>\"\",申込みフォーム!G35,\"\")","v":""},{"$f":"IF(申込みフォーム!H35<>\"\",申込みフォーム!H35,\"\")","v":""},{"$f":"IF(申込みフォーム!D35<>\"\",申込みフォーム!D35,\"\")","v":""},{"$f":"IF(申込みフォーム!I35<>\"\",REPLACE(申込みフォーム!I35,4,,\"-\"),\"\")","v":""},{"$f":"IF(申込みフォーム!J35<>\"\",申込みフォーム!J35,\"\")","v":""},{"$f":"IF(申込みフォーム!K35<>\"\",申込みフォーム!K35,\"\")","v":""},{"$f":"IF(申込みフォーム!L35<>\"\",MID(申込みフォーム!L35,1,3)&\"-\"&MID(申込みフォーム!L35,4,4)&\"-\"&MID(申込みフォーム!L35,8,4),\"\")","v":""},{"$f":"IF(申込みフォーム!M35<>\"\",申込みフォーム!M35,\"\")","v":""},{"$f":"IF(申込みフォーム!N35<>\"\",申込みフォーム!N35,\"\")","v":""},{"$f":"IF(申込みフォーム!O35<>\"\",申込みフォーム!O35,\"\")","v":""},{"$f":"IF(申込みフォーム!P35<>\"\",申込みフォーム!P35,\"\")","v":""},{"$f":"IF(申込みフォーム!Q35<>\"\",申込みフォーム!Q35,\"\")","v":""},{"$f":"IF(申込みフォーム!R35<>\"\",申込みフォーム!R35,\"\")","v":""},{"$f":"IF(申込みフォーム!S35<>\"\",申込みフォーム!S35,\"\")","v":""},{"$f":"IF(申込みフォーム!U35=\"細胞診のみ\",\"協会子宮　\",IF(申込みフォーム!U35=\"細胞診＋（自費）膣エコー\",\"協会子宮＋自費膣エコー　\",\"\"))&IF(申込みフォーム!W35<>\"\",\"協会ﾏﾝﾓ　\",\"\")&IF(申込みフォーム!Y35<>\"\",\"協会骨　\",\"\")&IF(申込みフォーム!AA35<>\"\",\"協会肝炎　\",\"\")","v":""},{"$f":"IF(申込みフォーム!AB35<>\"\",\"子宮　\",\"\")&IF(申込みフォーム!AC35<>\"\",\"ﾏﾝﾓ　\",\"\")&IF(申込みフォーム!AD35<>\"\",\"乳ｴｺｰ\",\"\")","v":""},{"$f":"IF(申込みフォーム!AE35<>\"\",\"ﾏｰｶｰ　\",\"\")&IF(申込みフォーム!AF35<>\"\",\"心機能　\",\"\")&IF(申込みフォーム!AG35<>\"\",\"ABC　\",\"\")&IF(申込みフォーム!AH35<>\"\",\"Lox　\",\"\")&IF(申込みフォーム!AI35<>\"\",\"甲状腺　\",\"\")&IF(申込みフォーム!AJ35<>\"\",\"肝炎\",\"\")","v":""},{"$f":"IF(申込みフォーム!AK35<>\"\",\"脳　\",\"\")&IF(申込みフォーム!AL35<>\"\",\"胸部CT　\",\"\")&IF(申込みフォーム!AM35<>\"\",\"肺機能　\",\"\")&IF(申込みフォーム!AN35<>\"\",\"腹ｴｺｰ　\",\"\")&IF(申込みフォーム!AO35<>\"\",\"心ｴｺｰ　\",\"\")&IF(申込みフォーム!AP35<>\"\",\"ﾌﾛｰﾗ　\",\"\")&IF(申込みフォーム!AQ35<>\"\",\"OCT　\",\"\")&IF(申込みフォーム!AR35<>\"\",\"検便　\",\"\")&IF(申込みフォーム!AS35<>\"\",\"骨　\",\"\")&IF(申込みフォーム!AT35<>\"\",\"骨＋ﾛｺﾓ\",\"\")","v":""},{"$f":"IF(申込みフォーム!AU35<>\"\",申込みフォーム!AU35&\"　　\",\"\")&IF(申込みフォーム!AV35<>\"\",申込みフォーム!AV35&\"　　\",\"\")&IF(申込みフォーム!AW35<>\"\",申込みフォーム!AW35&\"　　\",\"\")&IF(申込みフォーム!$AX35=\"〇\",\"4月　\",\"\")&IF(申込みフォーム!$AY35=\"〇\",\"5月　\",\"\")&IF(申込みフォーム!$AZ35=\"〇\",\"6月　\",\"\")&IF(申込みフォーム!$BA35=\"〇\",\"7月　\",\"\")&IF(申込みフォーム!$BB35=\"〇\",\"8月　\",\"\")&IF(申込みフォーム!$BC35=\"〇\",\"9月　\",\"\")&IF(申込みフォーム!$BD35=\"〇\",\"10月　\",\"\")&IF(申込みフォーム!$BE35=\"〇\",\"11月　\",\"\")&IF(申込みフォーム!$BF35=\"〇\",\"12月　\",\"\")&IF(申込みフォーム!$BG35=\"〇\",\"1月　\",\"\")&IF(申込みフォーム!$BH35=\"〇\",\"2月　\",\"\")&IF(申込みフォーム!$BI35=\"〇\",\"3月　\",\"\")","v":""},{"$f":"IF(申込みフォーム!BJ35<>\"\",申込みフォーム!BJ35,\"\")","v":""},{"$f":"IF(申込みフォーム!BK35<>\"\",申込みフォーム!BK35,\"\")","v":""},{"$f":"申込みフォーム!$Z35","v":""},{"$f":"IF(申込みフォーム!BL35<>\"\",申込みフォーム!BL35&\"　　\",\"\")&IF(申込みフォーム!BM35<>\"\",申込みフォーム!BM35&\"　　\",\"\")&IF(申込みフォーム!BN35<>\"\",申込みフォーム!BN35&\"　　\",\"\")","v":{"$error":"#VALUE!"}},{"$f":"IF($B26=VLOOKUP($B26,'受診者リスト(抽出用）'!$A:$F,1,0),VLOOKUP($B26,'受診者リスト(抽出用）'!$A:$F,3,0)&\"　（団体マスタ）\"&VLOOKUP($B26,'受診者リスト(抽出用）'!$A:$F,4,0)&\"　（枝番）\"&VLOOKUP(B26,'受診者リスト(抽出用）'!$A:$F,5,0),\"\")","v":{"$error":"#N/A"}}]
[26,{"$f":"IF(申込みフォーム!B36<>\"\",申込みフォーム!B36&\"　\"&申込みフォーム!C36,\"\")","v":""},{"$f":"IF(申込みフォーム!E36<>\"\",申込みフォーム!E36&\"　\"&申込みフォーム!F36,\"\")","v":""},{"$f":"IF(申込みフォーム!G36<>\"\",申込みフォーム!G36,\"\")","v":""},{"$f":"IF(申込みフォーム!H36<>\"\",申込みフォーム!H36,\"\")","v":""},{"$f":"IF(申込みフォーム!D36<>\"\",申込みフォーム!D36,\"\")","v":""},{"$f":"IF(申込みフォーム!I36<>\"\",REPLACE(申込みフォーム!I36,4,,\"-\"),\"\")","v":""},{"$f":"IF(申込みフォーム!J36<>\"\",申込みフォーム!J36,\"\")","v":""},{"$f":"IF(申込みフォーム!K36<>\"\",申込みフォーム!K36,\"\")","v":""},{"$f":"IF(申込みフォーム!L36<>\"\",MID(申込みフォーム!L36,1,3)&\"-\"&MID(申込みフォーム!L36,4,4)&\"-\"&MID(申込みフォーム!L36,8,4),\"\")","v":""},{"$f":"IF(申込みフォーム!M36<>\"\",申込みフォーム!M36,\"\")","v":""},{"$f":"IF(申込みフォーム!N36<>\"\",申込みフォーム!N36,\"\")","v":""},{"$f":"IF(申込みフォーム!O36<>\"\",申込みフォーム!O36,\"\")","v":""},{"$f":"IF(申込みフォーム!P36<>\"\",申込みフォーム!P36,\"\")","v":""},{"$f":"IF(申込みフォーム!Q36<>\"\",申込みフォーム!Q36,\"\")","v":""},{"$f":"IF(申込みフォーム!R36<>\"\",申込みフォーム!R36,\"\")","v":""},{"$f":"IF(申込みフォーム!S36<>\"\",申込みフォーム!S36,\"\")","v":""},{"$f":"IF(申込みフォーム!U36=\"細胞診のみ\",\"協会子宮　\",IF(申込みフォーム!U36=\"細胞診＋（自費）膣エコー\",\"協会子宮＋自費膣エコー　\",\"\"))&IF(申込みフォーム!W36<>\"\",\"協会ﾏﾝﾓ　\",\"\")&IF(申込みフォーム!Y36<>\"\",\"協会骨　\",\"\")&IF(申込みフォーム!AA36<>\"\",\"協会肝炎　\",\"\")","v":""},{"$f":"IF(申込みフォーム!AB36<>\"\",\"子宮　\",\"\")&IF(申込みフォーム!AC36<>\"\",\"ﾏﾝﾓ　\",\"\")&IF(申込みフォーム!AD36<>\"\",\"乳ｴｺｰ\",\"\")","v":""},{"$f":"IF(申込みフォーム!AE36<>\"\",\"ﾏｰｶｰ　\",\"\")&IF(申込みフォーム!AF36<>\"\",\"心機能　\",\"\")&IF(申込みフォーム!AG36<>\"\",\"ABC　\",\"\")&IF(申込みフォーム!AH36<>\"\",\"Lox　\",\"\")&IF(申込みフォーム!AI36<>\"\",\"甲状腺　\",\"\")&IF(申込みフォーム!AJ36<>\"\",\"肝炎\",\"\")","v":""},{"$f":"IF(申込みフォーム!AK36<>\"\",\"脳　\",\"\")&IF(申込みフォーム!AL36<>\"\",\"胸部CT　\",\"\")&IF(申込みフォーム!AM36<>\"\",\"肺機能　\",\"\")&IF(申込みフォーム!AN36<>\"\",\"腹ｴｺｰ　\",\"\")&IF(申込みフォーム!AO36<>\"\",\"心ｴｺｰ　\",\"\")&IF(申込みフォーム!AP36<>\"\",\"ﾌﾛｰﾗ　\",\"\")&IF(申込みフォーム!AQ36<>\"\",\"OCT　\",\"\")&IF(申込みフォーム!AR36<>\"\",\"検便　\",\"\")&IF(申込みフォーム!AS36<>\"\",\"骨　\",\"\")&IF(申込みフォーム!AT36<>\"\",\"骨＋ﾛｺﾓ\",\"\")","v":""},{"$f":"IF(申込みフォーム!AU36<>\"\",申込みフォーム!AU36&\"　　\",\"\")&IF(申込みフォーム!AV36<>\"\",申込みフォーム!AV36&\"　　\",\"\")&IF(申込みフォーム!AW36<>\"\",申込みフォーム!AW36&\"　　\",\"\")&IF(申込みフォーム!$AX36=\"〇\",\"4月　\",\"\")&IF(申込みフォーム!$AY36=\"〇\",\"5月　\",\"\")&IF(申込みフォーム!$AZ36=\"〇\",\"6月　\",\"\")&IF(申込みフォーム!$BA36=\"〇\",\"7月　\",\"\")&IF(申込みフォーム!$BB36=\"〇\",\"8月　\",\"\")&IF(申込みフォーム!$BC36=\"〇\",\"9月　\",\"\")&IF(申込みフォーム!$BD36=\"〇\",\"10月　\",\"\")&IF(申込みフォーム!$BE36=\"〇\",\"11月　\",\"\")&IF(申込みフォーム!$BF36=\"〇\",\"12月　\",\"\")&IF(申込みフォーム!$BG36=\"〇\",\"1月　\",\"\")&IF(申込みフォーム!$BH36=\"〇\",\"2月　\",\"\")&IF(申込みフォーム!$BI36=\"〇\",\"3月　\",\"\")","v":""},{"$f":"IF(申込みフォーム!BJ36<>\"\",申込みフォーム!BJ36,\"\")","v":""},{"$f":"IF(申込みフォーム!BK36<>\"\",申込みフォーム!BK36,\"\")","v":""},{"$f":"申込みフォーム!$Z36","v":""},{"$f":"IF(申込みフォーム!BL36<>\"\",申込みフォーム!BL36&\"　　\",\"\")&IF(申込みフォーム!BM36<>\"\",申込みフォーム!BM36&\"　　\",\"\")&IF(申込みフォーム!BN36<>\"\",申込みフォーム!BN36&\"　　\",\"\")","v":{"$error":"#VALUE!"}},{"$f":"IF($B27=VLOOKUP($B27,'受診者リスト(抽出用）'!$A:$F,1,0),VLOOKUP($B27,'受診者リスト(抽出用）'!$A:$F,3,0)&\"　（団体マスタ）\"&VLOOKUP($B27,'受診者リスト(抽出用）'!$A:$F,4,0)&\"　（枝番）\"&VLOOKUP(B27,'受診者リスト(抽出用）'!$A:$F,5,0),\"\")","v":{"$error":"#N/A"}}]
[27,{"$f":"IF(申込みフォーム!B37<>\"\",申込みフォーム!B37&\"　\"&申込みフォーム!C37,\"\")","v":""},{"$f":"IF(申込みフォーム!E37<>\"\",申込みフォーム!E37&\"　\"&申込みフォーム!F37,\"\")","v":""},{"$f":"IF(申込みフォーム!G37<>\"\",申込みフォーム!G37,\"\")","v":""},{"$f":"IF(申込みフォーム!H37<>\"\",申込みフォーム!H37,\"\")","v":""},{"$f":"IF(申込みフォーム!D37<>\"\",申込みフォーム!D37,\"\")","v":""},{"$f":"IF(申込みフォーム!I37<>\"\",REPLACE(申込みフォーム!I37,4,,\"-\"),\"\")","v":""},{"$f":"IF(申込みフォーム!J37<>\"\",申込みフォーム!J37,\"\")","v":""},{"$f":"IF(申込みフォーム!K37<>\"\",申込みフォーム!K37,\"\")","v":""},{"$f":"IF(申込みフォーム!L37<>\"\",MID(申込みフォーム!L37,1,3)&\"-\"&MID(申込みフォーム!L37,4,4)&\"-\"&MID(申込みフォーム!L37,8,4),\"\")","v":""},{"$f":"IF(申込みフォーム!M37<>\"\",申込みフォーム!M37,\"\")","v":""},{"$f":"IF(申込みフォーム!N37<>\"\",申込みフォーム!N37,\"\")","v":""},{"$f":"IF(申込みフォーム!O37<>\"\",申込みフォーム!O37,\"\")","v":""},{"$f":"IF(申込みフォーム!P37<>\"\",申込みフォーム!P37,\"\")","v":""},{"$f":"IF(申込みフォーム!Q37<>\"\",申込みフォーム!Q37,\"\")","v":""},{"$f":"IF(申込みフォーム!R37<>\"\",申込みフォーム!R37,\"\")","v":""},{"$f":"IF(申込みフォーム!S37<>\"\",申込みフォーム!S37,\"\")","v":""},{"$f":"IF(申込みフォーム!U37=\"細胞診のみ\",\"協会子宮　\",IF(申込みフォーム!U37=\"細胞診＋（自費）膣エコー\",\"協会子宮＋自費膣エコー　\",\"\"))&IF(申込みフォーム!W37<>\"\",\"協会ﾏﾝﾓ　\",\"\")&IF(申込みフォーム!Y37<>\"\",\"協会骨　\",\"\")&IF(申込みフォーム!AA37<>\"\",\"協会肝炎　\",\"\")","v":""},{"$f":"IF(申込みフォーム!AB37<>\"\",\"子宮　\",\"\")&IF(申込みフォーム!AC37<>\"\",\"ﾏﾝﾓ　\",\"\")&IF(申込みフォーム!AD37<>\"\",\"乳ｴｺｰ\",\"\")","v":""},{"$f":"IF(申込みフォーム!AE37<>\"\",\"ﾏｰｶｰ　\",\"\")&IF(申込みフォーム!AF37<>\"\",\"心機能　\",\"\")&IF(申込みフォーム!AG37<>\"\",\"ABC　\",\"\")&IF(申込みフォーム!AH37<>\"\",\"Lox　\",\"\")&IF(申込みフォーム!AI37<>\"\",\"甲状腺　\",\"\")&IF(申込みフォーム!AJ37<>\"\",\"肝炎\",\"\")","v":""},{"$f":"IF(申込みフォーム!AK37<>\"\",\"脳　\",\"\")&IF(申込みフォーム!AL37<>\"\",\"胸部CT　\",\"\")&IF(申込みフォーム!AM37<>\"\",\"肺機能　\",\"\")&IF(申込みフォーム!AN37<>\"\",\"腹ｴｺｰ　\",\"\")&IF(申込みフォーム!AO37<>\"\",\"心ｴｺｰ　\",\"\")&IF(申込みフォーム!AP37<>\"\",\"ﾌﾛｰﾗ　\",\"\")&IF(申込みフォーム!AQ37<>\"\",\"OCT　\",\"\")&IF(申込みフォーム!AR37<>\"\",\"検便　\",\"\")&IF(申込みフォーム!AS37<>\"\",\"骨　\",\"\")&IF(申込みフォーム!AT37<>\"\",\"骨＋ﾛｺﾓ\",\"\")","v":""},{"$f":"IF(申込みフォーム!AU37<>\"\",申込みフォーム!AU37&\"　　\",\"\")&IF(申込みフォーム!AV37<>\"\",申込みフォーム!AV37&\"　　\",\"\")&IF(申込みフォーム!AW37<>\"\",申込みフォーム!AW37&\"　　\",\"\")&IF(申込みフォーム!$AX37=\"〇\",\"4月　\",\"\")&IF(申込みフォーム!$AY37=\"〇\",\"5月　\",\"\")&IF(申込みフォーム!$AZ37=\"〇\",\"6月　\",\"\")&IF(申込みフォーム!$BA37=\"〇\",\"7月　\",\"\")&IF(申込みフォーム!$BB37=\"〇\",\"8月　\",\"\")&IF(申込みフォーム!$BC37=\"〇\",\"9月　\",\"\")&IF(申込みフォーム!$BD37=\"〇\",\"10月　\",\"\")&IF(申込みフォーム!$BE37=\"〇\",\"11月　\",\"\")&IF(申込みフォーム!$BF37=\"〇\",\"12月　\",\"\")&IF(申込みフォーム!$BG37=\"〇\",\"1月　\",\"\")&IF(申込みフォーム!$BH37=\"〇\",\"2月　\",\"\")&IF(申込みフォーム!$BI37=\"〇\",\"3月　\",\"\")","v":""},{"$f":"IF(申込みフォーム!BJ37<>\"\",申込みフォーム!BJ37,\"\")","v":""},{"$f":"IF(申込みフォーム!BK37<>\"\",申込みフォーム!BK37,\"\")","v":""},{"$f":"申込みフォーム!$Z37","v":""},{"$f":"IF(申込みフォーム!BL37<>\"\",申込みフォーム!BL37&\"　　\",\"\")&IF(申込みフォーム!BM37<>\"\",申込みフォーム!BM37&\"　　\",\"\")&IF(申込みフォーム!BN37<>\"\",申込みフォーム!BN37&\"　　\",\"\")","v":{"$error":"#VALUE!"}},{"$f":"IF($B28=VLOOKUP($B28,'受診者リスト(抽出用）'!$A:$F,1,0),VLOOKUP($B28,'受診者リスト(抽出用）'!$A:$F,3,0)&\"　（団体マスタ）\"&VLOOKUP($B28,'受診者リスト(抽出用）'!$A:$F,4,0)&\"　（枝番）\"&VLOOKUP(B28,'受診者リスト(抽出用）'!$A:$F,5,0),\"\")","v":{"$error":"#N/A"}}]
[28,{"$f":"IF(申込みフォーム!B38<>\"\",申込みフォーム!B38&\"　\"&申込みフォーム!C38,\"\")","v":""},{"$f":"IF(申込みフォーム!E38<>\"\",申込みフォーム!E38&\"　\"&申込みフォーム!F38,\"\")","v":""},{"$f":"IF(申込みフォーム!G38<>\"\",申込みフォーム!G38,\"\")","v":""},{"$f":"IF(申込みフォーム!H38<>\"\",申込みフォーム!H38,\"\")","v":""},{"$f":"IF(申込みフォーム!D38<>\"\",申込みフォーム!D38,\"\")","v":""},{"$f":"IF(申込みフォーム!I38<>\"\",REPLACE(申込みフォーム!I38,4,,\"-\"),\"\")","v":""},{"$f":"IF(申込みフォーム!J38<>\"\",申込みフォーム!J38,\"\")","v":""},{"$f":"IF(申込みフォーム!K38<>\"\",申込みフォーム!K38,\"\")","v":""},{"$f":"IF(申込みフォーム!L38<>\"\",MID(申込みフォーム!L38,1,3)&\"-\"&MID(申込みフォーム!L38,4,4)&\"-\"&MID(申込みフォーム!L38,8,4),\"\")","v":""},{"$f":"IF(申込みフォーム!M38<>\"\",申込みフォーム!M38,\"\")","v":""},{"$f":"IF(申込みフォーム!N38<>\"\",申込みフォーム!N38,\"\")","v":""},{"$f":"IF(申込みフォーム!O38<>\"\",申込みフォーム!O38,\"\")","v":""},{"$f":"IF(申込みフォーム!P38<>\"\",申込みフォーム!P38,\"\")","v":""},{"$f":"IF(申込みフォーム!Q38<>\"\",申込みフォーム!Q38,\"\")","v":""},{"$f":"IF(申込みフォーム!R38<>\"\",申込みフォーム!R38,\"\")","v":""},{"$f":"IF(申込みフォーム!S38<>\"\",申込みフォーム!S38,\"\")","v":""},{"$f":"IF(申込みフォーム!U38=\"細胞診のみ\",\"協会子宮　\",IF(申込みフォーム!U38=\"細胞診＋（自費）膣エコー\",\"協会子宮＋自費膣エコー　\",\"\"))&IF(申込みフォーム!W38<>\"\",\"協会ﾏﾝﾓ　\",\"\")&IF(申込みフォーム!Y38<>\"\",\"協会骨　\",\"\")&IF(申込みフォーム!AA38<>\"\",\"協会肝炎　\",\"\")","v":""},{"$f":"IF(申込みフォーム!AB38<>\"\",\"子宮　\",\"\")&IF(申込みフォーム!AC38<>\"\",\"ﾏﾝﾓ　\",\"\")&IF(申込みフォーム!AD38<>\"\",\"乳ｴｺｰ\",\"\")","v":""},{"$f":"IF(申込みフォーム!AE38<>\"\",\"ﾏｰｶｰ　\",\"\")&IF(申込みフォーム!AF38<>\"\",\"心機能　\",\"\")&IF(申込みフォーム!AG38<>\"\",\"ABC　\",\"\")&IF(申込みフォーム!AH38<>\"\",\"Lox　\",\"\")&IF(申込みフォーム!AI38<>\"\",\"甲状腺　\",\"\")&IF(申込みフォーム!AJ38<>\"\",\"肝炎\",\"\")","v":""},{"$f":"IF(申込みフォーム!AK38<>\"\",\"脳　\",\"\")&IF(申込みフォーム!AL38<>\"\",\"胸部CT　\",\"\")&IF(申込みフォーム!AM38<>\"\",\"肺機能　\",\"\")&IF(申込みフォーム!AN38<>\"\",\"腹ｴｺｰ　\",\"\")&IF(申込みフォーム!AO38<>\"\",\"心ｴｺｰ　\",\"\")&IF(申込みフォーム!AP38<>\"\",\"ﾌﾛｰﾗ　\",\"\")&IF(申込みフォーム!AQ38<>\"\",\"OCT　\",\"\")&IF(申込みフォーム!AR38<>\"\",\"検便　\",\"\")&IF(申込みフォーム!AS38<>\"\",\"骨　\",\"\")&IF(申込みフォーム!AT38<>\"\",\"骨＋ﾛｺﾓ\",\"\")","v":""},{"$f":"IF(申込みフォーム!AU38<>\"\",申込みフォーム!AU38&\"　　\",\"\")&IF(申込みフォーム!AV38<>\"\",申込みフォーム!AV38&\"　　\",\"\")&IF(申込みフォーム!AW38<>\"\",申込みフォーム!AW38&\"　　\",\"\")&IF(申込みフォーム!$AX38=\"〇\",\"4月　\",\"\")&IF(申込みフォーム!$AY38=\"〇\",\"5月　\",\"\")&IF(申込みフォーム!$AZ38=\"〇\",\"6月　\",\"\")&IF(申込みフォーム!$BA38=\"〇\",\"7月　\",\"\")&IF(申込みフォーム!$BB38=\"〇\",\"8月　\",\"\")&IF(申込みフォーム!$BC38=\"〇\",\"9月　\",\"\")&IF(申込みフォーム!$BD38=\"〇\",\"10月　\",\"\")&IF(申込みフォーム!$BE38=\"〇\",\"11月　\",\"\")&IF(申込みフォーム!$BF38=\"〇\",\"12月　\",\"\")&IF(申込みフォーム!$BG38=\"〇\",\"1月　\",\"\")&IF(申込みフォーム!$BH38=\"〇\",\"2月　\",\"\")&IF(申込みフォーム!$BI38=\"〇\",\"3月　\",\"\")","v":""},{"$f":"IF(申込みフォーム!BJ38<>\"\",申込みフォーム!BJ38,\"\")","v":""},{"$f":"IF(申込みフォーム!BK38<>\"\",申込みフォーム!BK38,\"\")","v":""},{"$f":"申込みフォーム!$Z38","v":""},{"$f":"IF(申込みフォーム!BL38<>\"\",申込みフォーム!BL38&\"　　\",\"\")&IF(申込みフォーム!BM38<>\"\",申込みフォーム!BM38&\"　　\",\"\")&IF(申込みフォーム!BN38<>\"\",申込みフォーム!BN38&\"　　\",\"\")","v":{"$error":"#VALUE!"}},{"$f":"IF($B29=VLOOKUP($B29,'受診者リスト(抽出用）'!$A:$F,1,0),VLOOKUP($B29,'受診者リスト(抽出用）'!$A:$F,3,0)&\"　（団体マスタ）\"&VLOOKUP($B29,'受診者リスト(抽出用）'!$A:$F,4,0)&\"　（枝番）\"&VLOOKUP(B29,'受診者リスト(抽出用）'!$A:$F,5,0),\"\")","v":{"$error":"#N/A"}}]
[29,{"$f":"IF(申込みフォーム!B39<>\"\",申込みフォーム!B39&\"　\"&申込みフォーム!C39,\"\")","v":""},{"$f":"IF(申込みフォーム!E39<>\"\",申込みフォーム!E39&\"　\"&申込みフォーム!F39,\"\")","v":""},{"$f":"IF(申込みフォーム!G39<>\"\",申込みフォーム!G39,\"\")","v":""},{"$f":"IF(申込みフォーム!H39<>\"\",申込みフォーム!H39,\"\")","v":""},{"$f":"IF(申込みフォーム!D39<>\"\",申込みフォーム!D39,\"\")","v":""},{"$f":"IF(申込みフォーム!I39<>\"\",REPLACE(申込みフォーム!I39,4,,\"-\"),\"\")","v":""},{"$f":"IF(申込みフォーム!J39<>\"\",申込みフォーム!J39,\"\")","v":""},{"$f":"IF(申込みフォーム!K39<>\"\",申込みフォーム!K39,\"\")","v":""},{"$f":"IF(申込みフォーム!L39<>\"\",MID(申込みフォーム!L39,1,3)&\"-\"&MID(申込みフォーム!L39,4,4)&\"-\"&MID(申込みフォーム!L39,8,4),\"\")","v":""},{"$f":"IF(申込みフォーム!M39<>\"\",申込みフォーム!M39,\"\")","v":""},{"$f":"IF(申込みフォーム!N39<>\"\",申込みフォーム!N39,\"\")","v":""},{"$f":"IF(申込みフォーム!O39<>\"\",申込みフォーム!O39,\"\")","v":""},{"$f":"IF(申込みフォーム!P39<>\"\",申込みフォーム!P39,\"\")","v":""},{"$f":"IF(申込みフォーム!Q39<>\"\",申込みフォーム!Q39,\"\")","v":""},{"$f":"IF(申込みフォーム!R39<>\"\",申込みフォーム!R39,\"\")","v":""},{"$f":"IF(申込みフォーム!S39<>\"\",申込みフォーム!S39,\"\")","v":""},{"$f":"IF(申込みフォーム!U39=\"細胞診のみ\",\"協会子宮　\",IF(申込みフォーム!U39=\"細胞診＋（自費）膣エコー\",\"協会子宮＋自費膣エコー　\",\"\"))&IF(申込みフォーム!W39<>\"\",\"協会ﾏﾝﾓ　\",\"\")&IF(申込みフォーム!Y39<>\"\",\"協会骨　\",\"\")&IF(申込みフォーム!AA39<>\"\",\"協会肝炎　\",\"\")","v":""},{"$f":"IF(申込みフォーム!AB39<>\"\",\"子宮　\",\"\")&IF(申込みフォーム!AC39<>\"\",\"ﾏﾝﾓ　\",\"\")&IF(申込みフォーム!AD39<>\"\",\"乳ｴｺｰ\",\"\")","v":""},{"$f":"IF(申込みフォーム!AE39<>\"\",\"ﾏｰｶｰ　\",\"\")&IF(申込みフォーム!AF39<>\"\",\"心機能　\",\"\")&IF(申込みフォーム!AG39<>\"\",\"ABC　\",\"\")&IF(申込みフォーム!AH39<>\"\",\"Lox　\",\"\")&IF(申込みフォーム!AI39<>\"\",\"甲状腺　\",\"\")&IF(申込みフォーム!AJ39<>\"\",\"肝炎\",\"\")","v":""},{"$f":"IF(申込みフォーム!AK39<>\"\",\"脳　\",\"\")&IF(申込みフォーム!AL39<>\"\",\"胸部CT　\",\"\")&IF(申込みフォーム!AM39<>\"\",\"肺機能　\",\"\")&IF(申込みフォーム!AN39<>\"\",\"腹ｴｺｰ　\",\"\")&IF(申込みフォーム!AO39<>\"\",\"心ｴｺｰ　\",\"\")&IF(申込みフォーム!AP39<>\"\",\"ﾌﾛｰﾗ　\",\"\")&IF(申込みフォーム!AQ39<>\"\",\"OCT　\",\"\")&IF(申込みフォーム!AR39<>\"\",\"検便　\",\"\")&IF(申込みフォーム!AS39<>\"\",\"骨　\",\"\")&IF(申込みフォーム!AT39<>\"\",\"骨＋ﾛｺﾓ\",\"\")","v":""},{"$f":"IF(申込みフォーム!AU39<>\"\",申込みフォーム!AU39&\"　　\",\"\")&IF(申込みフォーム!AV39<>\"\",申込みフォーム!AV39&\"　　\",\"\")&IF(申込みフォーム!AW39<>\"\",申込みフォーム!AW39&\"　　\",\"\")&IF(申込みフォーム!$AX39=\"〇\",\"4月　\",\"\")&IF(申込みフォーム!$AY39=\"〇\",\"5月　\",\"\")&IF(申込みフォーム!$AZ39=\"〇\",\"6月　\",\"\")&IF(申込みフォーム!$BA39=\"〇\",\"7月　\",\"\")&IF(申込みフォーム!$BB39=\"〇\",\"8月　\",\"\")&IF(申込みフォーム!$BC39=\"〇\",\"9月　\",\"\")&IF(申込みフォーム!$BD39=\"〇\",\"10月　\",\"\")&IF(申込みフォーム!$BE39=\"〇\",\"11月　\",\"\")&IF(申込みフォーム!$BF39=\"〇\",\"12月　\",\"\")&IF(申込みフォーム!$BG39=\"〇\",\"1月　\",\"\")&IF(申込みフォーム!$BH39=\"〇\",\"2月　\",\"\")&IF(申込みフォーム!$BI39=\"〇\",\"3月　\",\"\")","v":""},{"$f":"IF(申込みフォーム!BJ39<>\"\",申込みフォーム!BJ39,\"\")","v":""},{"$f":"IF(申込みフォーム!BK39<>\"\",申込みフォーム!BK39,\"\")","v":""},{"$f":"申込みフォーム!$Z39","v":""},{"$f":"IF(申込みフォーム!BL39<>\"\",申込みフォーム!BL39&\"　　\",\"\")&IF(申込みフォーム!BM39<>\"\",申込みフォーム!BM39&\"　　\",\"\")&IF(申込みフォーム!BN39<>\"\",申込みフォーム!BN39&\"　　\",\"\")","v":{"$error":"#VALUE!"}},{"$f":"IF($B30=VLOOKUP($B30,'受診者リスト(抽出用）'!$A:$F,1,0),VLOOKUP($B30,'受診者リスト(抽出用）'!$A:$F,3,0)&\"　（団体マスタ）\"&VLOOKUP($B30,'受診者リスト(抽出用）'!$A:$F,4,0)&\"　（枝番）\"&VLOOKUP(B30,'受診者リスト(抽出用）'!$A:$F,5,0),\"\")","v":{"$error":"#N/A"}}]
[30,{"$f":"IF(申込みフォーム!B40<>\"\",申込みフォーム!B40&\"　\"&申込みフォーム!C40,\"\")","v":""},{"$f":"IF(申込みフォーム!E40<>\"\",申込みフォーム!E40&\"　\"&申込みフォーム!F40,\"\")","v":""},{"$f":"IF(申込みフォーム!G40<>\"\",申込みフォーム!G40,\"\")","v":""},{"$f":"IF(申込みフォーム!H40<>\"\",申込みフォーム!H40,\"\")","v":""},{"$f":"IF(申込みフォーム!D40<>\"\",申込みフォーム!D40,\"\")","v":""},{"$f":"IF(申込みフォーム!I40<>\"\",REPLACE(申込みフォーム!I40,4,,\"-\"),\"\")","v":""},{"$f":"IF(申込みフォーム!J40<>\"\",申込みフォーム!J40,\"\")","v":""},{"$f":"IF(申込みフォーム!K40<>\"\",申込みフォーム!K40,\"\")","v":""},{"$f":"IF(申込みフォーム!L40<>\"\",MID(申込みフォーム!L40,1,3)&\"-\"&MID(申込みフォーム!L40,4,4)&\"-\"&MID(申込みフォーム!L40,8,4),\"\")","v":""},{"$f":"IF(申込みフォーム!M40<>\"\",申込みフォーム!M40,\"\")","v":""},{"$f":"IF(申込みフォーム!N40<>\"\",申込みフォーム!N40,\"\")","v":""},{"$f":"IF(申込みフォーム!O40<>\"\",申込みフォーム!O40,\"\")","v":""},{"$f":"IF(申込みフォーム!P40<>\"\",申込みフォーム!P40,\"\")","v":""},{"$f":"IF(申込みフォーム!Q40<>\"\",申込みフォーム!Q40,\"\")","v":""},{"$f":"IF(申込みフォーム!R40<>\"\",申込みフォーム!R40,\"\")","v":""},{"$f":"IF(申込みフォーム!S40<>\"\",申込みフォーム!S40,\"\")","v":""},{"$f":"IF(申込みフォーム!U40=\"細胞診のみ\",\"協会子宮　\",IF(申込みフォーム!U40=\"細胞診＋（自費）膣エコー\",\"協会子宮＋自費膣エコー　\",\"\"))&IF(申込みフォーム!W40<>\"\",\"協会ﾏﾝﾓ　\",\"\")&IF(申込みフォーム!Y40<>\"\",\"協会骨　\",\"\")&IF(申込みフォーム!AA40<>\"\",\"協会肝炎　\",\"\")","v":""},{"$f":"IF(申込みフォーム!AB40<>\"\",\"子宮　\",\"\")&IF(申込みフォーム!AC40<>\"\",\"ﾏﾝﾓ　\",\"\")&IF(申込みフォーム!AD40<>\"\",\"乳ｴｺｰ\",\"\")","v":""},{"$f":"IF(申込みフォーム!AE40<>\"\",\"ﾏｰｶｰ　\",\"\")&IF(申込みフォーム!AF40<>\"\",\"心機能　\",\"\")&IF(申込みフォーム!AG40<>\"\",\"ABC　\",\"\")&IF(申込みフォーム!AH40<>\"\",\"Lox　\",\"\")&IF(申込みフォーム!AI40<>\"\",\"甲状腺　\",\"\")&IF(申込みフォーム!AJ40<>\"\",\"肝炎\",\"\")","v":""},{"$f":"IF(申込みフォーム!AK40<>\"\",\"脳　\",\"\")&IF(申込みフォーム!AL40<>\"\",\"胸部CT　\",\"\")&IF(申込みフォーム!AM40<>\"\",\"肺機能　\",\"\")&IF(申込みフォーム!AN40<>\"\",\"腹ｴｺｰ　\",\"\")&IF(申込みフォーム!AO40<>\"\",\"心ｴｺｰ　\",\"\")&IF(申込みフォーム!AP40<>\"\",\"ﾌﾛｰﾗ　\",\"\")&IF(申込みフォーム!AQ40<>\"\",\"OCT　\",\"\")&IF(申込みフォーム!AR40<>\"\",\"検便　\",\"\")&IF(申込みフォーム!AS40<>\"\",\"骨　\",\"\")&IF(申込みフォーム!AT40<>\"\",\"骨＋ﾛｺﾓ\",\"\")","v":""},{"$f":"IF(申込みフォーム!AU40<>\"\",申込みフォーム!AU40&\"　　\",\"\")&IF(申込みフォーム!AV40<>\"\",申込みフォーム!AV40&\"　　\",\"\")&IF(申込みフォーム!AW40<>\"\",申込みフォーム!AW40&\"　　\",\"\")&IF(申込みフォーム!$AX40=\"〇\",\"4月　\",\"\")&IF(申込みフォーム!$AY40=\"〇\",\"5月　\",\"\")&IF(申込みフォーム!$AZ40=\"〇\",\"6月　\",\"\")&IF(申込みフォーム!$BA40=\"〇\",\"7月　\",\"\")&IF(申込みフォーム!$BB40=\"〇\",\"8月　\",\"\")&IF(申込みフォーム!$BC40=\"〇\",\"9月　\",\"\")&IF(申込みフォーム!$BD40=\"〇\",\"10月　\",\"\")&IF(申込みフォーム!$BE40=\"〇\",\"11月　\",\"\")&IF(申込みフォーム!$BF40=\"〇\",\"12月　\",\"\")&IF(申込みフォーム!$BG40=\"〇\",\"1月　\",\"\")&IF(申込みフォーム!$BH40=\"〇\",\"2月　\",\"\")&IF(申込みフォーム!$BI40=\"〇\",\"3月　\",\"\")","v":""},{"$f":"IF(申込みフォーム!BJ40<>\"\",申込みフォーム!BJ40,\"\")","v":""},{"$f":"IF(申込みフォーム!BK40<>\"\",申込みフォーム!BK40,\"\")","v":""},{"$f":"申込みフォーム!$Z40","v":""},{"$f":"IF(申込みフォーム!BL40<>\"\",申込みフォーム!BL40&\"　　\",\"\")&IF(申込みフォーム!BM40<>\"\",申込みフォーム!BM40&\"　　\",\"\")&IF(申込みフォーム!BN40<>\"\",申込みフォーム!BN40&\"　　\",\"\")","v":{"$error":"#VALUE!"}},{"$f":"IF($B31=VLOOKUP($B31,'受診者リスト(抽出用）'!$A:$F,1,0),VLOOKUP($B31,'受診者リスト(抽出用）'!$A:$F,3,0)&\"　（団体マスタ）\"&VLOOKUP($B31,'受診者リスト(抽出用）'!$A:$F,4,0)&\"　（枝番）\"&VLOOKUP(B31,'受診者リスト(抽出用）'!$A:$F,5,0),\"\")","v":{"$error":"#N/A"}}]
[31,{"$f":"IF(申込みフォーム!B41<>\"\",申込みフォーム!B41&\"　\"&申込みフォーム!C41,\"\")","v":""},{"$f":"IF(申込みフォーム!E41<>\"\",申込みフォーム!E41&\"　\"&申込みフォーム!F41,\"\")","v":""},{"$f":"IF(申込みフォーム!G41<>\"\",申込みフォーム!G41,\"\")","v":""},{"$f":"IF(申込みフォーム!H41<>\"\",申込みフォーム!H41,\"\")","v":""},{"$f":"IF(申込みフォーム!D41<>\"\",申込みフォーム!D41,\"\")","v":""},{"$f":"IF(申込みフォーム!I41<>\"\",REPLACE(申込みフォーム!I41,4,,\"-\"),\"\")","v":""},{"$f":"IF(申込みフォーム!J41<>\"\",申込みフォーム!J41,\"\")","v":""},{"$f":"IF(申込みフォーム!K41<>\"\",申込みフォーム!K41,\"\")","v":""},{"$f":"IF(申込みフォーム!L41<>\"\",MID(申込みフォーム!L41,1,3)&\"-\"&MID(申込みフォーム!L41,4,4)&\"-\"&MID(申込みフォーム!L41,8,4),\"\")","v":""},{"$f":"IF(申込みフォーム!M41<>\"\",申込みフォーム!M41,\"\")","v":""},{"$f":"IF(申込みフォーム!N41<>\"\",申込みフォーム!N41,\"\")","v":""},{"$f":"IF(申込みフォーム!O41<>\"\",申込みフォーム!O41,\"\")","v":""},{"$f":"IF(申込みフォーム!P41<>\"\",申込みフォーム!P41,\"\")","v":""},{"$f":"IF(申込みフォーム!Q41<>\"\",申込みフォーム!Q41,\"\")","v":""},{"$f":"IF(申込みフォーム!R41<>\"\",申込みフォーム!R41,\"\")","v":""},{"$f":"IF(申込みフォーム!S41<>\"\",申込みフォーム!S41,\"\")","v":""},{"$f":"IF(申込みフォーム!U41=\"細胞診のみ\",\"協会子宮　\",IF(申込みフォーム!U41=\"細胞診＋（自費）膣エコー\",\"協会子宮＋自費膣エコー　\",\"\"))&IF(申込みフォーム!W41<>\"\",\"協会ﾏﾝﾓ　\",\"\")&IF(申込みフォーム!Y41<>\"\",\"協会骨　\",\"\")&IF(申込みフォーム!AA41<>\"\",\"協会肝炎　\",\"\")","v":""},{"$f":"IF(申込みフォーム!AB41<>\"\",\"子宮　\",\"\")&IF(申込みフォーム!AC41<>\"\",\"ﾏﾝﾓ　\",\"\")&IF(申込みフォーム!AD41<>\"\",\"乳ｴｺｰ\",\"\")","v":""},{"$f":"IF(申込みフォーム!AE41<>\"\",\"ﾏｰｶｰ　\",\"\")&IF(申込みフォーム!AF41<>\"\",\"心機能　\",\"\")&IF(申込みフォーム!AG41<>\"\",\"ABC　\",\"\")&IF(申込みフォーム!AH41<>\"\",\"Lox　\",\"\")&IF(申込みフォーム!AI41<>\"\",\"甲状腺　\",\"\")&IF(申込みフォーム!AJ41<>\"\",\"肝炎\",\"\")","v":""},{"$f":"IF(申込みフォーム!AK41<>\"\",\"脳　\",\"\")&IF(申込みフォーム!AL41<>\"\",\"胸部CT　\",\"\")&IF(申込みフォーム!AM41<>\"\",\"肺機能　\",\"\")&IF(申込みフォーム!AN41<>\"\",\"腹ｴｺｰ　\",\"\")&IF(申込みフォーム!AO41<>\"\",\"心ｴｺｰ　\",\"\")&IF(申込みフォーム!AP41<>\"\",\"ﾌﾛｰﾗ　\",\"\")&IF(申込みフォーム!AQ41<>\"\",\"OCT　\",\"\")&IF(申込みフォーム!AR41<>\"\",\"検便　\",\"\")&IF(申込みフォーム!AS41<>\"\",\"骨　\",\"\")&IF(申込みフォーム!AT41<>\"\",\"骨＋ﾛｺﾓ\",\"\")","v":""},{"$f":"IF(申込みフォーム!AU41<>\"\",申込みフォーム!AU41&\"　　\",\"\")&IF(申込みフォーム!AV41<>\"\",申込みフォーム!AV41&\"　　\",\"\")&IF(申込みフォーム!AW41<>\"\",申込みフォーム!AW41&\"　　\",\"\")&IF(申込みフォーム!$AX41=\"〇\",\"4月　\",\"\")&IF(申込みフォーム!$AY41=\"〇\",\"5月　\",\"\")&IF(申込みフォーム!$AZ41=\"〇\",\"6月　\",\"\")&IF(申込みフォーム!$BA41=\"〇\",\"7月　\",\"\")&IF(申込みフォーム!$BB41=\"〇\",\"8月　\",\"\")&IF(申込みフォーム!$BC41=\"〇\",\"9月　\",\"\")&IF(申込みフォーム!$BD41=\"〇\",\"10月　\",\"\")&IF(申込みフォーム!$BE41=\"〇\",\"11月　\",\"\")&IF(申込みフォーム!$BF41=\"〇\",\"12月　\",\"\")&IF(申込みフォーム!$BG41=\"〇\",\"1月　\",\"\")&IF(申込みフォーム!$BH41=\"〇\",\"2月　\",\"\")&IF(申込みフォーム!$BI41=\"〇\",\"3月　\",\"\")","v":""},{"$f":"IF(申込みフォーム!BJ41<>\"\",申込みフォーム!BJ41,\"\")","v":""},{"$f":"IF(申込みフォーム!BK41<>\"\",申込みフォーム!BK41,\"\")","v":""},{"$f":"申込みフォーム!$Z41","v":""},{"$f":"IF(申込みフォーム!BL41<>\"\",申込みフォーム!BL41&\"　　\",\"\")&IF(申込みフォーム!BM41<>\"\",申込みフォーム!BM41&\"　　\",\"\")&IF(申込みフォーム!BN41<>\"\",申込みフォーム!BN41&\"　　\",\"\")","v":{"$error":"#VALUE!"}},{"$f":"IF($B32=VLOOKUP($B32,'受診者リスト(抽出用）'!$A:$F,1,0),VLOOKUP($B32,'受診者リスト(抽出用）'!$A:$F,3,0)&\"　（団体マスタ）\"&VLOOKUP($B32,'受診者リスト(抽出用）'!$A:$F,4,0)&\"　（枝番）\"&VLOOKUP(B32,'受診者リスト(抽出用）'!$A:$F,5,0),\"\")","v":{"$error":"#N/A"}}]
[32,{"$f":"IF(申込みフォーム!B42<>\"\",申込みフォーム!B42&\"　\"&申込みフォーム!C42,\"\")","v":""},{"$f":"IF(申込みフォーム!E42<>\"\",申込みフォーム!E42&\"　\"&申込みフォーム!F42,\"\")","v":""},{"$f":"IF(申込みフォーム!G42<>\"\",申込みフォーム!G42,\"\")","v":""},{"$f":"IF(申込みフォーム!H42<>\"\",申込みフォーム!H42,\"\")","v":""},{"$f":"IF(申込みフォーム!D42<>\"\",申込みフォーム!D42,\"\")","v":""},{"$f":"IF(申込みフォーム!I42<>\"\",REPLACE(申込みフォーム!I42,4,,\"-\"),\"\")","v":""},{"$f":"IF(申込みフォーム!J42<>\"\",申込みフォーム!J42,\"\")","v":""},{"$f":"IF(申込みフォーム!K42<>\"\",申込みフォーム!K42,\"\")","v":""},{"$f":"IF(申込みフォーム!L42<>\"\",MID(申込みフォーム!L42,1,3)&\"-\"&MID(申込みフォーム!L42,4,4)&\"-\"&MID(申込みフォーム!L42,8,4),\"\")","v":""},{"$f":"IF(申込みフォーム!M42<>\"\",申込みフォーム!M42,\"\")","v":""},{"$f":"IF(申込みフォーム!N42<>\"\",申込みフォーム!N42,\"\")","v":""},{"$f":"IF(申込みフォーム!O42<>\"\",申込みフォーム!O42,\"\")","v":""},{"$f":"IF(申込みフォーム!P42<>\"\",申込みフォーム!P42,\"\")","v":""},{"$f":"IF(申込みフォーム!Q42<>\"\",申込みフォーム!Q42,\"\")","v":""},{"$f":"IF(申込みフォーム!R42<>\"\",申込みフォーム!R42,\"\")","v":""},{"$f":"IF(申込みフォーム!S42<>\"\",申込みフォーム!S42,\"\")","v":""},{"$f":"IF(申込みフォーム!U42=\"細胞診のみ\",\"協会子宮　\",IF(申込みフォーム!U42=\"細胞診＋（自費）膣エコー\",\"協会子宮＋自費膣エコー　\",\"\"))&IF(申込みフォーム!W42<>\"\",\"協会ﾏﾝﾓ　\",\"\")&IF(申込みフォーム!Y42<>\"\",\"協会骨　\",\"\")&IF(申込みフォーム!AA42<>\"\",\"協会肝炎　\",\"\")","v":""},{"$f":"IF(申込みフォーム!AB42<>\"\",\"子宮　\",\"\")&IF(申込みフォーム!AC42<>\"\",\"ﾏﾝﾓ　\",\"\")&IF(申込みフォーム!AD42<>\"\",\"乳ｴｺｰ\",\"\")","v":""},{"$f":"IF(申込みフォーム!AE42<>\"\",\"ﾏｰｶｰ　\",\"\")&IF(申込みフォーム!AF42<>\"\",\"心機能　\",\"\")&IF(申込みフォーム!AG42<>\"\",\"ABC　\",\"\")&IF(申込みフォーム!AH42<>\"\",\"Lox　\",\"\")&IF(申込みフォーム!AI42<>\"\",\"甲状腺　\",\"\")&IF(申込みフォーム!AJ42<>\"\",\"肝炎\",\"\")","v":""},{"$f":"IF(申込みフォーム!AK42<>\"\",\"脳　\",\"\")&IF(申込みフォーム!AL42<>\"\",\"胸部CT　\",\"\")&IF(申込みフォーム!AM42<>\"\",\"肺機能　\",\"\")&IF(申込みフォーム!AN42<>\"\",\"腹ｴｺｰ　\",\"\")&IF(申込みフォーム!AO42<>\"\",\"心ｴｺｰ　\",\"\")&IF(申込みフォーム!AP42<>\"\",\"ﾌﾛｰﾗ　\",\"\")&IF(申込みフォーム!AQ42<>\"\",\"OCT　\",\"\")&IF(申込みフォーム!AR42<>\"\",\"検便　\",\"\")&IF(申込みフォーム!AS42<>\"\",\"骨　\",\"\")&IF(申込みフォーム!AT42<>\"\",\"骨＋ﾛｺﾓ\",\"\")","v":""},{"$f":"IF(申込みフォーム!AU42<>\"\",申込みフォーム!AU42&\"　　\",\"\")&IF(申込みフォーム!AV42<>\"\",申込みフォーム!AV42&\"　　\",\"\")&IF(申込みフォーム!AW42<>\"\",申込みフォーム!AW42&\"　　\",\"\")&IF(申込みフォーム!$AX42=\"〇\",\"4月　\",\"\")&IF(申込みフォーム!$AY42=\"〇\",\"5月　\",\"\")&IF(申込みフォーム!$AZ42=\"〇\",\"6月　\",\"\")&IF(申込みフォーム!$BA42=\"〇\",\"7月　\",\"\")&IF(申込みフォーム!$BB42=\"〇\",\"8月　\",\"\")&IF(申込みフォーム!$BC42=\"〇\",\"9月　\",\"\")&IF(申込みフォーム!$BD42=\"〇\",\"10月　\",\"\")&IF(申込みフォーム!$BE42=\"〇\",\"11月　\",\"\")&IF(申込みフォーム!$BF42=\"〇\",\"12月　\",\"\")&IF(申込みフォーム!$BG42=\"〇\",\"1月　\",\"\")&IF(申込みフォーム!$BH42=\"〇\",\"2月　\",\"\")&IF(申込みフォーム!$BI42=\"〇\",\"3月　\",\"\")","v":""},{"$f":"IF(申込みフォーム!BJ42<>\"\",申込みフォーム!BJ42,\"\")","v":""},{"$f":"IF(申込みフォーム!BK42<>\"\",申込みフォーム!BK42,\"\")","v":""},{"$f":"申込みフォーム!$Z42","v":""},{"$f":"IF(申込みフォーム!BL42<>\"\",申込みフォーム!BL42&\"　　\",\"\")&IF(申込みフォーム!BM42<>\"\",申込みフォーム!BM42&\"　　\",\"\")&IF(申込みフォーム!BN42<>\"\",申込みフォーム!BN42&\"　　\",\"\")","v":{"$error":"#VALUE!"}},{"$f":"IF($B33=VLOOKUP($B33,'受診者リスト(抽出用）'!$A:$F,1,0),VLOOKUP($B33,'受診者リスト(抽出用）'!$A:$F,3,0)&\"　（団体マスタ）\"&VLOOKUP($B33,'受診者リスト(抽出用）'!$A:$F,4,0)&\"　（枝番）\"&VLOOKUP(B33,'受診者リスト(抽出用）'!$A:$F,5,0),\"\")","v":{"$error":"#N/A"}}]
[33,{"$f":"IF(申込みフォーム!B43<>\"\",申込みフォーム!B43&\"　\"&申込みフォーム!C43,\"\")","v":""},{"$f":"IF(申込みフォーム!E43<>\"\",申込みフォーム!E43&\"　\"&申込みフォーム!F43,\"\")","v":""},{"$f":"IF(申込みフォーム!G43<>\"\",申込みフォーム!G43,\"\")","v":""},{"$f":"IF(申込みフォーム!H43<>\"\",申込みフォーム!H43,\"\")","v":""},{"$f":"IF(申込みフォーム!D43<>\"\",申込みフォーム!D43,\"\")","v":""},{"$f":"IF(申込みフォーム!I43<>\"\",REPLACE(申込みフォーム!I43,4,,\"-\"),\"\")","v":""},{"$f":"IF(申込みフォーム!J43<>\"\",申込みフォーム!J43,\"\")","v":""},{"$f":"IF(申込みフォーム!K43<>\"\",申込みフォーム!K43,\"\")","v":""},{"$f":"IF(申込みフォーム!L43<>\"\",MID(申込みフォーム!L43,1,3)&\"-\"&MID(申込みフォーム!L43,4,4)&\"-\"&MID(申込みフォーム!L43,8,4),\"\")","v":""},{"$f":"IF(申込みフォーム!M43<>\"\",申込みフォーム!M43,\"\")","v":""},{"$f":"IF(申込みフォーム!N43<>\"\",申込みフォーム!N43,\"\")","v":""},{"$f":"IF(申込みフォーム!O43<>\"\",申込みフォーム!O43,\"\")","v":""},{"$f":"IF(申込みフォーム!P43<>\"\",申込みフォーム!P43,\"\")","v":""},{"$f":"IF(申込みフォーム!Q43<>\"\",申込みフォーム!Q43,\"\")","v":""},{"$f":"IF(申込みフォーム!R43<>\"\",申込みフォーム!R43,\"\")","v":""},{"$f":"IF(申込みフォーム!S43<>\"\",申込みフォーム!S43,\"\")","v":""},{"$f":"IF(申込みフォーム!U43=\"細胞診のみ\",\"協会子宮　\",IF(申込みフォーム!U43=\"細胞診＋（自費）膣エコー\",\"協会子宮＋自費膣エコー　\",\"\"))&IF(申込みフォーム!W43<>\"\",\"協会ﾏﾝﾓ　\",\"\")&IF(申込みフォーム!Y43<>\"\",\"協会骨　\",\"\")&IF(申込みフォーム!AA43<>\"\",\"協会肝炎　\",\"\")","v":""},{"$f":"IF(申込みフォーム!AB43<>\"\",\"子宮　\",\"\")&IF(申込みフォーム!AC43<>\"\",\"ﾏﾝﾓ　\",\"\")&IF(申込みフォーム!AD43<>\"\",\"乳ｴｺｰ\",\"\")","v":""},{"$f":"IF(申込みフォーム!AE43<>\"\",\"ﾏｰｶｰ　\",\"\")&IF(申込みフォーム!AF43<>\"\",\"心機能　\",\"\")&IF(申込みフォーム!AG43<>\"\",\"ABC　\",\"\")&IF(申込みフォーム!AH43<>\"\",\"Lox　\",\"\")&IF(申込みフォーム!AI43<>\"\",\"甲状腺　\",\"\")&IF(申込みフォーム!AJ43<>\"\",\"肝炎\",\"\")","v":""},{"$f":"IF(申込みフォーム!AK43<>\"\",\"脳　\",\"\")&IF(申込みフォーム!AL43<>\"\",\"胸部CT　\",\"\")&IF(申込みフォーム!AM43<>\"\",\"肺機能　\",\"\")&IF(申込みフォーム!AN43<>\"\",\"腹ｴｺｰ　\",\"\")&IF(申込みフォーム!AO43<>\"\",\"心ｴｺｰ　\",\"\")&IF(申込みフォーム!AP43<>\"\",\"ﾌﾛｰﾗ　\",\"\")&IF(申込みフォーム!AQ43<>\"\",\"OCT　\",\"\")&IF(申込みフォーム!AR43<>\"\",\"検便　\",\"\")&IF(申込みフォーム!AS43<>\"\",\"骨　\",\"\")&IF(申込みフォーム!AT43<>\"\",\"骨＋ﾛｺﾓ\",\"\")","v":""},{"$f":"IF(申込みフォーム!AU43<>\"\",申込みフォーム!AU43&\"　　\",\"\")&IF(申込みフォーム!AV43<>\"\",申込みフォーム!AV43&\"　　\",\"\")&IF(申込みフォーム!AW43<>\"\",申込みフォーム!AW43&\"　　\",\"\")&IF(申込みフォーム!$AX43=\"〇\",\"4月　\",\"\")&IF(申込みフォーム!$AY43=\"〇\",\"5月　\",\"\")&IF(申込みフォーム!$AZ43=\"〇\",\"6月　\",\"\")&IF(申込みフォーム!$BA43=\"〇\",\"7月　\",\"\")&IF(申込みフォーム!$BB43=\"〇\",\"8月　\",\"\")&IF(申込みフォーム!$BC43=\"〇\",\"9月　\",\"\")&IF(申込みフォーム!$BD43=\"〇\",\"10月　\",\"\")&IF(申込みフォーム!$BE43=\"〇\",\"11月　\",\"\")&IF(申込みフォーム!$BF43=\"〇\",\"12月　\",\"\")&IF(申込みフォーム!$BG43=\"〇\",\"1月　\",\"\")&IF(申込みフォーム!$BH43=\"〇\",\"2月　\",\"\")&IF(申込みフォーム!$BI43=\"〇\",\"3月　\",\"\")","v":""},{"$f":"IF(申込みフォーム!BJ43<>\"\",申込みフォーム!BJ43,\"\")","v":""},{"$f":"IF(申込みフォーム!BK43<>\"\",申込みフォーム!BK43,\"\")","v":""},{"$f":"申込みフォーム!$Z43","v":""},{"$f":"IF(申込みフォーム!BL43<>\"\",申込みフォーム!BL43&\"　　\",\"\")&IF(申込みフォーム!BM43<>\"\",申込みフォーム!BM43&\"　　\",\"\")&IF(申込みフォーム!BN43<>\"\",申込みフォーム!BN43&\"　　\",\"\")","v":{"$error":"#VALUE!"}},{"$f":"IF($B34=VLOOKUP($B34,'受診者リスト(抽出用）'!$A:$F,1,0),VLOOKUP($B34,'受診者リスト(抽出用）'!$A:$F,3,0)&\"　（団体マスタ）\"&VLOOKUP($B34,'受診者リスト(抽出用）'!$A:$F,4,0)&\"　（枝番）\"&VLOOKUP(B34,'受診者リスト(抽出用）'!$A:$F,5,0),\"\")","v":{"$error":"#N/A"}}]
[34,{"$f":"IF(申込みフォーム!B44<>\"\",申込みフォーム!B44&\"　\"&申込みフォーム!C44,\"\")","v":""},{"$f":"IF(申込みフォーム!E44<>\"\",申込みフォーム!E44&\"　\"&申込みフォーム!F44,\"\")","v":""},{"$f":"IF(申込みフォーム!G44<>\"\",申込みフォーム!G44,\"\")","v":""},{"$f":"IF(申込みフォーム!H44<>\"\",申込みフォーム!H44,\"\")","v":""},{"$f":"IF(申込みフォーム!D44<>\"\",申込みフォーム!D44,\"\")","v":""},{"$f":"IF(申込みフォーム!I44<>\"\",REPLACE(申込みフォーム!I44,4,,\"-\"),\"\")","v":""},{"$f":"IF(申込みフォーム!J44<>\"\",申込みフォーム!J44,\"\")","v":""},{"$f":"IF(申込みフォーム!K44<>\"\",申込みフォーム!K44,\"\")","v":""},{"$f":"IF(申込みフォーム!L44<>\"\",MID(申込みフォーム!L44,1,3)&\"-\"&MID(申込みフォーム!L44,4,4)&\"-\"&MID(申込みフォーム!L44,8,4),\"\")","v":""},{"$f":"IF(申込みフォーム!M44<>\"\",申込みフォーム!M44,\"\")","v":""},{"$f":"IF(申込みフォーム!N44<>\"\",申込みフォーム!N44,\"\")","v":""},{"$f":"IF(申込みフォーム!O44<>\"\",申込みフォーム!O44,\"\")","v":""},{"$f":"IF(申込みフォーム!P44<>\"\",申込みフォーム!P44,\"\")","v":""},{"$f":"IF(申込みフォーム!Q44<>\"\",申込みフォーム!Q44,\"\")","v":""},{"$f":"IF(申込みフォーム!R44<>\"\",申込みフォーム!R44,\"\")","v":""},{"$f":"IF(申込みフォーム!S44<>\"\",申込みフォーム!S44,\"\")","v":""},{"$f":"IF(申込みフォーム!U44=\"細胞診のみ\",\"協会子宮　\",IF(申込みフォーム!U44=\"細胞診＋（自費）膣エコー\",\"協会子宮＋自費膣エコー　\",\"\"))&IF(申込みフォーム!W44<>\"\",\"協会ﾏﾝﾓ　\",\"\")&IF(申込みフォーム!Y44<>\"\",\"協会骨　\",\"\")&IF(申込みフォーム!AA44<>\"\",\"協会肝炎　\",\"\")","v":""},{"$f":"IF(申込みフォーム!AB44<>\"\",\"子宮　\",\"\")&IF(申込みフォーム!AC44<>\"\",\"ﾏﾝﾓ　\",\"\")&IF(申込みフォーム!AD44<>\"\",\"乳ｴｺｰ\",\"\")","v":""},{"$f":"IF(申込みフォーム!AE44<>\"\",\"ﾏｰｶｰ　\",\"\")&IF(申込みフォーム!AF44<>\"\",\"心機能　\",\"\")&IF(申込みフォーム!AG44<>\"\",\"ABC　\",\"\")&IF(申込みフォーム!AH44<>\"\",\"Lox　\",\"\")&IF(申込みフォーム!AI44<>\"\",\"甲状腺　\",\"\")&IF(申込みフォーム!AJ44<>\"\",\"肝炎\",\"\")","v":""},{"$f":"IF(申込みフォーム!AK44<>\"\",\"脳　\",\"\")&IF(申込みフォーム!AL44<>\"\",\"胸部CT　\",\"\")&IF(申込みフォーム!AM44<>\"\",\"肺機能　\",\"\")&IF(申込みフォーム!AN44<>\"\",\"腹ｴｺｰ　\",\"\")&IF(申込みフォーム!AO44<>\"\",\"心ｴｺｰ　\",\"\")&IF(申込みフォーム!AP44<>\"\",\"ﾌﾛｰﾗ　\",\"\")&IF(申込みフォーム!AQ44<>\"\",\"OCT　\",\"\")&IF(申込みフォーム!AR44<>\"\",\"検便　\",\"\")&IF(申込みフォーム!AS44<>\"\",\"骨　\",\"\")&IF(申込みフォーム!AT44<>\"\",\"骨＋ﾛｺﾓ\",\"\")","v":""},{"$f":"IF(申込みフォーム!AU44<>\"\",申込みフォーム!AU44&\"　　\",\"\")&IF(申込みフォーム!AV44<>\"\",申込みフォーム!AV44&\"　　\",\"\")&IF(申込みフォーム!AW44<>\"\",申込みフォーム!AW44&\"　　\",\"\")&IF(申込みフォーム!$AX44=\"〇\",\"4月　\",\"\")&IF(申込みフォーム!$AY44=\"〇\",\"5月　\",\"\")&IF(申込みフォーム!$AZ44=\"〇\",\"6月　\",\"\")&IF(申込みフォーム!$BA44=\"〇\",\"7月　\",\"\")&IF(申込みフォーム!$BB44=\"〇\",\"8月　\",\"\")&IF(申込みフォーム!$BC44=\"〇\",\"9月　\",\"\")&IF(申込みフォーム!$BD44=\"〇\",\"10月　\",\"\")&IF(申込みフォーム!$BE44=\"〇\",\"11月　\",\"\")&IF(申込みフォーム!$BF44=\"〇\",\"12月　\",\"\")&IF(申込みフォーム!$BG44=\"〇\",\"1月　\",\"\")&IF(申込みフォーム!$BH44=\"〇\",\"2月　\",\"\")&IF(申込みフォーム!$BI44=\"〇\",\"3月　\",\"\")","v":""},{"$f":"IF(申込みフォーム!BJ44<>\"\",申込みフォーム!BJ44,\"\")","v":""},{"$f":"IF(申込みフォーム!BK44<>\"\",申込みフォーム!BK44,\"\")","v":""},{"$f":"申込みフォーム!$Z44","v":""},{"$f":"IF(申込みフォーム!BL44<>\"\",申込みフォーム!BL44&\"　　\",\"\")&IF(申込みフォーム!BM44<>\"\",申込みフォーム!BM44&\"　　\",\"\")&IF(申込みフォーム!BN44<>\"\",申込みフォーム!BN44&\"　　\",\"\")","v":{"$error":"#VALUE!"}},{"$f":"IF($B35=VLOOKUP($B35,'受診者リスト(抽出用）'!$A:$F,1,0),VLOOKUP($B35,'受診者リスト(抽出用）'!$A:$F,3,0)&\"　（団体マスタ）\"&VLOOKUP($B35,'受診者リスト(抽出用）'!$A:$F,4,0)&\"　（枝番）\"&VLOOKUP(B35,'受診者リスト(抽出用）'!$A:$F,5,0),\"\")","v":{"$error":"#N/A"}}]
[35,{"$f":"IF(申込みフォーム!B45<>\"\",申込みフォーム!B45&\"　\"&申込みフォーム!C45,\"\")","v":""},{"$f":"IF(申込みフォーム!E45<>\"\",申込みフォーム!E45&\"　\"&申込みフォーム!F45,\"\")","v":""},{"$f":"IF(申込みフォーム!G45<>\"\",申込みフォーム!G45,\"\")","v":""},{"$f":"IF(申込みフォーム!H45<>\"\",申込みフォーム!H45,\"\")","v":""},{"$f":"IF(申込みフォーム!D45<>\"\",申込みフォーム!D45,\"\")","v":""},{"$f":"IF(申込みフォーム!I45<>\"\",REPLACE(申込みフォーム!I45,4,,\"-\"),\"\")","v":""},{"$f":"IF(申込みフォーム!J45<>\"\",申込みフォーム!J45,\"\")","v":""},{"$f":"IF(申込みフォーム!K45<>\"\",申込みフォーム!K45,\"\")","v":""},{"$f":"IF(申込みフォーム!L45<>\"\",MID(申込みフォーム!L45,1,3)&\"-\"&MID(申込みフォーム!L45,4,4)&\"-\"&MID(申込みフォーム!L45,8,4),\"\")","v":""},{"$f":"IF(申込みフォーム!M45<>\"\",申込みフォーム!M45,\"\")","v":""},{"$f":"IF(申込みフォーム!N45<>\"\",申込みフォーム!N45,\"\")","v":""},{"$f":"IF(申込みフォーム!O45<>\"\",申込みフォーム!O45,\"\")","v":""},{"$f":"IF(申込みフォーム!P45<>\"\",申込みフォーム!P45,\"\")","v":""},{"$f":"IF(申込みフォーム!Q45<>\"\",申込みフォーム!Q45,\"\")","v":""},{"$f":"IF(申込みフォーム!R45<>\"\",申込みフォーム!R45,\"\")","v":""},{"$f":"IF(申込みフォーム!S45<>\"\",申込みフォーム!S45,\"\")","v":""},{"$f":"IF(申込みフォーム!U45=\"細胞診のみ\",\"協会子宮　\",IF(申込みフォーム!U45=\"細胞診＋（自費）膣エコー\",\"協会子宮＋自費膣エコー　\",\"\"))&IF(申込みフォーム!W45<>\"\",\"協会ﾏﾝﾓ　\",\"\")&IF(申込みフォーム!Y45<>\"\",\"協会骨　\",\"\")&IF(申込みフォーム!AA45<>\"\",\"協会肝炎　\",\"\")","v":""},{"$f":"IF(申込みフォーム!AB45<>\"\",\"子宮　\",\"\")&IF(申込みフォーム!AC45<>\"\",\"ﾏﾝﾓ　\",\"\")&IF(申込みフォーム!AD45<>\"\",\"乳ｴｺｰ\",\"\")","v":""},{"$f":"IF(申込みフォーム!AE45<>\"\",\"ﾏｰｶｰ　\",\"\")&IF(申込みフォーム!AF45<>\"\",\"心機能　\",\"\")&IF(申込みフォーム!AG45<>\"\",\"ABC　\",\"\")&IF(申込みフォーム!AH45<>\"\",\"Lox　\",\"\")&IF(申込みフォーム!AI45<>\"\",\"甲状腺　\",\"\")&IF(申込みフォーム!AJ45<>\"\",\"肝炎\",\"\")","v":""},{"$f":"IF(申込みフォーム!AK45<>\"\",\"脳　\",\"\")&IF(申込みフォーム!AL45<>\"\",\"胸部CT　\",\"\")&IF(申込みフォーム!AM45<>\"\",\"肺機能　\",\"\")&IF(申込みフォーム!AN45<>\"\",\"腹ｴｺｰ　\",\"\")&IF(申込みフォーム!AO45<>\"\",\"心ｴｺｰ　\",\"\")&IF(申込みフォーム!AP45<>\"\",\"ﾌﾛｰﾗ　\",\"\")&IF(申込みフォーム!AQ45<>\"\",\"OCT　\",\"\")&IF(申込みフォーム!AR45<>\"\",\"検便　\",\"\")&IF(申込みフォーム!AS45<>\"\",\"骨　\",\"\")&IF(申込みフォーム!AT45<>\"\",\"骨＋ﾛｺﾓ\",\"\")","v":""},{"$f":"IF(申込みフォーム!AU45<>\"\",申込みフォーム!AU45&\"　　\",\"\")&IF(申込みフォーム!AV45<>\"\",申込みフォーム!AV45&\"　　\",\"\")&IF(申込みフォーム!AW45<>\"\",申込みフォーム!AW45&\"　　\",\"\")&IF(申込みフォーム!$AX45=\"〇\",\"4月　\",\"\")&IF(申込みフォーム!$AY45=\"〇\",\"5月　\",\"\")&IF(申込みフォーム!$AZ45=\"〇\",\"6月　\",\"\")&IF(申込みフォーム!$BA45=\"〇\",\"7月　\",\"\")&IF(申込みフォーム!$BB45=\"〇\",\"8月　\",\"\")&IF(申込みフォーム!$BC45=\"〇\",\"9月　\",\"\")&IF(申込みフォーム!$BD45=\"〇\",\"10月　\",\"\")&IF(申込みフォーム!$BE45=\"〇\",\"11月　\",\"\")&IF(申込みフォーム!$BF45=\"〇\",\"12月　\",\"\")&IF(申込みフォーム!$BG45=\"〇\",\"1月　\",\"\")&IF(申込みフォーム!$BH45=\"〇\",\"2月　\",\"\")&IF(申込みフォーム!$BI45=\"〇\",\"3月　\",\"\")","v":""},{"$f":"IF(申込みフォーム!BJ45<>\"\",申込みフォーム!BJ45,\"\")","v":""},{"$f":"IF(申込みフォーム!BK45<>\"\",申込みフォーム!BK45,\"\")","v":""},{"$f":"申込みフォーム!$Z45","v":""},{"$f":"IF(申込みフォーム!BL45<>\"\",申込みフォーム!BL45&\"　　\",\"\")&IF(申込みフォーム!BM45<>\"\",申込みフォーム!BM45&\"　　\",\"\")&IF(申込みフォーム!BN45<>\"\",申込みフォーム!BN45&\"　　\",\"\")","v":{"$error":"#VALUE!"}},{"$f":"IF($B36=VLOOKUP($B36,'受診者リスト(抽出用）'!$A:$F,1,0),VLOOKUP($B36,'受診者リスト(抽出用）'!$A:$F,3,0)&\"　（団体マスタ）\"&VLOOKUP($B36,'受診者リスト(抽出用）'!$A:$F,4,0)&\"　（枝番）\"&VLOOKUP(B36,'受診者リスト(抽出用）'!$A:$F,5,0),\"\")","v":{"$error":"#N/A"}}]
[36,{"$f":"IF(申込みフォーム!B46<>\"\",申込みフォーム!B46&\"　\"&申込みフォーム!C46,\"\")","v":""},{"$f":"IF(申込みフォーム!E46<>\"\",申込みフォーム!E46&\"　\"&申込みフォーム!F46,\"\")","v":""},{"$f":"IF(申込みフォーム!G46<>\"\",申込みフォーム!G46,\"\")","v":""},{"$f":"IF(申込みフォーム!H46<>\"\",申込みフォーム!H46,\"\")","v":""},{"$f":"IF(申込みフォーム!D46<>\"\",申込みフォーム!D46,\"\")","v":""},{"$f":"IF(申込みフォーム!I46<>\"\",REPLACE(申込みフォーム!I46,4,,\"-\"),\"\")","v":""},{"$f":"IF(申込みフォーム!J46<>\"\",申込みフォーム!J46,\"\")","v":""},{"$f":"IF(申込みフォーム!K46<>\"\",申込みフォーム!K46,\"\")","v":""},{"$f":"IF(申込みフォーム!L46<>\"\",MID(申込みフォーム!L46,1,3)&\"-\"&MID(申込みフォーム!L46,4,4)&\"-\"&MID(申込みフォーム!L46,8,4),\"\")","v":""},{"$f":"IF(申込みフォーム!M46<>\"\",申込みフォーム!M46,\"\")","v":""},{"$f":"IF(申込みフォーム!N46<>\"\",申込みフォーム!N46,\"\")","v":""},{"$f":"IF(申込みフォーム!O46<>\"\",申込みフォーム!O46,\"\")","v":""},{"$f":"IF(申込みフォーム!P46<>\"\",申込みフォーム!P46,\"\")","v":""},{"$f":"IF(申込みフォーム!Q46<>\"\",申込みフォーム!Q46,\"\")","v":""},{"$f":"IF(申込みフォーム!R46<>\"\",申込みフォーム!R46,\"\")","v":""},{"$f":"IF(申込みフォーム!S46<>\"\",申込みフォーム!S46,\"\")","v":""},{"$f":"IF(申込みフォーム!U46=\"細胞診のみ\",\"協会子宮　\",IF(申込みフォーム!U46=\"細胞診＋（自費）膣エコー\",\"協会子宮＋自費膣エコー　\",\"\"))&IF(申込みフォーム!W46<>\"\",\"協会ﾏﾝﾓ　\",\"\")&IF(申込みフォーム!Y46<>\"\",\"協会骨　\",\"\")&IF(申込みフォーム!AA46<>\"\",\"協会肝炎　\",\"\")","v":""},{"$f":"IF(申込みフォーム!AB46<>\"\",\"子宮　\",\"\")&IF(申込みフォーム!AC46<>\"\",\"ﾏﾝﾓ　\",\"\")&IF(申込みフォーム!AD46<>\"\",\"乳ｴｺｰ\",\"\")","v":""},{"$f":"IF(申込みフォーム!AE46<>\"\",\"ﾏｰｶｰ　\",\"\")&IF(申込みフォーム!AF46<>\"\",\"心機能　\",\"\")&IF(申込みフォーム!AG46<>\"\",\"ABC　\",\"\")&IF(申込みフォーム!AH46<>\"\",\"Lox　\",\"\")&IF(申込みフォーム!AI46<>\"\",\"甲状腺　\",\"\")&IF(申込みフォーム!AJ46<>\"\",\"肝炎\",\"\")","v":""},{"$f":"IF(申込みフォーム!AK46<>\"\",\"脳　\",\"\")&IF(申込みフォーム!AL46<>\"\",\"胸部CT　\",\"\")&IF(申込みフォーム!AM46<>\"\",\"肺機能　\",\"\")&IF(申込みフォーム!AN46<>\"\",\"腹ｴｺｰ　\",\"\")&IF(申込みフォーム!AO46<>\"\",\"心ｴｺｰ　\",\"\")&IF(申込みフォーム!AP46<>\"\",\"ﾌﾛｰﾗ　\",\"\")&IF(申込みフォーム!AQ46<>\"\",\"OCT　\",\"\")&IF(申込みフォーム!AR46<>\"\",\"検便　\",\"\")&IF(申込みフォーム!AS46<>\"\",\"骨　\",\"\")&IF(申込みフォーム!AT46<>\"\",\"骨＋ﾛｺﾓ\",\"\")","v":""},{"$f":"IF(申込みフォーム!AU46<>\"\",申込みフォーム!AU46&\"　　\",\"\")&IF(申込みフォーム!AV46<>\"\",申込みフォーム!AV46&\"　　\",\"\")&IF(申込みフォーム!AW46<>\"\",申込みフォーム!AW46&\"　　\",\"\")&IF(申込みフォーム!$AX46=\"〇\",\"4月　\",\"\")&IF(申込みフォーム!$AY46=\"〇\",\"5月　\",\"\")&IF(申込みフォーム!$AZ46=\"〇\",\"6月　\",\"\")&IF(申込みフォーム!$BA46=\"〇\",\"7月　\",\"\")&IF(申込みフォーム!$BB46=\"〇\",\"8月　\",\"\")&IF(申込みフォーム!$BC46=\"〇\",\"9月　\",\"\")&IF(申込みフォーム!$BD46=\"〇\",\"10月　\",\"\")&IF(申込みフォーム!$BE46=\"〇\",\"11月　\",\"\")&IF(申込みフォーム!$BF46=\"〇\",\"12月　\",\"\")&IF(申込みフォーム!$BG46=\"〇\",\"1月　\",\"\")&IF(申込みフォーム!$BH46=\"〇\",\"2月　\",\"\")&IF(申込みフォーム!$BI46=\"〇\",\"3月　\",\"\")","v":""},{"$f":"IF(申込みフォーム!BJ46<>\"\",申込みフォーム!BJ46,\"\")","v":""},{"$f":"IF(申込みフォーム!BK46<>\"\",申込みフォーム!BK46,\"\")","v":""},{"$f":"申込みフォーム!$Z46","v":""},{"$f":"IF(申込みフォーム!BL46<>\"\",申込みフォーム!BL46&\"　　\",\"\")&IF(申込みフォーム!BM46<>\"\",申込みフォーム!BM46&\"　　\",\"\")&IF(申込みフォーム!BN46<>\"\",申込みフォーム!BN46&\"　　\",\"\")","v":{"$error":"#VALUE!"}},{"$f":"IF($B37=VLOOKUP($B37,'受診者リスト(抽出用）'!$A:$F,1,0),VLOOKUP($B37,'受診者リスト(抽出用）'!$A:$F,3,0)&\"　（団体マスタ）\"&VLOOKUP($B37,'受診者リスト(抽出用）'!$A:$F,4,0)&\"　（枝番）\"&VLOOKUP(B37,'受診者リスト(抽出用）'!$A:$F,5,0),\"\")","v":{"$error":"#N/A"}}]
[37,{"$f":"IF(申込みフォーム!B47<>\"\",申込みフォーム!B47&\"　\"&申込みフォーム!C47,\"\")","v":""},{"$f":"IF(申込みフォーム!E47<>\"\",申込みフォーム!E47&\"　\"&申込みフォーム!F47,\"\")","v":""},{"$f":"IF(申込みフォーム!G47<>\"\",申込みフォーム!G47,\"\")","v":""},{"$f":"IF(申込みフォーム!H47<>\"\",申込みフォーム!H47,\"\")","v":""},{"$f":"IF(申込みフォーム!D47<>\"\",申込みフォーム!D47,\"\")","v":""},{"$f":"IF(申込みフォーム!I47<>\"\",REPLACE(申込みフォーム!I47,4,,\"-\"),\"\")","v":""},{"$f":"IF(申込みフォーム!J47<>\"\",申込みフォーム!J47,\"\")","v":""},{"$f":"IF(申込みフォーム!K47<>\"\",申込みフォーム!K47,\"\")","v":""},{"$f":"IF(申込みフォーム!L47<>\"\",MID(申込みフォーム!L47,1,3)&\"-\"&MID(申込みフォーム!L47,4,4)&\"-\"&MID(申込みフォーム!L47,8,4),\"\")","v":""},{"$f":"IF(申込みフォーム!M47<>\"\",申込みフォーム!M47,\"\")","v":""},{"$f":"IF(申込みフォーム!N47<>\"\",申込みフォーム!N47,\"\")","v":""},{"$f":"IF(申込みフォーム!O47<>\"\",申込みフォーム!O47,\"\")","v":""},{"$f":"IF(申込みフォーム!P47<>\"\",申込みフォーム!P47,\"\")","v":""},{"$f":"IF(申込みフォーム!Q47<>\"\",申込みフォーム!Q47,\"\")","v":""},{"$f":"IF(申込みフォーム!R47<>\"\",申込みフォーム!R47,\"\")","v":""},{"$f":"IF(申込みフォーム!S47<>\"\",申込みフォーム!S47,\"\")","v":""},{"$f":"IF(申込みフォーム!U47=\"細胞診のみ\",\"協会子宮　\",IF(申込みフォーム!U47=\"細胞診＋（自費）膣エコー\",\"協会子宮＋自費膣エコー　\",\"\"))&IF(申込みフォーム!W47<>\"\",\"協会ﾏﾝﾓ　\",\"\")&IF(申込みフォーム!Y47<>\"\",\"協会骨　\",\"\")&IF(申込みフォーム!AA47<>\"\",\"協会肝炎　\",\"\")","v":""},{"$f":"IF(申込みフォーム!AB47<>\"\",\"子宮　\",\"\")&IF(申込みフォーム!AC47<>\"\",\"ﾏﾝﾓ　\",\"\")&IF(申込みフォーム!AD47<>\"\",\"乳ｴｺｰ\",\"\")","v":""},{"$f":"IF(申込みフォーム!AE47<>\"\",\"ﾏｰｶｰ　\",\"\")&IF(申込みフォーム!AF47<>\"\",\"心機能　\",\"\")&IF(申込みフォーム!AG47<>\"\",\"ABC　\",\"\")&IF(申込みフォーム!AH47<>\"\",\"Lox　\",\"\")&IF(申込みフォーム!AI47<>\"\",\"甲状腺　\",\"\")&IF(申込みフォーム!AJ47<>\"\",\"肝炎\",\"\")","v":""},{"$f":"IF(申込みフォーム!AK47<>\"\",\"脳　\",\"\")&IF(申込みフォーム!AL47<>\"\",\"胸部CT　\",\"\")&IF(申込みフォーム!AM47<>\"\",\"肺機能　\",\"\")&IF(申込みフォーム!AN47<>\"\",\"腹ｴｺｰ　\",\"\")&IF(申込みフォーム!AO47<>\"\",\"心ｴｺｰ　\",\"\")&IF(申込みフォーム!AP47<>\"\",\"ﾌﾛｰﾗ　\",\"\")&IF(申込みフォーム!AQ47<>\"\",\"OCT　\",\"\")&IF(申込みフォーム!AR47<>\"\",\"検便　\",\"\")&IF(申込みフォーム!AS47<>\"\",\"骨　\",\"\")&IF(申込みフォーム!AT47<>\"\",\"骨＋ﾛｺﾓ\",\"\")","v":""},{"$f":"IF(申込みフォーム!AU47<>\"\",申込みフォーム!AU47&\"　　\",\"\")&IF(申込みフォーム!AV47<>\"\",申込みフォーム!AV47&\"　　\",\"\")&IF(申込みフォーム!AW47<>\"\",申込みフォーム!AW47&\"　　\",\"\")&IF(申込みフォーム!$AX47=\"〇\",\"4月　\",\"\")&IF(申込みフォーム!$AY47=\"〇\",\"5月　\",\"\")&IF(申込みフォーム!$AZ47=\"〇\",\"6月　\",\"\")&IF(申込みフォーム!$BA47=\"〇\",\"7月　\",\"\")&IF(申込みフォーム!$BB47=\"〇\",\"8月　\",\"\")&IF(申込みフォーム!$BC47=\"〇\",\"9月　\",\"\")&IF(申込みフォーム!$BD47=\"〇\",\"10月　\",\"\")&IF(申込みフォーム!$BE47=\"〇\",\"11月　\",\"\")&IF(申込みフォーム!$BF47=\"〇\",\"12月　\",\"\")&IF(申込みフォーム!$BG47=\"〇\",\"1月　\",\"\")&IF(申込みフォーム!$BH47=\"〇\",\"2月　\",\"\")&IF(申込みフォーム!$BI47=\"〇\",\"3月　\",\"\")","v":""},{"$f":"IF(申込みフォーム!BJ47<>\"\",申込みフォーム!BJ47,\"\")","v":""},{"$f":"IF(申込みフォーム!BK47<>\"\",申込みフォーム!BK47,\"\")","v":""},{"$f":"申込みフォーム!$Z47","v":""},{"$f":"IF(申込みフォーム!BL47<>\"\",申込みフォーム!BL47&\"　　\",\"\")&IF(申込みフォーム!BM47<>\"\",申込みフォーム!BM47&\"　　\",\"\")&IF(申込みフォーム!BN47<>\"\",申込みフォーム!BN47&\"　　\",\"\")","v":{"$error":"#VALUE!"}},{"$f":"IF($B38=VLOOKUP($B38,'受診者リスト(抽出用）'!$A:$F,1,0),VLOOKUP($B38,'受診者リスト(抽出用）'!$A:$F,3,0)&\"　（団体マスタ）\"&VLOOKUP($B38,'受診者リスト(抽出用）'!$A:$F,4,0)&\"　（枝番）\"&VLOOKUP(B38,'受診者リスト(抽出用）'!$A:$F,5,0),\"\")","v":{"$error":"#N/A"}}]
[38,{"$f":"IF(申込みフォーム!B48<>\"\",申込みフォーム!B48&\"　\"&申込みフォーム!C48,\"\")","v":""},{"$f":"IF(申込みフォーム!E48<>\"\",申込みフォーム!E48&\"　\"&申込みフォーム!F48,\"\")","v":""},{"$f":"IF(申込みフォーム!G48<>\"\",申込みフォーム!G48,\"\")","v":""},{"$f":"IF(申込みフォーム!H48<>\"\",申込みフォーム!H48,\"\")","v":""},{"$f":"IF(申込みフォーム!D48<>\"\",申込みフォーム!D48,\"\")","v":""},{"$f":"IF(申込みフォーム!I48<>\"\",REPLACE(申込みフォーム!I48,4,,\"-\"),\"\")","v":""},{"$f":"IF(申込みフォーム!J48<>\"\",申込みフォーム!J48,\"\")","v":""},{"$f":"IF(申込みフォーム!K48<>\"\",申込みフォーム!K48,\"\")","v":""},{"$f":"IF(申込みフォーム!L48<>\"\",MID(申込みフォーム!L48,1,3)&\"-\"&MID(申込みフォーム!L48,4,4)&\"-\"&MID(申込みフォーム!L48,8,4),\"\")","v":""},{"$f":"IF(申込みフォーム!M48<>\"\",申込みフォーム!M48,\"\")","v":""},{"$f":"IF(申込みフォーム!N48<>\"\",申込みフォーム!N48,\"\")","v":""},{"$f":"IF(申込みフォーム!O48<>\"\",申込みフォーム!O48,\"\")","v":""},{"$f":"IF(申込みフォーム!P48<>\"\",申込みフォーム!P48,\"\")","v":""},{"$f":"IF(申込みフォーム!Q48<>\"\",申込みフォーム!Q48,\"\")","v":""},{"$f":"IF(申込みフォーム!R48<>\"\",申込みフォーム!R48,\"\")","v":""},{"$f":"IF(申込みフォーム!S48<>\"\",申込みフォーム!S48,\"\")","v":""},{"$f":"IF(申込みフォーム!U48=\"細胞診のみ\",\"協会子宮　\",IF(申込みフォーム!U48=\"細胞診＋（自費）膣エコー\",\"協会子宮＋自費膣エコー　\",\"\"))&IF(申込みフォーム!W48<>\"\",\"協会ﾏﾝﾓ　\",\"\")&IF(申込みフォーム!Y48<>\"\",\"協会骨　\",\"\")&IF(申込みフォーム!AA48<>\"\",\"協会肝炎　\",\"\")","v":""},{"$f":"IF(申込みフォーム!AB48<>\"\",\"子宮　\",\"\")&IF(申込みフォーム!AC48<>\"\",\"ﾏﾝﾓ　\",\"\")&IF(申込みフォーム!AD48<>\"\",\"乳ｴｺｰ\",\"\")","v":""},{"$f":"IF(申込みフォーム!AE48<>\"\",\"ﾏｰｶｰ　\",\"\")&IF(申込みフォーム!AF48<>\"\",\"心機能　\",\"\")&IF(申込みフォーム!AG48<>\"\",\"ABC　\",\"\")&IF(申込みフォーム!AH48<>\"\",\"Lox　\",\"\")&IF(申込みフォーム!AI48<>\"\",\"甲状腺　\",\"\")&IF(申込みフォーム!AJ48<>\"\",\"肝炎\",\"\")","v":""},{"$f":"IF(申込みフォーム!AK48<>\"\",\"脳　\",\"\")&IF(申込みフォーム!AL48<>\"\",\"胸部CT　\",\"\")&IF(申込みフォーム!AM48<>\"\",\"肺機能　\",\"\")&IF(申込みフォーム!AN48<>\"\",\"腹ｴｺｰ　\",\"\")&IF(申込みフォーム!AO48<>\"\",\"心ｴｺｰ　\",\"\")&IF(申込みフォーム!AP48<>\"\",\"ﾌﾛｰﾗ　\",\"\")&IF(申込みフォーム!AQ48<>\"\",\"OCT　\",\"\")&IF(申込みフォーム!AR48<>\"\",\"検便　\",\"\")&IF(申込みフォーム!AS48<>\"\",\"骨　\",\"\")&IF(申込みフォーム!AT48<>\"\",\"骨＋ﾛｺﾓ\",\"\")","v":""},{"$f":"IF(申込みフォーム!AU48<>\"\",申込みフォーム!AU48&\"　　\",\"\")&IF(申込みフォーム!AV48<>\"\",申込みフォーム!AV48&\"　　\",\"\")&IF(申込みフォーム!AW48<>\"\",申込みフォーム!AW48&\"　　\",\"\")&IF(申込みフォーム!$AX48=\"〇\",\"4月　\",\"\")&IF(申込みフォーム!$AY48=\"〇\",\"5月　\",\"\")&IF(申込みフォーム!$AZ48=\"〇\",\"6月　\",\"\")&IF(申込みフォーム!$BA48=\"〇\",\"7月　\",\"\")&IF(申込みフォーム!$BB48=\"〇\",\"8月　\",\"\")&IF(申込みフォーム!$BC48=\"〇\",\"9月　\",\"\")&IF(申込みフォーム!$BD48=\"〇\",\"10月　\",\"\")&IF(申込みフォーム!$BE48=\"〇\",\"11月　\",\"\")&IF(申込みフォーム!$BF48=\"〇\",\"12月　\",\"\")&IF(申込みフォーム!$BG48=\"〇\",\"1月　\",\"\")&IF(申込みフォーム!$BH48=\"〇\",\"2月　\",\"\")&IF(申込みフォーム!$BI48=\"〇\",\"3月　\",\"\")","v":""},{"$f":"IF(申込みフォーム!BJ48<>\"\",申込みフォーム!BJ48,\"\")","v":""},{"$f":"IF(申込みフォーム!BK48<>\"\",申込みフォーム!BK48,\"\")","v":""},{"$f":"申込みフォーム!$Z48","v":""},{"$f":"IF(申込みフォーム!BL48<>\"\",申込みフォーム!BL48&\"　　\",\"\")&IF(申込みフォーム!BM48<>\"\",申込みフォーム!BM48&\"　　\",\"\")&IF(申込みフォーム!BN48<>\"\",申込みフォーム!BN48&\"　　\",\"\")","v":{"$error":"#VALUE!"}},{"$f":"IF($B39=VLOOKUP($B39,'受診者リスト(抽出用）'!$A:$F,1,0),VLOOKUP($B39,'受診者リスト(抽出用）'!$A:$F,3,0)&\"　（団体マスタ）\"&VLOOKUP($B39,'受診者リスト(抽出用）'!$A:$F,4,0)&\"　（枝番）\"&VLOOKUP(B39,'受診者リスト(抽出用）'!$A:$F,5,0),\"\")","v":{"$error":"#N/A"}}]
[39,{"$f":"IF(申込みフォーム!B49<>\"\",申込みフォーム!B49&\"　\"&申込みフォーム!C49,\"\")","v":""},{"$f":"IF(申込みフォーム!E49<>\"\",申込みフォーム!E49&\"　\"&申込みフォーム!F49,\"\")","v":""},{"$f":"IF(申込みフォーム!G49<>\"\",申込みフォーム!G49,\"\")","v":""},{"$f":"IF(申込みフォーム!H49<>\"\",申込みフォーム!H49,\"\")","v":""},{"$f":"IF(申込みフォーム!D49<>\"\",申込みフォーム!D49,\"\")","v":""},{"$f":"IF(申込みフォーム!I49<>\"\",REPLACE(申込みフォーム!I49,4,,\"-\"),\"\")","v":""},{"$f":"IF(申込みフォーム!J49<>\"\",申込みフォーム!J49,\"\")","v":""},{"$f":"IF(申込みフォーム!K49<>\"\",申込みフォーム!K49,\"\")","v":""},{"$f":"IF(申込みフォーム!L49<>\"\",MID(申込みフォーム!L49,1,3)&\"-\"&MID(申込みフォーム!L49,4,4)&\"-\"&MID(申込みフォーム!L49,8,4),\"\")","v":""},{"$f":"IF(申込みフォーム!M49<>\"\",申込みフォーム!M49,\"\")","v":""},{"$f":"IF(申込みフォーム!N49<>\"\",申込みフォーム!N49,\"\")","v":""},{"$f":"IF(申込みフォーム!O49<>\"\",申込みフォーム!O49,\"\")","v":""},{"$f":"IF(申込みフォーム!P49<>\"\",申込みフォーム!P49,\"\")","v":""},{"$f":"IF(申込みフォーム!Q49<>\"\",申込みフォーム!Q49,\"\")","v":""},{"$f":"IF(申込みフォーム!R49<>\"\",申込みフォーム!R49,\"\")","v":""},{"$f":"IF(申込みフォーム!S49<>\"\",申込みフォーム!S49,\"\")","v":""},{"$f":"IF(申込みフォーム!U49=\"細胞診のみ\",\"協会子宮　\",IF(申込みフォーム!U49=\"細胞診＋（自費）膣エコー\",\"協会子宮＋自費膣エコー　\",\"\"))&IF(申込みフォーム!W49<>\"\",\"協会ﾏﾝﾓ　\",\"\")&IF(申込みフォーム!Y49<>\"\",\"協会骨　\",\"\")&IF(申込みフォーム!AA49<>\"\",\"協会肝炎　\",\"\")","v":""},{"$f":"IF(申込みフォーム!AB49<>\"\",\"子宮　\",\"\")&IF(申込みフォーム!AC49<>\"\",\"ﾏﾝﾓ　\",\"\")&IF(申込みフォーム!AD49<>\"\",\"乳ｴｺｰ\",\"\")","v":""},{"$f":"IF(申込みフォーム!AE49<>\"\",\"ﾏｰｶｰ　\",\"\")&IF(申込みフォーム!AF49<>\"\",\"心機能　\",\"\")&IF(申込みフォーム!AG49<>\"\",\"ABC　\",\"\")&IF(申込みフォーム!AH49<>\"\",\"Lox　\",\"\")&IF(申込みフォーム!AI49<>\"\",\"甲状腺　\",\"\")&IF(申込みフォーム!AJ49<>\"\",\"肝炎\",\"\")","v":""},{"$f":"IF(申込みフォーム!AK49<>\"\",\"脳　\",\"\")&IF(申込みフォーム!AL49<>\"\",\"胸部CT　\",\"\")&IF(申込みフォーム!AM49<>\"\",\"肺機能　\",\"\")&IF(申込みフォーム!AN49<>\"\",\"腹ｴｺｰ　\",\"\")&IF(申込みフォーム!AO49<>\"\",\"心ｴｺｰ　\",\"\")&IF(申込みフォーム!AP49<>\"\",\"ﾌﾛｰﾗ　\",\"\")&IF(申込みフォーム!AQ49<>\"\",\"OCT　\",\"\")&IF(申込みフォーム!AR49<>\"\",\"検便　\",\"\")&IF(申込みフォーム!AS49<>\"\",\"骨　\",\"\")&IF(申込みフォーム!AT49<>\"\",\"骨＋ﾛｺﾓ\",\"\")","v":""},{"$f":"IF(申込みフォーム!AU49<>\"\",申込みフォーム!AU49&\"　　\",\"\")&IF(申込みフォーム!AV49<>\"\",申込みフォーム!AV49&\"　　\",\"\")&IF(申込みフォーム!AW49<>\"\",申込みフォーム!AW49&\"　　\",\"\")&IF(申込みフォーム!$AX49=\"〇\",\"4月　\",\"\")&IF(申込みフォーム!$AY49=\"〇\",\"5月　\",\"\")&IF(申込みフォーム!$AZ49=\"〇\",\"6月　\",\"\")&IF(申込みフォーム!$BA49=\"〇\",\"7月　\",\"\")&IF(申込みフォーム!$BB49=\"〇\",\"8月　\",\"\")&IF(申込みフォーム!$BC49=\"〇\",\"9月　\",\"\")&IF(申込みフォーム!$BD49=\"〇\",\"10月　\",\"\")&IF(申込みフォーム!$BE49=\"〇\",\"11月　\",\"\")&IF(申込みフォーム!$BF49=\"〇\",\"12月　\",\"\")&IF(申込みフォーム!$BG49=\"〇\",\"1月　\",\"\")&IF(申込みフォーム!$BH49=\"〇\",\"2月　\",\"\")&IF(申込みフォーム!$BI49=\"〇\",\"3月　\",\"\")","v":""},{"$f":"IF(申込みフォーム!BJ49<>\"\",申込みフォーム!BJ49,\"\")","v":""},{"$f":"IF(申込みフォーム!BK49<>\"\",申込みフォーム!BK49,\"\")","v":""},{"$f":"申込みフォーム!$Z49","v":""},{"$f":"IF(申込みフォーム!BL49<>\"\",申込みフォーム!BL49&\"　　\",\"\")&IF(申込みフォーム!BM49<>\"\",申込みフォーム!BM49&\"　　\",\"\")&IF(申込みフォーム!BN49<>\"\",申込みフォーム!BN49&\"　　\",\"\")","v":{"$error":"#VALUE!"}},{"$f":"IF($B40=VLOOKUP($B40,'受診者リスト(抽出用）'!$A:$F,1,0),VLOOKUP($B40,'受診者リスト(抽出用）'!$A:$F,3,0)&\"　（団体マスタ）\"&VLOOKUP($B40,'受診者リスト(抽出用）'!$A:$F,4,0)&\"　（枝番）\"&VLOOKUP(B40,'受診者リスト(抽出用）'!$A:$F,5,0),\"\")","v":{"$error":"#N/A"}}]
[40,{"$f":"IF(申込みフォーム!B50<>\"\",申込みフォーム!B50&\"　\"&申込みフォーム!C50,\"\")","v":""},{"$f":"IF(申込みフォーム!E50<>\"\",申込みフォーム!E50&\"　\"&申込みフォーム!F50,\"\")","v":""},{"$f":"IF(申込みフォーム!G50<>\"\",申込みフォーム!G50,\"\")","v":""},{"$f":"IF(申込みフォーム!H50<>\"\",申込みフォーム!H50,\"\")","v":""},{"$f":"IF(申込みフォーム!D50<>\"\",申込みフォーム!D50,\"\")","v":""},{"$f":"IF(申込みフォーム!I50<>\"\",REPLACE(申込みフォーム!I50,4,,\"-\"),\"\")","v":""},{"$f":"IF(申込みフォーム!J50<>\"\",申込みフォーム!J50,\"\")","v":""},{"$f":"IF(申込みフォーム!K50<>\"\",申込みフォーム!K50,\"\")","v":""},{"$f":"IF(申込みフォーム!L50<>\"\",MID(申込みフォーム!L50,1,3)&\"-\"&MID(申込みフォーム!L50,4,4)&\"-\"&MID(申込みフォーム!L50,8,4),\"\")","v":""},{"$f":"IF(申込みフォーム!M50<>\"\",申込みフォーム!M50,\"\")","v":""},{"$f":"IF(申込みフォーム!N50<>\"\",申込みフォーム!N50,\"\")","v":""},{"$f":"IF(申込みフォーム!O50<>\"\",申込みフォーム!O50,\"\")","v":""},{"$f":"IF(申込みフォーム!P50<>\"\",申込みフォーム!P50,\"\")","v":""},{"$f":"IF(申込みフォーム!Q50<>\"\",申込みフォーム!Q50,\"\")","v":""},{"$f":"IF(申込みフォーム!R50<>\"\",申込みフォーム!R50,\"\")","v":""},{"$f":"IF(申込みフォーム!S50<>\"\",申込みフォーム!S50,\"\")","v":""},{"$f":"IF(申込みフォーム!U50=\"細胞診のみ\",\"協会子宮　\",IF(申込みフォーム!U50=\"細胞診＋（自費）膣エコー\",\"協会子宮＋自費膣エコー　\",\"\"))&IF(申込みフォーム!W50<>\"\",\"協会ﾏﾝﾓ　\",\"\")&IF(申込みフォーム!Y50<>\"\",\"協会骨　\",\"\")&IF(申込みフォーム!AA50<>\"\",\"協会肝炎　\",\"\")","v":""},{"$f":"IF(申込みフォーム!AB50<>\"\",\"子宮　\",\"\")&IF(申込みフォーム!AC50<>\"\",\"ﾏﾝﾓ　\",\"\")&IF(申込みフォーム!AD50<>\"\",\"乳ｴｺｰ\",\"\")","v":""},{"$f":"IF(申込みフォーム!AE50<>\"\",\"ﾏｰｶｰ　\",\"\")&IF(申込みフォーム!AF50<>\"\",\"心機能　\",\"\")&IF(申込みフォーム!AG50<>\"\",\"ABC　\",\"\")&IF(申込みフォーム!AH50<>\"\",\"Lox　\",\"\")&IF(申込みフォーム!AI50<>\"\",\"甲状腺　\",\"\")&IF(申込みフォーム!AJ50<>\"\",\"肝炎\",\"\")","v":""},{"$f":"IF(申込みフォーム!AK50<>\"\",\"脳　\",\"\")&IF(申込みフォーム!AL50<>\"\",\"胸部CT　\",\"\")&IF(申込みフォーム!AM50<>\"\",\"肺機能　\",\"\")&IF(申込みフォーム!AN50<>\"\",\"腹ｴｺｰ　\",\"\")&IF(申込みフォーム!AO50<>\"\",\"心ｴｺｰ　\",\"\")&IF(申込みフォーム!AP50<>\"\",\"ﾌﾛｰﾗ　\",\"\")&IF(申込みフォーム!AQ50<>\"\",\"OCT　\",\"\")&IF(申込みフォーム!AR50<>\"\",\"検便　\",\"\")&IF(申込みフォーム!AS50<>\"\",\"骨　\",\"\")&IF(申込みフォーム!AT50<>\"\",\"骨＋ﾛｺﾓ\",\"\")","v":""},{"$f":"IF(申込みフォーム!AU50<>\"\",申込みフォーム!AU50&\"　　\",\"\")&IF(申込みフォーム!AV50<>\"\",申込みフォーム!AV50&\"　　\",\"\")&IF(申込みフォーム!AW50<>\"\",申込みフォーム!AW50&\"　　\",\"\")&IF(申込みフォーム!$AX50=\"〇\",\"4月　\",\"\")&IF(申込みフォーム!$AY50=\"〇\",\"5月　\",\"\")&IF(申込みフォーム!$AZ50=\"〇\",\"6月　\",\"\")&IF(申込みフォーム!$BA50=\"〇\",\"7月　\",\"\")&IF(申込みフォーム!$BB50=\"〇\",\"8月　\",\"\")&IF(申込みフォーム!$BC50=\"〇\",\"9月　\",\"\")&IF(申込みフォーム!$BD50=\"〇\",\"10月　\",\"\")&IF(申込みフォーム!$BE50=\"〇\",\"11月　\",\"\")&IF(申込みフォーム!$BF50=\"〇\",\"12月　\",\"\")&IF(申込みフォーム!$BG50=\"〇\",\"1月　\",\"\")&IF(申込みフォーム!$BH50=\"〇\",\"2月　\",\"\")&IF(申込みフォーム!$BI50=\"〇\",\"3月　\",\"\")","v":""},{"$f":"IF(申込みフォーム!BJ50<>\"\",申込みフォーム!BJ50,\"\")","v":""},{"$f":"IF(申込みフォーム!BK50<>\"\",申込みフォーム!BK50,\"\")","v":""},{"$f":"申込みフォーム!$Z50","v":""},{"$f":"IF(申込みフォーム!BL50<>\"\",申込みフォーム!BL50&\"　　\",\"\")&IF(申込みフォーム!BM50<>\"\",申込みフォーム!BM50&\"　　\",\"\")&IF(申込みフォーム!BN50<>\"\",申込みフォーム!BN50&\"　　\",\"\")","v":{"$error":"#VALUE!"}},{"$f":"IF($B41=VLOOKUP($B41,'受診者リスト(抽出用）'!$A:$F,1,0),VLOOKUP($B41,'受診者リスト(抽出用）'!$A:$F,3,0)&\"　（団体マスタ）\"&VLOOKUP($B41,'受診者リスト(抽出用）'!$A:$F,4,0)&\"　（枝番）\"&VLOOKUP(B41,'受診者リスト(抽出用）'!$A:$F,5,0),\"\")","v":{"$error":"#N/A"}}]
[41,{"$f":"IF(申込みフォーム!B51<>\"\",申込みフォーム!B51&\"　\"&申込みフォーム!C51,\"\")","v":""},{"$f":"IF(申込みフォーム!E51<>\"\",申込みフォーム!E51&\"　\"&申込みフォーム!F51,\"\")","v":""},{"$f":"IF(申込みフォーム!G51<>\"\",申込みフォーム!G51,\"\")","v":""},{"$f":"IF(申込みフォーム!H51<>\"\",申込みフォーム!H51,\"\")","v":""},{"$f":"IF(申込みフォーム!D51<>\"\",申込みフォーム!D51,\"\")","v":""},{"$f":"IF(申込みフォーム!I51<>\"\",REPLACE(申込みフォーム!I51,4,,\"-\"),\"\")","v":""},{"$f":"IF(申込みフォーム!J51<>\"\",申込みフォーム!J51,\"\")","v":""},{"$f":"IF(申込みフォーム!K51<>\"\",申込みフォーム!K51,\"\")","v":""},{"$f":"IF(申込みフォーム!L51<>\"\",MID(申込みフォーム!L51,1,3)&\"-\"&MID(申込みフォーム!L51,4,4)&\"-\"&MID(申込みフォーム!L51,8,4),\"\")","v":""},{"$f":"IF(申込みフォーム!M51<>\"\",申込みフォーム!M51,\"\")","v":""},{"$f":"IF(申込みフォーム!N51<>\"\",申込みフォーム!N51,\"\")","v":""},{"$f":"IF(申込みフォーム!O51<>\"\",申込みフォーム!O51,\"\")","v":""},{"$f":"IF(申込みフォーム!P51<>\"\",申込みフォーム!P51,\"\")","v":""},{"$f":"IF(申込みフォーム!Q51<>\"\",申込みフォーム!Q51,\"\")","v":""},{"$f":"IF(申込みフォーム!R51<>\"\",申込みフォーム!R51,\"\")","v":""},{"$f":"IF(申込みフォーム!S51<>\"\",申込みフォーム!S51,\"\")","v":""},{"$f":"IF(申込みフォーム!U51=\"細胞診のみ\",\"協会子宮　\",IF(申込みフォーム!U51=\"細胞診＋（自費）膣エコー\",\"協会子宮＋自費膣エコー　\",\"\"))&IF(申込みフォーム!W51<>\"\",\"協会ﾏﾝﾓ　\",\"\")&IF(申込みフォーム!Y51<>\"\",\"協会骨　\",\"\")&IF(申込みフォーム!AA51<>\"\",\"協会肝炎　\",\"\")","v":""},{"$f":"IF(申込みフォーム!AB51<>\"\",\"子宮　\",\"\")&IF(申込みフォーム!AC51<>\"\",\"ﾏﾝﾓ　\",\"\")&IF(申込みフォーム!AD51<>\"\",\"乳ｴｺｰ\",\"\")","v":""},{"$f":"IF(申込みフォーム!AE51<>\"\",\"ﾏｰｶｰ　\",\"\")&IF(申込みフォーム!AF51<>\"\",\"心機能　\",\"\")&IF(申込みフォーム!AG51<>\"\",\"ABC　\",\"\")&IF(申込みフォーム!AH51<>\"\",\"Lox　\",\"\")&IF(申込みフォーム!AI51<>\"\",\"甲状腺　\",\"\")&IF(申込みフォーム!AJ51<>\"\",\"肝炎\",\"\")","v":""},{"$f":"IF(申込みフォーム!AK51<>\"\",\"脳　\",\"\")&IF(申込みフォーム!AL51<>\"\",\"胸部CT　\",\"\")&IF(申込みフォーム!AM51<>\"\",\"肺機能　\",\"\")&IF(申込みフォーム!AN51<>\"\",\"腹ｴｺｰ　\",\"\")&IF(申込みフォーム!AO51<>\"\",\"心ｴｺｰ　\",\"\")&IF(申込みフォーム!AP51<>\"\",\"ﾌﾛｰﾗ　\",\"\")&IF(申込みフォーム!AQ51<>\"\",\"OCT　\",\"\")&IF(申込みフォーム!AR51<>\"\",\"検便　\",\"\")&IF(申込みフォーム!AS51<>\"\",\"骨　\",\"\")&IF(申込みフォーム!AT51<>\"\",\"骨＋ﾛｺﾓ\",\"\")","v":""},{"$f":"IF(申込みフォーム!AU51<>\"\",申込みフォーム!AU51&\"　　\",\"\")&IF(申込みフォーム!AV51<>\"\",申込みフォーム!AV51&\"　　\",\"\")&IF(申込みフォーム!AW51<>\"\",申込みフォーム!AW51&\"　　\",\"\")&IF(申込みフォーム!$AX51=\"〇\",\"4月　\",\"\")&IF(申込みフォーム!$AY51=\"〇\",\"5月　\",\"\")&IF(申込みフォーム!$AZ51=\"〇\",\"6月　\",\"\")&IF(申込みフォーム!$BA51=\"〇\",\"7月　\",\"\")&IF(申込みフォーム!$BB51=\"〇\",\"8月　\",\"\")&IF(申込みフォーム!$BC51=\"〇\",\"9月　\",\"\")&IF(申込みフォーム!$BD51=\"〇\",\"10月　\",\"\")&IF(申込みフォーム!$BE51=\"〇\",\"11月　\",\"\")&IF(申込みフォーム!$BF51=\"〇\",\"12月　\",\"\")&IF(申込みフォーム!$BG51=\"〇\",\"1月　\",\"\")&IF(申込みフォーム!$BH51=\"〇\",\"2月　\",\"\")&IF(申込みフォーム!$BI51=\"〇\",\"3月　\",\"\")","v":""},{"$f":"IF(申込みフォーム!BJ51<>\"\",申込みフォーム!BJ51,\"\")","v":""},{"$f":"IF(申込みフォーム!BK51<>\"\",申込みフォーム!BK51,\"\")","v":""},{"$f":"申込みフォーム!$Z51","v":""},{"$f":"IF(申込みフォーム!BL51<>\"\",申込みフォーム!BL51&\"　　\",\"\")&IF(申込みフォーム!BM51<>\"\",申込みフォーム!BM51&\"　　\",\"\")&IF(申込みフォーム!BN51<>\"\",申込みフォーム!BN51&\"　　\",\"\")","v":{"$error":"#VALUE!"}},{"$f":"IF($B42=VLOOKUP($B42,'受診者リスト(抽出用）'!$A:$F,1,0),VLOOKUP($B42,'受診者リスト(抽出用）'!$A:$F,3,0)&\"　（団体マスタ）\"&VLOOKUP($B42,'受診者リスト(抽出用）'!$A:$F,4,0)&\"　（枝番）\"&VLOOKUP(B42,'受診者リスト(抽出用）'!$A:$F,5,0),\"\")","v":{"$error":"#N/A"}}]
[42,{"$f":"IF(申込みフォーム!B52<>\"\",申込みフォーム!B52&\"　\"&申込みフォーム!C52,\"\")","v":""},{"$f":"IF(申込みフォーム!E52<>\"\",申込みフォーム!E52&\"　\"&申込みフォーム!F52,\"\")","v":""},{"$f":"IF(申込みフォーム!G52<>\"\",申込みフォーム!G52,\"\")","v":""},{"$f":"IF(申込みフォーム!H52<>\"\",申込みフォーム!H52,\"\")","v":""},{"$f":"IF(申込みフォーム!D52<>\"\",申込みフォーム!D52,\"\")","v":""},{"$f":"IF(申込みフォーム!I52<>\"\",REPLACE(申込みフォーム!I52,4,,\"-\"),\"\")","v":""},{"$f":"IF(申込みフォーム!J52<>\"\",申込みフォーム!J52,\"\")","v":""},{"$f":"IF(申込みフォーム!K52<>\"\",申込みフォーム!K52,\"\")","v":""},{"$f":"IF(申込みフォーム!L52<>\"\",MID(申込みフォーム!L52,1,3)&\"-\"&MID(申込みフォーム!L52,4,4)&\"-\"&MID(申込みフォーム!L52,8,4),\"\")","v":""},{"$f":"IF(申込みフォーム!M52<>\"\",申込みフォーム!M52,\"\")","v":""},{"$f":"IF(申込みフォーム!N52<>\"\",申込みフォーム!N52,\"\")","v":""},{"$f":"IF(申込みフォーム!O52<>\"\",申込みフォーム!O52,\"\")","v":""},{"$f":"IF(申込みフォーム!P52<>\"\",申込みフォーム!P52,\"\")","v":""},{"$f":"IF(申込みフォーム!Q52<>\"\",申込みフォーム!Q52,\"\")","v":""},{"$f":"IF(申込みフォーム!R52<>\"\",申込みフォーム!R52,\"\")","v":""},{"$f":"IF(申込みフォーム!S52<>\"\",申込みフォーム!S52,\"\")","v":""},{"$f":"IF(申込みフォーム!U52=\"細胞診のみ\",\"協会子宮　\",IF(申込みフォーム!U52=\"細胞診＋（自費）膣エコー\",\"協会子宮＋自費膣エコー　\",\"\"))&IF(申込みフォーム!W52<>\"\",\"協会ﾏﾝﾓ　\",\"\")&IF(申込みフォーム!Y52<>\"\",\"協会骨　\",\"\")&IF(申込みフォーム!AA52<>\"\",\"協会肝炎　\",\"\")","v":""},{"$f":"IF(申込みフォーム!AB52<>\"\",\"子宮　\",\"\")&IF(申込みフォーム!AC52<>\"\",\"ﾏﾝﾓ　\",\"\")&IF(申込みフォーム!AD52<>\"\",\"乳ｴｺｰ\",\"\")","v":""},{"$f":"IF(申込みフォーム!AE52<>\"\",\"ﾏｰｶｰ　\",\"\")&IF(申込みフォーム!AF52<>\"\",\"心機能　\",\"\")&IF(申込みフォーム!AG52<>\"\",\"ABC　\",\"\")&IF(申込みフォーム!AH52<>\"\",\"Lox　\",\"\")&IF(申込みフォーム!AI52<>\"\",\"甲状腺　\",\"\")&IF(申込みフォーム!AJ52<>\"\",\"肝炎\",\"\")","v":""},{"$f":"IF(申込みフォーム!AK52<>\"\",\"脳　\",\"\")&IF(申込みフォーム!AL52<>\"\",\"胸部CT　\",\"\")&IF(申込みフォーム!AM52<>\"\",\"肺機能　\",\"\")&IF(申込みフォーム!AN52<>\"\",\"腹ｴｺｰ　\",\"\")&IF(申込みフォーム!AO52<>\"\",\"心ｴｺｰ　\",\"\")&IF(申込みフォーム!AP52<>\"\",\"ﾌﾛｰﾗ　\",\"\")&IF(申込みフォーム!AQ52<>\"\",\"OCT　\",\"\")&IF(申込みフォーム!AR52<>\"\",\"検便　\",\"\")&IF(申込みフォーム!AS52<>\"\",\"骨　\",\"\")&IF(申込みフォーム!AT52<>\"\",\"骨＋ﾛｺﾓ\",\"\")","v":""},{"$f":"IF(申込みフォーム!AU52<>\"\",申込みフォーム!AU52&\"　　\",\"\")&IF(申込みフォーム!AV52<>\"\",申込みフォーム!AV52&\"　　\",\"\")&IF(申込みフォーム!AW52<>\"\",申込みフォーム!AW52&\"　　\",\"\")&IF(申込みフォーム!$AX52=\"〇\",\"4月　\",\"\")&IF(申込みフォーム!$AY52=\"〇\",\"5月　\",\"\")&IF(申込みフォーム!$AZ52=\"〇\",\"6月　\",\"\")&IF(申込みフォーム!$BA52=\"〇\",\"7月　\",\"\")&IF(申込みフォーム!$BB52=\"〇\",\"8月　\",\"\")&IF(申込みフォーム!$BC52=\"〇\",\"9月　\",\"\")&IF(申込みフォーム!$BD52=\"〇\",\"10月　\",\"\")&IF(申込みフォーム!$BE52=\"〇\",\"11月　\",\"\")&IF(申込みフォーム!$BF52=\"〇\",\"12月　\",\"\")&IF(申込みフォーム!$BG52=\"〇\",\"1月　\",\"\")&IF(申込みフォーム!$BH52=\"〇\",\"2月　\",\"\")&IF(申込みフォーム!$BI52=\"〇\",\"3月　\",\"\")","v":""},{"$f":"IF(申込みフォーム!BJ52<>\"\",申込みフォーム!BJ52,\"\")","v":""},{"$f":"IF(申込みフォーム!BK52<>\"\",申込みフォーム!BK52,\"\")","v":""},{"$f":"申込みフォーム!$Z52","v":""},{"$f":"IF(申込みフォーム!BL52<>\"\",申込みフォーム!BL52&\"　　\",\"\")&IF(申込みフォーム!BM52<>\"\",申込みフォーム!BM52&\"　　\",\"\")&IF(申込みフォーム!BN52<>\"\",申込みフォーム!BN52&\"　　\",\"\")","v":{"$error":"#VALUE!"}},{"$f":"IF($B43=VLOOKUP($B43,'受診者リスト(抽出用）'!$A:$F,1,0),VLOOKUP($B43,'受診者リスト(抽出用）'!$A:$F,3,0)&\"　（団体マスタ）\"&VLOOKUP($B43,'受診者リスト(抽出用）'!$A:$F,4,0)&\"　（枝番）\"&VLOOKUP(B43,'受診者リスト(抽出用）'!$A:$F,5,0),\"\")","v":{"$error":"#N/A"}}]
[43,{"$f":"IF(申込みフォーム!B53<>\"\",申込みフォーム!B53&\"　\"&申込みフォーム!C53,\"\")","v":""},{"$f":"IF(申込みフォーム!E53<>\"\",申込みフォーム!E53&\"　\"&申込みフォーム!F53,\"\")","v":""},{"$f":"IF(申込みフォーム!G53<>\"\",申込みフォーム!G53,\"\")","v":""},{"$f":"IF(申込みフォーム!H53<>\"\",申込みフォーム!H53,\"\")","v":""},{"$f":"IF(申込みフォーム!D53<>\"\",申込みフォーム!D53,\"\")","v":""},{"$f":"IF(申込みフォーム!I53<>\"\",REPLACE(申込みフォーム!I53,4,,\"-\"),\"\")","v":""},{"$f":"IF(申込みフォーム!J53<>\"\",申込みフォーム!J53,\"\")","v":""},{"$f":"IF(申込みフォーム!K53<>\"\",申込みフォーム!K53,\"\")","v":""},{"$f":"IF(申込みフォーム!L53<>\"\",MID(申込みフォーム!L53,1,3)&\"-\"&MID(申込みフォーム!L53,4,4)&\"-\"&MID(申込みフォーム!L53,8,4),\"\")","v":""},{"$f":"IF(申込みフォーム!M53<>\"\",申込みフォーム!M53,\"\")","v":""},{"$f":"IF(申込みフォーム!N53<>\"\",申込みフォーム!N53,\"\")","v":""},{"$f":"IF(申込みフォーム!O53<>\"\",申込みフォーム!O53,\"\")","v":""},{"$f":"IF(申込みフォーム!P53<>\"\",申込みフォーム!P53,\"\")","v":""},{"$f":"IF(申込みフォーム!Q53<>\"\",申込みフォーム!Q53,\"\")","v":""},{"$f":"IF(申込みフォーム!R53<>\"\",申込みフォーム!R53,\"\")","v":""},{"$f":"IF(申込みフォーム!S53<>\"\",申込みフォーム!S53,\"\")","v":""},{"$f":"IF(申込みフォーム!U53=\"細胞診のみ\",\"協会子宮　\",IF(申込みフォーム!U53=\"細胞診＋（自費）膣エコー\",\"協会子宮＋自費膣エコー　\",\"\"))&IF(申込みフォーム!W53<>\"\",\"協会ﾏﾝﾓ　\",\"\")&IF(申込みフォーム!Y53<>\"\",\"協会骨　\",\"\")&IF(申込みフォーム!AA53<>\"\",\"協会肝炎　\",\"\")","v":""},{"$f":"IF(申込みフォーム!AB53<>\"\",\"子宮　\",\"\")&IF(申込みフォーム!AC53<>\"\",\"ﾏﾝﾓ　\",\"\")&IF(申込みフォーム!AD53<>\"\",\"乳ｴｺｰ\",\"\")","v":""},{"$f":"IF(申込みフォーム!AE53<>\"\",\"ﾏｰｶｰ　\",\"\")&IF(申込みフォーム!AF53<>\"\",\"心機能　\",\"\")&IF(申込みフォーム!AG53<>\"\",\"ABC　\",\"\")&IF(申込みフォーム!AH53<>\"\",\"Lox　\",\"\")&IF(申込みフォーム!AI53<>\"\",\"甲状腺　\",\"\")&IF(申込みフォーム!AJ53<>\"\",\"肝炎\",\"\")","v":""},{"$f":"IF(申込みフォーム!AK53<>\"\",\"脳　\",\"\")&IF(申込みフォーム!AL53<>\"\",\"胸部CT　\",\"\")&IF(申込みフォーム!AM53<>\"\",\"肺機能　\",\"\")&IF(申込みフォーム!AN53<>\"\",\"腹ｴｺｰ　\",\"\")&IF(申込みフォーム!AO53<>\"\",\"心ｴｺｰ　\",\"\")&IF(申込みフォーム!AP53<>\"\",\"ﾌﾛｰﾗ　\",\"\")&IF(申込みフォーム!AQ53<>\"\",\"OCT　\",\"\")&IF(申込みフォーム!AR53<>\"\",\"検便　\",\"\")&IF(申込みフォーム!AS53<>\"\",\"骨　\",\"\")&IF(申込みフォーム!AT53<>\"\",\"骨＋ﾛｺﾓ\",\"\")","v":""},{"$f":"IF(申込みフォーム!AU53<>\"\",申込みフォーム!AU53&\"　　\",\"\")&IF(申込みフォーム!AV53<>\"\",申込みフォーム!AV53&\"　　\",\"\")&IF(申込みフォーム!AW53<>\"\",申込みフォーム!AW53&\"　　\",\"\")&IF(申込みフォーム!$AX53=\"〇\",\"4月　\",\"\")&IF(申込みフォーム!$AY53=\"〇\",\"5月　\",\"\")&IF(申込みフォーム!$AZ53=\"〇\",\"6月　\",\"\")&IF(申込みフォーム!$BA53=\"〇\",\"7月　\",\"\")&IF(申込みフォーム!$BB53=\"〇\",\"8月　\",\"\")&IF(申込みフォーム!$BC53=\"〇\",\"9月　\",\"\")&IF(申込みフォーム!$BD53=\"〇\",\"10月　\",\"\")&IF(申込みフォーム!$BE53=\"〇\",\"11月　\",\"\")&IF(申込みフォーム!$BF53=\"〇\",\"12月　\",\"\")&IF(申込みフォーム!$BG53=\"〇\",\"1月　\",\"\")&IF(申込みフォーム!$BH53=\"〇\",\"2月　\",\"\")&IF(申込みフォーム!$BI53=\"〇\",\"3月　\",\"\")","v":""},{"$f":"IF(申込みフォーム!BJ53<>\"\",申込みフォーム!BJ53,\"\")","v":""},{"$f":"IF(申込みフォーム!BK53<>\"\",申込みフォーム!BK53,\"\")","v":""},{"$f":"申込みフォーム!$Z53","v":""},{"$f":"IF(申込みフォーム!BL53<>\"\",申込みフォーム!BL53&\"　　\",\"\")&IF(申込みフォーム!BM53<>\"\",申込みフォーム!BM53&\"　　\",\"\")&IF(申込みフォーム!BN53<>\"\",申込みフォーム!BN53&\"　　\",\"\")","v":{"$error":"#VALUE!"}},{"$f":"IF($B44=VLOOKUP($B44,'受診者リスト(抽出用）'!$A:$F,1,0),VLOOKUP($B44,'受診者リスト(抽出用）'!$A:$F,3,0)&\"　（団体マスタ）\"&VLOOKUP($B44,'受診者リスト(抽出用）'!$A:$F,4,0)&\"　（枝番）\"&VLOOKUP(B44,'受診者リスト(抽出用）'!$A:$F,5,0),\"\")","v":{"$error":"#N/A"}}]
[44,{"$f":"IF(申込みフォーム!B54<>\"\",申込みフォーム!B54&\"　\"&申込みフォーム!C54,\"\")","v":""},{"$f":"IF(申込みフォーム!E54<>\"\",申込みフォーム!E54&\"　\"&申込みフォーム!F54,\"\")","v":""},{"$f":"IF(申込みフォーム!G54<>\"\",申込みフォーム!G54,\"\")","v":""},{"$f":"IF(申込みフォーム!H54<>\"\",申込みフォーム!H54,\"\")","v":""},{"$f":"IF(申込みフォーム!D54<>\"\",申込みフォーム!D54,\"\")","v":""},{"$f":"IF(申込みフォーム!I54<>\"\",REPLACE(申込みフォーム!I54,4,,\"-\"),\"\")","v":""},{"$f":"IF(申込みフォーム!J54<>\"\",申込みフォーム!J54,\"\")","v":""},{"$f":"IF(申込みフォーム!K54<>\"\",申込みフォーム!K54,\"\")","v":""},{"$f":"IF(申込みフォーム!L54<>\"\",MID(申込みフォーム!L54,1,3)&\"-\"&MID(申込みフォーム!L54,4,4)&\"-\"&MID(申込みフォーム!L54,8,4),\"\")","v":""},{"$f":"IF(申込みフォーム!M54<>\"\",申込みフォーム!M54,\"\")","v":""},{"$f":"IF(申込みフォーム!N54<>\"\",申込みフォーム!N54,\"\")","v":""},{"$f":"IF(申込みフォーム!O54<>\"\",申込みフォーム!O54,\"\")","v":""},{"$f":"IF(申込みフォーム!P54<>\"\",申込みフォーム!P54,\"\")","v":""},{"$f":"IF(申込みフォーム!Q54<>\"\",申込みフォーム!Q54,\"\")","v":""},{"$f":"IF(申込みフォーム!R54<>\"\",申込みフォーム!R54,\"\")","v":""},{"$f":"IF(申込みフォーム!S54<>\"\",申込みフォーム!S54,\"\")","v":""},{"$f":"IF(申込みフォーム!U54=\"細胞診のみ\",\"協会子宮　\",IF(申込みフォーム!U54=\"細胞診＋（自費）膣エコー\",\"協会子宮＋自費膣エコー　\",\"\"))&IF(申込みフォーム!W54<>\"\",\"協会ﾏﾝﾓ　\",\"\")&IF(申込みフォーム!Y54<>\"\",\"協会骨　\",\"\")&IF(申込みフォーム!AA54<>\"\",\"協会肝炎　\",\"\")","v":""},{"$f":"IF(申込みフォーム!AB54<>\"\",\"子宮　\",\"\")&IF(申込みフォーム!AC54<>\"\",\"ﾏﾝﾓ　\",\"\")&IF(申込みフォーム!AD54<>\"\",\"乳ｴｺｰ\",\"\")","v":""},{"$f":"IF(申込みフォーム!AE54<>\"\",\"ﾏｰｶｰ　\",\"\")&IF(申込みフォーム!AF54<>\"\",\"心機能　\",\"\")&IF(申込みフォーム!AG54<>\"\",\"ABC　\",\"\")&IF(申込みフォーム!AH54<>\"\",\"Lox　\",\"\")&IF(申込みフォーム!AI54<>\"\",\"甲状腺　\",\"\")&IF(申込みフォーム!AJ54<>\"\",\"肝炎\",\"\")","v":""},{"$f":"IF(申込みフォーム!AK54<>\"\",\"脳　\",\"\")&IF(申込みフォーム!AL54<>\"\",\"胸部CT　\",\"\")&IF(申込みフォーム!AM54<>\"\",\"肺機能　\",\"\")&IF(申込みフォーム!AN54<>\"\",\"腹ｴｺｰ　\",\"\")&IF(申込みフォーム!AO54<>\"\",\"心ｴｺｰ　\",\"\")&IF(申込みフォーム!AP54<>\"\",\"ﾌﾛｰﾗ　\",\"\")&IF(申込みフォーム!AQ54<>\"\",\"OCT　\",\"\")&IF(申込みフォーム!AR54<>\"\",\"検便　\",\"\")&IF(申込みフォーム!AS54<>\"\",\"骨　\",\"\")&IF(申込みフォーム!AT54<>\"\",\"骨＋ﾛｺﾓ\",\"\")","v":""},{"$f":"IF(申込みフォーム!AU54<>\"\",申込みフォーム!AU54&\"　　\",\"\")&IF(申込みフォーム!AV54<>\"\",申込みフォーム!AV54&\"　　\",\"\")&IF(申込みフォーム!AW54<>\"\",申込みフォーム!AW54&\"　　\",\"\")&IF(申込みフォーム!$AX54=\"〇\",\"4月　\",\"\")&IF(申込みフォーム!$AY54=\"〇\",\"5月　\",\"\")&IF(申込みフォーム!$AZ54=\"〇\",\"6月　\",\"\")&IF(申込みフォーム!$BA54=\"〇\",\"7月　\",\"\")&IF(申込みフォーム!$BB54=\"〇\",\"8月　\",\"\")&IF(申込みフォーム!$BC54=\"〇\",\"9月　\",\"\")&IF(申込みフォーム!$BD54=\"〇\",\"10月　\",\"\")&IF(申込みフォーム!$BE54=\"〇\",\"11月　\",\"\")&IF(申込みフォーム!$BF54=\"〇\",\"12月　\",\"\")&IF(申込みフォーム!$BG54=\"〇\",\"1月　\",\"\")&IF(申込みフォーム!$BH54=\"〇\",\"2月　\",\"\")&IF(申込みフォーム!$BI54=\"〇\",\"3月　\",\"\")","v":""},{"$f":"IF(申込みフォーム!BJ54<>\"\",申込みフォーム!BJ54,\"\")","v":""},{"$f":"IF(申込みフォーム!BK54<>\"\",申込みフォーム!BK54,\"\")","v":""},{"$f":"申込みフォーム!$Z54","v":""},{"$f":"IF(申込みフォーム!BL54<>\"\",申込みフォーム!BL54&\"　　\",\"\")&IF(申込みフォーム!BM54<>\"\",申込みフォーム!BM54&\"　　\",\"\")&IF(申込みフォーム!BN54<>\"\",申込みフォーム!BN54&\"　　\",\"\")","v":{"$error":"#VALUE!"}},{"$f":"IF($B45=VLOOKUP($B45,'受診者リスト(抽出用）'!$A:$F,1,0),VLOOKUP($B45,'受診者リスト(抽出用）'!$A:$F,3,0)&\"　（団体マスタ）\"&VLOOKUP($B45,'受診者リスト(抽出用）'!$A:$F,4,0)&\"　（枝番）\"&VLOOKUP(B45,'受診者リスト(抽出用）'!$A:$F,5,0),\"\")","v":{"$error":"#N/A"}}]
[45,{"$f":"IF(申込みフォーム!B55<>\"\",申込みフォーム!B55&\"　\"&申込みフォーム!C55,\"\")","v":""},{"$f":"IF(申込みフォーム!E55<>\"\",申込みフォーム!E55&\"　\"&申込みフォーム!F55,\"\")","v":""},{"$f":"IF(申込みフォーム!G55<>\"\",申込みフォーム!G55,\"\")","v":""},{"$f":"IF(申込みフォーム!H55<>\"\",申込みフォーム!H55,\"\")","v":""},{"$f":"IF(申込みフォーム!D55<>\"\",申込みフォーム!D55,\"\")","v":""},{"$f":"IF(申込みフォーム!I55<>\"\",REPLACE(申込みフォーム!I55,4,,\"-\"),\"\")","v":""},{"$f":"IF(申込みフォーム!J55<>\"\",申込みフォーム!J55,\"\")","v":""},{"$f":"IF(申込みフォーム!K55<>\"\",申込みフォーム!K55,\"\")","v":""},{"$f":"IF(申込みフォーム!L55<>\"\",MID(申込みフォーム!L55,1,3)&\"-\"&MID(申込みフォーム!L55,4,4)&\"-\"&MID(申込みフォーム!L55,8,4),\"\")","v":""},{"$f":"IF(申込みフォーム!M55<>\"\",申込みフォーム!M55,\"\")","v":""},{"$f":"IF(申込みフォーム!N55<>\"\",申込みフォーム!N55,\"\")","v":""},{"$f":"IF(申込みフォーム!O55<>\"\",申込みフォーム!O55,\"\")","v":""},{"$f":"IF(申込みフォーム!P55<>\"\",申込みフォーム!P55,\"\")","v":""},{"$f":"IF(申込みフォーム!Q55<>\"\",申込みフォーム!Q55,\"\")","v":""},{"$f":"IF(申込みフォーム!R55<>\"\",申込みフォーム!R55,\"\")","v":""},{"$f":"IF(申込みフォーム!S55<>\"\",申込みフォーム!S55,\"\")","v":""},{"$f":"IF(申込みフォーム!U55=\"細胞診のみ\",\"協会子宮　\",IF(申込みフォーム!U55=\"細胞診＋（自費）膣エコー\",\"協会子宮＋自費膣エコー　\",\"\"))&IF(申込みフォーム!W55<>\"\",\"協会ﾏﾝﾓ　\",\"\")&IF(申込みフォーム!Y55<>\"\",\"協会骨　\",\"\")&IF(申込みフォーム!AA55<>\"\",\"協会肝炎　\",\"\")","v":""},{"$f":"IF(申込みフォーム!AB55<>\"\",\"子宮　\",\"\")&IF(申込みフォーム!AC55<>\"\",\"ﾏﾝﾓ　\",\"\")&IF(申込みフォーム!AD55<>\"\",\"乳ｴｺｰ\",\"\")","v":""},{"$f":"IF(申込みフォーム!AE55<>\"\",\"ﾏｰｶｰ　\",\"\")&IF(申込みフォーム!AF55<>\"\",\"心機能　\",\"\")&IF(申込みフォーム!AG55<>\"\",\"ABC　\",\"\")&IF(申込みフォーム!AH55<>\"\",\"Lox　\",\"\")&IF(申込みフォーム!AI55<>\"\",\"甲状腺　\",\"\")&IF(申込みフォーム!AJ55<>\"\",\"肝炎\",\"\")","v":""},{"$f":"IF(申込みフォーム!AK55<>\"\",\"脳　\",\"\")&IF(申込みフォーム!AL55<>\"\",\"胸部CT　\",\"\")&IF(申込みフォーム!AM55<>\"\",\"肺機能　\",\"\")&IF(申込みフォーム!AN55<>\"\",\"腹ｴｺｰ　\",\"\")&IF(申込みフォーム!AO55<>\"\",\"心ｴｺｰ　\",\"\")&IF(申込みフォーム!AP55<>\"\",\"ﾌﾛｰﾗ　\",\"\")&IF(申込みフォーム!AQ55<>\"\",\"OCT　\",\"\")&IF(申込みフォーム!AR55<>\"\",\"検便　\",\"\")&IF(申込みフォーム!AS55<>\"\",\"骨　\",\"\")&IF(申込みフォーム!AT55<>\"\",\"骨＋ﾛｺﾓ\",\"\")","v":""},{"$f":"IF(申込みフォーム!AU55<>\"\",申込みフォーム!AU55&\"　　\",\"\")&IF(申込みフォーム!AV55<>\"\",申込みフォーム!AV55&\"　　\",\"\")&IF(申込みフォーム!AW55<>\"\",申込みフォーム!AW55&\"　　\",\"\")&IF(申込みフォーム!$AX55=\"〇\",\"4月　\",\"\")&IF(申込みフォーム!$AY55=\"〇\",\"5月　\",\"\")&IF(申込みフォーム!$AZ55=\"〇\",\"6月　\",\"\")&IF(申込みフォーム!$BA55=\"〇\",\"7月　\",\"\")&IF(申込みフォーム!$BB55=\"〇\",\"8月　\",\"\")&IF(申込みフォーム!$BC55=\"〇\",\"9月　\",\"\")&IF(申込みフォーム!$BD55=\"〇\",\"10月　\",\"\")&IF(申込みフォーム!$BE55=\"〇\",\"11月　\",\"\")&IF(申込みフォーム!$BF55=\"〇\",\"12月　\",\"\")&IF(申込みフォーム!$BG55=\"〇\",\"1月　\",\"\")&IF(申込みフォーム!$BH55=\"〇\",\"2月　\",\"\")&IF(申込みフォーム!$BI55=\"〇\",\"3月　\",\"\")","v":""},{"$f":"IF(申込みフォーム!BJ55<>\"\",申込みフォーム!BJ55,\"\")","v":""},{"$f":"IF(申込みフォーム!BK55<>\"\",申込みフォーム!BK55,\"\")","v":""},{"$f":"申込みフォーム!$Z55","v":""},{"$f":"IF(申込みフォーム!BL55<>\"\",申込みフォーム!BL55&\"　　\",\"\")&IF(申込みフォーム!BM55<>\"\",申込みフォーム!BM55&\"　　\",\"\")&IF(申込みフォーム!BN55<>\"\",申込みフォーム!BN55&\"　　\",\"\")","v":{"$error":"#VALUE!"}},{"$f":"IF($B46=VLOOKUP($B46,'受診者リスト(抽出用）'!$A:$F,1,0),VLOOKUP($B46,'受診者リスト(抽出用）'!$A:$F,3,0)&\"　（団体マスタ）\"&VLOOKUP($B46,'受診者リスト(抽出用）'!$A:$F,4,0)&\"　（枝番）\"&VLOOKUP(B46,'受診者リスト(抽出用）'!$A:$F,5,0),\"\")","v":{"$error":"#N/A"}}]
[46,{"$f":"IF(申込みフォーム!B56<>\"\",申込みフォーム!B56&\"　\"&申込みフォーム!C56,\"\")","v":""},{"$f":"IF(申込みフォーム!E56<>\"\",申込みフォーム!E56&\"　\"&申込みフォーム!F56,\"\")","v":""},{"$f":"IF(申込みフォーム!G56<>\"\",申込みフォーム!G56,\"\")","v":""},{"$f":"IF(申込みフォーム!H56<>\"\",申込みフォーム!H56,\"\")","v":""},{"$f":"IF(申込みフォーム!D56<>\"\",申込みフォーム!D56,\"\")","v":""},{"$f":"IF(申込みフォーム!I56<>\"\",REPLACE(申込みフォーム!I56,4,,\"-\"),\"\")","v":""},{"$f":"IF(申込みフォーム!J56<>\"\",申込みフォーム!J56,\"\")","v":""},{"$f":"IF(申込みフォーム!K56<>\"\",申込みフォーム!K56,\"\")","v":""},{"$f":"IF(申込みフォーム!L56<>\"\",MID(申込みフォーム!L56,1,3)&\"-\"&MID(申込みフォーム!L56,4,4)&\"-\"&MID(申込みフォーム!L56,8,4),\"\")","v":""},{"$f":"IF(申込みフォーム!M56<>\"\",申込みフォーム!M56,\"\")","v":""},{"$f":"IF(申込みフォーム!N56<>\"\",申込みフォーム!N56,\"\")","v":""},{"$f":"IF(申込みフォーム!O56<>\"\",申込みフォーム!O56,\"\")","v":""},{"$f":"IF(申込みフォーム!P56<>\"\",申込みフォーム!P56,\"\")","v":""},{"$f":"IF(申込みフォーム!Q56<>\"\",申込みフォーム!Q56,\"\")","v":""},{"$f":"IF(申込みフォーム!R56<>\"\",申込みフォーム!R56,\"\")","v":""},{"$f":"IF(申込みフォーム!S56<>\"\",申込みフォーム!S56,\"\")","v":""},{"$f":"IF(申込みフォーム!U56=\"細胞診のみ\",\"協会子宮　\",IF(申込みフォーム!U56=\"細胞診＋（自費）膣エコー\",\"協会子宮＋自費膣エコー　\",\"\"))&IF(申込みフォーム!W56<>\"\",\"協会ﾏﾝﾓ　\",\"\")&IF(申込みフォーム!Y56<>\"\",\"協会骨　\",\"\")&IF(申込みフォーム!AA56<>\"\",\"協会肝炎　\",\"\")","v":""},{"$f":"IF(申込みフォーム!AB56<>\"\",\"子宮　\",\"\")&IF(申込みフォーム!AC56<>\"\",\"ﾏﾝﾓ　\",\"\")&IF(申込みフォーム!AD56<>\"\",\"乳ｴｺｰ\",\"\")","v":""},{"$f":"IF(申込みフォーム!AE56<>\"\",\"ﾏｰｶｰ　\",\"\")&IF(申込みフォーム!AF56<>\"\",\"心機能　\",\"\")&IF(申込みフォーム!AG56<>\"\",\"ABC　\",\"\")&IF(申込みフォーム!AH56<>\"\",\"Lox　\",\"\")&IF(申込みフォーム!AI56<>\"\",\"甲状腺　\",\"\")&IF(申込みフォーム!AJ56<>\"\",\"肝炎\",\"\")","v":""},{"$f":"IF(申込みフォーム!AK56<>\"\",\"脳　\",\"\")&IF(申込みフォーム!AL56<>\"\",\"胸部CT　\",\"\")&IF(申込みフォーム!AM56<>\"\",\"肺機能　\",\"\")&IF(申込みフォーム!AN56<>\"\",\"腹ｴｺｰ　\",\"\")&IF(申込みフォーム!AO56<>\"\",\"心ｴｺｰ　\",\"\")&IF(申込みフォーム!AP56<>\"\",\"ﾌﾛｰﾗ　\",\"\")&IF(申込みフォーム!AQ56<>\"\",\"OCT　\",\"\")&IF(申込みフォーム!AR56<>\"\",\"検便　\",\"\")&IF(申込みフォーム!AS56<>\"\",\"骨　\",\"\")&IF(申込みフォーム!AT56<>\"\",\"骨＋ﾛｺﾓ\",\"\")","v":""},{"$f":"IF(申込みフォーム!AU56<>\"\",申込みフォーム!AU56&\"　　\",\"\")&IF(申込みフォーム!AV56<>\"\",申込みフォーム!AV56&\"　　\",\"\")&IF(申込みフォーム!AW56<>\"\",申込みフォーム!AW56&\"　　\",\"\")&IF(申込みフォーム!$AX56=\"〇\",\"4月　\",\"\")&IF(申込みフォーム!$AY56=\"〇\",\"5月　\",\"\")&IF(申込みフォーム!$AZ56=\"〇\",\"6月　\",\"\")&IF(申込みフォーム!$BA56=\"〇\",\"7月　\",\"\")&IF(申込みフォーム!$BB56=\"〇\",\"8月　\",\"\")&IF(申込みフォーム!$BC56=\"〇\",\"9月　\",\"\")&IF(申込みフォーム!$BD56=\"〇\",\"10月　\",\"\")&IF(申込みフォーム!$BE56=\"〇\",\"11月　\",\"\")&IF(申込みフォーム!$BF56=\"〇\",\"12月　\",\"\")&IF(申込みフォーム!$BG56=\"〇\",\"1月　\",\"\")&IF(申込みフォーム!$BH56=\"〇\",\"2月　\",\"\")&IF(申込みフォーム!$BI56=\"〇\",\"3月　\",\"\")","v":""},{"$f":"IF(申込みフォーム!BJ56<>\"\",申込みフォーム!BJ56,\"\")","v":""},{"$f":"IF(申込みフォーム!BK56<>\"\",申込みフォーム!BK56,\"\")","v":""},{"$f":"申込みフォーム!$Z56","v":""},{"$f":"IF(申込みフォーム!BL56<>\"\",申込みフォーム!BL56&\"　　\",\"\")&IF(申込みフォーム!BM56<>\"\",申込みフォーム!BM56&\"　　\",\"\")&IF(申込みフォーム!BN56<>\"\",申込みフォーム!BN56&\"　　\",\"\")","v":{"$error":"#VALUE!"}},{"$f":"IF($B47=VLOOKUP($B47,'受診者リスト(抽出用）'!$A:$F,1,0),VLOOKUP($B47,'受診者リスト(抽出用）'!$A:$F,3,0)&\"　（団体マスタ）\"&VLOOKUP($B47,'受診者リスト(抽出用）'!$A:$F,4,0)&\"　（枝番）\"&VLOOKUP(B47,'受診者リスト(抽出用）'!$A:$F,5,0),\"\")","v":{"$error":"#N/A"}}]
[47,{"$f":"IF(申込みフォーム!B57<>\"\",申込みフォーム!B57&\"　\"&申込みフォーム!C57,\"\")","v":""},{"$f":"IF(申込みフォーム!E57<>\"\",申込みフォーム!E57&\"　\"&申込みフォーム!F57,\"\")","v":""},{"$f":"IF(申込みフォーム!G57<>\"\",申込みフォーム!G57,\"\")","v":""},{"$f":"IF(申込みフォーム!H57<>\"\",申込みフォーム!H57,\"\")","v":""},{"$f":"IF(申込みフォーム!D57<>\"\",申込みフォーム!D57,\"\")","v":""},{"$f":"IF(申込みフォーム!I57<>\"\",REPLACE(申込みフォーム!I57,4,,\"-\"),\"\")","v":""},{"$f":"IF(申込みフォーム!J57<>\"\",申込みフォーム!J57,\"\")","v":""},{"$f":"IF(申込みフォーム!K57<>\"\",申込みフォーム!K57,\"\")","v":""},{"$f":"IF(申込みフォーム!L57<>\"\",MID(申込みフォーム!L57,1,3)&\"-\"&MID(申込みフォーム!L57,4,4)&\"-\"&MID(申込みフォーム!L57,8,4),\"\")","v":""},{"$f":"IF(申込みフォーム!M57<>\"\",申込みフォーム!M57,\"\")","v":""},{"$f":"IF(申込みフォーム!N57<>\"\",申込みフォーム!N57,\"\")","v":""},{"$f":"IF(申込みフォーム!O57<>\"\",申込みフォーム!O57,\"\")","v":""},{"$f":"IF(申込みフォーム!P57<>\"\",申込みフォーム!P57,\"\")","v":""},{"$f":"IF(申込みフォーム!Q57<>\"\",申込みフォーム!Q57,\"\")","v":""},{"$f":"IF(申込みフォーム!R57<>\"\",申込みフォーム!R57,\"\")","v":""},{"$f":"IF(申込みフォーム!S57<>\"\",申込みフォーム!S57,\"\")","v":""},{"$f":"IF(申込みフォーム!U57=\"細胞診のみ\",\"協会子宮　\",IF(申込みフォーム!U57=\"細胞診＋（自費）膣エコー\",\"協会子宮＋自費膣エコー　\",\"\"))&IF(申込みフォーム!W57<>\"\",\"協会ﾏﾝﾓ　\",\"\")&IF(申込みフォーム!Y57<>\"\",\"協会骨　\",\"\")&IF(申込みフォーム!AA57<>\"\",\"協会肝炎　\",\"\")","v":""},{"$f":"IF(申込みフォーム!AB57<>\"\",\"子宮　\",\"\")&IF(申込みフォーム!AC57<>\"\",\"ﾏﾝﾓ　\",\"\")&IF(申込みフォーム!AD57<>\"\",\"乳ｴｺｰ\",\"\")","v":""},{"$f":"IF(申込みフォーム!AE57<>\"\",\"ﾏｰｶｰ　\",\"\")&IF(申込みフォーム!AF57<>\"\",\"心機能　\",\"\")&IF(申込みフォーム!AG57<>\"\",\"ABC　\",\"\")&IF(申込みフォーム!AH57<>\"\",\"Lox　\",\"\")&IF(申込みフォーム!AI57<>\"\",\"甲状腺　\",\"\")&IF(申込みフォーム!AJ57<>\"\",\"肝炎\",\"\")","v":""},{"$f":"IF(申込みフォーム!AK57<>\"\",\"脳　\",\"\")&IF(申込みフォーム!AL57<>\"\",\"胸部CT　\",\"\")&IF(申込みフォーム!AM57<>\"\",\"肺機能　\",\"\")&IF(申込みフォーム!AN57<>\"\",\"腹ｴｺｰ　\",\"\")&IF(申込みフォーム!AO57<>\"\",\"心ｴｺｰ　\",\"\")&IF(申込みフォーム!AP57<>\"\",\"ﾌﾛｰﾗ　\",\"\")&IF(申込みフォーム!AQ57<>\"\",\"OCT　\",\"\")&IF(申込みフォーム!AR57<>\"\",\"検便　\",\"\")&IF(申込みフォーム!AS57<>\"\",\"骨　\",\"\")&IF(申込みフォーム!AT57<>\"\",\"骨＋ﾛｺﾓ\",\"\")","v":""},{"$f":"IF(申込みフォーム!AU57<>\"\",申込みフォーム!AU57&\"　　\",\"\")&IF(申込みフォーム!AV57<>\"\",申込みフォーム!AV57&\"　　\",\"\")&IF(申込みフォーム!AW57<>\"\",申込みフォーム!AW57&\"　　\",\"\")&IF(申込みフォーム!$AX57=\"〇\",\"4月　\",\"\")&IF(申込みフォーム!$AY57=\"〇\",\"5月　\",\"\")&IF(申込みフォーム!$AZ57=\"〇\",\"6月　\",\"\")&IF(申込みフォーム!$BA57=\"〇\",\"7月　\",\"\")&IF(申込みフォーム!$BB57=\"〇\",\"8月　\",\"\")&IF(申込みフォーム!$BC57=\"〇\",\"9月　\",\"\")&IF(申込みフォーム!$BD57=\"〇\",\"10月　\",\"\")&IF(申込みフォーム!$BE57=\"〇\",\"11月　\",\"\")&IF(申込みフォーム!$BF57=\"〇\",\"12月　\",\"\")&IF(申込みフォーム!$BG57=\"〇\",\"1月　\",\"\")&IF(申込みフォーム!$BH57=\"〇\",\"2月　\",\"\")&IF(申込みフォーム!$BI57=\"〇\",\"3月　\",\"\")","v":""},{"$f":"IF(申込みフォーム!BJ57<>\"\",申込みフォーム!BJ57,\"\")","v":""},{"$f":"IF(申込みフォーム!BK57<>\"\",申込みフォーム!BK57,\"\")","v":""},{"$f":"申込みフォーム!$Z57","v":""},{"$f":"IF(申込みフォーム!BL57<>\"\",申込みフォーム!BL57&\"　　\",\"\")&IF(申込みフォーム!BM57<>\"\",申込みフォーム!BM57&\"　　\",\"\")&IF(申込みフォーム!BN57<>\"\",申込みフォーム!BN57&\"　　\",\"\")","v":{"$error":"#VALUE!"}},{"$f":"IF($B48=VLOOKUP($B48,'受診者リスト(抽出用）'!$A:$F,1,0),VLOOKUP($B48,'受診者リスト(抽出用）'!$A:$F,3,0)&\"　（団体マスタ）\"&VLOOKUP($B48,'受診者リスト(抽出用）'!$A:$F,4,0)&\"　（枝番）\"&VLOOKUP(B48,'受診者リスト(抽出用）'!$A:$F,5,0),\"\")","v":{"$error":"#N/A"}}]
[48,{"$f":"IF(申込みフォーム!B58<>\"\",申込みフォーム!B58&\"　\"&申込みフォーム!C58,\"\")","v":""},{"$f":"IF(申込みフォーム!E58<>\"\",申込みフォーム!E58&\"　\"&申込みフォーム!F58,\"\")","v":""},{"$f":"IF(申込みフォーム!G58<>\"\",申込みフォーム!G58,\"\")","v":""},{"$f":"IF(申込みフォーム!H58<>\"\",申込みフォーム!H58,\"\")","v":""},{"$f":"IF(申込みフォーム!D58<>\"\",申込みフォーム!D58,\"\")","v":""},{"$f":"IF(申込みフォーム!I58<>\"\",REPLACE(申込みフォーム!I58,4,,\"-\"),\"\")","v":""},{"$f":"IF(申込みフォーム!J58<>\"\",申込みフォーム!J58,\"\")","v":""},{"$f":"IF(申込みフォーム!K58<>\"\",申込みフォーム!K58,\"\")","v":""},{"$f":"IF(申込みフォーム!L58<>\"\",MID(申込みフォーム!L58,1,3)&\"-\"&MID(申込みフォーム!L58,4,4)&\"-\"&MID(申込みフォーム!L58,8,4),\"\")","v":""},{"$f":"IF(申込みフォーム!M58<>\"\",申込みフォーム!M58,\"\")","v":""},{"$f":"IF(申込みフォーム!N58<>\"\",申込みフォーム!N58,\"\")","v":""},{"$f":"IF(申込みフォーム!O58<>\"\",申込みフォーム!O58,\"\")","v":""},{"$f":"IF(申込みフォーム!P58<>\"\",申込みフォーム!P58,\"\")","v":""},{"$f":"IF(申込みフォーム!Q58<>\"\",申込みフォーム!Q58,\"\")","v":""},{"$f":"IF(申込みフォーム!R58<>\"\",申込みフォーム!R58,\"\")","v":""},{"$f":"IF(申込みフォーム!S58<>\"\",申込みフォーム!S58,\"\")","v":""},{"$f":"IF(申込みフォーム!U58=\"細胞診のみ\",\"協会子宮　\",IF(申込みフォーム!U58=\"細胞診＋（自費）膣エコー\",\"協会子宮＋自費膣エコー　\",\"\"))&IF(申込みフォーム!W58<>\"\",\"協会ﾏﾝﾓ　\",\"\")&IF(申込みフォーム!Y58<>\"\",\"協会骨　\",\"\")&IF(申込みフォーム!AA58<>\"\",\"協会肝炎　\",\"\")","v":""},{"$f":"IF(申込みフォーム!AB58<>\"\",\"子宮　\",\"\")&IF(申込みフォーム!AC58<>\"\",\"ﾏﾝﾓ　\",\"\")&IF(申込みフォーム!AD58<>\"\",\"乳ｴｺｰ\",\"\")","v":""},{"$f":"IF(申込みフォーム!AE58<>\"\",\"ﾏｰｶｰ　\",\"\")&IF(申込みフォーム!AF58<>\"\",\"心機能　\",\"\")&IF(申込みフォーム!AG58<>\"\",\"ABC　\",\"\")&IF(申込みフォーム!AH58<>\"\",\"Lox　\",\"\")&IF(申込みフォーム!AI58<>\"\",\"甲状腺　\",\"\")&IF(申込みフォーム!AJ58<>\"\",\"肝炎\",\"\")","v":""},{"$f":"IF(申込みフォーム!AK58<>\"\",\"脳　\",\"\")&IF(申込みフォーム!AL58<>\"\",\"胸部CT　\",\"\")&IF(申込みフォーム!AM58<>\"\",\"肺機能　\",\"\")&IF(申込みフォーム!AN58<>\"\",\"腹ｴｺｰ　\",\"\")&IF(申込みフォーム!AO58<>\"\",\"心ｴｺｰ　\",\"\")&IF(申込みフォーム!AP58<>\"\",\"ﾌﾛｰﾗ　\",\"\")&IF(申込みフォーム!AQ58<>\"\",\"OCT　\",\"\")&IF(申込みフォーム!AR58<>\"\",\"検便　\",\"\")&IF(申込みフォーム!AS58<>\"\",\"骨　\",\"\")&IF(申込みフォーム!AT58<>\"\",\"骨＋ﾛｺﾓ\",\"\")","v":""},{"$f":"IF(申込みフォーム!AU58<>\"\",申込みフォーム!AU58&\"　　\",\"\")&IF(申込みフォーム!AV58<>\"\",申込みフォーム!AV58&\"　　\",\"\")&IF(申込みフォーム!AW58<>\"\",申込みフォーム!AW58&\"　　\",\"\")&IF(申込みフォーム!$AX58=\"〇\",\"4月　\",\"\")&IF(申込みフォーム!$AY58=\"〇\",\"5月　\",\"\")&IF(申込みフォーム!$AZ58=\"〇\",\"6月　\",\"\")&IF(申込みフォーム!$BA58=\"〇\",\"7月　\",\"\")&IF(申込みフォーム!$BB58=\"〇\",\"8月　\",\"\")&IF(申込みフォーム!$BC58=\"〇\",\"9月　\",\"\")&IF(申込みフォーム!$BD58=\"〇\",\"10月　\",\"\")&IF(申込みフォーム!$BE58=\"〇\",\"11月　\",\"\")&IF(申込みフォーム!$BF58=\"〇\",\"12月　\",\"\")&IF(申込みフォーム!$BG58=\"〇\",\"1月　\",\"\")&IF(申込みフォーム!$BH58=\"〇\",\"2月　\",\"\")&IF(申込みフォーム!$BI58=\"〇\",\"3月　\",\"\")","v":""},{"$f":"IF(申込みフォーム!BJ58<>\"\",申込みフォーム!BJ58,\"\")","v":""},{"$f":"IF(申込みフォーム!BK58<>\"\",申込みフォーム!BK58,\"\")","v":""},{"$f":"申込みフォーム!$Z58","v":""},{"$f":"IF(申込みフォーム!BL58<>\"\",申込みフォーム!BL58&\"　　\",\"\")&IF(申込みフォーム!BM58<>\"\",申込みフォーム!BM58&\"　　\",\"\")&IF(申込みフォーム!BN58<>\"\",申込みフォーム!BN58&\"　　\",\"\")","v":{"$error":"#VALUE!"}},{"$f":"IF($B49=VLOOKUP($B49,'受診者リスト(抽出用）'!$A:$F,1,0),VLOOKUP($B49,'受診者リスト(抽出用）'!$A:$F,3,0)&\"　（団体マスタ）\"&VLOOKUP($B49,'受診者リスト(抽出用）'!$A:$F,4,0)&\"　（枝番）\"&VLOOKUP(B49,'受診者リスト(抽出用）'!$A:$F,5,0),\"\")","v":{"$error":"#N/A"}}]
[49,{"$f":"IF(申込みフォーム!B59<>\"\",申込みフォーム!B59&\"　\"&申込みフォーム!C59,\"\")","v":""},{"$f":"IF(申込みフォーム!E59<>\"\",申込みフォーム!E59&\"　\"&申込みフォーム!F59,\"\")","v":""},{"$f":"IF(申込みフォーム!G59<>\"\",申込みフォーム!G59,\"\")","v":""},{"$f":"IF(申込みフォーム!H59<>\"\",申込みフォーム!H59,\"\")","v":""},{"$f":"IF(申込みフォーム!D59<>\"\",申込みフォーム!D59,\"\")","v":""},{"$f":"IF(申込みフォーム!I59<>\"\",REPLACE(申込みフォーム!I59,4,,\"-\"),\"\")","v":""},{"$f":"IF(申込みフォーム!J59<>\"\",申込みフォーム!J59,\"\")","v":""},{"$f":"IF(申込みフォーム!K59<>\"\",申込みフォーム!K59,\"\")","v":""},{"$f":"IF(申込みフォーム!L59<>\"\",MID(申込みフォーム!L59,1,3)&\"-\"&MID(申込みフォーム!L59,4,4)&\"-\"&MID(申込みフォーム!L59,8,4),\"\")","v":""},{"$f":"IF(申込みフォーム!M59<>\"\",申込みフォーム!M59,\"\")","v":""},{"$f":"IF(申込みフォーム!N59<>\"\",申込みフォーム!N59,\"\")","v":""},{"$f":"IF(申込みフォーム!O59<>\"\",申込みフォーム!O59,\"\")","v":""},{"$f":"IF(申込みフォーム!P59<>\"\",申込みフォーム!P59,\"\")","v":""},{"$f":"IF(申込みフォーム!Q59<>\"\",申込みフォーム!Q59,\"\")","v":""},{"$f":"IF(申込みフォーム!R59<>\"\",申込みフォーム!R59,\"\")","v":""},{"$f":"IF(申込みフォーム!S59<>\"\",申込みフォーム!S59,\"\")","v":""},{"$f":"IF(申込みフォーム!U59=\"細胞診のみ\",\"協会子宮　\",IF(申込みフォーム!U59=\"細胞診＋（自費）膣エコー\",\"協会子宮＋自費膣エコー　\",\"\"))&IF(申込みフォーム!W59<>\"\",\"協会ﾏﾝﾓ　\",\"\")&IF(申込みフォーム!Y59<>\"\",\"協会骨　\",\"\")&IF(申込みフォーム!AA59<>\"\",\"協会肝炎　\",\"\")","v":""},{"$f":"IF(申込みフォーム!AB59<>\"\",\"子宮　\",\"\")&IF(申込みフォーム!AC59<>\"\",\"ﾏﾝﾓ　\",\"\")&IF(申込みフォーム!AD59<>\"\",\"乳ｴｺｰ\",\"\")","v":""},{"$f":"IF(申込みフォーム!AE59<>\"\",\"ﾏｰｶｰ　\",\"\")&IF(申込みフォーム!AF59<>\"\",\"心機能　\",\"\")&IF(申込みフォーム!AG59<>\"\",\"ABC　\",\"\")&IF(申込みフォーム!AH59<>\"\",\"Lox　\",\"\")&IF(申込みフォーム!AI59<>\"\",\"甲状腺　\",\"\")&IF(申込みフォーム!AJ59<>\"\",\"肝炎\",\"\")","v":""},{"$f":"IF(申込みフォーム!AK59<>\"\",\"脳　\",\"\")&IF(申込みフォーム!AL59<>\"\",\"胸部CT　\",\"\")&IF(申込みフォーム!AM59<>\"\",\"肺機能　\",\"\")&IF(申込みフォーム!AN59<>\"\",\"腹ｴｺｰ　\",\"\")&IF(申込みフォーム!AO59<>\"\",\"心ｴｺｰ　\",\"\")&IF(申込みフォーム!AP59<>\"\",\"ﾌﾛｰﾗ　\",\"\")&IF(申込みフォーム!AQ59<>\"\",\"OCT　\",\"\")&IF(申込みフォーム!AR59<>\"\",\"検便　\",\"\")&IF(申込みフォーム!AS59<>\"\",\"骨　\",\"\")&IF(申込みフォーム!AT59<>\"\",\"骨＋ﾛｺﾓ\",\"\")","v":""},{"$f":"IF(申込みフォーム!AU59<>\"\",申込みフォーム!AU59&\"　　\",\"\")&IF(申込みフォーム!AV59<>\"\",申込みフォーム!AV59&\"　　\",\"\")&IF(申込みフォーム!AW59<>\"\",申込みフォーム!AW59&\"　　\",\"\")&IF(申込みフォーム!$AX59=\"〇\",\"4月　\",\"\")&IF(申込みフォーム!$AY59=\"〇\",\"5月　\",\"\")&IF(申込みフォーム!$AZ59=\"〇\",\"6月　\",\"\")&IF(申込みフォーム!$BA59=\"〇\",\"7月　\",\"\")&IF(申込みフォーム!$BB59=\"〇\",\"8月　\",\"\")&IF(申込みフォーム!$BC59=\"〇\",\"9月　\",\"\")&IF(申込みフォーム!$BD59=\"〇\",\"10月　\",\"\")&IF(申込みフォーム!$BE59=\"〇\",\"11月　\",\"\")&IF(申込みフォーム!$BF59=\"〇\",\"12月　\",\"\")&IF(申込みフォーム!$BG59=\"〇\",\"1月　\",\"\")&IF(申込みフォーム!$BH59=\"〇\",\"2月　\",\"\")&IF(申込みフォーム!$BI59=\"〇\",\"3月　\",\"\")","v":""},{"$f":"IF(申込みフォーム!BJ59<>\"\",申込みフォーム!BJ59,\"\")","v":""},{"$f":"IF(申込みフォーム!BK59<>\"\",申込みフォーム!BK59,\"\")","v":""},{"$f":"申込みフォーム!$Z59","v":""},{"$f":"IF(申込みフォーム!BL59<>\"\",申込みフォーム!BL59&\"　　\",\"\")&IF(申込みフォーム!BM59<>\"\",申込みフォーム!BM59&\"　　\",\"\")&IF(申込みフォーム!BN59<>\"\",申込みフォーム!BN59&\"　　\",\"\")","v":{"$error":"#VALUE!"}},{"$f":"IF($B50=VLOOKUP($B50,'受診者リスト(抽出用）'!$A:$F,1,0),VLOOKUP($B50,'受診者リスト(抽出用）'!$A:$F,3,0)&\"　（団体マスタ）\"&VLOOKUP($B50,'受診者リスト(抽出用）'!$A:$F,4,0)&\"　（枝番）\"&VLOOKUP(B50,'受診者リスト(抽出用）'!$A:$F,5,0),\"\")","v":{"$error":"#N/A"}}]
[50,{"$f":"IF(申込みフォーム!B60<>\"\",申込みフォーム!B60&\"　\"&申込みフォーム!C60,\"\")","v":""},{"$f":"IF(申込みフォーム!E60<>\"\",申込みフォーム!E60&\"　\"&申込みフォーム!F60,\"\")","v":""},{"$f":"IF(申込みフォーム!G60<>\"\",申込みフォーム!G60,\"\")","v":""},{"$f":"IF(申込みフォーム!H60<>\"\",申込みフォーム!H60,\"\")","v":""},{"$f":"IF(申込みフォーム!D60<>\"\",申込みフォーム!D60,\"\")","v":""},{"$f":"IF(申込みフォーム!I60<>\"\",REPLACE(申込みフォーム!I60,4,,\"-\"),\"\")","v":""},{"$f":"IF(申込みフォーム!J60<>\"\",申込みフォーム!J60,\"\")","v":""},{"$f":"IF(申込みフォーム!K60<>\"\",申込みフォーム!K60,\"\")","v":""},{"$f":"IF(申込みフォーム!L60<>\"\",MID(申込みフォーム!L60,1,3)&\"-\"&MID(申込みフォーム!L60,4,4)&\"-\"&MID(申込みフォーム!L60,8,4),\"\")","v":""},{"$f":"IF(申込みフォーム!M60<>\"\",申込みフォーム!M60,\"\")","v":""},{"$f":"IF(申込みフォーム!N60<>\"\",申込みフォーム!N60,\"\")","v":""},{"$f":"IF(申込みフォーム!O60<>\"\",申込みフォーム!O60,\"\")","v":""},{"$f":"IF(申込みフォーム!P60<>\"\",申込みフォーム!P60,\"\")","v":""},{"$f":"IF(申込みフォーム!Q60<>\"\",申込みフォーム!Q60,\"\")","v":""},{"$f":"IF(申込みフォーム!R60<>\"\",申込みフォーム!R60,\"\")","v":""},{"$f":"IF(申込みフォーム!S60<>\"\",申込みフォーム!S60,\"\")","v":""},{"$f":"IF(申込みフォーム!U60=\"細胞診のみ\",\"協会子宮　\",IF(申込みフォーム!U60=\"細胞診＋（自費）膣エコー\",\"協会子宮＋自費膣エコー　\",\"\"))&IF(申込みフォーム!W60<>\"\",\"協会ﾏﾝﾓ　\",\"\")&IF(申込みフォーム!Y60<>\"\",\"協会骨　\",\"\")&IF(申込みフォーム!AA60<>\"\",\"協会肝炎　\",\"\")","v":""},{"$f":"IF(申込みフォーム!AB60<>\"\",\"子宮　\",\"\")&IF(申込みフォーム!AC60<>\"\",\"ﾏﾝﾓ　\",\"\")&IF(申込みフォーム!AD60<>\"\",\"乳ｴｺｰ\",\"\")","v":""},{"$f":"IF(申込みフォーム!AE60<>\"\",\"ﾏｰｶｰ　\",\"\")&IF(申込みフォーム!AF60<>\"\",\"心機能　\",\"\")&IF(申込みフォーム!AG60<>\"\",\"ABC　\",\"\")&IF(申込みフォーム!AH60<>\"\",\"Lox　\",\"\")&IF(申込みフォーム!AI60<>\"\",\"甲状腺　\",\"\")&IF(申込みフォーム!AJ60<>\"\",\"肝炎\",\"\")","v":""},{"$f":"IF(申込みフォーム!AK60<>\"\",\"脳　\",\"\")&IF(申込みフォーム!AL60<>\"\",\"胸部CT　\",\"\")&IF(申込みフォーム!AM60<>\"\",\"肺機能　\",\"\")&IF(申込みフォーム!AN60<>\"\",\"腹ｴｺｰ　\",\"\")&IF(申込みフォーム!AO60<>\"\",\"心ｴｺｰ　\",\"\")&IF(申込みフォーム!AP60<>\"\",\"ﾌﾛｰﾗ　\",\"\")&IF(申込みフォーム!AQ60<>\"\",\"OCT　\",\"\")&IF(申込みフォーム!AR60<>\"\",\"検便　\",\"\")&IF(申込みフォーム!AS60<>\"\",\"骨　\",\"\")&IF(申込みフォーム!AT60<>\"\",\"骨＋ﾛｺﾓ\",\"\")","v":""},{"$f":"IF(申込みフォーム!AU60<>\"\",申込みフォーム!AU60&\"　　\",\"\")&IF(申込みフォーム!AV60<>\"\",申込みフォーム!AV60&\"　　\",\"\")&IF(申込みフォーム!AW60<>\"\",申込みフォーム!AW60&\"　　\",\"\")&IF(申込みフォーム!$AX60=\"〇\",\"4月　\",\"\")&IF(申込みフォーム!$AY60=\"〇\",\"5月　\",\"\")&IF(申込みフォーム!$AZ60=\"〇\",\"6月　\",\"\")&IF(申込みフォーム!$BA60=\"〇\",\"7月　\",\"\")&IF(申込みフォーム!$BB60=\"〇\",\"8月　\",\"\")&IF(申込みフォーム!$BC60=\"〇\",\"9月　\",\"\")&IF(申込みフォーム!$BD60=\"〇\",\"10月　\",\"\")&IF(申込みフォーム!$BE60=\"〇\",\"11月　\",\"\")&IF(申込みフォーム!$BF60=\"〇\",\"12月　\",\"\")&IF(申込みフォーム!$BG60=\"〇\",\"1月　\",\"\")&IF(申込みフォーム!$BH60=\"〇\",\"2月　\",\"\")&IF(申込みフォーム!$BI60=\"〇\",\"3月　\",\"\")","v":""},{"$f":"IF(申込みフォーム!BJ60<>\"\",申込みフォーム!BJ60,\"\")","v":""},{"$f":"IF(申込みフォーム!BK60<>\"\",申込みフォーム!BK60,\"\")","v":""},{"$f":"申込みフォーム!$Z60","v":""},{"$f":"IF(申込みフォーム!BL60<>\"\",申込みフォーム!BL60&\"　　\",\"\")&IF(申込みフォーム!BM60<>\"\",申込みフォーム!BM60&\"　　\",\"\")&IF(申込みフォーム!BN60<>\"\",申込みフォーム!BN60&\"　　\",\"\")","v":{"$error":"#VALUE!"}},{"$f":"IF($B51=VLOOKUP($B51,'受診者リスト(抽出用）'!$A:$F,1,0),VLOOKUP($B51,'受診者リスト(抽出用）'!$A:$F,3,0)&\"　（団体マスタ）\"&VLOOKUP($B51,'受診者リスト(抽出用）'!$A:$F,4,0)&\"　（枝番）\"&VLOOKUP(B51,'受診者リスト(抽出用）'!$A:$F,5,0),\"\")","v":{"$error":"#N/A"}}]
[51,{"$f":"IF(申込みフォーム!B61<>\"\",申込みフォーム!B61&\"　\"&申込みフォーム!C61,\"\")","v":""},{"$f":"IF(申込みフォーム!E61<>\"\",申込みフォーム!E61&\"　\"&申込みフォーム!F61,\"\")","v":""},{"$f":"IF(申込みフォーム!G61<>\"\",申込みフォーム!G61,\"\")","v":""},{"$f":"IF(申込みフォーム!H61<>\"\",申込みフォーム!H61,\"\")","v":""},{"$f":"IF(申込みフォーム!D61<>\"\",申込みフォーム!D61,\"\")","v":""},{"$f":"IF(申込みフォーム!I61<>\"\",REPLACE(申込みフォーム!I61,4,,\"-\"),\"\")","v":""},{"$f":"IF(申込みフォーム!J61<>\"\",申込みフォーム!J61,\"\")","v":""},{"$f":"IF(申込みフォーム!K61<>\"\",申込みフォーム!K61,\"\")","v":""},{"$f":"IF(申込みフォーム!L61<>\"\",MID(申込みフォーム!L61,1,3)&\"-\"&MID(申込みフォーム!L61,4,4)&\"-\"&MID(申込みフォーム!L61,8,4),\"\")","v":""},{"$f":"IF(申込みフォーム!M61<>\"\",申込みフォーム!M61,\"\")","v":""},{"$f":"IF(申込みフォーム!N61<>\"\",申込みフォーム!N61,\"\")","v":""},{"$f":"IF(申込みフォーム!O61<>\"\",申込みフォーム!O61,\"\")","v":""},{"$f":"IF(申込みフォーム!P61<>\"\",申込みフォーム!P61,\"\")","v":""},{"$f":"IF(申込みフォーム!Q61<>\"\",申込みフォーム!Q61,\"\")","v":""},{"$f":"IF(申込みフォーム!R61<>\"\",申込みフォーム!R61,\"\")","v":""},{"$f":"IF(申込みフォーム!S61<>\"\",申込みフォーム!S61,\"\")","v":""},{"$f":"IF(申込みフォーム!U61=\"細胞診のみ\",\"協会子宮　\",IF(申込みフォーム!U61=\"細胞診＋（自費）膣エコー\",\"協会子宮＋自費膣エコー　\",\"\"))&IF(申込みフォーム!W61<>\"\",\"協会ﾏﾝﾓ　\",\"\")&IF(申込みフォーム!Y61<>\"\",\"協会骨　\",\"\")&IF(申込みフォーム!AA61<>\"\",\"協会肝炎　\",\"\")","v":""},{"$f":"IF(申込みフォーム!AB61<>\"\",\"子宮　\",\"\")&IF(申込みフォーム!AC61<>\"\",\"ﾏﾝﾓ　\",\"\")&IF(申込みフォーム!AD61<>\"\",\"乳ｴｺｰ\",\"\")","v":""},{"$f":"IF(申込みフォーム!AE61<>\"\",\"ﾏｰｶｰ　\",\"\")&IF(申込みフォーム!AF61<>\"\",\"心機能　\",\"\")&IF(申込みフォーム!AG61<>\"\",\"ABC　\",\"\")&IF(申込みフォーム!AH61<>\"\",\"Lox　\",\"\")&IF(申込みフォーム!AI61<>\"\",\"甲状腺　\",\"\")&IF(申込みフォーム!AJ61<>\"\",\"肝炎\",\"\")","v":""},{"$f":"IF(申込みフォーム!AK61<>\"\",\"脳　\",\"\")&IF(申込みフォーム!AL61<>\"\",\"胸部CT　\",\"\")&IF(申込みフォーム!AM61<>\"\",\"肺機能　\",\"\")&IF(申込みフォーム!AN61<>\"\",\"腹ｴｺｰ　\",\"\")&IF(申込みフォーム!AO61<>\"\",\"心ｴｺｰ　\",\"\")&IF(申込みフォーム!AP61<>\"\",\"ﾌﾛｰﾗ　\",\"\")&IF(申込みフォーム!AQ61<>\"\",\"OCT　\",\"\")&IF(申込みフォーム!AR61<>\"\",\"検便　\",\"\")&IF(申込みフォーム!AS61<>\"\",\"骨　\",\"\")&IF(申込みフォーム!AT61<>\"\",\"骨＋ﾛｺﾓ\",\"\")","v":""},{"$f":"IF(申込みフォーム!AU61<>\"\",申込みフォーム!AU61&\"　　\",\"\")&IF(申込みフォーム!AV61<>\"\",申込みフォーム!AV61&\"　　\",\"\")&IF(申込みフォーム!AW61<>\"\",申込みフォーム!AW61&\"　　\",\"\")&IF(申込みフォーム!$AX61=\"〇\",\"4月　\",\"\")&IF(申込みフォーム!$AY61=\"〇\",\"5月　\",\"\")&IF(申込みフォーム!$AZ61=\"〇\",\"6月　\",\"\")&IF(申込みフォーム!$BA61=\"〇\",\"7月　\",\"\")&IF(申込みフォーム!$BB61=\"〇\",\"8月　\",\"\")&IF(申込みフォーム!$BC61=\"〇\",\"9月　\",\"\")&IF(申込みフォーム!$BD61=\"〇\",\"10月　\",\"\")&IF(申込みフォーム!$BE61=\"〇\",\"11月　\",\"\")&IF(申込みフォーム!$BF61=\"〇\",\"12月　\",\"\")&IF(申込みフォーム!$BG61=\"〇\",\"1月　\",\"\")&IF(申込みフォーム!$BH61=\"〇\",\"2月　\",\"\")&IF(申込みフォーム!$BI61=\"〇\",\"3月　\",\"\")","v":""},{"$f":"IF(申込みフォーム!BJ61<>\"\",申込みフォーム!BJ61,\"\")","v":""},{"$f":"IF(申込みフォーム!BK61<>\"\",申込みフォーム!BK61,\"\")","v":""},{"$f":"申込みフォーム!$Z61","v":""},{"$f":"IF(申込みフォーム!BL61<>\"\",申込みフォーム!BL61&\"　　\",\"\")&IF(申込みフォーム!BM61<>\"\",申込みフォーム!BM61&\"　　\",\"\")&IF(申込みフォーム!BN61<>\"\",申込みフォーム!BN61&\"　　\",\"\")","v":{"$error":"#VALUE!"}},{"$f":"IF($B52=VLOOKUP($B52,'受診者リスト(抽出用）'!$A:$F,1,0),VLOOKUP($B52,'受診者リスト(抽出用）'!$A:$F,3,0)&\"　（団体マスタ）\"&VLOOKUP($B52,'受診者リスト(抽出用）'!$A:$F,4,0)&\"　（枝番）\"&VLOOKUP(B52,'受診者リスト(抽出用）'!$A:$F,5,0),\"\")","v":{"$error":"#N/A"}}]
[52,{"$f":"IF(申込みフォーム!B62<>\"\",申込みフォーム!B62&\"　\"&申込みフォーム!C62,\"\")","v":""},{"$f":"IF(申込みフォーム!E62<>\"\",申込みフォーム!E62&\"　\"&申込みフォーム!F62,\"\")","v":""},{"$f":"IF(申込みフォーム!G62<>\"\",申込みフォーム!G62,\"\")","v":""},{"$f":"IF(申込みフォーム!H62<>\"\",申込みフォーム!H62,\"\")","v":""},{"$f":"IF(申込みフォーム!D62<>\"\",申込みフォーム!D62,\"\")","v":""},{"$f":"IF(申込みフォーム!I62<>\"\",REPLACE(申込みフォーム!I62,4,,\"-\"),\"\")","v":""},{"$f":"IF(申込みフォーム!J62<>\"\",申込みフォーム!J62,\"\")","v":""},{"$f":"IF(申込みフォーム!K62<>\"\",申込みフォーム!K62,\"\")","v":""},{"$f":"IF(申込みフォーム!L62<>\"\",MID(申込みフォーム!L62,1,3)&\"-\"&MID(申込みフォーム!L62,4,4)&\"-\"&MID(申込みフォーム!L62,8,4),\"\")","v":""},{"$f":"IF(申込みフォーム!M62<>\"\",申込みフォーム!M62,\"\")","v":""},{"$f":"IF(申込みフォーム!N62<>\"\",申込みフォーム!N62,\"\")","v":""},{"$f":"IF(申込みフォーム!O62<>\"\",申込みフォーム!O62,\"\")","v":""},{"$f":"IF(申込みフォーム!P62<>\"\",申込みフォーム!P62,\"\")","v":""},{"$f":"IF(申込みフォーム!Q62<>\"\",申込みフォーム!Q62,\"\")","v":""},{"$f":"IF(申込みフォーム!R62<>\"\",申込みフォーム!R62,\"\")","v":""},{"$f":"IF(申込みフォーム!S62<>\"\",申込みフォーム!S62,\"\")","v":""},{"$f":"IF(申込みフォーム!U62=\"細胞診のみ\",\"協会子宮　\",IF(申込みフォーム!U62=\"細胞診＋（自費）膣エコー\",\"協会子宮＋自費膣エコー　\",\"\"))&IF(申込みフォーム!W62<>\"\",\"協会ﾏﾝﾓ　\",\"\")&IF(申込みフォーム!Y62<>\"\",\"協会骨　\",\"\")&IF(申込みフォーム!AA62<>\"\",\"協会肝炎　\",\"\")","v":""},{"$f":"IF(申込みフォーム!AB62<>\"\",\"子宮　\",\"\")&IF(申込みフォーム!AC62<>\"\",\"ﾏﾝﾓ　\",\"\")&IF(申込みフォーム!AD62<>\"\",\"乳ｴｺｰ\",\"\")","v":""},{"$f":"IF(申込みフォーム!AE62<>\"\",\"ﾏｰｶｰ　\",\"\")&IF(申込みフォーム!AF62<>\"\",\"心機能　\",\"\")&IF(申込みフォーム!AG62<>\"\",\"ABC　\",\"\")&IF(申込みフォーム!AH62<>\"\",\"Lox　\",\"\")&IF(申込みフォーム!AI62<>\"\",\"甲状腺　\",\"\")&IF(申込みフォーム!AJ62<>\"\",\"肝炎\",\"\")","v":""},{"$f":"IF(申込みフォーム!AK62<>\"\",\"脳　\",\"\")&IF(申込みフォーム!AL62<>\"\",\"胸部CT　\",\"\")&IF(申込みフォーム!AM62<>\"\",\"肺機能　\",\"\")&IF(申込みフォーム!AN62<>\"\",\"腹ｴｺｰ　\",\"\")&IF(申込みフォーム!AO62<>\"\",\"心ｴｺｰ　\",\"\")&IF(申込みフォーム!AP62<>\"\",\"ﾌﾛｰﾗ　\",\"\")&IF(申込みフォーム!AQ62<>\"\",\"OCT　\",\"\")&IF(申込みフォーム!AR62<>\"\",\"検便　\",\"\")&IF(申込みフォーム!AS62<>\"\",\"骨　\",\"\")&IF(申込みフォーム!AT62<>\"\",\"骨＋ﾛｺﾓ\",\"\")","v":""},{"$f":"IF(申込みフォーム!AU62<>\"\",申込みフォーム!AU62&\"　　\",\"\")&IF(申込みフォーム!AV62<>\"\",申込みフォーム!AV62&\"　　\",\"\")&IF(申込みフォーム!AW62<>\"\",申込みフォーム!AW62&\"　　\",\"\")&IF(申込みフォーム!$AX62=\"〇\",\"4月　\",\"\")&IF(申込みフォーム!$AY62=\"〇\",\"5月　\",\"\")&IF(申込みフォーム!$AZ62=\"〇\",\"6月　\",\"\")&IF(申込みフォーム!$BA62=\"〇\",\"7月　\",\"\")&IF(申込みフォーム!$BB62=\"〇\",\"8月　\",\"\")&IF(申込みフォーム!$BC62=\"〇\",\"9月　\",\"\")&IF(申込みフォーム!$BD62=\"〇\",\"10月　\",\"\")&IF(申込みフォーム!$BE62=\"〇\",\"11月　\",\"\")&IF(申込みフォーム!$BF62=\"〇\",\"12月　\",\"\")&IF(申込みフォーム!$BG62=\"〇\",\"1月　\",\"\")&IF(申込みフォーム!$BH62=\"〇\",\"2月　\",\"\")&IF(申込みフォーム!$BI62=\"〇\",\"3月　\",\"\")","v":""},{"$f":"IF(申込みフォーム!BJ62<>\"\",申込みフォーム!BJ62,\"\")","v":""},{"$f":"IF(申込みフォーム!BK62<>\"\",申込みフォーム!BK62,\"\")","v":""},{"$f":"申込みフォーム!$Z62","v":""},{"$f":"IF(申込みフォーム!BL62<>\"\",申込みフォーム!BL62&\"　　\",\"\")&IF(申込みフォーム!BM62<>\"\",申込みフォーム!BM62&\"　　\",\"\")&IF(申込みフォーム!BN62<>\"\",申込みフォーム!BN62&\"　　\",\"\")","v":{"$error":"#VALUE!"}},{"$f":"IF($B53=VLOOKUP($B53,'受診者リスト(抽出用）'!$A:$F,1,0),VLOOKUP($B53,'受診者リスト(抽出用）'!$A:$F,3,0)&\"　（団体マスタ）\"&VLOOKUP($B53,'受診者リスト(抽出用）'!$A:$F,4,0)&\"　（枝番）\"&VLOOKUP(B53,'受診者リスト(抽出用）'!$A:$F,5,0),\"\")","v":{"$error":"#N/A"}}]
[53,{"$f":"IF(申込みフォーム!B63<>\"\",申込みフォーム!B63&\"　\"&申込みフォーム!C63,\"\")","v":""},{"$f":"IF(申込みフォーム!E63<>\"\",申込みフォーム!E63&\"　\"&申込みフォーム!F63,\"\")","v":""},{"$f":"IF(申込みフォーム!G63<>\"\",申込みフォーム!G63,\"\")","v":""},{"$f":"IF(申込みフォーム!H63<>\"\",申込みフォーム!H63,\"\")","v":""},{"$f":"IF(申込みフォーム!D63<>\"\",申込みフォーム!D63,\"\")","v":""},{"$f":"IF(申込みフォーム!I63<>\"\",REPLACE(申込みフォーム!I63,4,,\"-\"),\"\")","v":""},{"$f":"IF(申込みフォーム!J63<>\"\",申込みフォーム!J63,\"\")","v":""},{"$f":"IF(申込みフォーム!K63<>\"\",申込みフォーム!K63,\"\")","v":""},{"$f":"IF(申込みフォーム!L63<>\"\",MID(申込みフォーム!L63,1,3)&\"-\"&MID(申込みフォーム!L63,4,4)&\"-\"&MID(申込みフォーム!L63,8,4),\"\")","v":""},{"$f":"IF(申込みフォーム!M63<>\"\",申込みフォーム!M63,\"\")","v":""},{"$f":"IF(申込みフォーム!N63<>\"\",申込みフォーム!N63,\"\")","v":""},{"$f":"IF(申込みフォーム!O63<>\"\",申込みフォーム!O63,\"\")","v":""},{"$f":"IF(申込みフォーム!P63<>\"\",申込みフォーム!P63,\"\")","v":""},{"$f":"IF(申込みフォーム!Q63<>\"\",申込みフォーム!Q63,\"\")","v":""},{"$f":"IF(申込みフォーム!R63<>\"\",申込みフォーム!R63,\"\")","v":""},{"$f":"IF(申込みフォーム!S63<>\"\",申込みフォーム!S63,\"\")","v":""},{"$f":"IF(申込みフォーム!U63=\"細胞診のみ\",\"協会子宮　\",IF(申込みフォーム!U63=\"細胞診＋（自費）膣エコー\",\"協会子宮＋自費膣エコー　\",\"\"))&IF(申込みフォーム!W63<>\"\",\"協会ﾏﾝﾓ　\",\"\")&IF(申込みフォーム!Y63<>\"\",\"協会骨　\",\"\")&IF(申込みフォーム!AA63<>\"\",\"協会肝炎　\",\"\")","v":""},{"$f":"IF(申込みフォーム!AB63<>\"\",\"子宮　\",\"\")&IF(申込みフォーム!AC63<>\"\",\"ﾏﾝﾓ　\",\"\")&IF(申込みフォーム!AD63<>\"\",\"乳ｴｺｰ\",\"\")","v":""},{"$f":"IF(申込みフォーム!AE63<>\"\",\"ﾏｰｶｰ　\",\"\")&IF(申込みフォーム!AF63<>\"\",\"心機能　\",\"\")&IF(申込みフォーム!AG63<>\"\",\"ABC　\",\"\")&IF(申込みフォーム!AH63<>\"\",\"Lox　\",\"\")&IF(申込みフォーム!AI63<>\"\",\"甲状腺　\",\"\")&IF(申込みフォーム!AJ63<>\"\",\"肝炎\",\"\")","v":""},{"$f":"IF(申込みフォーム!AK63<>\"\",\"脳　\",\"\")&IF(申込みフォーム!AL63<>\"\",\"胸部CT　\",\"\")&IF(申込みフォーム!AM63<>\"\",\"肺機能　\",\"\")&IF(申込みフォーム!AN63<>\"\",\"腹ｴｺｰ　\",\"\")&IF(申込みフォーム!AO63<>\"\",\"心ｴｺｰ　\",\"\")&IF(申込みフォーム!AP63<>\"\",\"ﾌﾛｰﾗ　\",\"\")&IF(申込みフォーム!AQ63<>\"\",\"OCT　\",\"\")&IF(申込みフォーム!AR63<>\"\",\"検便　\",\"\")&IF(申込みフォーム!AS63<>\"\",\"骨　\",\"\")&IF(申込みフォーム!AT63<>\"\",\"骨＋ﾛｺﾓ\",\"\")","v":""},{"$f":"IF(申込みフォーム!AU63<>\"\",申込みフォーム!AU63&\"　　\",\"\")&IF(申込みフォーム!AV63<>\"\",申込みフォーム!AV63&\"　　\",\"\")&IF(申込みフォーム!AW63<>\"\",申込みフォーム!AW63&\"　　\",\"\")&IF(申込みフォーム!$AX63=\"〇\",\"4月　\",\"\")&IF(申込みフォーム!$AY63=\"〇\",\"5月　\",\"\")&IF(申込みフォーム!$AZ63=\"〇\",\"6月　\",\"\")&IF(申込みフォーム!$BA63=\"〇\",\"7月　\",\"\")&IF(申込みフォーム!$BB63=\"〇\",\"8月　\",\"\")&IF(申込みフォーム!$BC63=\"〇\",\"9月　\",\"\")&IF(申込みフォーム!$BD63=\"〇\",\"10月　\",\"\")&IF(申込みフォーム!$BE63=\"〇\",\"11月　\",\"\")&IF(申込みフォーム!$BF63=\"〇\",\"12月　\",\"\")&IF(申込みフォーム!$BG63=\"〇\",\"1月　\",\"\")&IF(申込みフォーム!$BH63=\"〇\",\"2月　\",\"\")&IF(申込みフォーム!$BI63=\"〇\",\"3月　\",\"\")","v":""},{"$f":"IF(申込みフォーム!BJ63<>\"\",申込みフォーム!BJ63,\"\")","v":""},{"$f":"IF(申込みフォーム!BK63<>\"\",申込みフォーム!BK63,\"\")","v":""},{"$f":"申込みフォーム!$Z63","v":""},{"$f":"IF(申込みフォーム!BL63<>\"\",申込みフォーム!BL63&\"　　\",\"\")&IF(申込みフォーム!BM63<>\"\",申込みフォーム!BM63&\"　　\",\"\")&IF(申込みフォーム!BN63<>\"\",申込みフォーム!BN63&\"　　\",\"\")","v":{"$error":"#VALUE!"}},{"$f":"IF($B54=VLOOKUP($B54,'受診者リスト(抽出用）'!$A:$F,1,0),VLOOKUP($B54,'受診者リスト(抽出用）'!$A:$F,3,0)&\"　（団体マスタ）\"&VLOOKUP($B54,'受診者リスト(抽出用）'!$A:$F,4,0)&\"　（枝番）\"&VLOOKUP(B54,'受診者リスト(抽出用）'!$A:$F,5,0),\"\")","v":{"$error":"#N/A"}}]
[54,{"$f":"IF(申込みフォーム!B64<>\"\",申込みフォーム!B64&\"　\"&申込みフォーム!C64,\"\")","v":""},{"$f":"IF(申込みフォーム!E64<>\"\",申込みフォーム!E64&\"　\"&申込みフォーム!F64,\"\")","v":""},{"$f":"IF(申込みフォーム!G64<>\"\",申込みフォーム!G64,\"\")","v":""},{"$f":"IF(申込みフォーム!H64<>\"\",申込みフォーム!H64,\"\")","v":""},{"$f":"IF(申込みフォーム!D64<>\"\",申込みフォーム!D64,\"\")","v":""},{"$f":"IF(申込みフォーム!I64<>\"\",REPLACE(申込みフォーム!I64,4,,\"-\"),\"\")","v":""},{"$f":"IF(申込みフォーム!J64<>\"\",申込みフォーム!J64,\"\")","v":""},{"$f":"IF(申込みフォーム!K64<>\"\",申込みフォーム!K64,\"\")","v":""},{"$f":"IF(申込みフォーム!L64<>\"\",MID(申込みフォーム!L64,1,3)&\"-\"&MID(申込みフォーム!L64,4,4)&\"-\"&MID(申込みフォーム!L64,8,4),\"\")","v":""},{"$f":"IF(申込みフォーム!M64<>\"\",申込みフォーム!M64,\"\")","v":""},{"$f":"IF(申込みフォーム!N64<>\"\",申込みフォーム!N64,\"\")","v":""},{"$f":"IF(申込みフォーム!O64<>\"\",申込みフォーム!O64,\"\")","v":""},{"$f":"IF(申込みフォーム!P64<>\"\",申込みフォーム!P64,\"\")","v":""},{"$f":"IF(申込みフォーム!Q64<>\"\",申込みフォーム!Q64,\"\")","v":""},{"$f":"IF(申込みフォーム!R64<>\"\",申込みフォーム!R64,\"\")","v":""},{"$f":"IF(申込みフォーム!S64<>\"\",申込みフォーム!S64,\"\")","v":""},{"$f":"IF(申込みフォーム!U64=\"細胞診のみ\",\"協会子宮　\",IF(申込みフォーム!U64=\"細胞診＋（自費）膣エコー\",\"協会子宮＋自費膣エコー　\",\"\"))&IF(申込みフォーム!W64<>\"\",\"協会ﾏﾝﾓ　\",\"\")&IF(申込みフォーム!Y64<>\"\",\"協会骨　\",\"\")&IF(申込みフォーム!AA64<>\"\",\"協会肝炎　\",\"\")","v":""},{"$f":"IF(申込みフォーム!AB64<>\"\",\"子宮　\",\"\")&IF(申込みフォーム!AC64<>\"\",\"ﾏﾝﾓ　\",\"\")&IF(申込みフォーム!AD64<>\"\",\"乳ｴｺｰ\",\"\")","v":""},{"$f":"IF(申込みフォーム!AE64<>\"\",\"ﾏｰｶｰ　\",\"\")&IF(申込みフォーム!AF64<>\"\",\"心機能　\",\"\")&IF(申込みフォーム!AG64<>\"\",\"ABC　\",\"\")&IF(申込みフォーム!AH64<>\"\",\"Lox　\",\"\")&IF(申込みフォーム!AI64<>\"\",\"甲状腺　\",\"\")&IF(申込みフォーム!AJ64<>\"\",\"肝炎\",\"\")","v":""},{"$f":"IF(申込みフォーム!AK64<>\"\",\"脳　\",\"\")&IF(申込みフォーム!AL64<>\"\",\"胸部CT　\",\"\")&IF(申込みフォーム!AM64<>\"\",\"肺機能　\",\"\")&IF(申込みフォーム!AN64<>\"\",\"腹ｴｺｰ　\",\"\")&IF(申込みフォーム!AO64<>\"\",\"心ｴｺｰ　\",\"\")&IF(申込みフォーム!AP64<>\"\",\"ﾌﾛｰﾗ　\",\"\")&IF(申込みフォーム!AQ64<>\"\",\"OCT　\",\"\")&IF(申込みフォーム!AR64<>\"\",\"検便　\",\"\")&IF(申込みフォーム!AS64<>\"\",\"骨　\",\"\")&IF(申込みフォーム!AT64<>\"\",\"骨＋ﾛｺﾓ\",\"\")","v":""},{"$f":"IF(申込みフォーム!AU64<>\"\",申込みフォーム!AU64&\"　　\",\"\")&IF(申込みフォーム!AV64<>\"\",申込みフォーム!AV64&\"　　\",\"\")&IF(申込みフォーム!AW64<>\"\",申込みフォーム!AW64&\"　　\",\"\")&IF(申込みフォーム!$AX64=\"〇\",\"4月　\",\"\")&IF(申込みフォーム!$AY64=\"〇\",\"5月　\",\"\")&IF(申込みフォーム!$AZ64=\"〇\",\"6月　\",\"\")&IF(申込みフォーム!$BA64=\"〇\",\"7月　\",\"\")&IF(申込みフォーム!$BB64=\"〇\",\"8月　\",\"\")&IF(申込みフォーム!$BC64=\"〇\",\"9月　\",\"\")&IF(申込みフォーム!$BD64=\"〇\",\"10月　\",\"\")&IF(申込みフォーム!$BE64=\"〇\",\"11月　\",\"\")&IF(申込みフォーム!$BF64=\"〇\",\"12月　\",\"\")&IF(申込みフォーム!$BG64=\"〇\",\"1月　\",\"\")&IF(申込みフォーム!$BH64=\"〇\",\"2月　\",\"\")&IF(申込みフォーム!$BI64=\"〇\",\"3月　\",\"\")","v":""},{"$f":"IF(申込みフォーム!BJ64<>\"\",申込みフォーム!BJ64,\"\")","v":""},{"$f":"IF(申込みフォーム!BK64<>\"\",申込みフォーム!BK64,\"\")","v":""},{"$f":"申込みフォーム!$Z64","v":""},{"$f":"IF(申込みフォーム!BL64<>\"\",申込みフォーム!BL64&\"　　\",\"\")&IF(申込みフォーム!BM64<>\"\",申込みフォーム!BM64&\"　　\",\"\")&IF(申込みフォーム!BN64<>\"\",申込みフォーム!BN64&\"　　\",\"\")","v":{"$error":"#VALUE!"}},{"$f":"IF($B55=VLOOKUP($B55,'受診者リスト(抽出用）'!$A:$F,1,0),VLOOKUP($B55,'受診者リスト(抽出用）'!$A:$F,3,0)&\"　（団体マスタ）\"&VLOOKUP($B55,'受診者リスト(抽出用）'!$A:$F,4,0)&\"　（枝番）\"&VLOOKUP(B55,'受診者リスト(抽出用）'!$A:$F,5,0),\"\")","v":{"$error":"#N/A"}}]
[55,{"$f":"IF(申込みフォーム!B65<>\"\",申込みフォーム!B65&\"　\"&申込みフォーム!C65,\"\")","v":""},{"$f":"IF(申込みフォーム!E65<>\"\",申込みフォーム!E65&\"　\"&申込みフォーム!F65,\"\")","v":""},{"$f":"IF(申込みフォーム!G65<>\"\",申込みフォーム!G65,\"\")","v":""},{"$f":"IF(申込みフォーム!H65<>\"\",申込みフォーム!H65,\"\")","v":""},{"$f":"IF(申込みフォーム!D65<>\"\",申込みフォーム!D65,\"\")","v":""},{"$f":"IF(申込みフォーム!I65<>\"\",REPLACE(申込みフォーム!I65,4,,\"-\"),\"\")","v":""},{"$f":"IF(申込みフォーム!J65<>\"\",申込みフォーム!J65,\"\")","v":""},{"$f":"IF(申込みフォーム!K65<>\"\",申込みフォーム!K65,\"\")","v":""},{"$f":"IF(申込みフォーム!L65<>\"\",MID(申込みフォーム!L65,1,3)&\"-\"&MID(申込みフォーム!L65,4,4)&\"-\"&MID(申込みフォーム!L65,8,4),\"\")","v":""},{"$f":"IF(申込みフォーム!M65<>\"\",申込みフォーム!M65,\"\")","v":""},{"$f":"IF(申込みフォーム!N65<>\"\",申込みフォーム!N65,\"\")","v":""},{"$f":"IF(申込みフォーム!O65<>\"\",申込みフォーム!O65,\"\")","v":""},{"$f":"IF(申込みフォーム!P65<>\"\",申込みフォーム!P65,\"\")","v":""},{"$f":"IF(申込みフォーム!Q65<>\"\",申込みフォーム!Q65,\"\")","v":""},{"$f":"IF(申込みフォーム!R65<>\"\",申込みフォーム!R65,\"\")","v":""},{"$f":"IF(申込みフォーム!S65<>\"\",申込みフォーム!S65,\"\")","v":""},{"$f":"IF(申込みフォーム!U65=\"細胞診のみ\",\"協会子宮　\",IF(申込みフォーム!U65=\"細胞診＋（自費）膣エコー\",\"協会子宮＋自費膣エコー　\",\"\"))&IF(申込みフォーム!W65<>\"\",\"協会ﾏﾝﾓ　\",\"\")&IF(申込みフォーム!Y65<>\"\",\"協会骨　\",\"\")&IF(申込みフォーム!AA65<>\"\",\"協会肝炎　\",\"\")","v":""},{"$f":"IF(申込みフォーム!AB65<>\"\",\"子宮　\",\"\")&IF(申込みフォーム!AC65<>\"\",\"ﾏﾝﾓ　\",\"\")&IF(申込みフォーム!AD65<>\"\",\"乳ｴｺｰ\",\"\")","v":""},{"$f":"IF(申込みフォーム!AE65<>\"\",\"ﾏｰｶｰ　\",\"\")&IF(申込みフォーム!AF65<>\"\",\"心機能　\",\"\")&IF(申込みフォーム!AG65<>\"\",\"ABC　\",\"\")&IF(申込みフォーム!AH65<>\"\",\"Lox　\",\"\")&IF(申込みフォーム!AI65<>\"\",\"甲状腺　\",\"\")&IF(申込みフォーム!AJ65<>\"\",\"肝炎\",\"\")","v":""},{"$f":"IF(申込みフォーム!AK65<>\"\",\"脳　\",\"\")&IF(申込みフォーム!AL65<>\"\",\"胸部CT　\",\"\")&IF(申込みフォーム!AM65<>\"\",\"肺機能　\",\"\")&IF(申込みフォーム!AN65<>\"\",\"腹ｴｺｰ　\",\"\")&IF(申込みフォーム!AO65<>\"\",\"心ｴｺｰ　\",\"\")&IF(申込みフォーム!AP65<>\"\",\"ﾌﾛｰﾗ　\",\"\")&IF(申込みフォーム!AQ65<>\"\",\"OCT　\",\"\")&IF(申込みフォーム!AR65<>\"\",\"検便　\",\"\")&IF(申込みフォーム!AS65<>\"\",\"骨　\",\"\")&IF(申込みフォーム!AT65<>\"\",\"骨＋ﾛｺﾓ\",\"\")","v":""},{"$f":"IF(申込みフォーム!AU65<>\"\",申込みフォーム!AU65&\"　　\",\"\")&IF(申込みフォーム!AV65<>\"\",申込みフォーム!AV65&\"　　\",\"\")&IF(申込みフォーム!AW65<>\"\",申込みフォーム!AW65&\"　　\",\"\")&IF(申込みフォーム!$AX65=\"〇\",\"4月　\",\"\")&IF(申込みフォーム!$AY65=\"〇\",\"5月　\",\"\")&IF(申込みフォーム!$AZ65=\"〇\",\"6月　\",\"\")&IF(申込みフォーム!$BA65=\"〇\",\"7月　\",\"\")&IF(申込みフォーム!$BB65=\"〇\",\"8月　\",\"\")&IF(申込みフォーム!$BC65=\"〇\",\"9月　\",\"\")&IF(申込みフォーム!$BD65=\"〇\",\"10月　\",\"\")&IF(申込みフォーム!$BE65=\"〇\",\"11月　\",\"\")&IF(申込みフォーム!$BF65=\"〇\",\"12月　\",\"\")&IF(申込みフォーム!$BG65=\"〇\",\"1月　\",\"\")&IF(申込みフォーム!$BH65=\"〇\",\"2月　\",\"\")&IF(申込みフォーム!$BI65=\"〇\",\"3月　\",\"\")","v":""},{"$f":"IF(申込みフォーム!BJ65<>\"\",申込みフォーム!BJ65,\"\")","v":""},{"$f":"IF(申込みフォーム!BK65<>\"\",申込みフォーム!BK65,\"\")","v":""},{"$f":"申込みフォーム!$Z65","v":""},{"$f":"IF(申込みフォーム!BL65<>\"\",申込みフォーム!BL65&\"　　\",\"\")&IF(申込みフォーム!BM65<>\"\",申込みフォーム!BM65&\"　　\",\"\")&IF(申込みフォーム!BN65<>\"\",申込みフォーム!BN65&\"　　\",\"\")","v":{"$error":"#VALUE!"}},{"$f":"IF($B56=VLOOKUP($B56,'受診者リスト(抽出用）'!$A:$F,1,0),VLOOKUP($B56,'受診者リスト(抽出用）'!$A:$F,3,0)&\"　（団体マスタ）\"&VLOOKUP($B56,'受診者リスト(抽出用）'!$A:$F,4,0)&\"　（枝番）\"&VLOOKUP(B56,'受診者リスト(抽出用）'!$A:$F,5,0),\"\")","v":{"$error":"#N/A"}}]
[56,{"$f":"IF(申込みフォーム!B66<>\"\",申込みフォーム!B66&\"　\"&申込みフォーム!C66,\"\")","v":""},{"$f":"IF(申込みフォーム!E66<>\"\",申込みフォーム!E66&\"　\"&申込みフォーム!F66,\"\")","v":""},{"$f":"IF(申込みフォーム!G66<>\"\",申込みフォーム!G66,\"\")","v":""},{"$f":"IF(申込みフォーム!H66<>\"\",申込みフォーム!H66,\"\")","v":""},{"$f":"IF(申込みフォーム!D66<>\"\",申込みフォーム!D66,\"\")","v":""},{"$f":"IF(申込みフォーム!I66<>\"\",REPLACE(申込みフォーム!I66,4,,\"-\"),\"\")","v":""},{"$f":"IF(申込みフォーム!J66<>\"\",申込みフォーム!J66,\"\")","v":""},{"$f":"IF(申込みフォーム!K66<>\"\",申込みフォーム!K66,\"\")","v":""},{"$f":"IF(申込みフォーム!L66<>\"\",MID(申込みフォーム!L66,1,3)&\"-\"&MID(申込みフォーム!L66,4,4)&\"-\"&MID(申込みフォーム!L66,8,4),\"\")","v":""},{"$f":"IF(申込みフォーム!M66<>\"\",申込みフォーム!M66,\"\")","v":""},{"$f":"IF(申込みフォーム!N66<>\"\",申込みフォーム!N66,\"\")","v":""},{"$f":"IF(申込みフォーム!O66<>\"\",申込みフォーム!O66,\"\")","v":""},{"$f":"IF(申込みフォーム!P66<>\"\",申込みフォーム!P66,\"\")","v":""},{"$f":"IF(申込みフォーム!Q66<>\"\",申込みフォーム!Q66,\"\")","v":""},{"$f":"IF(申込みフォーム!R66<>\"\",申込みフォーム!R66,\"\")","v":""},{"$f":"IF(申込みフォーム!S66<>\"\",申込みフォーム!S66,\"\")","v":""},{"$f":"IF(申込みフォーム!U66=\"細胞診のみ\",\"協会子宮　\",IF(申込みフォーム!U66=\"細胞診＋（自費）膣エコー\",\"協会子宮＋自費膣エコー　\",\"\"))&IF(申込みフォーム!W66<>\"\",\"協会ﾏﾝﾓ　\",\"\")&IF(申込みフォーム!Y66<>\"\",\"協会骨　\",\"\")&IF(申込みフォーム!AA66<>\"\",\"協会肝炎　\",\"\")","v":""},{"$f":"IF(申込みフォーム!AB66<>\"\",\"子宮　\",\"\")&IF(申込みフォーム!AC66<>\"\",\"ﾏﾝﾓ　\",\"\")&IF(申込みフォーム!AD66<>\"\",\"乳ｴｺｰ\",\"\")","v":""},{"$f":"IF(申込みフォーム!AE66<>\"\",\"ﾏｰｶｰ　\",\"\")&IF(申込みフォーム!AF66<>\"\",\"心機能　\",\"\")&IF(申込みフォーム!AG66<>\"\",\"ABC　\",\"\")&IF(申込みフォーム!AH66<>\"\",\"Lox　\",\"\")&IF(申込みフォーム!AI66<>\"\",\"甲状腺　\",\"\")&IF(申込みフォーム!AJ66<>\"\",\"肝炎\",\"\")","v":""},{"$f":"IF(申込みフォーム!AK66<>\"\",\"脳　\",\"\")&IF(申込みフォーム!AL66<>\"\",\"胸部CT　\",\"\")&IF(申込みフォーム!AM66<>\"\",\"肺機能　\",\"\")&IF(申込みフォーム!AN66<>\"\",\"腹ｴｺｰ　\",\"\")&IF(申込みフォーム!AO66<>\"\",\"心ｴｺｰ　\",\"\")&IF(申込みフォーム!AP66<>\"\",\"ﾌﾛｰﾗ　\",\"\")&IF(申込みフォーム!AQ66<>\"\",\"OCT　\",\"\")&IF(申込みフォーム!AR66<>\"\",\"検便　\",\"\")&IF(申込みフォーム!AS66<>\"\",\"骨　\",\"\")&IF(申込みフォーム!AT66<>\"\",\"骨＋ﾛｺﾓ\",\"\")","v":""},{"$f":"IF(申込みフォーム!AU66<>\"\",申込みフォーム!AU66&\"　　\",\"\")&IF(申込みフォーム!AV66<>\"\",申込みフォーム!AV66&\"　　\",\"\")&IF(申込みフォーム!AW66<>\"\",申込みフォーム!AW66&\"　　\",\"\")&IF(申込みフォーム!$AX66=\"〇\",\"4月　\",\"\")&IF(申込みフォーム!$AY66=\"〇\",\"5月　\",\"\")&IF(申込みフォーム!$AZ66=\"〇\",\"6月　\",\"\")&IF(申込みフォーム!$BA66=\"〇\",\"7月　\",\"\")&IF(申込みフォーム!$BB66=\"〇\",\"8月　\",\"\")&IF(申込みフォーム!$BC66=\"〇\",\"9月　\",\"\")&IF(申込みフォーム!$BD66=\"〇\",\"10月　\",\"\")&IF(申込みフォーム!$BE66=\"〇\",\"11月　\",\"\")&IF(申込みフォーム!$BF66=\"〇\",\"12月　\",\"\")&IF(申込みフォーム!$BG66=\"〇\",\"1月　\",\"\")&IF(申込みフォーム!$BH66=\"〇\",\"2月　\",\"\")&IF(申込みフォーム!$BI66=\"〇\",\"3月　\",\"\")","v":""},{"$f":"IF(申込みフォーム!BJ66<>\"\",申込みフォーム!BJ66,\"\")","v":""},{"$f":"IF(申込みフォーム!BK66<>\"\",申込みフォーム!BK66,\"\")","v":""},{"$f":"申込みフォーム!$Z66","v":""},{"$f":"IF(申込みフォーム!BL66<>\"\",申込みフォーム!BL66&\"　　\",\"\")&IF(申込みフォーム!BM66<>\"\",申込みフォーム!BM66&\"　　\",\"\")&IF(申込みフォーム!BN66<>\"\",申込みフォーム!BN66&\"　　\",\"\")","v":{"$error":"#VALUE!"}},{"$f":"IF($B57=VLOOKUP($B57,'受診者リスト(抽出用）'!$A:$F,1,0),VLOOKUP($B57,'受診者リスト(抽出用）'!$A:$F,3,0)&\"　（団体マスタ）\"&VLOOKUP($B57,'受診者リスト(抽出用）'!$A:$F,4,0)&\"　（枝番）\"&VLOOKUP(B57,'受診者リスト(抽出用）'!$A:$F,5,0),\"\")","v":{"$error":"#N/A"}}]
[57,{"$f":"IF(申込みフォーム!B67<>\"\",申込みフォーム!B67&\"　\"&申込みフォーム!C67,\"\")","v":""},{"$f":"IF(申込みフォーム!E67<>\"\",申込みフォーム!E67&\"　\"&申込みフォーム!F67,\"\")","v":""},{"$f":"IF(申込みフォーム!G67<>\"\",申込みフォーム!G67,\"\")","v":""},{"$f":"IF(申込みフォーム!H67<>\"\",申込みフォーム!H67,\"\")","v":""},{"$f":"IF(申込みフォーム!D67<>\"\",申込みフォーム!D67,\"\")","v":""},{"$f":"IF(申込みフォーム!I67<>\"\",REPLACE(申込みフォーム!I67,4,,\"-\"),\"\")","v":""},{"$f":"IF(申込みフォーム!J67<>\"\",申込みフォーム!J67,\"\")","v":""},{"$f":"IF(申込みフォーム!K67<>\"\",申込みフォーム!K67,\"\")","v":""},{"$f":"IF(申込みフォーム!L67<>\"\",MID(申込みフォーム!L67,1,3)&\"-\"&MID(申込みフォーム!L67,4,4)&\"-\"&MID(申込みフォーム!L67,8,4),\"\")","v":""},{"$f":"IF(申込みフォーム!M67<>\"\",申込みフォーム!M67,\"\")","v":""},{"$f":"IF(申込みフォーム!N67<>\"\",申込みフォーム!N67,\"\")","v":""},{"$f":"IF(申込みフォーム!O67<>\"\",申込みフォーム!O67,\"\")","v":""},{"$f":"IF(申込みフォーム!P67<>\"\",申込みフォーム!P67,\"\")","v":""},{"$f":"IF(申込みフォーム!Q67<>\"\",申込みフォーム!Q67,\"\")","v":""},{"$f":"IF(申込みフォーム!R67<>\"\",申込みフォーム!R67,\"\")","v":""},{"$f":"IF(申込みフォーム!S67<>\"\",申込みフォーム!S67,\"\")","v":""},{"$f":"IF(申込みフォーム!U67=\"細胞診のみ\",\"協会子宮　\",IF(申込みフォーム!U67=\"細胞診＋（自費）膣エコー\",\"協会子宮＋自費膣エコー　\",\"\"))&IF(申込みフォーム!W67<>\"\",\"協会ﾏﾝﾓ　\",\"\")&IF(申込みフォーム!Y67<>\"\",\"協会骨　\",\"\")&IF(申込みフォーム!AA67<>\"\",\"協会肝炎　\",\"\")","v":""},{"$f":"IF(申込みフォーム!AB67<>\"\",\"子宮　\",\"\")&IF(申込みフォーム!AC67<>\"\",\"ﾏﾝﾓ　\",\"\")&IF(申込みフォーム!AD67<>\"\",\"乳ｴｺｰ\",\"\")","v":""},{"$f":"IF(申込みフォーム!AE67<>\"\",\"ﾏｰｶｰ　\",\"\")&IF(申込みフォーム!AF67<>\"\",\"心機能　\",\"\")&IF(申込みフォーム!AG67<>\"\",\"ABC　\",\"\")&IF(申込みフォーム!AH67<>\"\",\"Lox　\",\"\")&IF(申込みフォーム!AI67<>\"\",\"甲状腺　\",\"\")&IF(申込みフォーム!AJ67<>\"\",\"肝炎\",\"\")","v":""},{"$f":"IF(申込みフォーム!AK67<>\"\",\"脳　\",\"\")&IF(申込みフォーム!AL67<>\"\",\"胸部CT　\",\"\")&IF(申込みフォーム!AM67<>\"\",\"肺機能　\",\"\")&IF(申込みフォーム!AN67<>\"\",\"腹ｴｺｰ　\",\"\")&IF(申込みフォーム!AO67<>\"\",\"心ｴｺｰ　\",\"\")&IF(申込みフォーム!AP67<>\"\",\"ﾌﾛｰﾗ　\",\"\")&IF(申込みフォーム!AQ67<>\"\",\"OCT　\",\"\")&IF(申込みフォーム!AR67<>\"\",\"検便　\",\"\")&IF(申込みフォーム!AS67<>\"\",\"骨　\",\"\")&IF(申込みフォーム!AT67<>\"\",\"骨＋ﾛｺﾓ\",\"\")","v":""},{"$f":"IF(申込みフォーム!AU67<>\"\",申込みフォーム!AU67&\"　　\",\"\")&IF(申込みフォーム!AV67<>\"\",申込みフォーム!AV67&\"　　\",\"\")&IF(申込みフォーム!AW67<>\"\",申込みフォーム!AW67&\"　　\",\"\")&IF(申込みフォーム!$AX67=\"〇\",\"4月　\",\"\")&IF(申込みフォーム!$AY67=\"〇\",\"5月　\",\"\")&IF(申込みフォーム!$AZ67=\"〇\",\"6月　\",\"\")&IF(申込みフォーム!$BA67=\"〇\",\"7月　\",\"\")&IF(申込みフォーム!$BB67=\"〇\",\"8月　\",\"\")&IF(申込みフォーム!$BC67=\"〇\",\"9月　\",\"\")&IF(申込みフォーム!$BD67=\"〇\",\"10月　\",\"\")&IF(申込みフォーム!$BE67=\"〇\",\"11月　\",\"\")&IF(申込みフォーム!$BF67=\"〇\",\"12月　\",\"\")&IF(申込みフォーム!$BG67=\"〇\",\"1月　\",\"\")&IF(申込みフォーム!$BH67=\"〇\",\"2月　\",\"\")&IF(申込みフォーム!$BI67=\"〇\",\"3月　\",\"\")","v":""},{"$f":"IF(申込みフォーム!BJ67<>\"\",申込みフォーム!BJ67,\"\")","v":""},{"$f":"IF(申込みフォーム!BK67<>\"\",申込みフォーム!BK67,\"\")","v":""},{"$f":"申込みフォーム!$Z67","v":""},{"$f":"IF(申込みフォーム!BL67<>\"\",申込みフォーム!BL67&\"　　\",\"\")&IF(申込みフォーム!BM67<>\"\",申込みフォーム!BM67&\"　　\",\"\")&IF(申込みフォーム!BN67<>\"\",申込みフォーム!BN67&\"　　\",\"\")","v":{"$error":"#VALUE!"}},{"$f":"IF($B58=VLOOKUP($B58,'受診者リスト(抽出用）'!$A:$F,1,0),VLOOKUP($B58,'受診者リスト(抽出用）'!$A:$F,3,0)&\"　（団体マスタ）\"&VLOOKUP($B58,'受診者リスト(抽出用）'!$A:$F,4,0)&\"　（枝番）\"&VLOOKUP(B58,'受診者リスト(抽出用）'!$A:$F,5,0),\"\")","v":{"$error":"#N/A"}}]
[58,{"$f":"IF(申込みフォーム!B68<>\"\",申込みフォーム!B68&\"　\"&申込みフォーム!C68,\"\")","v":""},{"$f":"IF(申込みフォーム!E68<>\"\",申込みフォーム!E68&\"　\"&申込みフォーム!F68,\"\")","v":""},{"$f":"IF(申込みフォーム!G68<>\"\",申込みフォーム!G68,\"\")","v":""},{"$f":"IF(申込みフォーム!H68<>\"\",申込みフォーム!H68,\"\")","v":""},{"$f":"IF(申込みフォーム!D68<>\"\",申込みフォーム!D68,\"\")","v":""},{"$f":"IF(申込みフォーム!I68<>\"\",REPLACE(申込みフォーム!I68,4,,\"-\"),\"\")","v":""},{"$f":"IF(申込みフォーム!J68<>\"\",申込みフォーム!J68,\"\")","v":""},{"$f":"IF(申込みフォーム!K68<>\"\",申込みフォーム!K68,\"\")","v":""},{"$f":"IF(申込みフォーム!L68<>\"\",MID(申込みフォーム!L68,1,3)&\"-\"&MID(申込みフォーム!L68,4,4)&\"-\"&MID(申込みフォーム!L68,8,4),\"\")","v":""},{"$f":"IF(申込みフォーム!M68<>\"\",申込みフォーム!M68,\"\")","v":""},{"$f":"IF(申込みフォーム!N68<>\"\",申込みフォーム!N68,\"\")","v":""},{"$f":"IF(申込みフォーム!O68<>\"\",申込みフォーム!O68,\"\")","v":""},{"$f":"IF(申込みフォーム!P68<>\"\",申込みフォーム!P68,\"\")","v":""},{"$f":"IF(申込みフォーム!Q68<>\"\",申込みフォーム!Q68,\"\")","v":""},{"$f":"IF(申込みフォーム!R68<>\"\",申込みフォーム!R68,\"\")","v":""},{"$f":"IF(申込みフォーム!S68<>\"\",申込みフォーム!S68,\"\")","v":""},{"$f":"IF(申込みフォーム!U68=\"細胞診のみ\",\"協会子宮　\",IF(申込みフォーム!U68=\"細胞診＋（自費）膣エコー\",\"協会子宮＋自費膣エコー　\",\"\"))&IF(申込みフォーム!W68<>\"\",\"協会ﾏﾝﾓ　\",\"\")&IF(申込みフォーム!Y68<>\"\",\"協会骨　\",\"\")&IF(申込みフォーム!AA68<>\"\",\"協会肝炎　\",\"\")","v":""},{"$f":"IF(申込みフォーム!AB68<>\"\",\"子宮　\",\"\")&IF(申込みフォーム!AC68<>\"\",\"ﾏﾝﾓ　\",\"\")&IF(申込みフォーム!AD68<>\"\",\"乳ｴｺｰ\",\"\")","v":""},{"$f":"IF(申込みフォーム!AE68<>\"\",\"ﾏｰｶｰ　\",\"\")&IF(申込みフォーム!AF68<>\"\",\"心機能　\",\"\")&IF(申込みフォーム!AG68<>\"\",\"ABC　\",\"\")&IF(申込みフォーム!AH68<>\"\",\"Lox　\",\"\")&IF(申込みフォーム!AI68<>\"\",\"甲状腺　\",\"\")&IF(申込みフォーム!AJ68<>\"\",\"肝炎\",\"\")","v":""},{"$f":"IF(申込みフォーム!AK68<>\"\",\"脳　\",\"\")&IF(申込みフォーム!AL68<>\"\",\"胸部CT　\",\"\")&IF(申込みフォーム!AM68<>\"\",\"肺機能　\",\"\")&IF(申込みフォーム!AN68<>\"\",\"腹ｴｺｰ　\",\"\")&IF(申込みフォーム!AO68<>\"\",\"心ｴｺｰ　\",\"\")&IF(申込みフォーム!AP68<>\"\",\"ﾌﾛｰﾗ　\",\"\")&IF(申込みフォーム!AQ68<>\"\",\"OCT　\",\"\")&IF(申込みフォーム!AR68<>\"\",\"検便　\",\"\")&IF(申込みフォーム!AS68<>\"\",\"骨　\",\"\")&IF(申込みフォーム!AT68<>\"\",\"骨＋ﾛｺﾓ\",\"\")","v":""},{"$f":"IF(申込みフォーム!AU68<>\"\",申込みフォーム!AU68&\"　　\",\"\")&IF(申込みフォーム!AV68<>\"\",申込みフォーム!AV68&\"　　\",\"\")&IF(申込みフォーム!AW68<>\"\",申込みフォーム!AW68&\"　　\",\"\")&IF(申込みフォーム!$AX68=\"〇\",\"4月　\",\"\")&IF(申込みフォーム!$AY68=\"〇\",\"5月　\",\"\")&IF(申込みフォーム!$AZ68=\"〇\",\"6月　\",\"\")&IF(申込みフォーム!$BA68=\"〇\",\"7月　\",\"\")&IF(申込みフォーム!$BB68=\"〇\",\"8月　\",\"\")&IF(申込みフォーム!$BC68=\"〇\",\"9月　\",\"\")&IF(申込みフォーム!$BD68=\"〇\",\"10月　\",\"\")&IF(申込みフォーム!$BE68=\"〇\",\"11月　\",\"\")&IF(申込みフォーム!$BF68=\"〇\",\"12月　\",\"\")&IF(申込みフォーム!$BG68=\"〇\",\"1月　\",\"\")&IF(申込みフォーム!$BH68=\"〇\",\"2月　\",\"\")&IF(申込みフォーム!$BI68=\"〇\",\"3月　\",\"\")","v":""},{"$f":"IF(申込みフォーム!BJ68<>\"\",申込みフォーム!BJ68,\"\")","v":""},{"$f":"IF(申込みフォーム!BK68<>\"\",申込みフォーム!BK68,\"\")","v":""},{"$f":"申込みフォーム!$Z68","v":""},{"$f":"IF(申込みフォーム!BL68<>\"\",申込みフォーム!BL68&\"　　\",\"\")&IF(申込みフォーム!BM68<>\"\",申込みフォーム!BM68&\"　　\",\"\")&IF(申込みフォーム!BN68<>\"\",申込みフォーム!BN68&\"　　\",\"\")","v":{"$error":"#VALUE!"}},{"$f":"IF($B59=VLOOKUP($B59,'受診者リスト(抽出用）'!$A:$F,1,0),VLOOKUP($B59,'受診者リスト(抽出用）'!$A:$F,3,0)&\"　（団体マスタ）\"&VLOOKUP($B59,'受診者リスト(抽出用）'!$A:$F,4,0)&\"　（枝番）\"&VLOOKUP(B59,'受診者リスト(抽出用）'!$A:$F,5,0),\"\")","v":{"$error":"#N/A"}}]
[59,{"$f":"IF(申込みフォーム!B69<>\"\",申込みフォーム!B69&\"　\"&申込みフォーム!C69,\"\")","v":""},{"$f":"IF(申込みフォーム!E69<>\"\",申込みフォーム!E69&\"　\"&申込みフォーム!F69,\"\")","v":""},{"$f":"IF(申込みフォーム!G69<>\"\",申込みフォーム!G69,\"\")","v":""},{"$f":"IF(申込みフォーム!H69<>\"\",申込みフォーム!H69,\"\")","v":""},{"$f":"IF(申込みフォーム!D69<>\"\",申込みフォーム!D69,\"\")","v":""},{"$f":"IF(申込みフォーム!I69<>\"\",REPLACE(申込みフォーム!I69,4,,\"-\"),\"\")","v":""},{"$f":"IF(申込みフォーム!J69<>\"\",申込みフォーム!J69,\"\")","v":""},{"$f":"IF(申込みフォーム!K69<>\"\",申込みフォーム!K69,\"\")","v":""},{"$f":"IF(申込みフォーム!L69<>\"\",MID(申込みフォーム!L69,1,3)&\"-\"&MID(申込みフォーム!L69,4,4)&\"-\"&MID(申込みフォーム!L69,8,4),\"\")","v":""},{"$f":"IF(申込みフォーム!M69<>\"\",申込みフォーム!M69,\"\")","v":""},{"$f":"IF(申込みフォーム!N69<>\"\",申込みフォーム!N69,\"\")","v":""},{"$f":"IF(申込みフォーム!O69<>\"\",申込みフォーム!O69,\"\")","v":""},{"$f":"IF(申込みフォーム!P69<>\"\",申込みフォーム!P69,\"\")","v":""},{"$f":"IF(申込みフォーム!Q69<>\"\",申込みフォーム!Q69,\"\")","v":""},{"$f":"IF(申込みフォーム!R69<>\"\",申込みフォーム!R69,\"\")","v":""},{"$f":"IF(申込みフォーム!S69<>\"\",申込みフォーム!S69,\"\")","v":""},{"$f":"IF(申込みフォーム!U69=\"細胞診のみ\",\"協会子宮　\",IF(申込みフォーム!U69=\"細胞診＋（自費）膣エコー\",\"協会子宮＋自費膣エコー　\",\"\"))&IF(申込みフォーム!W69<>\"\",\"協会ﾏﾝﾓ　\",\"\")&IF(申込みフォーム!Y69<>\"\",\"協会骨　\",\"\")&IF(申込みフォーム!AA69<>\"\",\"協会肝炎　\",\"\")","v":""},{"$f":"IF(申込みフォーム!AB69<>\"\",\"子宮　\",\"\")&IF(申込みフォーム!AC69<>\"\",\"ﾏﾝﾓ　\",\"\")&IF(申込みフォーム!AD69<>\"\",\"乳ｴｺｰ\",\"\")","v":""},{"$f":"IF(申込みフォーム!AE69<>\"\",\"ﾏｰｶｰ　\",\"\")&IF(申込みフォーム!AF69<>\"\",\"心機能　\",\"\")&IF(申込みフォーム!AG69<>\"\",\"ABC　\",\"\")&IF(申込みフォーム!AH69<>\"\",\"Lox　\",\"\")&IF(申込みフォーム!AI69<>\"\",\"甲状腺　\",\"\")&IF(申込みフォーム!AJ69<>\"\",\"肝炎\",\"\")","v":""},{"$f":"IF(申込みフォーム!AK69<>\"\",\"脳　\",\"\")&IF(申込みフォーム!AL69<>\"\",\"胸部CT　\",\"\")&IF(申込みフォーム!AM69<>\"\",\"肺機能　\",\"\")&IF(申込みフォーム!AN69<>\"\",\"腹ｴｺｰ　\",\"\")&IF(申込みフォーム!AO69<>\"\",\"心ｴｺｰ　\",\"\")&IF(申込みフォーム!AP69<>\"\",\"ﾌﾛｰﾗ　\",\"\")&IF(申込みフォーム!AQ69<>\"\",\"OCT　\",\"\")&IF(申込みフォーム!AR69<>\"\",\"検便　\",\"\")&IF(申込みフォーム!AS69<>\"\",\"骨　\",\"\")&IF(申込みフォーム!AT69<>\"\",\"骨＋ﾛｺﾓ\",\"\")","v":""},{"$f":"IF(申込みフォーム!AU69<>\"\",申込みフォーム!AU69&\"　　\",\"\")&IF(申込みフォーム!AV69<>\"\",申込みフォーム!AV69&\"　　\",\"\")&IF(申込みフォーム!AW69<>\"\",申込みフォーム!AW69&\"　　\",\"\")&IF(申込みフォーム!$AX69=\"〇\",\"4月　\",\"\")&IF(申込みフォーム!$AY69=\"〇\",\"5月　\",\"\")&IF(申込みフォーム!$AZ69=\"〇\",\"6月　\",\"\")&IF(申込みフォーム!$BA69=\"〇\",\"7月　\",\"\")&IF(申込みフォーム!$BB69=\"〇\",\"8月　\",\"\")&IF(申込みフォーム!$BC69=\"〇\",\"9月　\",\"\")&IF(申込みフォーム!$BD69=\"〇\",\"10月　\",\"\")&IF(申込みフォーム!$BE69=\"〇\",\"11月　\",\"\")&IF(申込みフォーム!$BF69=\"〇\",\"12月　\",\"\")&IF(申込みフォーム!$BG69=\"〇\",\"1月　\",\"\")&IF(申込みフォーム!$BH69=\"〇\",\"2月　\",\"\")&IF(申込みフォーム!$BI69=\"〇\",\"3月　\",\"\")","v":""},{"$f":"IF(申込みフォーム!BJ69<>\"\",申込みフォーム!BJ69,\"\")","v":""},{"$f":"IF(申込みフォーム!BK69<>\"\",申込みフォーム!BK69,\"\")","v":""},{"$f":"申込みフォーム!$Z69","v":""},{"$f":"IF(申込みフォーム!BL69<>\"\",申込みフォーム!BL69&\"　　\",\"\")&IF(申込みフォーム!BM69<>\"\",申込みフォーム!BM69&\"　　\",\"\")&IF(申込みフォーム!BN69<>\"\",申込みフォーム!BN69&\"　　\",\"\")","v":{"$error":"#VALUE!"}},{"$f":"IF($B60=VLOOKUP($B60,'受診者リスト(抽出用）'!$A:$F,1,0),VLOOKUP($B60,'受診者リスト(抽出用）'!$A:$F,3,0)&\"　（団体マスタ）\"&VLOOKUP($B60,'受診者リスト(抽出用）'!$A:$F,4,0)&\"　（枝番）\"&VLOOKUP(B60,'受診者リスト(抽出用）'!$A:$F,5,0),\"\")","v":{"$error":"#N/A"}}]
[60,{"$f":"IF(申込みフォーム!B70<>\"\",申込みフォーム!B70&\"　\"&申込みフォーム!C70,\"\")","v":""},{"$f":"IF(申込みフォーム!E70<>\"\",申込みフォーム!E70&\"　\"&申込みフォーム!F70,\"\")","v":""},{"$f":"IF(申込みフォーム!G70<>\"\",申込みフォーム!G70,\"\")","v":""},{"$f":"IF(申込みフォーム!H70<>\"\",申込みフォーム!H70,\"\")","v":""},{"$f":"IF(申込みフォーム!D70<>\"\",申込みフォーム!D70,\"\")","v":""},{"$f":"IF(申込みフォーム!I70<>\"\",REPLACE(申込みフォーム!I70,4,,\"-\"),\"\")","v":""},{"$f":"IF(申込みフォーム!J70<>\"\",申込みフォーム!J70,\"\")","v":""},{"$f":"IF(申込みフォーム!K70<>\"\",申込みフォーム!K70,\"\")","v":""},{"$f":"IF(申込みフォーム!L70<>\"\",MID(申込みフォーム!L70,1,3)&\"-\"&MID(申込みフォーム!L70,4,4)&\"-\"&MID(申込みフォーム!L70,8,4),\"\")","v":""},{"$f":"IF(申込みフォーム!M70<>\"\",申込みフォーム!M70,\"\")","v":""},{"$f":"IF(申込みフォーム!N70<>\"\",申込みフォーム!N70,\"\")","v":""},{"$f":"IF(申込みフォーム!O70<>\"\",申込みフォーム!O70,\"\")","v":""},{"$f":"IF(申込みフォーム!P70<>\"\",申込みフォーム!P70,\"\")","v":""},{"$f":"IF(申込みフォーム!Q70<>\"\",申込みフォーム!Q70,\"\")","v":""},{"$f":"IF(申込みフォーム!R70<>\"\",申込みフォーム!R70,\"\")","v":""},{"$f":"IF(申込みフォーム!S70<>\"\",申込みフォーム!S70,\"\")","v":""},{"$f":"IF(申込みフォーム!U70=\"細胞診のみ\",\"協会子宮　\",IF(申込みフォーム!U70=\"細胞診＋（自費）膣エコー\",\"協会子宮＋自費膣エコー　\",\"\"))&IF(申込みフォーム!W70<>\"\",\"協会ﾏﾝﾓ　\",\"\")&IF(申込みフォーム!Y70<>\"\",\"協会骨　\",\"\")&IF(申込みフォーム!AA70<>\"\",\"協会肝炎　\",\"\")","v":""},{"$f":"IF(申込みフォーム!AB70<>\"\",\"子宮　\",\"\")&IF(申込みフォーム!AC70<>\"\",\"ﾏﾝﾓ　\",\"\")&IF(申込みフォーム!AD70<>\"\",\"乳ｴｺｰ\",\"\")","v":""},{"$f":"IF(申込みフォーム!AE70<>\"\",\"ﾏｰｶｰ　\",\"\")&IF(申込みフォーム!AF70<>\"\",\"心機能　\",\"\")&IF(申込みフォーム!AG70<>\"\",\"ABC　\",\"\")&IF(申込みフォーム!AH70<>\"\",\"Lox　\",\"\")&IF(申込みフォーム!AI70<>\"\",\"甲状腺　\",\"\")&IF(申込みフォーム!AJ70<>\"\",\"肝炎\",\"\")","v":""},{"$f":"IF(申込みフォーム!AK70<>\"\",\"脳　\",\"\")&IF(申込みフォーム!AL70<>\"\",\"胸部CT　\",\"\")&IF(申込みフォーム!AM70<>\"\",\"肺機能　\",\"\")&IF(申込みフォーム!AN70<>\"\",\"腹ｴｺｰ　\",\"\")&IF(申込みフォーム!AO70<>\"\",\"心ｴｺｰ　\",\"\")&IF(申込みフォーム!AP70<>\"\",\"ﾌﾛｰﾗ　\",\"\")&IF(申込みフォーム!AQ70<>\"\",\"OCT　\",\"\")&IF(申込みフォーム!AR70<>\"\",\"検便　\",\"\")&IF(申込みフォーム!AS70<>\"\",\"骨　\",\"\")&IF(申込みフォーム!AT70<>\"\",\"骨＋ﾛｺﾓ\",\"\")","v":""},{"$f":"IF(申込みフォーム!AU70<>\"\",申込みフォーム!AU70&\"　　\",\"\")&IF(申込みフォーム!AV70<>\"\",申込みフォーム!AV70&\"　　\",\"\")&IF(申込みフォーム!AW70<>\"\",申込みフォーム!AW70&\"　　\",\"\")&IF(申込みフォーム!$AX70=\"〇\",\"4月　\",\"\")&IF(申込みフォーム!$AY70=\"〇\",\"5月　\",\"\")&IF(申込みフォーム!$AZ70=\"〇\",\"6月　\",\"\")&IF(申込みフォーム!$BA70=\"〇\",\"7月　\",\"\")&IF(申込みフォーム!$BB70=\"〇\",\"8月　\",\"\")&IF(申込みフォーム!$BC70=\"〇\",\"9月　\",\"\")&IF(申込みフォーム!$BD70=\"〇\",\"10月　\",\"\")&IF(申込みフォーム!$BE70=\"〇\",\"11月　\",\"\")&IF(申込みフォーム!$BF70=\"〇\",\"12月　\",\"\")&IF(申込みフォーム!$BG70=\"〇\",\"1月　\",\"\")&IF(申込みフォーム!$BH70=\"〇\",\"2月　\",\"\")&IF(申込みフォーム!$BI70=\"〇\",\"3月　\",\"\")","v":""},{"$f":"IF(申込みフォーム!BJ70<>\"\",申込みフォーム!BJ70,\"\")","v":""},{"$f":"IF(申込みフォーム!BK70<>\"\",申込みフォーム!BK70,\"\")","v":""},{"$f":"申込みフォーム!$Z70","v":""},{"$f":"IF(申込みフォーム!BL70<>\"\",申込みフォーム!BL70&\"　　\",\"\")&IF(申込みフォーム!BM70<>\"\",申込みフォーム!BM70&\"　　\",\"\")&IF(申込みフォーム!BN70<>\"\",申込みフォーム!BN70&\"　　\",\"\")","v":{"$error":"#VALUE!"}},{"$f":"IF($B61=VLOOKUP($B61,'受診者リスト(抽出用）'!$A:$F,1,0),VLOOKUP($B61,'受診者リスト(抽出用）'!$A:$F,3,0)&\"　（団体マスタ）\"&VLOOKUP($B61,'受診者リスト(抽出用）'!$A:$F,4,0)&\"　（枝番）\"&VLOOKUP(B61,'受診者リスト(抽出用）'!$A:$F,5,0),\"\")","v":{"$error":"#N/A"}}]
[61,{"$f":"IF(申込みフォーム!B71<>\"\",申込みフォーム!B71&\"　\"&申込みフォーム!C71,\"\")","v":""},{"$f":"IF(申込みフォーム!E71<>\"\",申込みフォーム!E71&\"　\"&申込みフォーム!F71,\"\")","v":""},{"$f":"IF(申込みフォーム!G71<>\"\",申込みフォーム!G71,\"\")","v":""},{"$f":"IF(申込みフォーム!H71<>\"\",申込みフォーム!H71,\"\")","v":""},{"$f":"IF(申込みフォーム!D71<>\"\",申込みフォーム!D71,\"\")","v":""},{"$f":"IF(申込みフォーム!I71<>\"\",REPLACE(申込みフォーム!I71,4,,\"-\"),\"\")","v":""},{"$f":"IF(申込みフォーム!J71<>\"\",申込みフォーム!J71,\"\")","v":""},{"$f":"IF(申込みフォーム!K71<>\"\",申込みフォーム!K71,\"\")","v":""},{"$f":"IF(申込みフォーム!L71<>\"\",MID(申込みフォーム!L71,1,3)&\"-\"&MID(申込みフォーム!L71,4,4)&\"-\"&MID(申込みフォーム!L71,8,4),\"\")","v":""},{"$f":"IF(申込みフォーム!M71<>\"\",申込みフォーム!M71,\"\")","v":""},{"$f":"IF(申込みフォーム!N71<>\"\",申込みフォーム!N71,\"\")","v":""},{"$f":"IF(申込みフォーム!O71<>\"\",申込みフォーム!O71,\"\")","v":""},{"$f":"IF(申込みフォーム!P71<>\"\",申込みフォーム!P71,\"\")","v":""},{"$f":"IF(申込みフォーム!Q71<>\"\",申込みフォーム!Q71,\"\")","v":""},{"$f":"IF(申込みフォーム!R71<>\"\",申込みフォーム!R71,\"\")","v":""},{"$f":"IF(申込みフォーム!S71<>\"\",申込みフォーム!S71,\"\")","v":""},{"$f":"IF(申込みフォーム!U71=\"細胞診のみ\",\"協会子宮　\",IF(申込みフォーム!U71=\"細胞診＋（自費）膣エコー\",\"協会子宮＋自費膣エコー　\",\"\"))&IF(申込みフォーム!W71<>\"\",\"協会ﾏﾝﾓ　\",\"\")&IF(申込みフォーム!Y71<>\"\",\"協会骨　\",\"\")&IF(申込みフォーム!AA71<>\"\",\"協会肝炎　\",\"\")","v":""},{"$f":"IF(申込みフォーム!AB71<>\"\",\"子宮　\",\"\")&IF(申込みフォーム!AC71<>\"\",\"ﾏﾝﾓ　\",\"\")&IF(申込みフォーム!AD71<>\"\",\"乳ｴｺｰ\",\"\")","v":""},{"$f":"IF(申込みフォーム!AE71<>\"\",\"ﾏｰｶｰ　\",\"\")&IF(申込みフォーム!AF71<>\"\",\"心機能　\",\"\")&IF(申込みフォーム!AG71<>\"\",\"ABC　\",\"\")&IF(申込みフォーム!AH71<>\"\",\"Lox　\",\"\")&IF(申込みフォーム!AI71<>\"\",\"甲状腺　\",\"\")&IF(申込みフォーム!AJ71<>\"\",\"肝炎\",\"\")","v":""},{"$f":"IF(申込みフォーム!AK71<>\"\",\"脳　\",\"\")&IF(申込みフォーム!AL71<>\"\",\"胸部CT　\",\"\")&IF(申込みフォーム!AM71<>\"\",\"肺機能　\",\"\")&IF(申込みフォーム!AN71<>\"\",\"腹ｴｺｰ　\",\"\")&IF(申込みフォーム!AO71<>\"\",\"心ｴｺｰ　\",\"\")&IF(申込みフォーム!AP71<>\"\",\"ﾌﾛｰﾗ　\",\"\")&IF(申込みフォーム!AQ71<>\"\",\"OCT　\",\"\")&IF(申込みフォーム!AR71<>\"\",\"検便　\",\"\")&IF(申込みフォーム!AS71<>\"\",\"骨　\",\"\")&IF(申込みフォーム!AT71<>\"\",\"骨＋ﾛｺﾓ\",\"\")","v":""},{"$f":"IF(申込みフォーム!AU71<>\"\",申込みフォーム!AU71&\"　　\",\"\")&IF(申込みフォーム!AV71<>\"\",申込みフォーム!AV71&\"　　\",\"\")&IF(申込みフォーム!AW71<>\"\",申込みフォーム!AW71&\"　　\",\"\")&IF(申込みフォーム!$AX71=\"〇\",\"4月　\",\"\")&IF(申込みフォーム!$AY71=\"〇\",\"5月　\",\"\")&IF(申込みフォーム!$AZ71=\"〇\",\"6月　\",\"\")&IF(申込みフォーム!$BA71=\"〇\",\"7月　\",\"\")&IF(申込みフォーム!$BB71=\"〇\",\"8月　\",\"\")&IF(申込みフォーム!$BC71=\"〇\",\"9月　\",\"\")&IF(申込みフォーム!$BD71=\"〇\",\"10月　\",\"\")&IF(申込みフォーム!$BE71=\"〇\",\"11月　\",\"\")&IF(申込みフォーム!$BF71=\"〇\",\"12月　\",\"\")&IF(申込みフォーム!$BG71=\"〇\",\"1月　\",\"\")&IF(申込みフォーム!$BH71=\"〇\",\"2月　\",\"\")&IF(申込みフォーム!$BI71=\"〇\",\"3月　\",\"\")","v":""},{"$f":"IF(申込みフォーム!BJ71<>\"\",申込みフォーム!BJ71,\"\")","v":""},{"$f":"IF(申込みフォーム!BK71<>\"\",申込みフォーム!BK71,\"\")","v":""},{"$f":"申込みフォーム!$Z71","v":""},{"$f":"IF(申込みフォーム!BL71<>\"\",申込みフォーム!BL71&\"　　\",\"\")&IF(申込みフォーム!BM71<>\"\",申込みフォーム!BM71&\"　　\",\"\")&IF(申込みフォーム!BN71<>\"\",申込みフォーム!BN71&\"　　\",\"\")","v":{"$error":"#VALUE!"}},{"$f":"IF($B62=VLOOKUP($B62,'受診者リスト(抽出用）'!$A:$F,1,0),VLOOKUP($B62,'受診者リスト(抽出用）'!$A:$F,3,0)&\"　（団体マスタ）\"&VLOOKUP($B62,'受診者リスト(抽出用）'!$A:$F,4,0)&\"　（枝番）\"&VLOOKUP(B62,'受診者リスト(抽出用）'!$A:$F,5,0),\"\")","v":{"$error":"#N/A"}}]
[62,{"$f":"IF(申込みフォーム!B72<>\"\",申込みフォーム!B72&\"　\"&申込みフォーム!C72,\"\")","v":""},{"$f":"IF(申込みフォーム!E72<>\"\",申込みフォーム!E72&\"　\"&申込みフォーム!F72,\"\")","v":""},{"$f":"IF(申込みフォーム!G72<>\"\",申込みフォーム!G72,\"\")","v":""},{"$f":"IF(申込みフォーム!H72<>\"\",申込みフォーム!H72,\"\")","v":""},{"$f":"IF(申込みフォーム!D72<>\"\",申込みフォーム!D72,\"\")","v":""},{"$f":"IF(申込みフォーム!I72<>\"\",REPLACE(申込みフォーム!I72,4,,\"-\"),\"\")","v":""},{"$f":"IF(申込みフォーム!J72<>\"\",申込みフォーム!J72,\"\")","v":""},{"$f":"IF(申込みフォーム!K72<>\"\",申込みフォーム!K72,\"\")","v":""},{"$f":"IF(申込みフォーム!L72<>\"\",MID(申込みフォーム!L72,1,3)&\"-\"&MID(申込みフォーム!L72,4,4)&\"-\"&MID(申込みフォーム!L72,8,4),\"\")","v":""},{"$f":"IF(申込みフォーム!M72<>\"\",申込みフォーム!M72,\"\")","v":""},{"$f":"IF(申込みフォーム!N72<>\"\",申込みフォーム!N72,\"\")","v":""},{"$f":"IF(申込みフォーム!O72<>\"\",申込みフォーム!O72,\"\")","v":""},{"$f":"IF(申込みフォーム!P72<>\"\",申込みフォーム!P72,\"\")","v":""},{"$f":"IF(申込みフォーム!Q72<>\"\",申込みフォーム!Q72,\"\")","v":""},{"$f":"IF(申込みフォーム!R72<>\"\",申込みフォーム!R72,\"\")","v":""},{"$f":"IF(申込みフォーム!S72<>\"\",申込みフォーム!S72,\"\")","v":""},{"$f":"IF(申込みフォーム!U72=\"細胞診のみ\",\"協会子宮　\",IF(申込みフォーム!U72=\"細胞診＋（自費）膣エコー\",\"協会子宮＋自費膣エコー　\",\"\"))&IF(申込みフォーム!W72<>\"\",\"協会ﾏﾝﾓ　\",\"\")&IF(申込みフォーム!Y72<>\"\",\"協会骨　\",\"\")&IF(申込みフォーム!AA72<>\"\",\"協会肝炎　\",\"\")","v":""},{"$f":"IF(申込みフォーム!AB72<>\"\",\"子宮　\",\"\")&IF(申込みフォーム!AC72<>\"\",\"ﾏﾝﾓ　\",\"\")&IF(申込みフォーム!AD72<>\"\",\"乳ｴｺｰ\",\"\")","v":""},{"$f":"IF(申込みフォーム!AE72<>\"\",\"ﾏｰｶｰ　\",\"\")&IF(申込みフォーム!AF72<>\"\",\"心機能　\",\"\")&IF(申込みフォーム!AG72<>\"\",\"ABC　\",\"\")&IF(申込みフォーム!AH72<>\"\",\"Lox　\",\"\")&IF(申込みフォーム!AI72<>\"\",\"甲状腺　\",\"\")&IF(申込みフォーム!AJ72<>\"\",\"肝炎\",\"\")","v":""},{"$f":"IF(申込みフォーム!AK72<>\"\",\"脳　\",\"\")&IF(申込みフォーム!AL72<>\"\",\"胸部CT　\",\"\")&IF(申込みフォーム!AM72<>\"\",\"肺機能　\",\"\")&IF(申込みフォーム!AN72<>\"\",\"腹ｴｺｰ　\",\"\")&IF(申込みフォーム!AO72<>\"\",\"心ｴｺｰ　\",\"\")&IF(申込みフォーム!AP72<>\"\",\"ﾌﾛｰﾗ　\",\"\")&IF(申込みフォーム!AQ72<>\"\",\"OCT　\",\"\")&IF(申込みフォーム!AR72<>\"\",\"検便　\",\"\")&IF(申込みフォーム!AS72<>\"\",\"骨　\",\"\")&IF(申込みフォーム!AT72<>\"\",\"骨＋ﾛｺﾓ\",\"\")","v":""},{"$f":"IF(申込みフォーム!AU72<>\"\",申込みフォーム!AU72&\"　　\",\"\")&IF(申込みフォーム!AV72<>\"\",申込みフォーム!AV72&\"　　\",\"\")&IF(申込みフォーム!AW72<>\"\",申込みフォーム!AW72&\"　　\",\"\")&IF(申込みフォーム!$AX72=\"〇\",\"4月　\",\"\")&IF(申込みフォーム!$AY72=\"〇\",\"5月　\",\"\")&IF(申込みフォーム!$AZ72=\"〇\",\"6月　\",\"\")&IF(申込みフォーム!$BA72=\"〇\",\"7月　\",\"\")&IF(申込みフォーム!$BB72=\"〇\",\"8月　\",\"\")&IF(申込みフォーム!$BC72=\"〇\",\"9月　\",\"\")&IF(申込みフォーム!$BD72=\"〇\",\"10月　\",\"\")&IF(申込みフォーム!$BE72=\"〇\",\"11月　\",\"\")&IF(申込みフォーム!$BF72=\"〇\",\"12月　\",\"\")&IF(申込みフォーム!$BG72=\"〇\",\"1月　\",\"\")&IF(申込みフォーム!$BH72=\"〇\",\"2月　\",\"\")&IF(申込みフォーム!$BI72=\"〇\",\"3月　\",\"\")","v":""},{"$f":"IF(申込みフォーム!BJ72<>\"\",申込みフォーム!BJ72,\"\")","v":""},{"$f":"IF(申込みフォーム!BK72<>\"\",申込みフォーム!BK72,\"\")","v":""},{"$f":"申込みフォーム!$Z72","v":""},{"$f":"IF(申込みフォーム!BL72<>\"\",申込みフォーム!BL72&\"　　\",\"\")&IF(申込みフォーム!BM72<>\"\",申込みフォーム!BM72&\"　　\",\"\")&IF(申込みフォーム!BN72<>\"\",申込みフォーム!BN72&\"　　\",\"\")","v":{"$error":"#VALUE!"}},{"$f":"IF($B63=VLOOKUP($B63,'受診者リスト(抽出用）'!$A:$F,1,0),VLOOKUP($B63,'受診者リスト(抽出用）'!$A:$F,3,0)&\"　（団体マスタ）\"&VLOOKUP($B63,'受診者リスト(抽出用）'!$A:$F,4,0)&\"　（枝番）\"&VLOOKUP(B63,'受診者リスト(抽出用）'!$A:$F,5,0),\"\")","v":{"$error":"#N/A"}}]
[63,{"$f":"IF(申込みフォーム!B73<>\"\",申込みフォーム!B73&\"　\"&申込みフォーム!C73,\"\")","v":""},{"$f":"IF(申込みフォーム!E73<>\"\",申込みフォーム!E73&\"　\"&申込みフォーム!F73,\"\")","v":""},{"$f":"IF(申込みフォーム!G73<>\"\",申込みフォーム!G73,\"\")","v":""},{"$f":"IF(申込みフォーム!H73<>\"\",申込みフォーム!H73,\"\")","v":""},{"$f":"IF(申込みフォーム!D73<>\"\",申込みフォーム!D73,\"\")","v":""},{"$f":"IF(申込みフォーム!I73<>\"\",REPLACE(申込みフォーム!I73,4,,\"-\"),\"\")","v":""},{"$f":"IF(申込みフォーム!J73<>\"\",申込みフォーム!J73,\"\")","v":""},{"$f":"IF(申込みフォーム!K73<>\"\",申込みフォーム!K73,\"\")","v":""},{"$f":"IF(申込みフォーム!L73<>\"\",MID(申込みフォーム!L73,1,3)&\"-\"&MID(申込みフォーム!L73,4,4)&\"-\"&MID(申込みフォーム!L73,8,4),\"\")","v":""},{"$f":"IF(申込みフォーム!M73<>\"\",申込みフォーム!M73,\"\")","v":""},{"$f":"IF(申込みフォーム!N73<>\"\",申込みフォーム!N73,\"\")","v":""},{"$f":"IF(申込みフォーム!O73<>\"\",申込みフォーム!O73,\"\")","v":""},{"$f":"IF(申込みフォーム!P73<>\"\",申込みフォーム!P73,\"\")","v":""},{"$f":"IF(申込みフォーム!Q73<>\"\",申込みフォーム!Q73,\"\")","v":""},{"$f":"IF(申込みフォーム!R73<>\"\",申込みフォーム!R73,\"\")","v":""},{"$f":"IF(申込みフォーム!S73<>\"\",申込みフォーム!S73,\"\")","v":""},{"$f":"IF(申込みフォーム!U73=\"細胞診のみ\",\"協会子宮　\",IF(申込みフォーム!U73=\"細胞診＋（自費）膣エコー\",\"協会子宮＋自費膣エコー　\",\"\"))&IF(申込みフォーム!W73<>\"\",\"協会ﾏﾝﾓ　\",\"\")&IF(申込みフォーム!Y73<>\"\",\"協会骨　\",\"\")&IF(申込みフォーム!AA73<>\"\",\"協会肝炎　\",\"\")","v":""},{"$f":"IF(申込みフォーム!AB73<>\"\",\"子宮　\",\"\")&IF(申込みフォーム!AC73<>\"\",\"ﾏﾝﾓ　\",\"\")&IF(申込みフォーム!AD73<>\"\",\"乳ｴｺｰ\",\"\")","v":""},{"$f":"IF(申込みフォーム!AE73<>\"\",\"ﾏｰｶｰ　\",\"\")&IF(申込みフォーム!AF73<>\"\",\"心機能　\",\"\")&IF(申込みフォーム!AG73<>\"\",\"ABC　\",\"\")&IF(申込みフォーム!AH73<>\"\",\"Lox　\",\"\")&IF(申込みフォーム!AI73<>\"\",\"甲状腺　\",\"\")&IF(申込みフォーム!AJ73<>\"\",\"肝炎\",\"\")","v":""},{"$f":"IF(申込みフォーム!AK73<>\"\",\"脳　\",\"\")&IF(申込みフォーム!AL73<>\"\",\"胸部CT　\",\"\")&IF(申込みフォーム!AM73<>\"\",\"肺機能　\",\"\")&IF(申込みフォーム!AN73<>\"\",\"腹ｴｺｰ　\",\"\")&IF(申込みフォーム!AO73<>\"\",\"心ｴｺｰ　\",\"\")&IF(申込みフォーム!AP73<>\"\",\"ﾌﾛｰﾗ　\",\"\")&IF(申込みフォーム!AQ73<>\"\",\"OCT　\",\"\")&IF(申込みフォーム!AR73<>\"\",\"検便　\",\"\")&IF(申込みフォーム!AS73<>\"\",\"骨　\",\"\")&IF(申込みフォーム!AT73<>\"\",\"骨＋ﾛｺﾓ\",\"\")","v":""},{"$f":"IF(申込みフォーム!AU73<>\"\",申込みフォーム!AU73&\"　　\",\"\")&IF(申込みフォーム!AV73<>\"\",申込みフォーム!AV73&\"　　\",\"\")&IF(申込みフォーム!AW73<>\"\",申込みフォーム!AW73&\"　　\",\"\")&IF(申込みフォーム!$AX73=\"〇\",\"4月　\",\"\")&IF(申込みフォーム!$AY73=\"〇\",\"5月　\",\"\")&IF(申込みフォーム!$AZ73=\"〇\",\"6月　\",\"\")&IF(申込みフォーム!$BA73=\"〇\",\"7月　\",\"\")&IF(申込みフォーム!$BB73=\"〇\",\"8月　\",\"\")&IF(申込みフォーム!$BC73=\"〇\",\"9月　\",\"\")&IF(申込みフォーム!$BD73=\"〇\",\"10月　\",\"\")&IF(申込みフォーム!$BE73=\"〇\",\"11月　\",\"\")&IF(申込みフォーム!$BF73=\"〇\",\"12月　\",\"\")&IF(申込みフォーム!$BG73=\"〇\",\"1月　\",\"\")&IF(申込みフォーム!$BH73=\"〇\",\"2月　\",\"\")&IF(申込みフォーム!$BI73=\"〇\",\"3月　\",\"\")","v":""},{"$f":"IF(申込みフォーム!BJ73<>\"\",申込みフォーム!BJ73,\"\")","v":""},{"$f":"IF(申込みフォーム!BK73<>\"\",申込みフォーム!BK73,\"\")","v":""},{"$f":"申込みフォーム!$Z73","v":""},{"$f":"IF(申込みフォーム!BL73<>\"\",申込みフォーム!BL73&\"　　\",\"\")&IF(申込みフォーム!BM73<>\"\",申込みフォーム!BM73&\"　　\",\"\")&IF(申込みフォーム!BN73<>\"\",申込みフォーム!BN73&\"　　\",\"\")","v":{"$error":"#VALUE!"}},{"$f":"IF($B64=VLOOKUP($B64,'受診者リスト(抽出用）'!$A:$F,1,0),VLOOKUP($B64,'受診者リスト(抽出用）'!$A:$F,3,0)&\"　（団体マスタ）\"&VLOOKUP($B64,'受診者リスト(抽出用）'!$A:$F,4,0)&\"　（枝番）\"&VLOOKUP(B64,'受診者リスト(抽出用）'!$A:$F,5,0),\"\")","v":{"$error":"#N/A"}}]
[64,{"$f":"IF(申込みフォーム!B74<>\"\",申込みフォーム!B74&\"　\"&申込みフォーム!C74,\"\")","v":""},{"$f":"IF(申込みフォーム!E74<>\"\",申込みフォーム!E74&\"　\"&申込みフォーム!F74,\"\")","v":""},{"$f":"IF(申込みフォーム!G74<>\"\",申込みフォーム!G74,\"\")","v":""},{"$f":"IF(申込みフォーム!H74<>\"\",申込みフォーム!H74,\"\")","v":""},{"$f":"IF(申込みフォーム!D74<>\"\",申込みフォーム!D74,\"\")","v":""},{"$f":"IF(申込みフォーム!I74<>\"\",REPLACE(申込みフォーム!I74,4,,\"-\"),\"\")","v":""},{"$f":"IF(申込みフォーム!J74<>\"\",申込みフォーム!J74,\"\")","v":""},{"$f":"IF(申込みフォーム!K74<>\"\",申込みフォーム!K74,\"\")","v":""},{"$f":"IF(申込みフォーム!L74<>\"\",MID(申込みフォーム!L74,1,3)&\"-\"&MID(申込みフォーム!L74,4,4)&\"-\"&MID(申込みフォーム!L74,8,4),\"\")","v":""},{"$f":"IF(申込みフォーム!M74<>\"\",申込みフォーム!M74,\"\")","v":""},{"$f":"IF(申込みフォーム!N74<>\"\",申込みフォーム!N74,\"\")","v":""},{"$f":"IF(申込みフォーム!O74<>\"\",申込みフォーム!O74,\"\")","v":""},{"$f":"IF(申込みフォーム!P74<>\"\",申込みフォーム!P74,\"\")","v":""},{"$f":"IF(申込みフォーム!Q74<>\"\",申込みフォーム!Q74,\"\")","v":""},{"$f":"IF(申込みフォーム!R74<>\"\",申込みフォーム!R74,\"\")","v":""},{"$f":"IF(申込みフォーム!S74<>\"\",申込みフォーム!S74,\"\")","v":""},{"$f":"IF(申込みフォーム!U74=\"細胞診のみ\",\"協会子宮　\",IF(申込みフォーム!U74=\"細胞診＋（自費）膣エコー\",\"協会子宮＋自費膣エコー　\",\"\"))&IF(申込みフォーム!W74<>\"\",\"協会ﾏﾝﾓ　\",\"\")&IF(申込みフォーム!Y74<>\"\",\"協会骨　\",\"\")&IF(申込みフォーム!AA74<>\"\",\"協会肝炎　\",\"\")","v":""},{"$f":"IF(申込みフォーム!AB74<>\"\",\"子宮　\",\"\")&IF(申込みフォーム!AC74<>\"\",\"ﾏﾝﾓ　\",\"\")&IF(申込みフォーム!AD74<>\"\",\"乳ｴｺｰ\",\"\")","v":""},{"$f":"IF(申込みフォーム!AE74<>\"\",\"ﾏｰｶｰ　\",\"\")&IF(申込みフォーム!AF74<>\"\",\"心機能　\",\"\")&IF(申込みフォーム!AG74<>\"\",\"ABC　\",\"\")&IF(申込みフォーム!AH74<>\"\",\"Lox　\",\"\")&IF(申込みフォーム!AI74<>\"\",\"甲状腺　\",\"\")&IF(申込みフォーム!AJ74<>\"\",\"肝炎\",\"\")","v":""},{"$f":"IF(申込みフォーム!AK74<>\"\",\"脳　\",\"\")&IF(申込みフォーム!AL74<>\"\",\"胸部CT　\",\"\")&IF(申込みフォーム!AM74<>\"\",\"肺機能　\",\"\")&IF(申込みフォーム!AN74<>\"\",\"腹ｴｺｰ　\",\"\")&IF(申込みフォーム!AO74<>\"\",\"心ｴｺｰ　\",\"\")&IF(申込みフォーム!AP74<>\"\",\"ﾌﾛｰﾗ　\",\"\")&IF(申込みフォーム!AQ74<>\"\",\"OCT　\",\"\")&IF(申込みフォーム!AR74<>\"\",\"検便　\",\"\")&IF(申込みフォーム!AS74<>\"\",\"骨　\",\"\")&IF(申込みフォーム!AT74<>\"\",\"骨＋ﾛｺﾓ\",\"\")","v":""},{"$f":"IF(申込みフォーム!AU74<>\"\",申込みフォーム!AU74&\"　　\",\"\")&IF(申込みフォーム!AV74<>\"\",申込みフォーム!AV74&\"　　\",\"\")&IF(申込みフォーム!AW74<>\"\",申込みフォーム!AW74&\"　　\",\"\")&IF(申込みフォーム!$AX74=\"〇\",\"4月　\",\"\")&IF(申込みフォーム!$AY74=\"〇\",\"5月　\",\"\")&IF(申込みフォーム!$AZ74=\"〇\",\"6月　\",\"\")&IF(申込みフォーム!$BA74=\"〇\",\"7月　\",\"\")&IF(申込みフォーム!$BB74=\"〇\",\"8月　\",\"\")&IF(申込みフォーム!$BC74=\"〇\",\"9月　\",\"\")&IF(申込みフォーム!$BD74=\"〇\",\"10月　\",\"\")&IF(申込みフォーム!$BE74=\"〇\",\"11月　\",\"\")&IF(申込みフォーム!$BF74=\"〇\",\"12月　\",\"\")&IF(申込みフォーム!$BG74=\"〇\",\"1月　\",\"\")&IF(申込みフォーム!$BH74=\"〇\",\"2月　\",\"\")&IF(申込みフォーム!$BI74=\"〇\",\"3月　\",\"\")","v":""},{"$f":"IF(申込みフォーム!BJ74<>\"\",申込みフォーム!BJ74,\"\")","v":""},{"$f":"IF(申込みフォーム!BK74<>\"\",申込みフォーム!BK74,\"\")","v":""},{"$f":"申込みフォーム!$Z74","v":""},{"$f":"IF(申込みフォーム!BL74<>\"\",申込みフォーム!BL74&\"　　\",\"\")&IF(申込みフォーム!BM74<>\"\",申込みフォーム!BM74&\"　　\",\"\")&IF(申込みフォーム!BN74<>\"\",申込みフォーム!BN74&\"　　\",\"\")","v":{"$error":"#VALUE!"}},{"$f":"IF($B65=VLOOKUP($B65,'受診者リスト(抽出用）'!$A:$F,1,0),VLOOKUP($B65,'受診者リスト(抽出用）'!$A:$F,3,0)&\"　（団体マスタ）\"&VLOOKUP($B65,'受診者リスト(抽出用）'!$A:$F,4,0)&\"　（枝番）\"&VLOOKUP(B65,'受診者リスト(抽出用）'!$A:$F,5,0),\"\")","v":{"$error":"#N/A"}}]
[65,{"$f":"IF(申込みフォーム!B75<>\"\",申込みフォーム!B75&\"　\"&申込みフォーム!C75,\"\")","v":""},{"$f":"IF(申込みフォーム!E75<>\"\",申込みフォーム!E75&\"　\"&申込みフォーム!F75,\"\")","v":""},{"$f":"IF(申込みフォーム!G75<>\"\",申込みフォーム!G75,\"\")","v":""},{"$f":"IF(申込みフォーム!H75<>\"\",申込みフォーム!H75,\"\")","v":""},{"$f":"IF(申込みフォーム!D75<>\"\",申込みフォーム!D75,\"\")","v":""},{"$f":"IF(申込みフォーム!I75<>\"\",REPLACE(申込みフォーム!I75,4,,\"-\"),\"\")","v":""},{"$f":"IF(申込みフォーム!J75<>\"\",申込みフォーム!J75,\"\")","v":""},{"$f":"IF(申込みフォーム!K75<>\"\",申込みフォーム!K75,\"\")","v":""},{"$f":"IF(申込みフォーム!L75<>\"\",MID(申込みフォーム!L75,1,3)&\"-\"&MID(申込みフォーム!L75,4,4)&\"-\"&MID(申込みフォーム!L75,8,4),\"\")","v":""},{"$f":"IF(申込みフォーム!M75<>\"\",申込みフォーム!M75,\"\")","v":""},{"$f":"IF(申込みフォーム!N75<>\"\",申込みフォーム!N75,\"\")","v":""},{"$f":"IF(申込みフォーム!O75<>\"\",申込みフォーム!O75,\"\")","v":""},{"$f":"IF(申込みフォーム!P75<>\"\",申込みフォーム!P75,\"\")","v":""},{"$f":"IF(申込みフォーム!Q75<>\"\",申込みフォーム!Q75,\"\")","v":""},{"$f":"IF(申込みフォーム!R75<>\"\",申込みフォーム!R75,\"\")","v":""},{"$f":"IF(申込みフォーム!S75<>\"\",申込みフォーム!S75,\"\")","v":""},{"$f":"IF(申込みフォーム!U75=\"細胞診のみ\",\"協会子宮　\",IF(申込みフォーム!U75=\"細胞診＋（自費）膣エコー\",\"協会子宮＋自費膣エコー　\",\"\"))&IF(申込みフォーム!W75<>\"\",\"協会ﾏﾝﾓ　\",\"\")&IF(申込みフォーム!Y75<>\"\",\"協会骨　\",\"\")&IF(申込みフォーム!AA75<>\"\",\"協会肝炎　\",\"\")","v":""},{"$f":"IF(申込みフォーム!AB75<>\"\",\"子宮　\",\"\")&IF(申込みフォーム!AC75<>\"\",\"ﾏﾝﾓ　\",\"\")&IF(申込みフォーム!AD75<>\"\",\"乳ｴｺｰ\",\"\")","v":""},{"$f":"IF(申込みフォーム!AE75<>\"\",\"ﾏｰｶｰ　\",\"\")&IF(申込みフォーム!AF75<>\"\",\"心機能　\",\"\")&IF(申込みフォーム!AG75<>\"\",\"ABC　\",\"\")&IF(申込みフォーム!AH75<>\"\",\"Lox　\",\"\")&IF(申込みフォーム!AI75<>\"\",\"甲状腺　\",\"\")&IF(申込みフォーム!AJ75<>\"\",\"肝炎\",\"\")","v":""},{"$f":"IF(申込みフォーム!AK75<>\"\",\"脳　\",\"\")&IF(申込みフォーム!AL75<>\"\",\"胸部CT　\",\"\")&IF(申込みフォーム!AM75<>\"\",\"肺機能　\",\"\")&IF(申込みフォーム!AN75<>\"\",\"腹ｴｺｰ　\",\"\")&IF(申込みフォーム!AO75<>\"\",\"心ｴｺｰ　\",\"\")&IF(申込みフォーム!AP75<>\"\",\"ﾌﾛｰﾗ　\",\"\")&IF(申込みフォーム!AQ75<>\"\",\"OCT　\",\"\")&IF(申込みフォーム!AR75<>\"\",\"検便　\",\"\")&IF(申込みフォーム!AS75<>\"\",\"骨　\",\"\")&IF(申込みフォーム!AT75<>\"\",\"骨＋ﾛｺﾓ\",\"\")","v":""},{"$f":"IF(申込みフォーム!AU75<>\"\",申込みフォーム!AU75&\"　　\",\"\")&IF(申込みフォーム!AV75<>\"\",申込みフォーム!AV75&\"　　\",\"\")&IF(申込みフォーム!AW75<>\"\",申込みフォーム!AW75&\"　　\",\"\")&IF(申込みフォーム!$AX75=\"〇\",\"4月　\",\"\")&IF(申込みフォーム!$AY75=\"〇\",\"5月　\",\"\")&IF(申込みフォーム!$AZ75=\"〇\",\"6月　\",\"\")&IF(申込みフォーム!$BA75=\"〇\",\"7月　\",\"\")&IF(申込みフォーム!$BB75=\"〇\",\"8月　\",\"\")&IF(申込みフォーム!$BC75=\"〇\",\"9月　\",\"\")&IF(申込みフォーム!$BD75=\"〇\",\"10月　\",\"\")&IF(申込みフォーム!$BE75=\"〇\",\"11月　\",\"\")&IF(申込みフォーム!$BF75=\"〇\",\"12月　\",\"\")&IF(申込みフォーム!$BG75=\"〇\",\"1月　\",\"\")&IF(申込みフォーム!$BH75=\"〇\",\"2月　\",\"\")&IF(申込みフォーム!$BI75=\"〇\",\"3月　\",\"\")","v":""},{"$f":"IF(申込みフォーム!BJ75<>\"\",申込みフォーム!BJ75,\"\")","v":""},{"$f":"IF(申込みフォーム!BK75<>\"\",申込みフォーム!BK75,\"\")","v":""},{"$f":"申込みフォーム!$Z75","v":""},{"$f":"IF(申込みフォーム!BL75<>\"\",申込みフォーム!BL75&\"　　\",\"\")&IF(申込みフォーム!BM75<>\"\",申込みフォーム!BM75&\"　　\",\"\")&IF(申込みフォーム!BN75<>\"\",申込みフォーム!BN75&\"　　\",\"\")","v":{"$error":"#VALUE!"}},{"$f":"IF($B66=VLOOKUP($B66,'受診者リスト(抽出用）'!$A:$F,1,0),VLOOKUP($B66,'受診者リスト(抽出用）'!$A:$F,3,0)&\"　（団体マスタ）\"&VLOOKUP($B66,'受診者リスト(抽出用）'!$A:$F,4,0)&\"　（枝番）\"&VLOOKUP(B66,'受診者リスト(抽出用）'!$A:$F,5,0),\"\")","v":{"$error":"#N/A"}}]
[66,{"$f":"IF(申込みフォーム!B76<>\"\",申込みフォーム!B76&\"　\"&申込みフォーム!C76,\"\")","v":""},{"$f":"IF(申込みフォーム!E76<>\"\",申込みフォーム!E76&\"　\"&申込みフォーム!F76,\"\")","v":""},{"$f":"IF(申込みフォーム!G76<>\"\",申込みフォーム!G76,\"\")","v":""},{"$f":"IF(申込みフォーム!H76<>\"\",申込みフォーム!H76,\"\")","v":""},{"$f":"IF(申込みフォーム!D76<>\"\",申込みフォーム!D76,\"\")","v":""},{"$f":"IF(申込みフォーム!I76<>\"\",REPLACE(申込みフォーム!I76,4,,\"-\"),\"\")","v":""},{"$f":"IF(申込みフォーム!J76<>\"\",申込みフォーム!J76,\"\")","v":""},{"$f":"IF(申込みフォーム!K76<>\"\",申込みフォーム!K76,\"\")","v":""},{"$f":"IF(申込みフォーム!L76<>\"\",MID(申込みフォーム!L76,1,3)&\"-\"&MID(申込みフォーム!L76,4,4)&\"-\"&MID(申込みフォーム!L76,8,4),\"\")","v":""},{"$f":"IF(申込みフォーム!M76<>\"\",申込みフォーム!M76,\"\")","v":""},{"$f":"IF(申込みフォーム!N76<>\"\",申込みフォーム!N76,\"\")","v":""},{"$f":"IF(申込みフォーム!O76<>\"\",申込みフォーム!O76,\"\")","v":""},{"$f":"IF(申込みフォーム!P76<>\"\",申込みフォーム!P76,\"\")","v":""},{"$f":"IF(申込みフォーム!Q76<>\"\",申込みフォーム!Q76,\"\")","v":""},{"$f":"IF(申込みフォーム!R76<>\"\",申込みフォーム!R76,\"\")","v":""},{"$f":"IF(申込みフォーム!S76<>\"\",申込みフォーム!S76,\"\")","v":""},{"$f":"IF(申込みフォーム!U76=\"細胞診のみ\",\"協会子宮　\",IF(申込みフォーム!U76=\"細胞診＋（自費）膣エコー\",\"協会子宮＋自費膣エコー　\",\"\"))&IF(申込みフォーム!W76<>\"\",\"協会ﾏﾝﾓ　\",\"\")&IF(申込みフォーム!Y76<>\"\",\"協会骨　\",\"\")&IF(申込みフォーム!AA76<>\"\",\"協会肝炎　\",\"\")","v":""},{"$f":"IF(申込みフォーム!AB76<>\"\",\"子宮　\",\"\")&IF(申込みフォーム!AC76<>\"\",\"ﾏﾝﾓ　\",\"\")&IF(申込みフォーム!AD76<>\"\",\"乳ｴｺｰ\",\"\")","v":""},{"$f":"IF(申込みフォーム!AE76<>\"\",\"ﾏｰｶｰ　\",\"\")&IF(申込みフォーム!AF76<>\"\",\"心機能　\",\"\")&IF(申込みフォーム!AG76<>\"\",\"ABC　\",\"\")&IF(申込みフォーム!AH76<>\"\",\"Lox　\",\"\")&IF(申込みフォーム!AI76<>\"\",\"甲状腺　\",\"\")&IF(申込みフォーム!AJ76<>\"\",\"肝炎\",\"\")","v":""},{"$f":"IF(申込みフォーム!AK76<>\"\",\"脳　\",\"\")&IF(申込みフォーム!AL76<>\"\",\"胸部CT　\",\"\")&IF(申込みフォーム!AM76<>\"\",\"肺機能　\",\"\")&IF(申込みフォーム!AN76<>\"\",\"腹ｴｺｰ　\",\"\")&IF(申込みフォーム!AO76<>\"\",\"心ｴｺｰ　\",\"\")&IF(申込みフォーム!AP76<>\"\",\"ﾌﾛｰﾗ　\",\"\")&IF(申込みフォーム!AQ76<>\"\",\"OCT　\",\"\")&IF(申込みフォーム!AR76<>\"\",\"検便　\",\"\")&IF(申込みフォーム!AS76<>\"\",\"骨　\",\"\")&IF(申込みフォーム!AT76<>\"\",\"骨＋ﾛｺﾓ\",\"\")","v":""},{"$f":"IF(申込みフォーム!AU76<>\"\",申込みフォーム!AU76&\"　　\",\"\")&IF(申込みフォーム!AV76<>\"\",申込みフォーム!AV76&\"　　\",\"\")&IF(申込みフォーム!AW76<>\"\",申込みフォーム!AW76&\"　　\",\"\")&IF(申込みフォーム!$AX76=\"〇\",\"4月　\",\"\")&IF(申込みフォーム!$AY76=\"〇\",\"5月　\",\"\")&IF(申込みフォーム!$AZ76=\"〇\",\"6月　\",\"\")&IF(申込みフォーム!$BA76=\"〇\",\"7月　\",\"\")&IF(申込みフォーム!$BB76=\"〇\",\"8月　\",\"\")&IF(申込みフォーム!$BC76=\"〇\",\"9月　\",\"\")&IF(申込みフォーム!$BD76=\"〇\",\"10月　\",\"\")&IF(申込みフォーム!$BE76=\"〇\",\"11月　\",\"\")&IF(申込みフォーム!$BF76=\"〇\",\"12月　\",\"\")&IF(申込みフォーム!$BG76=\"〇\",\"1月　\",\"\")&IF(申込みフォーム!$BH76=\"〇\",\"2月　\",\"\")&IF(申込みフォーム!$BI76=\"〇\",\"3月　\",\"\")","v":""},{"$f":"IF(申込みフォーム!BJ76<>\"\",申込みフォーム!BJ76,\"\")","v":""},{"$f":"IF(申込みフォーム!BK76<>\"\",申込みフォーム!BK76,\"\")","v":""},{"$f":"申込みフォーム!$Z76","v":""},{"$f":"IF(申込みフォーム!BL76<>\"\",申込みフォーム!BL76&\"　　\",\"\")&IF(申込みフォーム!BM76<>\"\",申込みフォーム!BM76&\"　　\",\"\")&IF(申込みフォーム!BN76<>\"\",申込みフォーム!BN76&\"　　\",\"\")","v":{"$error":"#VALUE!"}},{"$f":"IF($B67=VLOOKUP($B67,'受診者リスト(抽出用）'!$A:$F,1,0),VLOOKUP($B67,'受診者リスト(抽出用）'!$A:$F,3,0)&\"　（団体マスタ）\"&VLOOKUP($B67,'受診者リスト(抽出用）'!$A:$F,4,0)&\"　（枝番）\"&VLOOKUP(B67,'受診者リスト(抽出用）'!$A:$F,5,0),\"\")","v":{"$error":"#N/A"}}]
[67,{"$f":"IF(申込みフォーム!B77<>\"\",申込みフォーム!B77&\"　\"&申込みフォーム!C77,\"\")","v":""},{"$f":"IF(申込みフォーム!E77<>\"\",申込みフォーム!E77&\"　\"&申込みフォーム!F77,\"\")","v":""},{"$f":"IF(申込みフォーム!G77<>\"\",申込みフォーム!G77,\"\")","v":""},{"$f":"IF(申込みフォーム!H77<>\"\",申込みフォーム!H77,\"\")","v":""},{"$f":"IF(申込みフォーム!D77<>\"\",申込みフォーム!D77,\"\")","v":""},{"$f":"IF(申込みフォーム!I77<>\"\",REPLACE(申込みフォーム!I77,4,,\"-\"),\"\")","v":""},{"$f":"IF(申込みフォーム!J77<>\"\",申込みフォーム!J77,\"\")","v":""},{"$f":"IF(申込みフォーム!K77<>\"\",申込みフォーム!K77,\"\")","v":""},{"$f":"IF(申込みフォーム!L77<>\"\",MID(申込みフォーム!L77,1,3)&\"-\"&MID(申込みフォーム!L77,4,4)&\"-\"&MID(申込みフォーム!L77,8,4),\"\")","v":""},{"$f":"IF(申込みフォーム!M77<>\"\",申込みフォーム!M77,\"\")","v":""},{"$f":"IF(申込みフォーム!N77<>\"\",申込みフォーム!N77,\"\")","v":""},{"$f":"IF(申込みフォーム!O77<>\"\",申込みフォーム!O77,\"\")","v":""},{"$f":"IF(申込みフォーム!P77<>\"\",申込みフォーム!P77,\"\")","v":""},{"$f":"IF(申込みフォーム!Q77<>\"\",申込みフォーム!Q77,\"\")","v":""},{"$f":"IF(申込みフォーム!R77<>\"\",申込みフォーム!R77,\"\")","v":""},{"$f":"IF(申込みフォーム!S77<>\"\",申込みフォーム!S77,\"\")","v":""},{"$f":"IF(申込みフォーム!U77=\"細胞診のみ\",\"協会子宮　\",IF(申込みフォーム!U77=\"細胞診＋（自費）膣エコー\",\"協会子宮＋自費膣エコー　\",\"\"))&IF(申込みフォーム!W77<>\"\",\"協会ﾏﾝﾓ　\",\"\")&IF(申込みフォーム!Y77<>\"\",\"協会骨　\",\"\")&IF(申込みフォーム!AA77<>\"\",\"協会肝炎　\",\"\")","v":""},{"$f":"IF(申込みフォーム!AB77<>\"\",\"子宮　\",\"\")&IF(申込みフォーム!AC77<>\"\",\"ﾏﾝﾓ　\",\"\")&IF(申込みフォーム!AD77<>\"\",\"乳ｴｺｰ\",\"\")","v":""},{"$f":"IF(申込みフォーム!AE77<>\"\",\"ﾏｰｶｰ　\",\"\")&IF(申込みフォーム!AF77<>\"\",\"心機能　\",\"\")&IF(申込みフォーム!AG77<>\"\",\"ABC　\",\"\")&IF(申込みフォーム!AH77<>\"\",\"Lox　\",\"\")&IF(申込みフォーム!AI77<>\"\",\"甲状腺　\",\"\")&IF(申込みフォーム!AJ77<>\"\",\"肝炎\",\"\")","v":""},{"$f":"IF(申込みフォーム!AK77<>\"\",\"脳　\",\"\")&IF(申込みフォーム!AL77<>\"\",\"胸部CT　\",\"\")&IF(申込みフォーム!AM77<>\"\",\"肺機能　\",\"\")&IF(申込みフォーム!AN77<>\"\",\"腹ｴｺｰ　\",\"\")&IF(申込みフォーム!AO77<>\"\",\"心ｴｺｰ　\",\"\")&IF(申込みフォーム!AP77<>\"\",\"ﾌﾛｰﾗ　\",\"\")&IF(申込みフォーム!AQ77<>\"\",\"OCT　\",\"\")&IF(申込みフォーム!AR77<>\"\",\"検便　\",\"\")&IF(申込みフォーム!AS77<>\"\",\"骨　\",\"\")&IF(申込みフォーム!AT77<>\"\",\"骨＋ﾛｺﾓ\",\"\")","v":""},{"$f":"IF(申込みフォーム!AU77<>\"\",申込みフォーム!AU77&\"　　\",\"\")&IF(申込みフォーム!AV77<>\"\",申込みフォーム!AV77&\"　　\",\"\")&IF(申込みフォーム!AW77<>\"\",申込みフォーム!AW77&\"　　\",\"\")&IF(申込みフォーム!$AX77=\"〇\",\"4月　\",\"\")&IF(申込みフォーム!$AY77=\"〇\",\"5月　\",\"\")&IF(申込みフォーム!$AZ77=\"〇\",\"6月　\",\"\")&IF(申込みフォーム!$BA77=\"〇\",\"7月　\",\"\")&IF(申込みフォーム!$BB77=\"〇\",\"8月　\",\"\")&IF(申込みフォーム!$BC77=\"〇\",\"9月　\",\"\")&IF(申込みフォーム!$BD77=\"〇\",\"10月　\",\"\")&IF(申込みフォーム!$BE77=\"〇\",\"11月　\",\"\")&IF(申込みフォーム!$BF77=\"〇\",\"12月　\",\"\")&IF(申込みフォーム!$BG77=\"〇\",\"1月　\",\"\")&IF(申込みフォーム!$BH77=\"〇\",\"2月　\",\"\")&IF(申込みフォーム!$BI77=\"〇\",\"3月　\",\"\")","v":""},{"$f":"IF(申込みフォーム!BJ77<>\"\",申込みフォーム!BJ77,\"\")","v":""},{"$f":"IF(申込みフォーム!BK77<>\"\",申込みフォーム!BK77,\"\")","v":""},{"$f":"申込みフォーム!$Z77","v":""},{"$f":"IF(申込みフォーム!BL77<>\"\",申込みフォーム!BL77&\"　　\",\"\")&IF(申込みフォーム!BM77<>\"\",申込みフォーム!BM77&\"　　\",\"\")&IF(申込みフォーム!BN77<>\"\",申込みフォーム!BN77&\"　　\",\"\")","v":{"$error":"#VALUE!"}},{"$f":"IF($B68=VLOOKUP($B68,'受診者リスト(抽出用）'!$A:$F,1,0),VLOOKUP($B68,'受診者リスト(抽出用）'!$A:$F,3,0)&\"　（団体マスタ）\"&VLOOKUP($B68,'受診者リスト(抽出用）'!$A:$F,4,0)&\"　（枝番）\"&VLOOKUP(B68,'受診者リスト(抽出用）'!$A:$F,5,0),\"\")","v":{"$error":"#N/A"}}]
[68,{"$f":"IF(申込みフォーム!B78<>\"\",申込みフォーム!B78&\"　\"&申込みフォーム!C78,\"\")","v":""},{"$f":"IF(申込みフォーム!E78<>\"\",申込みフォーム!E78&\"　\"&申込みフォーム!F78,\"\")","v":""},{"$f":"IF(申込みフォーム!G78<>\"\",申込みフォーム!G78,\"\")","v":""},{"$f":"IF(申込みフォーム!H78<>\"\",申込みフォーム!H78,\"\")","v":""},{"$f":"IF(申込みフォーム!D78<>\"\",申込みフォーム!D78,\"\")","v":""},{"$f":"IF(申込みフォーム!I78<>\"\",REPLACE(申込みフォーム!I78,4,,\"-\"),\"\")","v":""},{"$f":"IF(申込みフォーム!J78<>\"\",申込みフォーム!J78,\"\")","v":""},{"$f":"IF(申込みフォーム!K78<>\"\",申込みフォーム!K78,\"\")","v":""},{"$f":"IF(申込みフォーム!L78<>\"\",MID(申込みフォーム!L78,1,3)&\"-\"&MID(申込みフォーム!L78,4,4)&\"-\"&MID(申込みフォーム!L78,8,4),\"\")","v":""},{"$f":"IF(申込みフォーム!M78<>\"\",申込みフォーム!M78,\"\")","v":""},{"$f":"IF(申込みフォーム!N78<>\"\",申込みフォーム!N78,\"\")","v":""},{"$f":"IF(申込みフォーム!O78<>\"\",申込みフォーム!O78,\"\")","v":""},{"$f":"IF(申込みフォーム!P78<>\"\",申込みフォーム!P78,\"\")","v":""},{"$f":"IF(申込みフォーム!Q78<>\"\",申込みフォーム!Q78,\"\")","v":""},{"$f":"IF(申込みフォーム!R78<>\"\",申込みフォーム!R78,\"\")","v":""},{"$f":"IF(申込みフォーム!S78<>\"\",申込みフォーム!S78,\"\")","v":""},{"$f":"IF(申込みフォーム!U78=\"細胞診のみ\",\"協会子宮　\",IF(申込みフォーム!U78=\"細胞診＋（自費）膣エコー\",\"協会子宮＋自費膣エコー　\",\"\"))&IF(申込みフォーム!W78<>\"\",\"協会ﾏﾝﾓ　\",\"\")&IF(申込みフォーム!Y78<>\"\",\"協会骨　\",\"\")&IF(申込みフォーム!AA78<>\"\",\"協会肝炎　\",\"\")","v":""},{"$f":"IF(申込みフォーム!AB78<>\"\",\"子宮　\",\"\")&IF(申込みフォーム!AC78<>\"\",\"ﾏﾝﾓ　\",\"\")&IF(申込みフォーム!AD78<>\"\",\"乳ｴｺｰ\",\"\")","v":""},{"$f":"IF(申込みフォーム!AE78<>\"\",\"ﾏｰｶｰ　\",\"\")&IF(申込みフォーム!AF78<>\"\",\"心機能　\",\"\")&IF(申込みフォーム!AG78<>\"\",\"ABC　\",\"\")&IF(申込みフォーム!AH78<>\"\",\"Lox　\",\"\")&IF(申込みフォーム!AI78<>\"\",\"甲状腺　\",\"\")&IF(申込みフォーム!AJ78<>\"\",\"肝炎\",\"\")","v":""},{"$f":"IF(申込みフォーム!AK78<>\"\",\"脳　\",\"\")&IF(申込みフォーム!AL78<>\"\",\"胸部CT　\",\"\")&IF(申込みフォーム!AM78<>\"\",\"肺機能　\",\"\")&IF(申込みフォーム!AN78<>\"\",\"腹ｴｺｰ　\",\"\")&IF(申込みフォーム!AO78<>\"\",\"心ｴｺｰ　\",\"\")&IF(申込みフォーム!AP78<>\"\",\"ﾌﾛｰﾗ　\",\"\")&IF(申込みフォーム!AQ78<>\"\",\"OCT　\",\"\")&IF(申込みフォーム!AR78<>\"\",\"検便　\",\"\")&IF(申込みフォーム!AS78<>\"\",\"骨　\",\"\")&IF(申込みフォーム!AT78<>\"\",\"骨＋ﾛｺﾓ\",\"\")","v":""},{"$f":"IF(申込みフォーム!AU78<>\"\",申込みフォーム!AU78&\"　　\",\"\")&IF(申込みフォーム!AV78<>\"\",申込みフォーム!AV78&\"　　\",\"\")&IF(申込みフォーム!AW78<>\"\",申込みフォーム!AW78&\"　　\",\"\")&IF(申込みフォーム!$AX78=\"〇\",\"4月　\",\"\")&IF(申込みフォーム!$AY78=\"〇\",\"5月　\",\"\")&IF(申込みフォーム!$AZ78=\"〇\",\"6月　\",\"\")&IF(申込みフォーム!$BA78=\"〇\",\"7月　\",\"\")&IF(申込みフォーム!$BB78=\"〇\",\"8月　\",\"\")&IF(申込みフォーム!$BC78=\"〇\",\"9月　\",\"\")&IF(申込みフォーム!$BD78=\"〇\",\"10月　\",\"\")&IF(申込みフォーム!$BE78=\"〇\",\"11月　\",\"\")&IF(申込みフォーム!$BF78=\"〇\",\"12月　\",\"\")&IF(申込みフォーム!$BG78=\"〇\",\"1月　\",\"\")&IF(申込みフォーム!$BH78=\"〇\",\"2月　\",\"\")&IF(申込みフォーム!$BI78=\"〇\",\"3月　\",\"\")","v":""},{"$f":"IF(申込みフォーム!BJ78<>\"\",申込みフォーム!BJ78,\"\")","v":""},{"$f":"IF(申込みフォーム!BK78<>\"\",申込みフォーム!BK78,\"\")","v":""},{"$f":"申込みフォーム!$Z78","v":""},{"$f":"IF(申込みフォーム!BL78<>\"\",申込みフォーム!BL78&\"　　\",\"\")&IF(申込みフォーム!BM78<>\"\",申込みフォーム!BM78&\"　　\",\"\")&IF(申込みフォーム!BN78<>\"\",申込みフォーム!BN78&\"　　\",\"\")","v":{"$error":"#VALUE!"}},{"$f":"IF($B69=VLOOKUP($B69,'受診者リスト(抽出用）'!$A:$F,1,0),VLOOKUP($B69,'受診者リスト(抽出用）'!$A:$F,3,0)&\"　（団体マスタ）\"&VLOOKUP($B69,'受診者リスト(抽出用）'!$A:$F,4,0)&\"　（枝番）\"&VLOOKUP(B69,'受診者リスト(抽出用）'!$A:$F,5,0),\"\")","v":{"$error":"#N/A"}}]
[69,{"$f":"IF(申込みフォーム!B79<>\"\",申込みフォーム!B79&\"　\"&申込みフォーム!C79,\"\")","v":""},{"$f":"IF(申込みフォーム!E79<>\"\",申込みフォーム!E79&\"　\"&申込みフォーム!F79,\"\")","v":""},{"$f":"IF(申込みフォーム!G79<>\"\",申込みフォーム!G79,\"\")","v":""},{"$f":"IF(申込みフォーム!H79<>\"\",申込みフォーム!H79,\"\")","v":""},{"$f":"IF(申込みフォーム!D79<>\"\",申込みフォーム!D79,\"\")","v":""},{"$f":"IF(申込みフォーム!I79<>\"\",REPLACE(申込みフォーム!I79,4,,\"-\"),\"\")","v":""},{"$f":"IF(申込みフォーム!J79<>\"\",申込みフォーム!J79,\"\")","v":""},{"$f":"IF(申込みフォーム!K79<>\"\",申込みフォーム!K79,\"\")","v":""},{"$f":"IF(申込みフォーム!L79<>\"\",MID(申込みフォーム!L79,1,3)&\"-\"&MID(申込みフォーム!L79,4,4)&\"-\"&MID(申込みフォーム!L79,8,4),\"\")","v":""},{"$f":"IF(申込みフォーム!M79<>\"\",申込みフォーム!M79,\"\")","v":""},{"$f":"IF(申込みフォーム!N79<>\"\",申込みフォーム!N79,\"\")","v":""},{"$f":"IF(申込みフォーム!O79<>\"\",申込みフォーム!O79,\"\")","v":""},{"$f":"IF(申込みフォーム!P79<>\"\",申込みフォーム!P79,\"\")","v":""},{"$f":"IF(申込みフォーム!Q79<>\"\",申込みフォーム!Q79,\"\")","v":""},{"$f":"IF(申込みフォーム!R79<>\"\",申込みフォーム!R79,\"\")","v":""},{"$f":"IF(申込みフォーム!S79<>\"\",申込みフォーム!S79,\"\")","v":""},{"$f":"IF(申込みフォーム!U79=\"細胞診のみ\",\"協会子宮　\",IF(申込みフォーム!U79=\"細胞診＋（自費）膣エコー\",\"協会子宮＋自費膣エコー　\",\"\"))&IF(申込みフォーム!W79<>\"\",\"協会ﾏﾝﾓ　\",\"\")&IF(申込みフォーム!Y79<>\"\",\"協会骨　\",\"\")&IF(申込みフォーム!AA79<>\"\",\"協会肝炎　\",\"\")","v":""},{"$f":"IF(申込みフォーム!AB79<>\"\",\"子宮　\",\"\")&IF(申込みフォーム!AC79<>\"\",\"ﾏﾝﾓ　\",\"\")&IF(申込みフォーム!AD79<>\"\",\"乳ｴｺｰ\",\"\")","v":""},{"$f":"IF(申込みフォーム!AE79<>\"\",\"ﾏｰｶｰ　\",\"\")&IF(申込みフォーム!AF79<>\"\",\"心機能　\",\"\")&IF(申込みフォーム!AG79<>\"\",\"ABC　\",\"\")&IF(申込みフォーム!AH79<>\"\",\"Lox　\",\"\")&IF(申込みフォーム!AI79<>\"\",\"甲状腺　\",\"\")&IF(申込みフォーム!AJ79<>\"\",\"肝炎\",\"\")","v":""},{"$f":"IF(申込みフォーム!AK79<>\"\",\"脳　\",\"\")&IF(申込みフォーム!AL79<>\"\",\"胸部CT　\",\"\")&IF(申込みフォーム!AM79<>\"\",\"肺機能　\",\"\")&IF(申込みフォーム!AN79<>\"\",\"腹ｴｺｰ　\",\"\")&IF(申込みフォーム!AO79<>\"\",\"心ｴｺｰ　\",\"\")&IF(申込みフォーム!AP79<>\"\",\"ﾌﾛｰﾗ　\",\"\")&IF(申込みフォーム!AQ79<>\"\",\"OCT　\",\"\")&IF(申込みフォーム!AR79<>\"\",\"検便　\",\"\")&IF(申込みフォーム!AS79<>\"\",\"骨　\",\"\")&IF(申込みフォーム!AT79<>\"\",\"骨＋ﾛｺﾓ\",\"\")","v":""},{"$f":"IF(申込みフォーム!AU79<>\"\",申込みフォーム!AU79&\"　　\",\"\")&IF(申込みフォーム!AV79<>\"\",申込みフォーム!AV79&\"　　\",\"\")&IF(申込みフォーム!AW79<>\"\",申込みフォーム!AW79&\"　　\",\"\")&IF(申込みフォーム!$AX79=\"〇\",\"4月　\",\"\")&IF(申込みフォーム!$AY79=\"〇\",\"5月　\",\"\")&IF(申込みフォーム!$AZ79=\"〇\",\"6月　\",\"\")&IF(申込みフォーム!$BA79=\"〇\",\"7月　\",\"\")&IF(申込みフォーム!$BB79=\"〇\",\"8月　\",\"\")&IF(申込みフォーム!$BC79=\"〇\",\"9月　\",\"\")&IF(申込みフォーム!$BD79=\"〇\",\"10月　\",\"\")&IF(申込みフォーム!$BE79=\"〇\",\"11月　\",\"\")&IF(申込みフォーム!$BF79=\"〇\",\"12月　\",\"\")&IF(申込みフォーム!$BG79=\"〇\",\"1月　\",\"\")&IF(申込みフォーム!$BH79=\"〇\",\"2月　\",\"\")&IF(申込みフォーム!$BI79=\"〇\",\"3月　\",\"\")","v":""},{"$f":"IF(申込みフォーム!BJ79<>\"\",申込みフォーム!BJ79,\"\")","v":""},{"$f":"IF(申込みフォーム!BK79<>\"\",申込みフォーム!BK79,\"\")","v":""},{"$f":"申込みフォーム!$Z79","v":""},{"$f":"IF(申込みフォーム!BL79<>\"\",申込みフォーム!BL79&\"　　\",\"\")&IF(申込みフォーム!BM79<>\"\",申込みフォーム!BM79&\"　　\",\"\")&IF(申込みフォーム!BN79<>\"\",申込みフォーム!BN79&\"　　\",\"\")","v":{"$error":"#VALUE!"}},{"$f":"IF($B70=VLOOKUP($B70,'受診者リスト(抽出用）'!$A:$F,1,0),VLOOKUP($B70,'受診者リスト(抽出用）'!$A:$F,3,0)&\"　（団体マスタ）\"&VLOOKUP($B70,'受診者リスト(抽出用）'!$A:$F,4,0)&\"　（枝番）\"&VLOOKUP(B70,'受診者リスト(抽出用）'!$A:$F,5,0),\"\")","v":{"$error":"#N/A"}}]
[70,{"$f":"IF(申込みフォーム!B80<>\"\",申込みフォーム!B80&\"　\"&申込みフォーム!C80,\"\")","v":""},{"$f":"IF(申込みフォーム!E80<>\"\",申込みフォーム!E80&\"　\"&申込みフォーム!F80,\"\")","v":""},{"$f":"IF(申込みフォーム!G80<>\"\",申込みフォーム!G80,\"\")","v":""},{"$f":"IF(申込みフォーム!H80<>\"\",申込みフォーム!H80,\"\")","v":""},{"$f":"IF(申込みフォーム!D80<>\"\",申込みフォーム!D80,\"\")","v":""},{"$f":"IF(申込みフォーム!I80<>\"\",REPLACE(申込みフォーム!I80,4,,\"-\"),\"\")","v":""},{"$f":"IF(申込みフォーム!J80<>\"\",申込みフォーム!J80,\"\")","v":""},{"$f":"IF(申込みフォーム!K80<>\"\",申込みフォーム!K80,\"\")","v":""},{"$f":"IF(申込みフォーム!L80<>\"\",MID(申込みフォーム!L80,1,3)&\"-\"&MID(申込みフォーム!L80,4,4)&\"-\"&MID(申込みフォーム!L80,8,4),\"\")","v":""},{"$f":"IF(申込みフォーム!M80<>\"\",申込みフォーム!M80,\"\")","v":""},{"$f":"IF(申込みフォーム!N80<>\"\",申込みフォーム!N80,\"\")","v":""},{"$f":"IF(申込みフォーム!O80<>\"\",申込みフォーム!O80,\"\")","v":""},{"$f":"IF(申込みフォーム!P80<>\"\",申込みフォーム!P80,\"\")","v":""},{"$f":"IF(申込みフォーム!Q80<>\"\",申込みフォーム!Q80,\"\")","v":""},{"$f":"IF(申込みフォーム!R80<>\"\",申込みフォーム!R80,\"\")","v":""},{"$f":"IF(申込みフォーム!S80<>\"\",申込みフォーム!S80,\"\")","v":""},{"$f":"IF(申込みフォーム!U80=\"細胞診のみ\",\"協会子宮　\",IF(申込みフォーム!U80=\"細胞診＋（自費）膣エコー\",\"協会子宮＋自費膣エコー　\",\"\"))&IF(申込みフォーム!W80<>\"\",\"協会ﾏﾝﾓ　\",\"\")&IF(申込みフォーム!Y80<>\"\",\"協会骨　\",\"\")&IF(申込みフォーム!AA80<>\"\",\"協会肝炎　\",\"\")","v":""},{"$f":"IF(申込みフォーム!AB80<>\"\",\"子宮　\",\"\")&IF(申込みフォーム!AC80<>\"\",\"ﾏﾝﾓ　\",\"\")&IF(申込みフォーム!AD80<>\"\",\"乳ｴｺｰ\",\"\")","v":""},{"$f":"IF(申込みフォーム!AE80<>\"\",\"ﾏｰｶｰ　\",\"\")&IF(申込みフォーム!AF80<>\"\",\"心機能　\",\"\")&IF(申込みフォーム!AG80<>\"\",\"ABC　\",\"\")&IF(申込みフォーム!AH80<>\"\",\"Lox　\",\"\")&IF(申込みフォーム!AI80<>\"\",\"甲状腺　\",\"\")&IF(申込みフォーム!AJ80<>\"\",\"肝炎\",\"\")","v":""},{"$f":"IF(申込みフォーム!AK80<>\"\",\"脳　\",\"\")&IF(申込みフォーム!AL80<>\"\",\"胸部CT　\",\"\")&IF(申込みフォーム!AM80<>\"\",\"肺機能　\",\"\")&IF(申込みフォーム!AN80<>\"\",\"腹ｴｺｰ　\",\"\")&IF(申込みフォーム!AO80<>\"\",\"心ｴｺｰ　\",\"\")&IF(申込みフォーム!AP80<>\"\",\"ﾌﾛｰﾗ　\",\"\")&IF(申込みフォーム!AQ80<>\"\",\"OCT　\",\"\")&IF(申込みフォーム!AR80<>\"\",\"検便　\",\"\")&IF(申込みフォーム!AS80<>\"\",\"骨　\",\"\")&IF(申込みフォーム!AT80<>\"\",\"骨＋ﾛｺﾓ\",\"\")","v":""},{"$f":"IF(申込みフォーム!AU80<>\"\",申込みフォーム!AU80&\"　　\",\"\")&IF(申込みフォーム!AV80<>\"\",申込みフォーム!AV80&\"　　\",\"\")&IF(申込みフォーム!AW80<>\"\",申込みフォーム!AW80&\"　　\",\"\")&IF(申込みフォーム!$AX80=\"〇\",\"4月　\",\"\")&IF(申込みフォーム!$AY80=\"〇\",\"5月　\",\"\")&IF(申込みフォーム!$AZ80=\"〇\",\"6月　\",\"\")&IF(申込みフォーム!$BA80=\"〇\",\"7月　\",\"\")&IF(申込みフォーム!$BB80=\"〇\",\"8月　\",\"\")&IF(申込みフォーム!$BC80=\"〇\",\"9月　\",\"\")&IF(申込みフォーム!$BD80=\"〇\",\"10月　\",\"\")&IF(申込みフォーム!$BE80=\"〇\",\"11月　\",\"\")&IF(申込みフォーム!$BF80=\"〇\",\"12月　\",\"\")&IF(申込みフォーム!$BG80=\"〇\",\"1月　\",\"\")&IF(申込みフォーム!$BH80=\"〇\",\"2月　\",\"\")&IF(申込みフォーム!$BI80=\"〇\",\"3月　\",\"\")","v":""},{"$f":"IF(申込みフォーム!BJ80<>\"\",申込みフォーム!BJ80,\"\")","v":""},{"$f":"IF(申込みフォーム!BK80<>\"\",申込みフォーム!BK80,\"\")","v":""},{"$f":"申込みフォーム!$Z80","v":""},{"$f":"IF(申込みフォーム!BL80<>\"\",申込みフォーム!BL80&\"　　\",\"\")&IF(申込みフォーム!BM80<>\"\",申込みフォーム!BM80&\"　　\",\"\")&IF(申込みフォーム!BN80<>\"\",申込みフォーム!BN80&\"　　\",\"\")","v":{"$error":"#VALUE!"}},{"$f":"IF($B71=VLOOKUP($B71,'受診者リスト(抽出用）'!$A:$F,1,0),VLOOKUP($B71,'受診者リスト(抽出用）'!$A:$F,3,0)&\"　（団体マスタ）\"&VLOOKUP($B71,'受診者リスト(抽出用）'!$A:$F,4,0)&\"　（枝番）\"&VLOOKUP(B71,'受診者リスト(抽出用）'!$A:$F,5,0),\"\")","v":{"$error":"#N/A"}}]
[71,{"$f":"IF(申込みフォーム!B81<>\"\",申込みフォーム!B81&\"　\"&申込みフォーム!C81,\"\")","v":""},{"$f":"IF(申込みフォーム!E81<>\"\",申込みフォーム!E81&\"　\"&申込みフォーム!F81,\"\")","v":""},{"$f":"IF(申込みフォーム!G81<>\"\",申込みフォーム!G81,\"\")","v":""},{"$f":"IF(申込みフォーム!H81<>\"\",申込みフォーム!H81,\"\")","v":""},{"$f":"IF(申込みフォーム!D81<>\"\",申込みフォーム!D81,\"\")","v":""},{"$f":"IF(申込みフォーム!I81<>\"\",REPLACE(申込みフォーム!I81,4,,\"-\"),\"\")","v":""},{"$f":"IF(申込みフォーム!J81<>\"\",申込みフォーム!J81,\"\")","v":""},{"$f":"IF(申込みフォーム!K81<>\"\",申込みフォーム!K81,\"\")","v":""},{"$f":"IF(申込みフォーム!L81<>\"\",MID(申込みフォーム!L81,1,3)&\"-\"&MID(申込みフォーム!L81,4,4)&\"-\"&MID(申込みフォーム!L81,8,4),\"\")","v":""},{"$f":"IF(申込みフォーム!M81<>\"\",申込みフォーム!M81,\"\")","v":""},{"$f":"IF(申込みフォーム!N81<>\"\",申込みフォーム!N81,\"\")","v":""},{"$f":"IF(申込みフォーム!O81<>\"\",申込みフォーム!O81,\"\")","v":""},{"$f":"IF(申込みフォーム!P81<>\"\",申込みフォーム!P81,\"\")","v":""},{"$f":"IF(申込みフォーム!Q81<>\"\",申込みフォーム!Q81,\"\")","v":""},{"$f":"IF(申込みフォーム!R81<>\"\",申込みフォーム!R81,\"\")","v":""},{"$f":"IF(申込みフォーム!S81<>\"\",申込みフォーム!S81,\"\")","v":""},{"$f":"IF(申込みフォーム!U81=\"細胞診のみ\",\"協会子宮　\",IF(申込みフォーム!U81=\"細胞診＋（自費）膣エコー\",\"協会子宮＋自費膣エコー　\",\"\"))&IF(申込みフォーム!W81<>\"\",\"協会ﾏﾝﾓ　\",\"\")&IF(申込みフォーム!Y81<>\"\",\"協会骨　\",\"\")&IF(申込みフォーム!AA81<>\"\",\"協会肝炎　\",\"\")","v":""},{"$f":"IF(申込みフォーム!AB81<>\"\",\"子宮　\",\"\")&IF(申込みフォーム!AC81<>\"\",\"ﾏﾝﾓ　\",\"\")&IF(申込みフォーム!AD81<>\"\",\"乳ｴｺｰ\",\"\")","v":""},{"$f":"IF(申込みフォーム!AE81<>\"\",\"ﾏｰｶｰ　\",\"\")&IF(申込みフォーム!AF81<>\"\",\"心機能　\",\"\")&IF(申込みフォーム!AG81<>\"\",\"ABC　\",\"\")&IF(申込みフォーム!AH81<>\"\",\"Lox　\",\"\")&IF(申込みフォーム!AI81<>\"\",\"甲状腺　\",\"\")&IF(申込みフォーム!AJ81<>\"\",\"肝炎\",\"\")","v":""},{"$f":"IF(申込みフォーム!AK81<>\"\",\"脳　\",\"\")&IF(申込みフォーム!AL81<>\"\",\"胸部CT　\",\"\")&IF(申込みフォーム!AM81<>\"\",\"肺機能　\",\"\")&IF(申込みフォーム!AN81<>\"\",\"腹ｴｺｰ　\",\"\")&IF(申込みフォーム!AO81<>\"\",\"心ｴｺｰ　\",\"\")&IF(申込みフォーム!AP81<>\"\",\"ﾌﾛｰﾗ　\",\"\")&IF(申込みフォーム!AQ81<>\"\",\"OCT　\",\"\")&IF(申込みフォーム!AR81<>\"\",\"検便　\",\"\")&IF(申込みフォーム!AS81<>\"\",\"骨　\",\"\")&IF(申込みフォーム!AT81<>\"\",\"骨＋ﾛｺﾓ\",\"\")","v":""},{"$f":"IF(申込みフォーム!AU81<>\"\",申込みフォーム!AU81&\"　　\",\"\")&IF(申込みフォーム!AV81<>\"\",申込みフォーム!AV81&\"　　\",\"\")&IF(申込みフォーム!AW81<>\"\",申込みフォーム!AW81&\"　　\",\"\")&IF(申込みフォーム!$AX81=\"〇\",\"4月　\",\"\")&IF(申込みフォーム!$AY81=\"〇\",\"5月　\",\"\")&IF(申込みフォーム!$AZ81=\"〇\",\"6月　\",\"\")&IF(申込みフォーム!$BA81=\"〇\",\"7月　\",\"\")&IF(申込みフォーム!$BB81=\"〇\",\"8月　\",\"\")&IF(申込みフォーム!$BC81=\"〇\",\"9月　\",\"\")&IF(申込みフォーム!$BD81=\"〇\",\"10月　\",\"\")&IF(申込みフォーム!$BE81=\"〇\",\"11月　\",\"\")&IF(申込みフォーム!$BF81=\"〇\",\"12月　\",\"\")&IF(申込みフォーム!$BG81=\"〇\",\"1月　\",\"\")&IF(申込みフォーム!$BH81=\"〇\",\"2月　\",\"\")&IF(申込みフォーム!$BI81=\"〇\",\"3月　\",\"\")","v":""},{"$f":"IF(申込みフォーム!BJ81<>\"\",申込みフォーム!BJ81,\"\")","v":""},{"$f":"IF(申込みフォーム!BK81<>\"\",申込みフォーム!BK81,\"\")","v":""},{"$f":"申込みフォーム!$Z81","v":""},{"$f":"IF(申込みフォーム!BL81<>\"\",申込みフォーム!BL81&\"　　\",\"\")&IF(申込みフォーム!BM81<>\"\",申込みフォーム!BM81&\"　　\",\"\")&IF(申込みフォーム!BN81<>\"\",申込みフォーム!BN81&\"　　\",\"\")","v":{"$error":"#VALUE!"}},{"$f":"IF($B72=VLOOKUP($B72,'受診者リスト(抽出用）'!$A:$F,1,0),VLOOKUP($B72,'受診者リスト(抽出用）'!$A:$F,3,0)&\"　（団体マスタ）\"&VLOOKUP($B72,'受診者リスト(抽出用）'!$A:$F,4,0)&\"　（枝番）\"&VLOOKUP(B72,'受診者リスト(抽出用）'!$A:$F,5,0),\"\")","v":{"$error":"#N/A"}}]
[72,{"$f":"IF(申込みフォーム!B82<>\"\",申込みフォーム!B82&\"　\"&申込みフォーム!C82,\"\")","v":""},{"$f":"IF(申込みフォーム!E82<>\"\",申込みフォーム!E82&\"　\"&申込みフォーム!F82,\"\")","v":""},{"$f":"IF(申込みフォーム!G82<>\"\",申込みフォーム!G82,\"\")","v":""},{"$f":"IF(申込みフォーム!H82<>\"\",申込みフォーム!H82,\"\")","v":""},{"$f":"IF(申込みフォーム!D82<>\"\",申込みフォーム!D82,\"\")","v":""},{"$f":"IF(申込みフォーム!I82<>\"\",REPLACE(申込みフォーム!I82,4,,\"-\"),\"\")","v":""},{"$f":"IF(申込みフォーム!J82<>\"\",申込みフォーム!J82,\"\")","v":""},{"$f":"IF(申込みフォーム!K82<>\"\",申込みフォーム!K82,\"\")","v":""},{"$f":"IF(申込みフォーム!L82<>\"\",MID(申込みフォーム!L82,1,3)&\"-\"&MID(申込みフォーム!L82,4,4)&\"-\"&MID(申込みフォーム!L82,8,4),\"\")","v":""},{"$f":"IF(申込みフォーム!M82<>\"\",申込みフォーム!M82,\"\")","v":""},{"$f":"IF(申込みフォーム!N82<>\"\",申込みフォーム!N82,\"\")","v":""},{"$f":"IF(申込みフォーム!O82<>\"\",申込みフォーム!O82,\"\")","v":""},{"$f":"IF(申込みフォーム!P82<>\"\",申込みフォーム!P82,\"\")","v":""},{"$f":"IF(申込みフォーム!Q82<>\"\",申込みフォーム!Q82,\"\")","v":""},{"$f":"IF(申込みフォーム!R82<>\"\",申込みフォーム!R82,\"\")","v":""},{"$f":"IF(申込みフォーム!S82<>\"\",申込みフォーム!S82,\"\")","v":""},{"$f":"IF(申込みフォーム!U82=\"細胞診のみ\",\"協会子宮　\",IF(申込みフォーム!U82=\"細胞診＋（自費）膣エコー\",\"協会子宮＋自費膣エコー　\",\"\"))&IF(申込みフォーム!W82<>\"\",\"協会ﾏﾝﾓ　\",\"\")&IF(申込みフォーム!Y82<>\"\",\"協会骨　\",\"\")&IF(申込みフォーム!AA82<>\"\",\"協会肝炎　\",\"\")","v":""},{"$f":"IF(申込みフォーム!AB82<>\"\",\"子宮　\",\"\")&IF(申込みフォーム!AC82<>\"\",\"ﾏﾝﾓ　\",\"\")&IF(申込みフォーム!AD82<>\"\",\"乳ｴｺｰ\",\"\")","v":""},{"$f":"IF(申込みフォーム!AE82<>\"\",\"ﾏｰｶｰ　\",\"\")&IF(申込みフォーム!AF82<>\"\",\"心機能　\",\"\")&IF(申込みフォーム!AG82<>\"\",\"ABC　\",\"\")&IF(申込みフォーム!AH82<>\"\",\"Lox　\",\"\")&IF(申込みフォーム!AI82<>\"\",\"甲状腺　\",\"\")&IF(申込みフォーム!AJ82<>\"\",\"肝炎\",\"\")","v":""},{"$f":"IF(申込みフォーム!AK82<>\"\",\"脳　\",\"\")&IF(申込みフォーム!AL82<>\"\",\"胸部CT　\",\"\")&IF(申込みフォーム!AM82<>\"\",\"肺機能　\",\"\")&IF(申込みフォーム!AN82<>\"\",\"腹ｴｺｰ　\",\"\")&IF(申込みフォーム!AO82<>\"\",\"心ｴｺｰ　\",\"\")&IF(申込みフォーム!AP82<>\"\",\"ﾌﾛｰﾗ　\",\"\")&IF(申込みフォーム!AQ82<>\"\",\"OCT　\",\"\")&IF(申込みフォーム!AR82<>\"\",\"検便　\",\"\")&IF(申込みフォーム!AS82<>\"\",\"骨　\",\"\")&IF(申込みフォーム!AT82<>\"\",\"骨＋ﾛｺﾓ\",\"\")","v":""},{"$f":"IF(申込みフォーム!AU82<>\"\",申込みフォーム!AU82&\"　　\",\"\")&IF(申込みフォーム!AV82<>\"\",申込みフォーム!AV82&\"　　\",\"\")&IF(申込みフォーム!AW82<>\"\",申込みフォーム!AW82&\"　　\",\"\")&IF(申込みフォーム!$AX82=\"〇\",\"4月　\",\"\")&IF(申込みフォーム!$AY82=\"〇\",\"5月　\",\"\")&IF(申込みフォーム!$AZ82=\"〇\",\"6月　\",\"\")&IF(申込みフォーム!$BA82=\"〇\",\"7月　\",\"\")&IF(申込みフォーム!$BB82=\"〇\",\"8月　\",\"\")&IF(申込みフォーム!$BC82=\"〇\",\"9月　\",\"\")&IF(申込みフォーム!$BD82=\"〇\",\"10月　\",\"\")&IF(申込みフォーム!$BE82=\"〇\",\"11月　\",\"\")&IF(申込みフォーム!$BF82=\"〇\",\"12月　\",\"\")&IF(申込みフォーム!$BG82=\"〇\",\"1月　\",\"\")&IF(申込みフォーム!$BH82=\"〇\",\"2月　\",\"\")&IF(申込みフォーム!$BI82=\"〇\",\"3月　\",\"\")","v":""},{"$f":"IF(申込みフォーム!BJ82<>\"\",申込みフォーム!BJ82,\"\")","v":""},{"$f":"IF(申込みフォーム!BK82<>\"\",申込みフォーム!BK82,\"\")","v":""},{"$f":"申込みフォーム!$Z82","v":""},{"$f":"IF(申込みフォーム!BL82<>\"\",申込みフォーム!BL82&\"　　\",\"\")&IF(申込みフォーム!BM82<>\"\",申込みフォーム!BM82&\"　　\",\"\")&IF(申込みフォーム!BN82<>\"\",申込みフォーム!BN82&\"　　\",\"\")","v":{"$error":"#VALUE!"}},{"$f":"IF($B73=VLOOKUP($B73,'受診者リスト(抽出用）'!$A:$F,1,0),VLOOKUP($B73,'受診者リスト(抽出用）'!$A:$F,3,0)&\"　（団体マスタ）\"&VLOOKUP($B73,'受診者リスト(抽出用）'!$A:$F,4,0)&\"　（枝番）\"&VLOOKUP(B73,'受診者リスト(抽出用）'!$A:$F,5,0),\"\")","v":{"$error":"#N/A"}}]
[73,{"$f":"IF(申込みフォーム!B83<>\"\",申込みフォーム!B83&\"　\"&申込みフォーム!C83,\"\")","v":""},{"$f":"IF(申込みフォーム!E83<>\"\",申込みフォーム!E83&\"　\"&申込みフォーム!F83,\"\")","v":""},{"$f":"IF(申込みフォーム!G83<>\"\",申込みフォーム!G83,\"\")","v":""},{"$f":"IF(申込みフォーム!H83<>\"\",申込みフォーム!H83,\"\")","v":""},{"$f":"IF(申込みフォーム!D83<>\"\",申込みフォーム!D83,\"\")","v":""},{"$f":"IF(申込みフォーム!I83<>\"\",REPLACE(申込みフォーム!I83,4,,\"-\"),\"\")","v":""},{"$f":"IF(申込みフォーム!J83<>\"\",申込みフォーム!J83,\"\")","v":""},{"$f":"IF(申込みフォーム!K83<>\"\",申込みフォーム!K83,\"\")","v":""},{"$f":"IF(申込みフォーム!L83<>\"\",MID(申込みフォーム!L83,1,3)&\"-\"&MID(申込みフォーム!L83,4,4)&\"-\"&MID(申込みフォーム!L83,8,4),\"\")","v":""},{"$f":"IF(申込みフォーム!M83<>\"\",申込みフォーム!M83,\"\")","v":""},{"$f":"IF(申込みフォーム!N83<>\"\",申込みフォーム!N83,\"\")","v":""},{"$f":"IF(申込みフォーム!O83<>\"\",申込みフォーム!O83,\"\")","v":""},{"$f":"IF(申込みフォーム!P83<>\"\",申込みフォーム!P83,\"\")","v":""},{"$f":"IF(申込みフォーム!Q83<>\"\",申込みフォーム!Q83,\"\")","v":""},{"$f":"IF(申込みフォーム!R83<>\"\",申込みフォーム!R83,\"\")","v":""},{"$f":"IF(申込みフォーム!S83<>\"\",申込みフォーム!S83,\"\")","v":""},{"$f":"IF(申込みフォーム!U83=\"細胞診のみ\",\"協会子宮　\",IF(申込みフォーム!U83=\"細胞診＋（自費）膣エコー\",\"協会子宮＋自費膣エコー　\",\"\"))&IF(申込みフォーム!W83<>\"\",\"協会ﾏﾝﾓ　\",\"\")&IF(申込みフォーム!Y83<>\"\",\"協会骨　\",\"\")&IF(申込みフォーム!AA83<>\"\",\"協会肝炎　\",\"\")","v":""},{"$f":"IF(申込みフォーム!AB83<>\"\",\"子宮　\",\"\")&IF(申込みフォーム!AC83<>\"\",\"ﾏﾝﾓ　\",\"\")&IF(申込みフォーム!AD83<>\"\",\"乳ｴｺｰ\",\"\")","v":""},{"$f":"IF(申込みフォーム!AE83<>\"\",\"ﾏｰｶｰ　\",\"\")&IF(申込みフォーム!AF83<>\"\",\"心機能　\",\"\")&IF(申込みフォーム!AG83<>\"\",\"ABC　\",\"\")&IF(申込みフォーム!AH83<>\"\",\"Lox　\",\"\")&IF(申込みフォーム!AI83<>\"\",\"甲状腺　\",\"\")&IF(申込みフォーム!AJ83<>\"\",\"肝炎\",\"\")","v":""},{"$f":"IF(申込みフォーム!AK83<>\"\",\"脳　\",\"\")&IF(申込みフォーム!AL83<>\"\",\"胸部CT　\",\"\")&IF(申込みフォーム!AM83<>\"\",\"肺機能　\",\"\")&IF(申込みフォーム!AN83<>\"\",\"腹ｴｺｰ　\",\"\")&IF(申込みフォーム!AO83<>\"\",\"心ｴｺｰ　\",\"\")&IF(申込みフォーム!AP83<>\"\",\"ﾌﾛｰﾗ　\",\"\")&IF(申込みフォーム!AQ83<>\"\",\"OCT　\",\"\")&IF(申込みフォーム!AR83<>\"\",\"検便　\",\"\")&IF(申込みフォーム!AS83<>\"\",\"骨　\",\"\")&IF(申込みフォーム!AT83<>\"\",\"骨＋ﾛｺﾓ\",\"\")","v":""},{"$f":"IF(申込みフォーム!AU83<>\"\",申込みフォーム!AU83&\"　　\",\"\")&IF(申込みフォーム!AV83<>\"\",申込みフォーム!AV83&\"　　\",\"\")&IF(申込みフォーム!AW83<>\"\",申込みフォーム!AW83&\"　　\",\"\")&IF(申込みフォーム!$AX83=\"〇\",\"4月　\",\"\")&IF(申込みフォーム!$AY83=\"〇\",\"5月　\",\"\")&IF(申込みフォーム!$AZ83=\"〇\",\"6月　\",\"\")&IF(申込みフォーム!$BA83=\"〇\",\"7月　\",\"\")&IF(申込みフォーム!$BB83=\"〇\",\"8月　\",\"\")&IF(申込みフォーム!$BC83=\"〇\",\"9月　\",\"\")&IF(申込みフォーム!$BD83=\"〇\",\"10月　\",\"\")&IF(申込みフォーム!$BE83=\"〇\",\"11月　\",\"\")&IF(申込みフォーム!$BF83=\"〇\",\"12月　\",\"\")&IF(申込みフォーム!$BG83=\"〇\",\"1月　\",\"\")&IF(申込みフォーム!$BH83=\"〇\",\"2月　\",\"\")&IF(申込みフォーム!$BI83=\"〇\",\"3月　\",\"\")","v":""},{"$f":"IF(申込みフォーム!BJ83<>\"\",申込みフォーム!BJ83,\"\")","v":""},{"$f":"IF(申込みフォーム!BK83<>\"\",申込みフォーム!BK83,\"\")","v":""},{"$f":"申込みフォーム!$Z83","v":""},{"$f":"IF(申込みフォーム!BL83<>\"\",申込みフォーム!BL83&\"　　\",\"\")&IF(申込みフォーム!BM83<>\"\",申込みフォーム!BM83&\"　　\",\"\")&IF(申込みフォーム!BN83<>\"\",申込みフォーム!BN83&\"　　\",\"\")","v":{"$error":"#VALUE!"}},{"$f":"IF($B74=VLOOKUP($B74,'受診者リスト(抽出用）'!$A:$F,1,0),VLOOKUP($B74,'受診者リスト(抽出用）'!$A:$F,3,0)&\"　（団体マスタ）\"&VLOOKUP($B74,'受診者リスト(抽出用）'!$A:$F,4,0)&\"　（枝番）\"&VLOOKUP(B74,'受診者リスト(抽出用）'!$A:$F,5,0),\"\")","v":{"$error":"#N/A"}}]
[74,{"$f":"IF(申込みフォーム!B84<>\"\",申込みフォーム!B84&\"　\"&申込みフォーム!C84,\"\")","v":""},{"$f":"IF(申込みフォーム!E84<>\"\",申込みフォーム!E84&\"　\"&申込みフォーム!F84,\"\")","v":""},{"$f":"IF(申込みフォーム!G84<>\"\",申込みフォーム!G84,\"\")","v":""},{"$f":"IF(申込みフォーム!H84<>\"\",申込みフォーム!H84,\"\")","v":""},{"$f":"IF(申込みフォーム!D84<>\"\",申込みフォーム!D84,\"\")","v":""},{"$f":"IF(申込みフォーム!I84<>\"\",REPLACE(申込みフォーム!I84,4,,\"-\"),\"\")","v":""},{"$f":"IF(申込みフォーム!J84<>\"\",申込みフォーム!J84,\"\")","v":""},{"$f":"IF(申込みフォーム!K84<>\"\",申込みフォーム!K84,\"\")","v":""},{"$f":"IF(申込みフォーム!L84<>\"\",MID(申込みフォーム!L84,1,3)&\"-\"&MID(申込みフォーム!L84,4,4)&\"-\"&MID(申込みフォーム!L84,8,4),\"\")","v":""},{"$f":"IF(申込みフォーム!M84<>\"\",申込みフォーム!M84,\"\")","v":""},{"$f":"IF(申込みフォーム!N84<>\"\",申込みフォーム!N84,\"\")","v":""},{"$f":"IF(申込みフォーム!O84<>\"\",申込みフォーム!O84,\"\")","v":""},{"$f":"IF(申込みフォーム!P84<>\"\",申込みフォーム!P84,\"\")","v":""},{"$f":"IF(申込みフォーム!Q84<>\"\",申込みフォーム!Q84,\"\")","v":""},{"$f":"IF(申込みフォーム!R84<>\"\",申込みフォーム!R84,\"\")","v":""},{"$f":"IF(申込みフォーム!S84<>\"\",申込みフォーム!S84,\"\")","v":""},{"$f":"IF(申込みフォーム!U84=\"細胞診のみ\",\"協会子宮　\",IF(申込みフォーム!U84=\"細胞診＋（自費）膣エコー\",\"協会子宮＋自費膣エコー　\",\"\"))&IF(申込みフォーム!W84<>\"\",\"協会ﾏﾝﾓ　\",\"\")&IF(申込みフォーム!Y84<>\"\",\"協会骨　\",\"\")&IF(申込みフォーム!AA84<>\"\",\"協会肝炎　\",\"\")","v":""},{"$f":"IF(申込みフォーム!AB84<>\"\",\"子宮　\",\"\")&IF(申込みフォーム!AC84<>\"\",\"ﾏﾝﾓ　\",\"\")&IF(申込みフォーム!AD84<>\"\",\"乳ｴｺｰ\",\"\")","v":""},{"$f":"IF(申込みフォーム!AE84<>\"\",\"ﾏｰｶｰ　\",\"\")&IF(申込みフォーム!AF84<>\"\",\"心機能　\",\"\")&IF(申込みフォーム!AG84<>\"\",\"ABC　\",\"\")&IF(申込みフォーム!AH84<>\"\",\"Lox　\",\"\")&IF(申込みフォーム!AI84<>\"\",\"甲状腺　\",\"\")&IF(申込みフォーム!AJ84<>\"\",\"肝炎\",\"\")","v":""},{"$f":"IF(申込みフォーム!AK84<>\"\",\"脳　\",\"\")&IF(申込みフォーム!AL84<>\"\",\"胸部CT　\",\"\")&IF(申込みフォーム!AM84<>\"\",\"肺機能　\",\"\")&IF(申込みフォーム!AN84<>\"\",\"腹ｴｺｰ　\",\"\")&IF(申込みフォーム!AO84<>\"\",\"心ｴｺｰ　\",\"\")&IF(申込みフォーム!AP84<>\"\",\"ﾌﾛｰﾗ　\",\"\")&IF(申込みフォーム!AQ84<>\"\",\"OCT　\",\"\")&IF(申込みフォーム!AR84<>\"\",\"検便　\",\"\")&IF(申込みフォーム!AS84<>\"\",\"骨　\",\"\")&IF(申込みフォーム!AT84<>\"\",\"骨＋ﾛｺﾓ\",\"\")","v":""},{"$f":"IF(申込みフォーム!AU84<>\"\",申込みフォーム!AU84&\"　　\",\"\")&IF(申込みフォーム!AV84<>\"\",申込みフォーム!AV84&\"　　\",\"\")&IF(申込みフォーム!AW84<>\"\",申込みフォーム!AW84&\"　　\",\"\")&IF(申込みフォーム!$AX84=\"〇\",\"4月　\",\"\")&IF(申込みフォーム!$AY84=\"〇\",\"5月　\",\"\")&IF(申込みフォーム!$AZ84=\"〇\",\"6月　\",\"\")&IF(申込みフォーム!$BA84=\"〇\",\"7月　\",\"\")&IF(申込みフォーム!$BB84=\"〇\",\"8月　\",\"\")&IF(申込みフォーム!$BC84=\"〇\",\"9月　\",\"\")&IF(申込みフォーム!$BD84=\"〇\",\"10月　\",\"\")&IF(申込みフォーム!$BE84=\"〇\",\"11月　\",\"\")&IF(申込みフォーム!$BF84=\"〇\",\"12月　\",\"\")&IF(申込みフォーム!$BG84=\"〇\",\"1月　\",\"\")&IF(申込みフォーム!$BH84=\"〇\",\"2月　\",\"\")&IF(申込みフォーム!$BI84=\"〇\",\"3月　\",\"\")","v":""},{"$f":"IF(申込みフォーム!BJ84<>\"\",申込みフォーム!BJ84,\"\")","v":""},{"$f":"IF(申込みフォーム!BK84<>\"\",申込みフォーム!BK84,\"\")","v":""},{"$f":"申込みフォーム!$Z84","v":""},{"$f":"IF(申込みフォーム!BL84<>\"\",申込みフォーム!BL84&\"　　\",\"\")&IF(申込みフォーム!BM84<>\"\",申込みフォーム!BM84&\"　　\",\"\")&IF(申込みフォーム!BN84<>\"\",申込みフォーム!BN84&\"　　\",\"\")","v":{"$error":"#VALUE!"}},{"$f":"IF($B75=VLOOKUP($B75,'受診者リスト(抽出用）'!$A:$F,1,0),VLOOKUP($B75,'受診者リスト(抽出用）'!$A:$F,3,0)&\"　（団体マスタ）\"&VLOOKUP($B75,'受診者リスト(抽出用）'!$A:$F,4,0)&\"　（枝番）\"&VLOOKUP(B75,'受診者リスト(抽出用）'!$A:$F,5,0),\"\")","v":{"$error":"#N/A"}}]
[75,{"$f":"IF(申込みフォーム!B85<>\"\",申込みフォーム!B85&\"　\"&申込みフォーム!C85,\"\")","v":""},{"$f":"IF(申込みフォーム!E85<>\"\",申込みフォーム!E85&\"　\"&申込みフォーム!F85,\"\")","v":""},{"$f":"IF(申込みフォーム!G85<>\"\",申込みフォーム!G85,\"\")","v":""},{"$f":"IF(申込みフォーム!H85<>\"\",申込みフォーム!H85,\"\")","v":""},{"$f":"IF(申込みフォーム!D85<>\"\",申込みフォーム!D85,\"\")","v":""},{"$f":"IF(申込みフォーム!I85<>\"\",REPLACE(申込みフォーム!I85,4,,\"-\"),\"\")","v":""},{"$f":"IF(申込みフォーム!J85<>\"\",申込みフォーム!J85,\"\")","v":""},{"$f":"IF(申込みフォーム!K85<>\"\",申込みフォーム!K85,\"\")","v":""},{"$f":"IF(申込みフォーム!L85<>\"\",MID(申込みフォーム!L85,1,3)&\"-\"&MID(申込みフォーム!L85,4,4)&\"-\"&MID(申込みフォーム!L85,8,4),\"\")","v":""},{"$f":"IF(申込みフォーム!M85<>\"\",申込みフォーム!M85,\"\")","v":""},{"$f":"IF(申込みフォーム!N85<>\"\",申込みフォーム!N85,\"\")","v":""},{"$f":"IF(申込みフォーム!O85<>\"\",申込みフォーム!O85,\"\")","v":""},{"$f":"IF(申込みフォーム!P85<>\"\",申込みフォーム!P85,\"\")","v":""},{"$f":"IF(申込みフォーム!Q85<>\"\",申込みフォーム!Q85,\"\")","v":""},{"$f":"IF(申込みフォーム!R85<>\"\",申込みフォーム!R85,\"\")","v":""},{"$f":"IF(申込みフォーム!S85<>\"\",申込みフォーム!S85,\"\")","v":""},{"$f":"IF(申込みフォーム!U85=\"細胞診のみ\",\"協会子宮　\",IF(申込みフォーム!U85=\"細胞診＋（自費）膣エコー\",\"協会子宮＋自費膣エコー　\",\"\"))&IF(申込みフォーム!W85<>\"\",\"協会ﾏﾝﾓ　\",\"\")&IF(申込みフォーム!Y85<>\"\",\"協会骨　\",\"\")&IF(申込みフォーム!AA85<>\"\",\"協会肝炎　\",\"\")","v":""},{"$f":"IF(申込みフォーム!AB85<>\"\",\"子宮　\",\"\")&IF(申込みフォーム!AC85<>\"\",\"ﾏﾝﾓ　\",\"\")&IF(申込みフォーム!AD85<>\"\",\"乳ｴｺｰ\",\"\")","v":""},{"$f":"IF(申込みフォーム!AE85<>\"\",\"ﾏｰｶｰ　\",\"\")&IF(申込みフォーム!AF85<>\"\",\"心機能　\",\"\")&IF(申込みフォーム!AG85<>\"\",\"ABC　\",\"\")&IF(申込みフォーム!AH85<>\"\",\"Lox　\",\"\")&IF(申込みフォーム!AI85<>\"\",\"甲状腺　\",\"\")&IF(申込みフォーム!AJ85<>\"\",\"肝炎\",\"\")","v":""},{"$f":"IF(申込みフォーム!AK85<>\"\",\"脳　\",\"\")&IF(申込みフォーム!AL85<>\"\",\"胸部CT　\",\"\")&IF(申込みフォーム!AM85<>\"\",\"肺機能　\",\"\")&IF(申込みフォーム!AN85<>\"\",\"腹ｴｺｰ　\",\"\")&IF(申込みフォーム!AO85<>\"\",\"心ｴｺｰ　\",\"\")&IF(申込みフォーム!AP85<>\"\",\"ﾌﾛｰﾗ　\",\"\")&IF(申込みフォーム!AQ85<>\"\",\"OCT　\",\"\")&IF(申込みフォーム!AR85<>\"\",\"検便　\",\"\")&IF(申込みフォーム!AS85<>\"\",\"骨　\",\"\")&IF(申込みフォーム!AT85<>\"\",\"骨＋ﾛｺﾓ\",\"\")","v":""},{"$f":"IF(申込みフォーム!AU85<>\"\",申込みフォーム!AU85&\"　　\",\"\")&IF(申込みフォーム!AV85<>\"\",申込みフォーム!AV85&\"　　\",\"\")&IF(申込みフォーム!AW85<>\"\",申込みフォーム!AW85&\"　　\",\"\")&IF(申込みフォーム!$AX85=\"〇\",\"4月　\",\"\")&IF(申込みフォーム!$AY85=\"〇\",\"5月　\",\"\")&IF(申込みフォーム!$AZ85=\"〇\",\"6月　\",\"\")&IF(申込みフォーム!$BA85=\"〇\",\"7月　\",\"\")&IF(申込みフォーム!$BB85=\"〇\",\"8月　\",\"\")&IF(申込みフォーム!$BC85=\"〇\",\"9月　\",\"\")&IF(申込みフォーム!$BD85=\"〇\",\"10月　\",\"\")&IF(申込みフォーム!$BE85=\"〇\",\"11月　\",\"\")&IF(申込みフォーム!$BF85=\"〇\",\"12月　\",\"\")&IF(申込みフォーム!$BG85=\"〇\",\"1月　\",\"\")&IF(申込みフォーム!$BH85=\"〇\",\"2月　\",\"\")&IF(申込みフォーム!$BI85=\"〇\",\"3月　\",\"\")","v":""},{"$f":"IF(申込みフォーム!BJ85<>\"\",申込みフォーム!BJ85,\"\")","v":""},{"$f":"IF(申込みフォーム!BK85<>\"\",申込みフォーム!BK85,\"\")","v":""},{"$f":"申込みフォーム!$Z85","v":""},{"$f":"IF(申込みフォーム!BL85<>\"\",申込みフォーム!BL85&\"　　\",\"\")&IF(申込みフォーム!BM85<>\"\",申込みフォーム!BM85&\"　　\",\"\")&IF(申込みフォーム!BN85<>\"\",申込みフォーム!BN85&\"　　\",\"\")","v":{"$error":"#VALUE!"}},{"$f":"IF($B76=VLOOKUP($B76,'受診者リスト(抽出用）'!$A:$F,1,0),VLOOKUP($B76,'受診者リスト(抽出用）'!$A:$F,3,0)&\"　（団体マスタ）\"&VLOOKUP($B76,'受診者リスト(抽出用）'!$A:$F,4,0)&\"　（枝番）\"&VLOOKUP(B76,'受診者リスト(抽出用）'!$A:$F,5,0),\"\")","v":{"$error":"#N/A"}}]
[76,{"$f":"IF(申込みフォーム!B86<>\"\",申込みフォーム!B86&\"　\"&申込みフォーム!C86,\"\")","v":""},{"$f":"IF(申込みフォーム!E86<>\"\",申込みフォーム!E86&\"　\"&申込みフォーム!F86,\"\")","v":""},{"$f":"IF(申込みフォーム!G86<>\"\",申込みフォーム!G86,\"\")","v":""},{"$f":"IF(申込みフォーム!H86<>\"\",申込みフォーム!H86,\"\")","v":""},{"$f":"IF(申込みフォーム!D86<>\"\",申込みフォーム!D86,\"\")","v":""},{"$f":"IF(申込みフォーム!I86<>\"\",REPLACE(申込みフォーム!I86,4,,\"-\"),\"\")","v":""},{"$f":"IF(申込みフォーム!J86<>\"\",申込みフォーム!J86,\"\")","v":""},{"$f":"IF(申込みフォーム!K86<>\"\",申込みフォーム!K86,\"\")","v":""},{"$f":"IF(申込みフォーム!L86<>\"\",MID(申込みフォーム!L86,1,3)&\"-\"&MID(申込みフォーム!L86,4,4)&\"-\"&MID(申込みフォーム!L86,8,4),\"\")","v":""},{"$f":"IF(申込みフォーム!M86<>\"\",申込みフォーム!M86,\"\")","v":""},{"$f":"IF(申込みフォーム!N86<>\"\",申込みフォーム!N86,\"\")","v":""},{"$f":"IF(申込みフォーム!O86<>\"\",申込みフォーム!O86,\"\")","v":""},{"$f":"IF(申込みフォーム!P86<>\"\",申込みフォーム!P86,\"\")","v":""},{"$f":"IF(申込みフォーム!Q86<>\"\",申込みフォーム!Q86,\"\")","v":""},{"$f":"IF(申込みフォーム!R86<>\"\",申込みフォーム!R86,\"\")","v":""},{"$f":"IF(申込みフォーム!S86<>\"\",申込みフォーム!S86,\"\")","v":""},{"$f":"IF(申込みフォーム!U86=\"細胞診のみ\",\"協会子宮　\",IF(申込みフォーム!U86=\"細胞診＋（自費）膣エコー\",\"協会子宮＋自費膣エコー　\",\"\"))&IF(申込みフォーム!W86<>\"\",\"協会ﾏﾝﾓ　\",\"\")&IF(申込みフォーム!Y86<>\"\",\"協会骨　\",\"\")&IF(申込みフォーム!AA86<>\"\",\"協会肝炎　\",\"\")","v":""},{"$f":"IF(申込みフォーム!AB86<>\"\",\"子宮　\",\"\")&IF(申込みフォーム!AC86<>\"\",\"ﾏﾝﾓ　\",\"\")&IF(申込みフォーム!AD86<>\"\",\"乳ｴｺｰ\",\"\")","v":""},{"$f":"IF(申込みフォーム!AE86<>\"\",\"ﾏｰｶｰ　\",\"\")&IF(申込みフォーム!AF86<>\"\",\"心機能　\",\"\")&IF(申込みフォーム!AG86<>\"\",\"ABC　\",\"\")&IF(申込みフォーム!AH86<>\"\",\"Lox　\",\"\")&IF(申込みフォーム!AI86<>\"\",\"甲状腺　\",\"\")&IF(申込みフォーム!AJ86<>\"\",\"肝炎\",\"\")","v":""},{"$f":"IF(申込みフォーム!AK86<>\"\",\"脳　\",\"\")&IF(申込みフォーム!AL86<>\"\",\"胸部CT　\",\"\")&IF(申込みフォーム!AM86<>\"\",\"肺機能　\",\"\")&IF(申込みフォーム!AN86<>\"\",\"腹ｴｺｰ　\",\"\")&IF(申込みフォーム!AO86<>\"\",\"心ｴｺｰ　\",\"\")&IF(申込みフォーム!AP86<>\"\",\"ﾌﾛｰﾗ　\",\"\")&IF(申込みフォーム!AQ86<>\"\",\"OCT　\",\"\")&IF(申込みフォーム!AR86<>\"\",\"検便　\",\"\")&IF(申込みフォーム!AS86<>\"\",\"骨　\",\"\")&IF(申込みフォーム!AT86<>\"\",\"骨＋ﾛｺﾓ\",\"\")","v":""},{"$f":"IF(申込みフォーム!AU86<>\"\",申込みフォーム!AU86&\"　　\",\"\")&IF(申込みフォーム!AV86<>\"\",申込みフォーム!AV86&\"　　\",\"\")&IF(申込みフォーム!AW86<>\"\",申込みフォーム!AW86&\"　　\",\"\")&IF(申込みフォーム!$AX86=\"〇\",\"4月　\",\"\")&IF(申込みフォーム!$AY86=\"〇\",\"5月　\",\"\")&IF(申込みフォーム!$AZ86=\"〇\",\"6月　\",\"\")&IF(申込みフォーム!$BA86=\"〇\",\"7月　\",\"\")&IF(申込みフォーム!$BB86=\"〇\",\"8月　\",\"\")&IF(申込みフォーム!$BC86=\"〇\",\"9月　\",\"\")&IF(申込みフォーム!$BD86=\"〇\",\"10月　\",\"\")&IF(申込みフォーム!$BE86=\"〇\",\"11月　\",\"\")&IF(申込みフォーム!$BF86=\"〇\",\"12月　\",\"\")&IF(申込みフォーム!$BG86=\"〇\",\"1月　\",\"\")&IF(申込みフォーム!$BH86=\"〇\",\"2月　\",\"\")&IF(申込みフォーム!$BI86=\"〇\",\"3月　\",\"\")","v":""},{"$f":"IF(申込みフォーム!BJ86<>\"\",申込みフォーム!BJ86,\"\")","v":""},{"$f":"IF(申込みフォーム!BK86<>\"\",申込みフォーム!BK86,\"\")","v":""},{"$f":"申込みフォーム!$Z86","v":""},{"$f":"IF(申込みフォーム!BL86<>\"\",申込みフォーム!BL86&\"　　\",\"\")&IF(申込みフォーム!BM86<>\"\",申込みフォーム!BM86&\"　　\",\"\")&IF(申込みフォーム!BN86<>\"\",申込みフォーム!BN86&\"　　\",\"\")","v":{"$error":"#VALUE!"}},{"$f":"IF($B77=VLOOKUP($B77,'受診者リスト(抽出用）'!$A:$F,1,0),VLOOKUP($B77,'受診者リスト(抽出用）'!$A:$F,3,0)&\"　（団体マスタ）\"&VLOOKUP($B77,'受診者リスト(抽出用）'!$A:$F,4,0)&\"　（枝番）\"&VLOOKUP(B77,'受診者リスト(抽出用）'!$A:$F,5,0),\"\")","v":{"$error":"#N/A"}}]
[77,{"$f":"IF(申込みフォーム!B87<>\"\",申込みフォーム!B87&\"　\"&申込みフォーム!C87,\"\")","v":""},{"$f":"IF(申込みフォーム!E87<>\"\",申込みフォーム!E87&\"　\"&申込みフォーム!F87,\"\")","v":""},{"$f":"IF(申込みフォーム!G87<>\"\",申込みフォーム!G87,\"\")","v":""},{"$f":"IF(申込みフォーム!H87<>\"\",申込みフォーム!H87,\"\")","v":""},{"$f":"IF(申込みフォーム!D87<>\"\",申込みフォーム!D87,\"\")","v":""},{"$f":"IF(申込みフォーム!I87<>\"\",REPLACE(申込みフォーム!I87,4,,\"-\"),\"\")","v":""},{"$f":"IF(申込みフォーム!J87<>\"\",申込みフォーム!J87,\"\")","v":""},{"$f":"IF(申込みフォーム!K87<>\"\",申込みフォーム!K87,\"\")","v":""},{"$f":"IF(申込みフォーム!L87<>\"\",MID(申込みフォーム!L87,1,3)&\"-\"&MID(申込みフォーム!L87,4,4)&\"-\"&MID(申込みフォーム!L87,8,4),\"\")","v":""},{"$f":"IF(申込みフォーム!M87<>\"\",申込みフォーム!M87,\"\")","v":""},{"$f":"IF(申込みフォーム!N87<>\"\",申込みフォーム!N87,\"\")","v":""},{"$f":"IF(申込みフォーム!O87<>\"\",申込みフォーム!O87,\"\")","v":""},{"$f":"IF(申込みフォーム!P87<>\"\",申込みフォーム!P87,\"\")","v":""},{"$f":"IF(申込みフォーム!Q87<>\"\",申込みフォーム!Q87,\"\")","v":""},{"$f":"IF(申込みフォーム!R87<>\"\",申込みフォーム!R87,\"\")","v":""},{"$f":"IF(申込みフォーム!S87<>\"\",申込みフォーム!S87,\"\")","v":""},{"$f":"IF(申込みフォーム!U87=\"細胞診のみ\",\"協会子宮　\",IF(申込みフォーム!U87=\"細胞診＋（自費）膣エコー\",\"協会子宮＋自費膣エコー　\",\"\"))&IF(申込みフォーム!W87<>\"\",\"協会ﾏﾝﾓ　\",\"\")&IF(申込みフォーム!Y87<>\"\",\"協会骨　\",\"\")&IF(申込みフォーム!AA87<>\"\",\"協会肝炎　\",\"\")","v":""},{"$f":"IF(申込みフォーム!AB87<>\"\",\"子宮　\",\"\")&IF(申込みフォーム!AC87<>\"\",\"ﾏﾝﾓ　\",\"\")&IF(申込みフォーム!AD87<>\"\",\"乳ｴｺｰ\",\"\")","v":""},{"$f":"IF(申込みフォーム!AE87<>\"\",\"ﾏｰｶｰ　\",\"\")&IF(申込みフォーム!AF87<>\"\",\"心機能　\",\"\")&IF(申込みフォーム!AG87<>\"\",\"ABC　\",\"\")&IF(申込みフォーム!AH87<>\"\",\"Lox　\",\"\")&IF(申込みフォーム!AI87<>\"\",\"甲状腺　\",\"\")&IF(申込みフォーム!AJ87<>\"\",\"肝炎\",\"\")","v":""},{"$f":"IF(申込みフォーム!AK87<>\"\",\"脳　\",\"\")&IF(申込みフォーム!AL87<>\"\",\"胸部CT　\",\"\")&IF(申込みフォーム!AM87<>\"\",\"肺機能　\",\"\")&IF(申込みフォーム!AN87<>\"\",\"腹ｴｺｰ　\",\"\")&IF(申込みフォーム!AO87<>\"\",\"心ｴｺｰ　\",\"\")&IF(申込みフォーム!AP87<>\"\",\"ﾌﾛｰﾗ　\",\"\")&IF(申込みフォーム!AQ87<>\"\",\"OCT　\",\"\")&IF(申込みフォーム!AR87<>\"\",\"検便　\",\"\")&IF(申込みフォーム!AS87<>\"\",\"骨　\",\"\")&IF(申込みフォーム!AT87<>\"\",\"骨＋ﾛｺﾓ\",\"\")","v":""},{"$f":"IF(申込みフォーム!AU87<>\"\",申込みフォーム!AU87&\"　　\",\"\")&IF(申込みフォーム!AV87<>\"\",申込みフォーム!AV87&\"　　\",\"\")&IF(申込みフォーム!AW87<>\"\",申込みフォーム!AW87&\"　　\",\"\")&IF(申込みフォーム!$AX87=\"〇\",\"4月　\",\"\")&IF(申込みフォーム!$AY87=\"〇\",\"5月　\",\"\")&IF(申込みフォーム!$AZ87=\"〇\",\"6月　\",\"\")&IF(申込みフォーム!$BA87=\"〇\",\"7月　\",\"\")&IF(申込みフォーム!$BB87=\"〇\",\"8月　\",\"\")&IF(申込みフォーム!$BC87=\"〇\",\"9月　\",\"\")&IF(申込みフォーム!$BD87=\"〇\",\"10月　\",\"\")&IF(申込みフォーム!$BE87=\"〇\",\"11月　\",\"\")&IF(申込みフォーム!$BF87=\"〇\",\"12月　\",\"\")&IF(申込みフォーム!$BG87=\"〇\",\"1月　\",\"\")&IF(申込みフォーム!$BH87=\"〇\",\"2月　\",\"\")&IF(申込みフォーム!$BI87=\"〇\",\"3月　\",\"\")","v":""},{"$f":"IF(申込みフォーム!BJ87<>\"\",申込みフォーム!BJ87,\"\")","v":""},{"$f":"IF(申込みフォーム!BK87<>\"\",申込みフォーム!BK87,\"\")","v":""},{"$f":"申込みフォーム!$Z87","v":""},{"$f":"IF(申込みフォーム!BL87<>\"\",申込みフォーム!BL87&\"　　\",\"\")&IF(申込みフォーム!BM87<>\"\",申込みフォーム!BM87&\"　　\",\"\")&IF(申込みフォーム!BN87<>\"\",申込みフォーム!BN87&\"　　\",\"\")","v":{"$error":"#VALUE!"}},{"$f":"IF($B78=VLOOKUP($B78,'受診者リスト(抽出用）'!$A:$F,1,0),VLOOKUP($B78,'受診者リスト(抽出用）'!$A:$F,3,0)&\"　（団体マスタ）\"&VLOOKUP($B78,'受診者リスト(抽出用）'!$A:$F,4,0)&\"　（枝番）\"&VLOOKUP(B78,'受診者リスト(抽出用）'!$A:$F,5,0),\"\")","v":{"$error":"#N/A"}}]
[78,{"$f":"IF(申込みフォーム!B88<>\"\",申込みフォーム!B88&\"　\"&申込みフォーム!C88,\"\")","v":""},{"$f":"IF(申込みフォーム!E88<>\"\",申込みフォーム!E88&\"　\"&申込みフォーム!F88,\"\")","v":""},{"$f":"IF(申込みフォーム!G88<>\"\",申込みフォーム!G88,\"\")","v":""},{"$f":"IF(申込みフォーム!H88<>\"\",申込みフォーム!H88,\"\")","v":""},{"$f":"IF(申込みフォーム!D88<>\"\",申込みフォーム!D88,\"\")","v":""},{"$f":"IF(申込みフォーム!I88<>\"\",REPLACE(申込みフォーム!I88,4,,\"-\"),\"\")","v":""},{"$f":"IF(申込みフォーム!J88<>\"\",申込みフォーム!J88,\"\")","v":""},{"$f":"IF(申込みフォーム!K88<>\"\",申込みフォーム!K88,\"\")","v":""},{"$f":"IF(申込みフォーム!L88<>\"\",MID(申込みフォーム!L88,1,3)&\"-\"&MID(申込みフォーム!L88,4,4)&\"-\"&MID(申込みフォーム!L88,8,4),\"\")","v":""},{"$f":"IF(申込みフォーム!M88<>\"\",申込みフォーム!M88,\"\")","v":""},{"$f":"IF(申込みフォーム!N88<>\"\",申込みフォーム!N88,\"\")","v":""},{"$f":"IF(申込みフォーム!O88<>\"\",申込みフォーム!O88,\"\")","v":""},{"$f":"IF(申込みフォーム!P88<>\"\",申込みフォーム!P88,\"\")","v":""},{"$f":"IF(申込みフォーム!Q88<>\"\",申込みフォーム!Q88,\"\")","v":""},{"$f":"IF(申込みフォーム!R88<>\"\",申込みフォーム!R88,\"\")","v":""},{"$f":"IF(申込みフォーム!S88<>\"\",申込みフォーム!S88,\"\")","v":""},{"$f":"IF(申込みフォーム!U88=\"細胞診のみ\",\"協会子宮　\",IF(申込みフォーム!U88=\"細胞診＋（自費）膣エコー\",\"協会子宮＋自費膣エコー　\",\"\"))&IF(申込みフォーム!W88<>\"\",\"協会ﾏﾝﾓ　\",\"\")&IF(申込みフォーム!Y88<>\"\",\"協会骨　\",\"\")&IF(申込みフォーム!AA88<>\"\",\"協会肝炎　\",\"\")","v":""},{"$f":"IF(申込みフォーム!AB88<>\"\",\"子宮　\",\"\")&IF(申込みフォーム!AC88<>\"\",\"ﾏﾝﾓ　\",\"\")&IF(申込みフォーム!AD88<>\"\",\"乳ｴｺｰ\",\"\")","v":""},{"$f":"IF(申込みフォーム!AE88<>\"\",\"ﾏｰｶｰ　\",\"\")&IF(申込みフォーム!AF88<>\"\",\"心機能　\",\"\")&IF(申込みフォーム!AG88<>\"\",\"ABC　\",\"\")&IF(申込みフォーム!AH88<>\"\",\"Lox　\",\"\")&IF(申込みフォーム!AI88<>\"\",\"甲状腺　\",\"\")&IF(申込みフォーム!AJ88<>\"\",\"肝炎\",\"\")","v":""},{"$f":"IF(申込みフォーム!AK88<>\"\",\"脳　\",\"\")&IF(申込みフォーム!AL88<>\"\",\"胸部CT　\",\"\")&IF(申込みフォーム!AM88<>\"\",\"肺機能　\",\"\")&IF(申込みフォーム!AN88<>\"\",\"腹ｴｺｰ　\",\"\")&IF(申込みフォーム!AO88<>\"\",\"心ｴｺｰ　\",\"\")&IF(申込みフォーム!AP88<>\"\",\"ﾌﾛｰﾗ　\",\"\")&IF(申込みフォーム!AQ88<>\"\",\"OCT　\",\"\")&IF(申込みフォーム!AR88<>\"\",\"検便　\",\"\")&IF(申込みフォーム!AS88<>\"\",\"骨　\",\"\")&IF(申込みフォーム!AT88<>\"\",\"骨＋ﾛｺﾓ\",\"\")","v":""},{"$f":"IF(申込みフォーム!AU88<>\"\",申込みフォーム!AU88&\"　　\",\"\")&IF(申込みフォーム!AV88<>\"\",申込みフォーム!AV88&\"　　\",\"\")&IF(申込みフォーム!AW88<>\"\",申込みフォーム!AW88&\"　　\",\"\")&IF(申込みフォーム!$AX88=\"〇\",\"4月　\",\"\")&IF(申込みフォーム!$AY88=\"〇\",\"5月　\",\"\")&IF(申込みフォーム!$AZ88=\"〇\",\"6月　\",\"\")&IF(申込みフォーム!$BA88=\"〇\",\"7月　\",\"\")&IF(申込みフォーム!$BB88=\"〇\",\"8月　\",\"\")&IF(申込みフォーム!$BC88=\"〇\",\"9月　\",\"\")&IF(申込みフォーム!$BD88=\"〇\",\"10月　\",\"\")&IF(申込みフォーム!$BE88=\"〇\",\"11月　\",\"\")&IF(申込みフォーム!$BF88=\"〇\",\"12月　\",\"\")&IF(申込みフォーム!$BG88=\"〇\",\"1月　\",\"\")&IF(申込みフォーム!$BH88=\"〇\",\"2月　\",\"\")&IF(申込みフォーム!$BI88=\"〇\",\"3月　\",\"\")","v":""},{"$f":"IF(申込みフォーム!BJ88<>\"\",申込みフォーム!BJ88,\"\")","v":""},{"$f":"IF(申込みフォーム!BK88<>\"\",申込みフォーム!BK88,\"\")","v":""},{"$f":"申込みフォーム!$Z88","v":""},{"$f":"IF(申込みフォーム!BL88<>\"\",申込みフォーム!BL88&\"　　\",\"\")&IF(申込みフォーム!BM88<>\"\",申込みフォーム!BM88&\"　　\",\"\")&IF(申込みフォーム!BN88<>\"\",申込みフォーム!BN88&\"　　\",\"\")","v":{"$error":"#VALUE!"}},{"$f":"IF($B79=VLOOKUP($B79,'受診者リスト(抽出用）'!$A:$F,1,0),VLOOKUP($B79,'受診者リスト(抽出用）'!$A:$F,3,0)&\"　（団体マスタ）\"&VLOOKUP($B79,'受診者リスト(抽出用）'!$A:$F,4,0)&\"　（枝番）\"&VLOOKUP(B79,'受診者リスト(抽出用）'!$A:$F,5,0),\"\")","v":{"$error":"#N/A"}}]
[79,{"$f":"IF(申込みフォーム!B89<>\"\",申込みフォーム!B89&\"　\"&申込みフォーム!C89,\"\")","v":""},{"$f":"IF(申込みフォーム!E89<>\"\",申込みフォーム!E89&\"　\"&申込みフォーム!F89,\"\")","v":""},{"$f":"IF(申込みフォーム!G89<>\"\",申込みフォーム!G89,\"\")","v":""},{"$f":"IF(申込みフォーム!H89<>\"\",申込みフォーム!H89,\"\")","v":""},{"$f":"IF(申込みフォーム!D89<>\"\",申込みフォーム!D89,\"\")","v":""},{"$f":"IF(申込みフォーム!I89<>\"\",REPLACE(申込みフォーム!I89,4,,\"-\"),\"\")","v":""},{"$f":"IF(申込みフォーム!J89<>\"\",申込みフォーム!J89,\"\")","v":""},{"$f":"IF(申込みフォーム!K89<>\"\",申込みフォーム!K89,\"\")","v":""},{"$f":"IF(申込みフォーム!L89<>\"\",MID(申込みフォーム!L89,1,3)&\"-\"&MID(申込みフォーム!L89,4,4)&\"-\"&MID(申込みフォーム!L89,8,4),\"\")","v":""},{"$f":"IF(申込みフォーム!M89<>\"\",申込みフォーム!M89,\"\")","v":""},{"$f":"IF(申込みフォーム!N89<>\"\",申込みフォーム!N89,\"\")","v":""},{"$f":"IF(申込みフォーム!O89<>\"\",申込みフォーム!O89,\"\")","v":""},{"$f":"IF(申込みフォーム!P89<>\"\",申込みフォーム!P89,\"\")","v":""},{"$f":"IF(申込みフォーム!Q89<>\"\",申込みフォーム!Q89,\"\")","v":""},{"$f":"IF(申込みフォーム!R89<>\"\",申込みフォーム!R89,\"\")","v":""},{"$f":"IF(申込みフォーム!S89<>\"\",申込みフォーム!S89,\"\")","v":""},{"$f":"IF(申込みフォーム!U89=\"細胞診のみ\",\"協会子宮　\",IF(申込みフォーム!U89=\"細胞診＋（自費）膣エコー\",\"協会子宮＋自費膣エコー　\",\"\"))&IF(申込みフォーム!W89<>\"\",\"協会ﾏﾝﾓ　\",\"\")&IF(申込みフォーム!Y89<>\"\",\"協会骨　\",\"\")&IF(申込みフォーム!AA89<>\"\",\"協会肝炎　\",\"\")","v":""},{"$f":"IF(申込みフォーム!AB89<>\"\",\"子宮　\",\"\")&IF(申込みフォーム!AC89<>\"\",\"ﾏﾝﾓ　\",\"\")&IF(申込みフォーム!AD89<>\"\",\"乳ｴｺｰ\",\"\")","v":""},{"$f":"IF(申込みフォーム!AE89<>\"\",\"ﾏｰｶｰ　\",\"\")&IF(申込みフォーム!AF89<>\"\",\"心機能　\",\"\")&IF(申込みフォーム!AG89<>\"\",\"ABC　\",\"\")&IF(申込みフォーム!AH89<>\"\",\"Lox　\",\"\")&IF(申込みフォーム!AI89<>\"\",\"甲状腺　\",\"\")&IF(申込みフォーム!AJ89<>\"\",\"肝炎\",\"\")","v":""},{"$f":"IF(申込みフォーム!AK89<>\"\",\"脳　\",\"\")&IF(申込みフォーム!AL89<>\"\",\"胸部CT　\",\"\")&IF(申込みフォーム!AM89<>\"\",\"肺機能　\",\"\")&IF(申込みフォーム!AN89<>\"\",\"腹ｴｺｰ　\",\"\")&IF(申込みフォーム!AO89<>\"\",\"心ｴｺｰ　\",\"\")&IF(申込みフォーム!AP89<>\"\",\"ﾌﾛｰﾗ　\",\"\")&IF(申込みフォーム!AQ89<>\"\",\"OCT　\",\"\")&IF(申込みフォーム!AR89<>\"\",\"検便　\",\"\")&IF(申込みフォーム!AS89<>\"\",\"骨　\",\"\")&IF(申込みフォーム!AT89<>\"\",\"骨＋ﾛｺﾓ\",\"\")","v":""},{"$f":"IF(申込みフォーム!AU89<>\"\",申込みフォーム!AU89&\"　　\",\"\")&IF(申込みフォーム!AV89<>\"\",申込みフォーム!AV89&\"　　\",\"\")&IF(申込みフォーム!AW89<>\"\",申込みフォーム!AW89&\"　　\",\"\")&IF(申込みフォーム!$AX89=\"〇\",\"4月　\",\"\")&IF(申込みフォーム!$AY89=\"〇\",\"5月　\",\"\")&IF(申込みフォーム!$AZ89=\"〇\",\"6月　\",\"\")&IF(申込みフォーム!$BA89=\"〇\",\"7月　\",\"\")&IF(申込みフォーム!$BB89=\"〇\",\"8月　\",\"\")&IF(申込みフォーム!$BC89=\"〇\",\"9月　\",\"\")&IF(申込みフォーム!$BD89=\"〇\",\"10月　\",\"\")&IF(申込みフォーム!$BE89=\"〇\",\"11月　\",\"\")&IF(申込みフォーム!$BF89=\"〇\",\"12月　\",\"\")&IF(申込みフォーム!$BG89=\"〇\",\"1月　\",\"\")&IF(申込みフォーム!$BH89=\"〇\",\"2月　\",\"\")&IF(申込みフォーム!$BI89=\"〇\",\"3月　\",\"\")","v":""},{"$f":"IF(申込みフォーム!BJ89<>\"\",申込みフォーム!BJ89,\"\")","v":""},{"$f":"IF(申込みフォーム!BK89<>\"\",申込みフォーム!BK89,\"\")","v":""},{"$f":"申込みフォーム!$Z89","v":""},{"$f":"IF(申込みフォーム!BL89<>\"\",申込みフォーム!BL89&\"　　\",\"\")&IF(申込みフォーム!BM89<>\"\",申込みフォーム!BM89&\"　　\",\"\")&IF(申込みフォーム!BN89<>\"\",申込みフォーム!BN89&\"　　\",\"\")","v":{"$error":"#VALUE!"}},{"$f":"IF($B80=VLOOKUP($B80,'受診者リスト(抽出用）'!$A:$F,1,0),VLOOKUP($B80,'受診者リスト(抽出用）'!$A:$F,3,0)&\"　（団体マスタ）\"&VLOOKUP($B80,'受診者リスト(抽出用）'!$A:$F,4,0)&\"　（枝番）\"&VLOOKUP(B80,'受診者リスト(抽出用）'!$A:$F,5,0),\"\")","v":{"$error":"#N/A"}}]
[80,{"$f":"IF(申込みフォーム!B90<>\"\",申込みフォーム!B90&\"　\"&申込みフォーム!C90,\"\")","v":""},{"$f":"IF(申込みフォーム!E90<>\"\",申込みフォーム!E90&\"　\"&申込みフォーム!F90,\"\")","v":""},{"$f":"IF(申込みフォーム!G90<>\"\",申込みフォーム!G90,\"\")","v":""},{"$f":"IF(申込みフォーム!H90<>\"\",申込みフォーム!H90,\"\")","v":""},{"$f":"IF(申込みフォーム!D90<>\"\",申込みフォーム!D90,\"\")","v":""},{"$f":"IF(申込みフォーム!I90<>\"\",REPLACE(申込みフォーム!I90,4,,\"-\"),\"\")","v":""},{"$f":"IF(申込みフォーム!J90<>\"\",申込みフォーム!J90,\"\")","v":""},{"$f":"IF(申込みフォーム!K90<>\"\",申込みフォーム!K90,\"\")","v":""},{"$f":"IF(申込みフォーム!L90<>\"\",MID(申込みフォーム!L90,1,3)&\"-\"&MID(申込みフォーム!L90,4,4)&\"-\"&MID(申込みフォーム!L90,8,4),\"\")","v":""},{"$f":"IF(申込みフォーム!M90<>\"\",申込みフォーム!M90,\"\")","v":""},{"$f":"IF(申込みフォーム!N90<>\"\",申込みフォーム!N90,\"\")","v":""},{"$f":"IF(申込みフォーム!O90<>\"\",申込みフォーム!O90,\"\")","v":""},{"$f":"IF(申込みフォーム!P90<>\"\",申込みフォーム!P90,\"\")","v":""},{"$f":"IF(申込みフォーム!Q90<>\"\",申込みフォーム!Q90,\"\")","v":""},{"$f":"IF(申込みフォーム!R90<>\"\",申込みフォーム!R90,\"\")","v":""},{"$f":"IF(申込みフォーム!S90<>\"\",申込みフォーム!S90,\"\")","v":""},{"$f":"IF(申込みフォーム!U90=\"細胞診のみ\",\"協会子宮　\",IF(申込みフォーム!U90=\"細胞診＋（自費）膣エコー\",\"協会子宮＋自費膣エコー　\",\"\"))&IF(申込みフォーム!W90<>\"\",\"協会ﾏﾝﾓ　\",\"\")&IF(申込みフォーム!Y90<>\"\",\"協会骨　\",\"\")&IF(申込みフォーム!AA90<>\"\",\"協会肝炎　\",\"\")","v":""},{"$f":"IF(申込みフォーム!AB90<>\"\",\"子宮　\",\"\")&IF(申込みフォーム!AC90<>\"\",\"ﾏﾝﾓ　\",\"\")&IF(申込みフォーム!AD90<>\"\",\"乳ｴｺｰ\",\"\")","v":""},{"$f":"IF(申込みフォーム!AE90<>\"\",\"ﾏｰｶｰ　\",\"\")&IF(申込みフォーム!AF90<>\"\",\"心機能　\",\"\")&IF(申込みフォーム!AG90<>\"\",\"ABC　\",\"\")&IF(申込みフォーム!AH90<>\"\",\"Lox　\",\"\")&IF(申込みフォーム!AI90<>\"\",\"甲状腺　\",\"\")&IF(申込みフォーム!AJ90<>\"\",\"肝炎\",\"\")","v":""},{"$f":"IF(申込みフォーム!AK90<>\"\",\"脳　\",\"\")&IF(申込みフォーム!AL90<>\"\",\"胸部CT　\",\"\")&IF(申込みフォーム!AM90<>\"\",\"肺機能　\",\"\")&IF(申込みフォーム!AN90<>\"\",\"腹ｴｺｰ　\",\"\")&IF(申込みフォーム!AO90<>\"\",\"心ｴｺｰ　\",\"\")&IF(申込みフォーム!AP90<>\"\",\"ﾌﾛｰﾗ　\",\"\")&IF(申込みフォーム!AQ90<>\"\",\"OCT　\",\"\")&IF(申込みフォーム!AR90<>\"\",\"検便　\",\"\")&IF(申込みフォーム!AS90<>\"\",\"骨　\",\"\")&IF(申込みフォーム!AT90<>\"\",\"骨＋ﾛｺﾓ\",\"\")","v":""},{"$f":"IF(申込みフォーム!AU90<>\"\",申込みフォーム!AU90&\"　　\",\"\")&IF(申込みフォーム!AV90<>\"\",申込みフォーム!AV90&\"　　\",\"\")&IF(申込みフォーム!AW90<>\"\",申込みフォーム!AW90&\"　　\",\"\")&IF(申込みフォーム!$AX90=\"〇\",\"4月　\",\"\")&IF(申込みフォーム!$AY90=\"〇\",\"5月　\",\"\")&IF(申込みフォーム!$AZ90=\"〇\",\"6月　\",\"\")&IF(申込みフォーム!$BA90=\"〇\",\"7月　\",\"\")&IF(申込みフォーム!$BB90=\"〇\",\"8月　\",\"\")&IF(申込みフォーム!$BC90=\"〇\",\"9月　\",\"\")&IF(申込みフォーム!$BD90=\"〇\",\"10月　\",\"\")&IF(申込みフォーム!$BE90=\"〇\",\"11月　\",\"\")&IF(申込みフォーム!$BF90=\"〇\",\"12月　\",\"\")&IF(申込みフォーム!$BG90=\"〇\",\"1月　\",\"\")&IF(申込みフォーム!$BH90=\"〇\",\"2月　\",\"\")&IF(申込みフォーム!$BI90=\"〇\",\"3月　\",\"\")","v":""},{"$f":"IF(申込みフォーム!BJ90<>\"\",申込みフォーム!BJ90,\"\")","v":""},{"$f":"IF(申込みフォーム!BK90<>\"\",申込みフォーム!BK90,\"\")","v":""},{"$f":"申込みフォーム!$Z90","v":""},{"$f":"IF(申込みフォーム!BL90<>\"\",申込みフォーム!BL90&\"　　\",\"\")&IF(申込みフォーム!BM90<>\"\",申込みフォーム!BM90&\"　　\",\"\")&IF(申込みフォーム!BN90<>\"\",申込みフォーム!BN90&\"　　\",\"\")","v":{"$error":"#VALUE!"}},{"$f":"IF($B81=VLOOKUP($B81,'受診者リスト(抽出用）'!$A:$F,1,0),VLOOKUP($B81,'受診者リスト(抽出用）'!$A:$F,3,0)&\"　（団体マスタ）\"&VLOOKUP($B81,'受診者リスト(抽出用）'!$A:$F,4,0)&\"　（枝番）\"&VLOOKUP(B81,'受診者リスト(抽出用）'!$A:$F,5,0),\"\")","v":{"$error":"#N/A"}}]
[81,{"$f":"IF(申込みフォーム!B91<>\"\",申込みフォーム!B91&\"　\"&申込みフォーム!C91,\"\")","v":""},{"$f":"IF(申込みフォーム!E91<>\"\",申込みフォーム!E91&\"　\"&申込みフォーム!F91,\"\")","v":""},{"$f":"IF(申込みフォーム!G91<>\"\",申込みフォーム!G91,\"\")","v":""},{"$f":"IF(申込みフォーム!H91<>\"\",申込みフォーム!H91,\"\")","v":""},{"$f":"IF(申込みフォーム!D91<>\"\",申込みフォーム!D91,\"\")","v":""},{"$f":"IF(申込みフォーム!I91<>\"\",REPLACE(申込みフォーム!I91,4,,\"-\"),\"\")","v":""},{"$f":"IF(申込みフォーム!J91<>\"\",申込みフォーム!J91,\"\")","v":""},{"$f":"IF(申込みフォーム!K91<>\"\",申込みフォーム!K91,\"\")","v":""},{"$f":"IF(申込みフォーム!L91<>\"\",MID(申込みフォーム!L91,1,3)&\"-\"&MID(申込みフォーム!L91,4,4)&\"-\"&MID(申込みフォーム!L91,8,4),\"\")","v":""},{"$f":"IF(申込みフォーム!M91<>\"\",申込みフォーム!M91,\"\")","v":""},{"$f":"IF(申込みフォーム!N91<>\"\",申込みフォーム!N91,\"\")","v":""},{"$f":"IF(申込みフォーム!O91<>\"\",申込みフォーム!O91,\"\")","v":""},{"$f":"IF(申込みフォーム!P91<>\"\",申込みフォーム!P91,\"\")","v":""},{"$f":"IF(申込みフォーム!Q91<>\"\",申込みフォーム!Q91,\"\")","v":""},{"$f":"IF(申込みフォーム!R91<>\"\",申込みフォーム!R91,\"\")","v":""},{"$f":"IF(申込みフォーム!S91<>\"\",申込みフォーム!S91,\"\")","v":""},{"$f":"IF(申込みフォーム!U91=\"細胞診のみ\",\"協会子宮　\",IF(申込みフォーム!U91=\"細胞診＋（自費）膣エコー\",\"協会子宮＋自費膣エコー　\",\"\"))&IF(申込みフォーム!W91<>\"\",\"協会ﾏﾝﾓ　\",\"\")&IF(申込みフォーム!Y91<>\"\",\"協会骨　\",\"\")&IF(申込みフォーム!AA91<>\"\",\"協会肝炎　\",\"\")","v":""},{"$f":"IF(申込みフォーム!AB91<>\"\",\"子宮　\",\"\")&IF(申込みフォーム!AC91<>\"\",\"ﾏﾝﾓ　\",\"\")&IF(申込みフォーム!AD91<>\"\",\"乳ｴｺｰ\",\"\")","v":""},{"$f":"IF(申込みフォーム!AE91<>\"\",\"ﾏｰｶｰ　\",\"\")&IF(申込みフォーム!AF91<>\"\",\"心機能　\",\"\")&IF(申込みフォーム!AG91<>\"\",\"ABC　\",\"\")&IF(申込みフォーム!AH91<>\"\",\"Lox　\",\"\")&IF(申込みフォーム!AI91<>\"\",\"甲状腺　\",\"\")&IF(申込みフォーム!AJ91<>\"\",\"肝炎\",\"\")","v":""},{"$f":"IF(申込みフォーム!AK91<>\"\",\"脳　\",\"\")&IF(申込みフォーム!AL91<>\"\",\"胸部CT　\",\"\")&IF(申込みフォーム!AM91<>\"\",\"肺機能　\",\"\")&IF(申込みフォーム!AN91<>\"\",\"腹ｴｺｰ　\",\"\")&IF(申込みフォーム!AO91<>\"\",\"心ｴｺｰ　\",\"\")&IF(申込みフォーム!AP91<>\"\",\"ﾌﾛｰﾗ　\",\"\")&IF(申込みフォーム!AQ91<>\"\",\"OCT　\",\"\")&IF(申込みフォーム!AR91<>\"\",\"検便　\",\"\")&IF(申込みフォーム!AS91<>\"\",\"骨　\",\"\")&IF(申込みフォーム!AT91<>\"\",\"骨＋ﾛｺﾓ\",\"\")","v":""},{"$f":"IF(申込みフォーム!AU91<>\"\",申込みフォーム!AU91&\"　　\",\"\")&IF(申込みフォーム!AV91<>\"\",申込みフォーム!AV91&\"　　\",\"\")&IF(申込みフォーム!AW91<>\"\",申込みフォーム!AW91&\"　　\",\"\")&IF(申込みフォーム!$AX91=\"〇\",\"4月　\",\"\")&IF(申込みフォーム!$AY91=\"〇\",\"5月　\",\"\")&IF(申込みフォーム!$AZ91=\"〇\",\"6月　\",\"\")&IF(申込みフォーム!$BA91=\"〇\",\"7月　\",\"\")&IF(申込みフォーム!$BB91=\"〇\",\"8月　\",\"\")&IF(申込みフォーム!$BC91=\"〇\",\"9月　\",\"\")&IF(申込みフォーム!$BD91=\"〇\",\"10月　\",\"\")&IF(申込みフォーム!$BE91=\"〇\",\"11月　\",\"\")&IF(申込みフォーム!$BF91=\"〇\",\"12月　\",\"\")&IF(申込みフォーム!$BG91=\"〇\",\"1月　\",\"\")&IF(申込みフォーム!$BH91=\"〇\",\"2月　\",\"\")&IF(申込みフォーム!$BI91=\"〇\",\"3月　\",\"\")","v":""},{"$f":"IF(申込みフォーム!BJ91<>\"\",申込みフォーム!BJ91,\"\")","v":""},{"$f":"IF(申込みフォーム!BK91<>\"\",申込みフォーム!BK91,\"\")","v":""},{"$f":"申込みフォーム!$Z91","v":""},{"$f":"IF(申込みフォーム!BL91<>\"\",申込みフォーム!BL91&\"　　\",\"\")&IF(申込みフォーム!BM91<>\"\",申込みフォーム!BM91&\"　　\",\"\")&IF(申込みフォーム!BN91<>\"\",申込みフォーム!BN91&\"　　\",\"\")","v":{"$error":"#VALUE!"}},{"$f":"IF($B82=VLOOKUP($B82,'受診者リスト(抽出用）'!$A:$F,1,0),VLOOKUP($B82,'受診者リスト(抽出用）'!$A:$F,3,0)&\"　（団体マスタ）\"&VLOOKUP($B82,'受診者リスト(抽出用）'!$A:$F,4,0)&\"　（枝番）\"&VLOOKUP(B82,'受診者リスト(抽出用）'!$A:$F,5,0),\"\")","v":{"$error":"#N/A"}}]
[82,{"$f":"IF(申込みフォーム!B92<>\"\",申込みフォーム!B92&\"　\"&申込みフォーム!C92,\"\")","v":""},{"$f":"IF(申込みフォーム!E92<>\"\",申込みフォーム!E92&\"　\"&申込みフォーム!F92,\"\")","v":""},{"$f":"IF(申込みフォーム!G92<>\"\",申込みフォーム!G92,\"\")","v":""},{"$f":"IF(申込みフォーム!H92<>\"\",申込みフォーム!H92,\"\")","v":""},{"$f":"IF(申込みフォーム!D92<>\"\",申込みフォーム!D92,\"\")","v":""},{"$f":"IF(申込みフォーム!I92<>\"\",REPLACE(申込みフォーム!I92,4,,\"-\"),\"\")","v":""},{"$f":"IF(申込みフォーム!J92<>\"\",申込みフォーム!J92,\"\")","v":""},{"$f":"IF(申込みフォーム!K92<>\"\",申込みフォーム!K92,\"\")","v":""},{"$f":"IF(申込みフォーム!L92<>\"\",MID(申込みフォーム!L92,1,3)&\"-\"&MID(申込みフォーム!L92,4,4)&\"-\"&MID(申込みフォーム!L92,8,4),\"\")","v":""},{"$f":"IF(申込みフォーム!M92<>\"\",申込みフォーム!M92,\"\")","v":""},{"$f":"IF(申込みフォーム!N92<>\"\",申込みフォーム!N92,\"\")","v":""},{"$f":"IF(申込みフォーム!O92<>\"\",申込みフォーム!O92,\"\")","v":""},{"$f":"IF(申込みフォーム!P92<>\"\",申込みフォーム!P92,\"\")","v":""},{"$f":"IF(申込みフォーム!Q92<>\"\",申込みフォーム!Q92,\"\")","v":""},{"$f":"IF(申込みフォーム!R92<>\"\",申込みフォーム!R92,\"\")","v":""},{"$f":"IF(申込みフォーム!S92<>\"\",申込みフォーム!S92,\"\")","v":""},{"$f":"IF(申込みフォーム!U92=\"細胞診のみ\",\"協会子宮　\",IF(申込みフォーム!U92=\"細胞診＋（自費）膣エコー\",\"協会子宮＋自費膣エコー　\",\"\"))&IF(申込みフォーム!W92<>\"\",\"協会ﾏﾝﾓ　\",\"\")&IF(申込みフォーム!Y92<>\"\",\"協会骨　\",\"\")&IF(申込みフォーム!AA92<>\"\",\"協会肝炎　\",\"\")","v":""},{"$f":"IF(申込みフォーム!AB92<>\"\",\"子宮　\",\"\")&IF(申込みフォーム!AC92<>\"\",\"ﾏﾝﾓ　\",\"\")&IF(申込みフォーム!AD92<>\"\",\"乳ｴｺｰ\",\"\")","v":""},{"$f":"IF(申込みフォーム!AE92<>\"\",\"ﾏｰｶｰ　\",\"\")&IF(申込みフォーム!AF92<>\"\",\"心機能　\",\"\")&IF(申込みフォーム!AG92<>\"\",\"ABC　\",\"\")&IF(申込みフォーム!AH92<>\"\",\"Lox　\",\"\")&IF(申込みフォーム!AI92<>\"\",\"甲状腺　\",\"\")&IF(申込みフォーム!AJ92<>\"\",\"肝炎\",\"\")","v":""},{"$f":"IF(申込みフォーム!AK92<>\"\",\"脳　\",\"\")&IF(申込みフォーム!AL92<>\"\",\"胸部CT　\",\"\")&IF(申込みフォーム!AM92<>\"\",\"肺機能　\",\"\")&IF(申込みフォーム!AN92<>\"\",\"腹ｴｺｰ　\",\"\")&IF(申込みフォーム!AO92<>\"\",\"心ｴｺｰ　\",\"\")&IF(申込みフォーム!AP92<>\"\",\"ﾌﾛｰﾗ　\",\"\")&IF(申込みフォーム!AQ92<>\"\",\"OCT　\",\"\")&IF(申込みフォーム!AR92<>\"\",\"検便　\",\"\")&IF(申込みフォーム!AS92<>\"\",\"骨　\",\"\")&IF(申込みフォーム!AT92<>\"\",\"骨＋ﾛｺﾓ\",\"\")","v":""},{"$f":"IF(申込みフォーム!AU92<>\"\",申込みフォーム!AU92&\"　　\",\"\")&IF(申込みフォーム!AV92<>\"\",申込みフォーム!AV92&\"　　\",\"\")&IF(申込みフォーム!AW92<>\"\",申込みフォーム!AW92&\"　　\",\"\")&IF(申込みフォーム!$AX92=\"〇\",\"4月　\",\"\")&IF(申込みフォーム!$AY92=\"〇\",\"5月　\",\"\")&IF(申込みフォーム!$AZ92=\"〇\",\"6月　\",\"\")&IF(申込みフォーム!$BA92=\"〇\",\"7月　\",\"\")&IF(申込みフォーム!$BB92=\"〇\",\"8月　\",\"\")&IF(申込みフォーム!$BC92=\"〇\",\"9月　\",\"\")&IF(申込みフォーム!$BD92=\"〇\",\"10月　\",\"\")&IF(申込みフォーム!$BE92=\"〇\",\"11月　\",\"\")&IF(申込みフォーム!$BF92=\"〇\",\"12月　\",\"\")&IF(申込みフォーム!$BG92=\"〇\",\"1月　\",\"\")&IF(申込みフォーム!$BH92=\"〇\",\"2月　\",\"\")&IF(申込みフォーム!$BI92=\"〇\",\"3月　\",\"\")","v":""},{"$f":"IF(申込みフォーム!BJ92<>\"\",申込みフォーム!BJ92,\"\")","v":""},{"$f":"IF(申込みフォーム!BK92<>\"\",申込みフォーム!BK92,\"\")","v":""},{"$f":"申込みフォーム!$Z92","v":""},{"$f":"IF(申込みフォーム!BL92<>\"\",申込みフォーム!BL92&\"　　\",\"\")&IF(申込みフォーム!BM92<>\"\",申込みフォーム!BM92&\"　　\",\"\")&IF(申込みフォーム!BN92<>\"\",申込みフォーム!BN92&\"　　\",\"\")","v":{"$error":"#VALUE!"}},{"$f":"IF($B83=VLOOKUP($B83,'受診者リスト(抽出用）'!$A:$F,1,0),VLOOKUP($B83,'受診者リスト(抽出用）'!$A:$F,3,0)&\"　（団体マスタ）\"&VLOOKUP($B83,'受診者リスト(抽出用）'!$A:$F,4,0)&\"　（枝番）\"&VLOOKUP(B83,'受診者リスト(抽出用）'!$A:$F,5,0),\"\")","v":{"$error":"#N/A"}}]
[83,{"$f":"IF(申込みフォーム!B93<>\"\",申込みフォーム!B93&\"　\"&申込みフォーム!C93,\"\")","v":""},{"$f":"IF(申込みフォーム!E93<>\"\",申込みフォーム!E93&\"　\"&申込みフォーム!F93,\"\")","v":""},{"$f":"IF(申込みフォーム!G93<>\"\",申込みフォーム!G93,\"\")","v":""},{"$f":"IF(申込みフォーム!H93<>\"\",申込みフォーム!H93,\"\")","v":""},{"$f":"IF(申込みフォーム!D93<>\"\",申込みフォーム!D93,\"\")","v":""},{"$f":"IF(申込みフォーム!I93<>\"\",REPLACE(申込みフォーム!I93,4,,\"-\"),\"\")","v":""},{"$f":"IF(申込みフォーム!J93<>\"\",申込みフォーム!J93,\"\")","v":""},{"$f":"IF(申込みフォーム!K93<>\"\",申込みフォーム!K93,\"\")","v":""},{"$f":"IF(申込みフォーム!L93<>\"\",MID(申込みフォーム!L93,1,3)&\"-\"&MID(申込みフォーム!L93,4,4)&\"-\"&MID(申込みフォーム!L93,8,4),\"\")","v":""},{"$f":"IF(申込みフォーム!M93<>\"\",申込みフォーム!M93,\"\")","v":""},{"$f":"IF(申込みフォーム!N93<>\"\",申込みフォーム!N93,\"\")","v":""},{"$f":"IF(申込みフォーム!O93<>\"\",申込みフォーム!O93,\"\")","v":""},{"$f":"IF(申込みフォーム!P93<>\"\",申込みフォーム!P93,\"\")","v":""},{"$f":"IF(申込みフォーム!Q93<>\"\",申込みフォーム!Q93,\"\")","v":""},{"$f":"IF(申込みフォーム!R93<>\"\",申込みフォーム!R93,\"\")","v":""},{"$f":"IF(申込みフォーム!S93<>\"\",申込みフォーム!S93,\"\")","v":""},{"$f":"IF(申込みフォーム!U93=\"細胞診のみ\",\"協会子宮　\",IF(申込みフォーム!U93=\"細胞診＋（自費）膣エコー\",\"協会子宮＋自費膣エコー　\",\"\"))&IF(申込みフォーム!W93<>\"\",\"協会ﾏﾝﾓ　\",\"\")&IF(申込みフォーム!Y93<>\"\",\"協会骨　\",\"\")&IF(申込みフォーム!AA93<>\"\",\"協会肝炎　\",\"\")","v":""},{"$f":"IF(申込みフォーム!AB93<>\"\",\"子宮　\",\"\")&IF(申込みフォーム!AC93<>\"\",\"ﾏﾝﾓ　\",\"\")&IF(申込みフォーム!AD93<>\"\",\"乳ｴｺｰ\",\"\")","v":""},{"$f":"IF(申込みフォーム!AE93<>\"\",\"ﾏｰｶｰ　\",\"\")&IF(申込みフォーム!AF93<>\"\",\"心機能　\",\"\")&IF(申込みフォーム!AG93<>\"\",\"ABC　\",\"\")&IF(申込みフォーム!AH93<>\"\",\"Lox　\",\"\")&IF(申込みフォーム!AI93<>\"\",\"甲状腺　\",\"\")&IF(申込みフォーム!AJ93<>\"\",\"肝炎\",\"\")","v":""},{"$f":"IF(申込みフォーム!AK93<>\"\",\"脳　\",\"\")&IF(申込みフォーム!AL93<>\"\",\"胸部CT　\",\"\")&IF(申込みフォーム!AM93<>\"\",\"肺機能　\",\"\")&IF(申込みフォーム!AN93<>\"\",\"腹ｴｺｰ　\",\"\")&IF(申込みフォーム!AO93<>\"\",\"心ｴｺｰ　\",\"\")&IF(申込みフォーム!AP93<>\"\",\"ﾌﾛｰﾗ　\",\"\")&IF(申込みフォーム!AQ93<>\"\",\"OCT　\",\"\")&IF(申込みフォーム!AR93<>\"\",\"検便　\",\"\")&IF(申込みフォーム!AS93<>\"\",\"骨　\",\"\")&IF(申込みフォーム!AT93<>\"\",\"骨＋ﾛｺﾓ\",\"\")","v":""},{"$f":"IF(申込みフォーム!AU93<>\"\",申込みフォーム!AU93&\"　　\",\"\")&IF(申込みフォーム!AV93<>\"\",申込みフォーム!AV93&\"　　\",\"\")&IF(申込みフォーム!AW93<>\"\",申込みフォーム!AW93&\"　　\",\"\")&IF(申込みフォーム!$AX93=\"〇\",\"4月　\",\"\")&IF(申込みフォーム!$AY93=\"〇\",\"5月　\",\"\")&IF(申込みフォーム!$AZ93=\"〇\",\"6月　\",\"\")&IF(申込みフォーム!$BA93=\"〇\",\"7月　\",\"\")&IF(申込みフォーム!$BB93=\"〇\",\"8月　\",\"\")&IF(申込みフォーム!$BC93=\"〇\",\"9月　\",\"\")&IF(申込みフォーム!$BD93=\"〇\",\"10月　\",\"\")&IF(申込みフォーム!$BE93=\"〇\",\"11月　\",\"\")&IF(申込みフォーム!$BF93=\"〇\",\"12月　\",\"\")&IF(申込みフォーム!$BG93=\"〇\",\"1月　\",\"\")&IF(申込みフォーム!$BH93=\"〇\",\"2月　\",\"\")&IF(申込みフォーム!$BI93=\"〇\",\"3月　\",\"\")","v":""},{"$f":"IF(申込みフォーム!BJ93<>\"\",申込みフォーム!BJ93,\"\")","v":""},{"$f":"IF(申込みフォーム!BK93<>\"\",申込みフォーム!BK93,\"\")","v":""},{"$f":"申込みフォーム!$Z93","v":""},{"$f":"IF(申込みフォーム!BL93<>\"\",申込みフォーム!BL93&\"　　\",\"\")&IF(申込みフォーム!BM93<>\"\",申込みフォーム!BM93&\"　　\",\"\")&IF(申込みフォーム!BN93<>\"\",申込みフォーム!BN93&\"　　\",\"\")","v":{"$error":"#VALUE!"}},{"$f":"IF($B84=VLOOKUP($B84,'受診者リスト(抽出用）'!$A:$F,1,0),VLOOKUP($B84,'受診者リスト(抽出用）'!$A:$F,3,0)&\"　（団体マスタ）\"&VLOOKUP($B84,'受診者リスト(抽出用）'!$A:$F,4,0)&\"　（枝番）\"&VLOOKUP(B84,'受診者リスト(抽出用）'!$A:$F,5,0),\"\")","v":{"$error":"#N/A"}}]
[84,{"$f":"IF(申込みフォーム!B94<>\"\",申込みフォーム!B94&\"　\"&申込みフォーム!C94,\"\")","v":""},{"$f":"IF(申込みフォーム!E94<>\"\",申込みフォーム!E94&\"　\"&申込みフォーム!F94,\"\")","v":""},{"$f":"IF(申込みフォーム!G94<>\"\",申込みフォーム!G94,\"\")","v":""},{"$f":"IF(申込みフォーム!H94<>\"\",申込みフォーム!H94,\"\")","v":""},{"$f":"IF(申込みフォーム!D94<>\"\",申込みフォーム!D94,\"\")","v":""},{"$f":"IF(申込みフォーム!I94<>\"\",REPLACE(申込みフォーム!I94,4,,\"-\"),\"\")","v":""},{"$f":"IF(申込みフォーム!J94<>\"\",申込みフォーム!J94,\"\")","v":""},{"$f":"IF(申込みフォーム!K94<>\"\",申込みフォーム!K94,\"\")","v":""},{"$f":"IF(申込みフォーム!L94<>\"\",MID(申込みフォーム!L94,1,3)&\"-\"&MID(申込みフォーム!L94,4,4)&\"-\"&MID(申込みフォーム!L94,8,4),\"\")","v":""},{"$f":"IF(申込みフォーム!M94<>\"\",申込みフォーム!M94,\"\")","v":""},{"$f":"IF(申込みフォーム!N94<>\"\",申込みフォーム!N94,\"\")","v":""},{"$f":"IF(申込みフォーム!O94<>\"\",申込みフォーム!O94,\"\")","v":""},{"$f":"IF(申込みフォーム!P94<>\"\",申込みフォーム!P94,\"\")","v":""},{"$f":"IF(申込みフォーム!Q94<>\"\",申込みフォーム!Q94,\"\")","v":""},{"$f":"IF(申込みフォーム!R94<>\"\",申込みフォーム!R94,\"\")","v":""},{"$f":"IF(申込みフォーム!S94<>\"\",申込みフォーム!S94,\"\")","v":""},{"$f":"IF(申込みフォーム!U94=\"細胞診のみ\",\"協会子宮　\",IF(申込みフォーム!U94=\"細胞診＋（自費）膣エコー\",\"協会子宮＋自費膣エコー　\",\"\"))&IF(申込みフォーム!W94<>\"\",\"協会ﾏﾝﾓ　\",\"\")&IF(申込みフォーム!Y94<>\"\",\"協会骨　\",\"\")&IF(申込みフォーム!AA94<>\"\",\"協会肝炎　\",\"\")","v":""},{"$f":"IF(申込みフォーム!AB94<>\"\",\"子宮　\",\"\")&IF(申込みフォーム!AC94<>\"\",\"ﾏﾝﾓ　\",\"\")&IF(申込みフォーム!AD94<>\"\",\"乳ｴｺｰ\",\"\")","v":""},{"$f":"IF(申込みフォーム!AE94<>\"\",\"ﾏｰｶｰ　\",\"\")&IF(申込みフォーム!AF94<>\"\",\"心機能　\",\"\")&IF(申込みフォーム!AG94<>\"\",\"ABC　\",\"\")&IF(申込みフォーム!AH94<>\"\",\"Lox　\",\"\")&IF(申込みフォーム!AI94<>\"\",\"甲状腺　\",\"\")&IF(申込みフォーム!AJ94<>\"\",\"肝炎\",\"\")","v":""},{"$f":"IF(申込みフォーム!AK94<>\"\",\"脳　\",\"\")&IF(申込みフォーム!AL94<>\"\",\"胸部CT　\",\"\")&IF(申込みフォーム!AM94<>\"\",\"肺機能　\",\"\")&IF(申込みフォーム!AN94<>\"\",\"腹ｴｺｰ　\",\"\")&IF(申込みフォーム!AO94<>\"\",\"心ｴｺｰ　\",\"\")&IF(申込みフォーム!AP94<>\"\",\"ﾌﾛｰﾗ　\",\"\")&IF(申込みフォーム!AQ94<>\"\",\"OCT　\",\"\")&IF(申込みフォーム!AR94<>\"\",\"検便　\",\"\")&IF(申込みフォーム!AS94<>\"\",\"骨　\",\"\")&IF(申込みフォーム!AT94<>\"\",\"骨＋ﾛｺﾓ\",\"\")","v":""},{"$f":"IF(申込みフォーム!AU94<>\"\",申込みフォーム!AU94&\"　　\",\"\")&IF(申込みフォーム!AV94<>\"\",申込みフォーム!AV94&\"　　\",\"\")&IF(申込みフォーム!AW94<>\"\",申込みフォーム!AW94&\"　　\",\"\")&IF(申込みフォーム!$AX94=\"〇\",\"4月　\",\"\")&IF(申込みフォーム!$AY94=\"〇\",\"5月　\",\"\")&IF(申込みフォーム!$AZ94=\"〇\",\"6月　\",\"\")&IF(申込みフォーム!$BA94=\"〇\",\"7月　\",\"\")&IF(申込みフォーム!$BB94=\"〇\",\"8月　\",\"\")&IF(申込みフォーム!$BC94=\"〇\",\"9月　\",\"\")&IF(申込みフォーム!$BD94=\"〇\",\"10月　\",\"\")&IF(申込みフォーム!$BE94=\"〇\",\"11月　\",\"\")&IF(申込みフォーム!$BF94=\"〇\",\"12月　\",\"\")&IF(申込みフォーム!$BG94=\"〇\",\"1月　\",\"\")&IF(申込みフォーム!$BH94=\"〇\",\"2月　\",\"\")&IF(申込みフォーム!$BI94=\"〇\",\"3月　\",\"\")","v":""},{"$f":"IF(申込みフォーム!BJ94<>\"\",申込みフォーム!BJ94,\"\")","v":""},{"$f":"IF(申込みフォーム!BK94<>\"\",申込みフォーム!BK94,\"\")","v":""},{"$f":"申込みフォーム!$Z94","v":""},{"$f":"IF(申込みフォーム!BL94<>\"\",申込みフォーム!BL94&\"　　\",\"\")&IF(申込みフォーム!BM94<>\"\",申込みフォーム!BM94&\"　　\",\"\")&IF(申込みフォーム!BN94<>\"\",申込みフォーム!BN94&\"　　\",\"\")","v":{"$error":"#VALUE!"}},{"$f":"IF($B85=VLOOKUP($B85,'受診者リスト(抽出用）'!$A:$F,1,0),VLOOKUP($B85,'受診者リスト(抽出用）'!$A:$F,3,0)&\"　（団体マスタ）\"&VLOOKUP($B85,'受診者リスト(抽出用）'!$A:$F,4,0)&\"　（枝番）\"&VLOOKUP(B85,'受診者リスト(抽出用）'!$A:$F,5,0),\"\")","v":{"$error":"#N/A"}}]
[85,{"$f":"IF(申込みフォーム!B95<>\"\",申込みフォーム!B95&\"　\"&申込みフォーム!C95,\"\")","v":""},{"$f":"IF(申込みフォーム!E95<>\"\",申込みフォーム!E95&\"　\"&申込みフォーム!F95,\"\")","v":""},{"$f":"IF(申込みフォーム!G95<>\"\",申込みフォーム!G95,\"\")","v":""},{"$f":"IF(申込みフォーム!H95<>\"\",申込みフォーム!H95,\"\")","v":""},{"$f":"IF(申込みフォーム!D95<>\"\",申込みフォーム!D95,\"\")","v":""},{"$f":"IF(申込みフォーム!I95<>\"\",REPLACE(申込みフォーム!I95,4,,\"-\"),\"\")","v":""},{"$f":"IF(申込みフォーム!J95<>\"\",申込みフォーム!J95,\"\")","v":""},{"$f":"IF(申込みフォーム!K95<>\"\",申込みフォーム!K95,\"\")","v":""},{"$f":"IF(申込みフォーム!L95<>\"\",MID(申込みフォーム!L95,1,3)&\"-\"&MID(申込みフォーム!L95,4,4)&\"-\"&MID(申込みフォーム!L95,8,4),\"\")","v":""},{"$f":"IF(申込みフォーム!M95<>\"\",申込みフォーム!M95,\"\")","v":""},{"$f":"IF(申込みフォーム!N95<>\"\",申込みフォーム!N95,\"\")","v":""},{"$f":"IF(申込みフォーム!O95<>\"\",申込みフォーム!O95,\"\")","v":""},{"$f":"IF(申込みフォーム!P95<>\"\",申込みフォーム!P95,\"\")","v":""},{"$f":"IF(申込みフォーム!Q95<>\"\",申込みフォーム!Q95,\"\")","v":""},{"$f":"IF(申込みフォーム!R95<>\"\",申込みフォーム!R95,\"\")","v":""},{"$f":"IF(申込みフォーム!S95<>\"\",申込みフォーム!S95,\"\")","v":""},{"$f":"IF(申込みフォーム!U95=\"細胞診のみ\",\"協会子宮　\",IF(申込みフォーム!U95=\"細胞診＋（自費）膣エコー\",\"協会子宮＋自費膣エコー　\",\"\"))&IF(申込みフォーム!W95<>\"\",\"協会ﾏﾝﾓ　\",\"\")&IF(申込みフォーム!Y95<>\"\",\"協会骨　\",\"\")&IF(申込みフォーム!AA95<>\"\",\"協会肝炎　\",\"\")","v":""},{"$f":"IF(申込みフォーム!AB95<>\"\",\"子宮　\",\"\")&IF(申込みフォーム!AC95<>\"\",\"ﾏﾝﾓ　\",\"\")&IF(申込みフォーム!AD95<>\"\",\"乳ｴｺｰ\",\"\")","v":""},{"$f":"IF(申込みフォーム!AE95<>\"\",\"ﾏｰｶｰ　\",\"\")&IF(申込みフォーム!AF95<>\"\",\"心機能　\",\"\")&IF(申込みフォーム!AG95<>\"\",\"ABC　\",\"\")&IF(申込みフォーム!AH95<>\"\",\"Lox　\",\"\")&IF(申込みフォーム!AI95<>\"\",\"甲状腺　\",\"\")&IF(申込みフォーム!AJ95<>\"\",\"肝炎\",\"\")","v":""},{"$f":"IF(申込みフォーム!AK95<>\"\",\"脳　\",\"\")&IF(申込みフォーム!AL95<>\"\",\"胸部CT　\",\"\")&IF(申込みフォーム!AM95<>\"\",\"肺機能　\",\"\")&IF(申込みフォーム!AN95<>\"\",\"腹ｴｺｰ　\",\"\")&IF(申込みフォーム!AO95<>\"\",\"心ｴｺｰ　\",\"\")&IF(申込みフォーム!AP95<>\"\",\"ﾌﾛｰﾗ　\",\"\")&IF(申込みフォーム!AQ95<>\"\",\"OCT　\",\"\")&IF(申込みフォーム!AR95<>\"\",\"検便　\",\"\")&IF(申込みフォーム!AS95<>\"\",\"骨　\",\"\")&IF(申込みフォーム!AT95<>\"\",\"骨＋ﾛｺﾓ\",\"\")","v":""},{"$f":"IF(申込みフォーム!AU95<>\"\",申込みフォーム!AU95&\"　　\",\"\")&IF(申込みフォーム!AV95<>\"\",申込みフォーム!AV95&\"　　\",\"\")&IF(申込みフォーム!AW95<>\"\",申込みフォーム!AW95&\"　　\",\"\")&IF(申込みフォーム!$AX95=\"〇\",\"4月　\",\"\")&IF(申込みフォーム!$AY95=\"〇\",\"5月　\",\"\")&IF(申込みフォーム!$AZ95=\"〇\",\"6月　\",\"\")&IF(申込みフォーム!$BA95=\"〇\",\"7月　\",\"\")&IF(申込みフォーム!$BB95=\"〇\",\"8月　\",\"\")&IF(申込みフォーム!$BC95=\"〇\",\"9月　\",\"\")&IF(申込みフォーム!$BD95=\"〇\",\"10月　\",\"\")&IF(申込みフォーム!$BE95=\"〇\",\"11月　\",\"\")&IF(申込みフォーム!$BF95=\"〇\",\"12月　\",\"\")&IF(申込みフォーム!$BG95=\"〇\",\"1月　\",\"\")&IF(申込みフォーム!$BH95=\"〇\",\"2月　\",\"\")&IF(申込みフォーム!$BI95=\"〇\",\"3月　\",\"\")","v":""},{"$f":"IF(申込みフォーム!BJ95<>\"\",申込みフォーム!BJ95,\"\")","v":""},{"$f":"IF(申込みフォーム!BK95<>\"\",申込みフォーム!BK95,\"\")","v":""},{"$f":"申込みフォーム!$Z95","v":""},{"$f":"IF(申込みフォーム!BL95<>\"\",申込みフォーム!BL95&\"　　\",\"\")&IF(申込みフォーム!BM95<>\"\",申込みフォーム!BM95&\"　　\",\"\")&IF(申込みフォーム!BN95<>\"\",申込みフォーム!BN95&\"　　\",\"\")","v":{"$error":"#VALUE!"}},{"$f":"IF($B86=VLOOKUP($B86,'受診者リスト(抽出用）'!$A:$F,1,0),VLOOKUP($B86,'受診者リスト(抽出用）'!$A:$F,3,0)&\"　（団体マスタ）\"&VLOOKUP($B86,'受診者リスト(抽出用）'!$A:$F,4,0)&\"　（枝番）\"&VLOOKUP(B86,'受診者リスト(抽出用）'!$A:$F,5,0),\"\")","v":{"$error":"#N/A"}}]
[86,{"$f":"IF(申込みフォーム!B96<>\"\",申込みフォーム!B96&\"　\"&申込みフォーム!C96,\"\")","v":""},{"$f":"IF(申込みフォーム!E96<>\"\",申込みフォーム!E96&\"　\"&申込みフォーム!F96,\"\")","v":""},{"$f":"IF(申込みフォーム!G96<>\"\",申込みフォーム!G96,\"\")","v":""},{"$f":"IF(申込みフォーム!H96<>\"\",申込みフォーム!H96,\"\")","v":""},{"$f":"IF(申込みフォーム!D96<>\"\",申込みフォーム!D96,\"\")","v":""},{"$f":"IF(申込みフォーム!I96<>\"\",REPLACE(申込みフォーム!I96,4,,\"-\"),\"\")","v":""},{"$f":"IF(申込みフォーム!J96<>\"\",申込みフォーム!J96,\"\")","v":""},{"$f":"IF(申込みフォーム!K96<>\"\",申込みフォーム!K96,\"\")","v":""},{"$f":"IF(申込みフォーム!L96<>\"\",MID(申込みフォーム!L96,1,3)&\"-\"&MID(申込みフォーム!L96,4,4)&\"-\"&MID(申込みフォーム!L96,8,4),\"\")","v":""},{"$f":"IF(申込みフォーム!M96<>\"\",申込みフォーム!M96,\"\")","v":""},{"$f":"IF(申込みフォーム!N96<>\"\",申込みフォーム!N96,\"\")","v":""},{"$f":"IF(申込みフォーム!O96<>\"\",申込みフォーム!O96,\"\")","v":""},{"$f":"IF(申込みフォーム!P96<>\"\",申込みフォーム!P96,\"\")","v":""},{"$f":"IF(申込みフォーム!Q96<>\"\",申込みフォーム!Q96,\"\")","v":""},{"$f":"IF(申込みフォーム!R96<>\"\",申込みフォーム!R96,\"\")","v":""},{"$f":"IF(申込みフォーム!S96<>\"\",申込みフォーム!S96,\"\")","v":""},{"$f":"IF(申込みフォーム!U96=\"細胞診のみ\",\"協会子宮　\",IF(申込みフォーム!U96=\"細胞診＋（自費）膣エコー\",\"協会子宮＋自費膣エコー　\",\"\"))&IF(申込みフォーム!W96<>\"\",\"協会ﾏﾝﾓ　\",\"\")&IF(申込みフォーム!Y96<>\"\",\"協会骨　\",\"\")&IF(申込みフォーム!AA96<>\"\",\"協会肝炎　\",\"\")","v":""},{"$f":"IF(申込みフォーム!AB96<>\"\",\"子宮　\",\"\")&IF(申込みフォーム!AC96<>\"\",\"ﾏﾝﾓ　\",\"\")&IF(申込みフォーム!AD96<>\"\",\"乳ｴｺｰ\",\"\")","v":""},{"$f":"IF(申込みフォーム!AE96<>\"\",\"ﾏｰｶｰ　\",\"\")&IF(申込みフォーム!AF96<>\"\",\"心機能　\",\"\")&IF(申込みフォーム!AG96<>\"\",\"ABC　\",\"\")&IF(申込みフォーム!AH96<>\"\",\"Lox　\",\"\")&IF(申込みフォーム!AI96<>\"\",\"甲状腺　\",\"\")&IF(申込みフォーム!AJ96<>\"\",\"肝炎\",\"\")","v":""},{"$f":"IF(申込みフォーム!AK96<>\"\",\"脳　\",\"\")&IF(申込みフォーム!AL96<>\"\",\"胸部CT　\",\"\")&IF(申込みフォーム!AM96<>\"\",\"肺機能　\",\"\")&IF(申込みフォーム!AN96<>\"\",\"腹ｴｺｰ　\",\"\")&IF(申込みフォーム!AO96<>\"\",\"心ｴｺｰ　\",\"\")&IF(申込みフォーム!AP96<>\"\",\"ﾌﾛｰﾗ　\",\"\")&IF(申込みフォーム!AQ96<>\"\",\"OCT　\",\"\")&IF(申込みフォーム!AR96<>\"\",\"検便　\",\"\")&IF(申込みフォーム!AS96<>\"\",\"骨　\",\"\")&IF(申込みフォーム!AT96<>\"\",\"骨＋ﾛｺﾓ\",\"\")","v":""},{"$f":"IF(申込みフォーム!AU96<>\"\",申込みフォーム!AU96&\"　　\",\"\")&IF(申込みフォーム!AV96<>\"\",申込みフォーム!AV96&\"　　\",\"\")&IF(申込みフォーム!AW96<>\"\",申込みフォーム!AW96&\"　　\",\"\")&IF(申込みフォーム!$AX96=\"〇\",\"4月　\",\"\")&IF(申込みフォーム!$AY96=\"〇\",\"5月　\",\"\")&IF(申込みフォーム!$AZ96=\"〇\",\"6月　\",\"\")&IF(申込みフォーム!$BA96=\"〇\",\"7月　\",\"\")&IF(申込みフォーム!$BB96=\"〇\",\"8月　\",\"\")&IF(申込みフォーム!$BC96=\"〇\",\"9月　\",\"\")&IF(申込みフォーム!$BD96=\"〇\",\"10月　\",\"\")&IF(申込みフォーム!$BE96=\"〇\",\"11月　\",\"\")&IF(申込みフォーム!$BF96=\"〇\",\"12月　\",\"\")&IF(申込みフォーム!$BG96=\"〇\",\"1月　\",\"\")&IF(申込みフォーム!$BH96=\"〇\",\"2月　\",\"\")&IF(申込みフォーム!$BI96=\"〇\",\"3月　\",\"\")","v":""},{"$f":"IF(申込みフォーム!BJ96<>\"\",申込みフォーム!BJ96,\"\")","v":""},{"$f":"IF(申込みフォーム!BK96<>\"\",申込みフォーム!BK96,\"\")","v":""},{"$f":"申込みフォーム!$Z96","v":""},{"$f":"IF(申込みフォーム!BL96<>\"\",申込みフォーム!BL96&\"　　\",\"\")&IF(申込みフォーム!BM96<>\"\",申込みフォーム!BM96&\"　　\",\"\")&IF(申込みフォーム!BN96<>\"\",申込みフォーム!BN96&\"　　\",\"\")","v":{"$error":"#VALUE!"}},{"$f":"IF($B87=VLOOKUP($B87,'受診者リスト(抽出用）'!$A:$F,1,0),VLOOKUP($B87,'受診者リスト(抽出用）'!$A:$F,3,0)&\"　（団体マスタ）\"&VLOOKUP($B87,'受診者リスト(抽出用）'!$A:$F,4,0)&\"　（枝番）\"&VLOOKUP(B87,'受診者リスト(抽出用）'!$A:$F,5,0),\"\")","v":{"$error":"#N/A"}}]
[87,{"$f":"IF(申込みフォーム!B97<>\"\",申込みフォーム!B97&\"　\"&申込みフォーム!C97,\"\")","v":""},{"$f":"IF(申込みフォーム!E97<>\"\",申込みフォーム!E97&\"　\"&申込みフォーム!F97,\"\")","v":""},{"$f":"IF(申込みフォーム!G97<>\"\",申込みフォーム!G97,\"\")","v":""},{"$f":"IF(申込みフォーム!H97<>\"\",申込みフォーム!H97,\"\")","v":""},{"$f":"IF(申込みフォーム!D97<>\"\",申込みフォーム!D97,\"\")","v":""},{"$f":"IF(申込みフォーム!I97<>\"\",REPLACE(申込みフォーム!I97,4,,\"-\"),\"\")","v":""},{"$f":"IF(申込みフォーム!J97<>\"\",申込みフォーム!J97,\"\")","v":""},{"$f":"IF(申込みフォーム!K97<>\"\",申込みフォーム!K97,\"\")","v":""},{"$f":"IF(申込みフォーム!L97<>\"\",MID(申込みフォーム!L97,1,3)&\"-\"&MID(申込みフォーム!L97,4,4)&\"-\"&MID(申込みフォーム!L97,8,4),\"\")","v":""},{"$f":"IF(申込みフォーム!M97<>\"\",申込みフォーム!M97,\"\")","v":""},{"$f":"IF(申込みフォーム!N97<>\"\",申込みフォーム!N97,\"\")","v":""},{"$f":"IF(申込みフォーム!O97<>\"\",申込みフォーム!O97,\"\")","v":""},{"$f":"IF(申込みフォーム!P97<>\"\",申込みフォーム!P97,\"\")","v":""},{"$f":"IF(申込みフォーム!Q97<>\"\",申込みフォーム!Q97,\"\")","v":""},{"$f":"IF(申込みフォーム!R97<>\"\",申込みフォーム!R97,\"\")","v":""},{"$f":"IF(申込みフォーム!S97<>\"\",申込みフォーム!S97,\"\")","v":""},{"$f":"IF(申込みフォーム!U97=\"細胞診のみ\",\"協会子宮　\",IF(申込みフォーム!U97=\"細胞診＋（自費）膣エコー\",\"協会子宮＋自費膣エコー　\",\"\"))&IF(申込みフォーム!W97<>\"\",\"協会ﾏﾝﾓ　\",\"\")&IF(申込みフォーム!Y97<>\"\",\"協会骨　\",\"\")&IF(申込みフォーム!AA97<>\"\",\"協会肝炎　\",\"\")","v":""},{"$f":"IF(申込みフォーム!AB97<>\"\",\"子宮　\",\"\")&IF(申込みフォーム!AC97<>\"\",\"ﾏﾝﾓ　\",\"\")&IF(申込みフォーム!AD97<>\"\",\"乳ｴｺｰ\",\"\")","v":""},{"$f":"IF(申込みフォーム!AE97<>\"\",\"ﾏｰｶｰ　\",\"\")&IF(申込みフォーム!AF97<>\"\",\"心機能　\",\"\")&IF(申込みフォーム!AG97<>\"\",\"ABC　\",\"\")&IF(申込みフォーム!AH97<>\"\",\"Lox　\",\"\")&IF(申込みフォーム!AI97<>\"\",\"甲状腺　\",\"\")&IF(申込みフォーム!AJ97<>\"\",\"肝炎\",\"\")","v":""},{"$f":"IF(申込みフォーム!AK97<>\"\",\"脳　\",\"\")&IF(申込みフォーム!AL97<>\"\",\"胸部CT　\",\"\")&IF(申込みフォーム!AM97<>\"\",\"肺機能　\",\"\")&IF(申込みフォーム!AN97<>\"\",\"腹ｴｺｰ　\",\"\")&IF(申込みフォーム!AO97<>\"\",\"心ｴｺｰ　\",\"\")&IF(申込みフォーム!AP97<>\"\",\"ﾌﾛｰﾗ　\",\"\")&IF(申込みフォーム!AQ97<>\"\",\"OCT　\",\"\")&IF(申込みフォーム!AR97<>\"\",\"検便　\",\"\")&IF(申込みフォーム!AS97<>\"\",\"骨　\",\"\")&IF(申込みフォーム!AT97<>\"\",\"骨＋ﾛｺﾓ\",\"\")","v":""},{"$f":"IF(申込みフォーム!AU97<>\"\",申込みフォーム!AU97&\"　　\",\"\")&IF(申込みフォーム!AV97<>\"\",申込みフォーム!AV97&\"　　\",\"\")&IF(申込みフォーム!AW97<>\"\",申込みフォーム!AW97&\"　　\",\"\")&IF(申込みフォーム!$AX97=\"〇\",\"4月　\",\"\")&IF(申込みフォーム!$AY97=\"〇\",\"5月　\",\"\")&IF(申込みフォーム!$AZ97=\"〇\",\"6月　\",\"\")&IF(申込みフォーム!$BA97=\"〇\",\"7月　\",\"\")&IF(申込みフォーム!$BB97=\"〇\",\"8月　\",\"\")&IF(申込みフォーム!$BC97=\"〇\",\"9月　\",\"\")&IF(申込みフォーム!$BD97=\"〇\",\"10月　\",\"\")&IF(申込みフォーム!$BE97=\"〇\",\"11月　\",\"\")&IF(申込みフォーム!$BF97=\"〇\",\"12月　\",\"\")&IF(申込みフォーム!$BG97=\"〇\",\"1月　\",\"\")&IF(申込みフォーム!$BH97=\"〇\",\"2月　\",\"\")&IF(申込みフォーム!$BI97=\"〇\",\"3月　\",\"\")","v":""},{"$f":"IF(申込みフォーム!BJ97<>\"\",申込みフォーム!BJ97,\"\")","v":""},{"$f":"IF(申込みフォーム!BK97<>\"\",申込みフォーム!BK97,\"\")","v":""},{"$f":"申込みフォーム!$Z97","v":""},{"$f":"IF(申込みフォーム!BL97<>\"\",申込みフォーム!BL97&\"　　\",\"\")&IF(申込みフォーム!BM97<>\"\",申込みフォーム!BM97&\"　　\",\"\")&IF(申込みフォーム!BN97<>\"\",申込みフォーム!BN97&\"　　\",\"\")","v":{"$error":"#VALUE!"}},{"$f":"IF($B88=VLOOKUP($B88,'受診者リスト(抽出用）'!$A:$F,1,0),VLOOKUP($B88,'受診者リスト(抽出用）'!$A:$F,3,0)&\"　（団体マスタ）\"&VLOOKUP($B88,'受診者リスト(抽出用）'!$A:$F,4,0)&\"　（枝番）\"&VLOOKUP(B88,'受診者リスト(抽出用）'!$A:$F,5,0),\"\")","v":{"$error":"#N/A"}}]
[88,{"$f":"IF(申込みフォーム!B98<>\"\",申込みフォーム!B98&\"　\"&申込みフォーム!C98,\"\")","v":""},{"$f":"IF(申込みフォーム!E98<>\"\",申込みフォーム!E98&\"　\"&申込みフォーム!F98,\"\")","v":""},{"$f":"IF(申込みフォーム!G98<>\"\",申込みフォーム!G98,\"\")","v":""},{"$f":"IF(申込みフォーム!H98<>\"\",申込みフォーム!H98,\"\")","v":""},{"$f":"IF(申込みフォーム!D98<>\"\",申込みフォーム!D98,\"\")","v":""},{"$f":"IF(申込みフォーム!I98<>\"\",REPLACE(申込みフォーム!I98,4,,\"-\"),\"\")","v":""},{"$f":"IF(申込みフォーム!J98<>\"\",申込みフォーム!J98,\"\")","v":""},{"$f":"IF(申込みフォーム!K98<>\"\",申込みフォーム!K98,\"\")","v":""},{"$f":"IF(申込みフォーム!L98<>\"\",MID(申込みフォーム!L98,1,3)&\"-\"&MID(申込みフォーム!L98,4,4)&\"-\"&MID(申込みフォーム!L98,8,4),\"\")","v":""},{"$f":"IF(申込みフォーム!M98<>\"\",申込みフォーム!M98,\"\")","v":""},{"$f":"IF(申込みフォーム!N98<>\"\",申込みフォーム!N98,\"\")","v":""},{"$f":"IF(申込みフォーム!O98<>\"\",申込みフォーム!O98,\"\")","v":""},{"$f":"IF(申込みフォーム!P98<>\"\",申込みフォーム!P98,\"\")","v":""},{"$f":"IF(申込みフォーム!Q98<>\"\",申込みフォーム!Q98,\"\")","v":""},{"$f":"IF(申込みフォーム!R98<>\"\",申込みフォーム!R98,\"\")","v":""},{"$f":"IF(申込みフォーム!S98<>\"\",申込みフォーム!S98,\"\")","v":""},{"$f":"IF(申込みフォーム!U98=\"細胞診のみ\",\"協会子宮　\",IF(申込みフォーム!U98=\"細胞診＋（自費）膣エコー\",\"協会子宮＋自費膣エコー　\",\"\"))&IF(申込みフォーム!W98<>\"\",\"協会ﾏﾝﾓ　\",\"\")&IF(申込みフォーム!Y98<>\"\",\"協会骨　\",\"\")&IF(申込みフォーム!AA98<>\"\",\"協会肝炎　\",\"\")","v":""},{"$f":"IF(申込みフォーム!AB98<>\"\",\"子宮　\",\"\")&IF(申込みフォーム!AC98<>\"\",\"ﾏﾝﾓ　\",\"\")&IF(申込みフォーム!AD98<>\"\",\"乳ｴｺｰ\",\"\")","v":""},{"$f":"IF(申込みフォーム!AE98<>\"\",\"ﾏｰｶｰ　\",\"\")&IF(申込みフォーム!AF98<>\"\",\"心機能　\",\"\")&IF(申込みフォーム!AG98<>\"\",\"ABC　\",\"\")&IF(申込みフォーム!AH98<>\"\",\"Lox　\",\"\")&IF(申込みフォーム!AI98<>\"\",\"甲状腺　\",\"\")&IF(申込みフォーム!AJ98<>\"\",\"肝炎\",\"\")","v":""},{"$f":"IF(申込みフォーム!AK98<>\"\",\"脳　\",\"\")&IF(申込みフォーム!AL98<>\"\",\"胸部CT　\",\"\")&IF(申込みフォーム!AM98<>\"\",\"肺機能　\",\"\")&IF(申込みフォーム!AN98<>\"\",\"腹ｴｺｰ　\",\"\")&IF(申込みフォーム!AO98<>\"\",\"心ｴｺｰ　\",\"\")&IF(申込みフォーム!AP98<>\"\",\"ﾌﾛｰﾗ　\",\"\")&IF(申込みフォーム!AQ98<>\"\",\"OCT　\",\"\")&IF(申込みフォーム!AR98<>\"\",\"検便　\",\"\")&IF(申込みフォーム!AS98<>\"\",\"骨　\",\"\")&IF(申込みフォーム!AT98<>\"\",\"骨＋ﾛｺﾓ\",\"\")","v":""},{"$f":"IF(申込みフォーム!AU98<>\"\",申込みフォーム!AU98&\"　　\",\"\")&IF(申込みフォーム!AV98<>\"\",申込みフォーム!AV98&\"　　\",\"\")&IF(申込みフォーム!AW98<>\"\",申込みフォーム!AW98&\"　　\",\"\")&IF(申込みフォーム!$AX98=\"〇\",\"4月　\",\"\")&IF(申込みフォーム!$AY98=\"〇\",\"5月　\",\"\")&IF(申込みフォーム!$AZ98=\"〇\",\"6月　\",\"\")&IF(申込みフォーム!$BA98=\"〇\",\"7月　\",\"\")&IF(申込みフォーム!$BB98=\"〇\",\"8月　\",\"\")&IF(申込みフォーム!$BC98=\"〇\",\"9月　\",\"\")&IF(申込みフォーム!$BD98=\"〇\",\"10月　\",\"\")&IF(申込みフォーム!$BE98=\"〇\",\"11月　\",\"\")&IF(申込みフォーム!$BF98=\"〇\",\"12月　\",\"\")&IF(申込みフォーム!$BG98=\"〇\",\"1月　\",\"\")&IF(申込みフォーム!$BH98=\"〇\",\"2月　\",\"\")&IF(申込みフォーム!$BI98=\"〇\",\"3月　\",\"\")","v":""},{"$f":"IF(申込みフォーム!BJ98<>\"\",申込みフォーム!BJ98,\"\")","v":""},{"$f":"IF(申込みフォーム!BK98<>\"\",申込みフォーム!BK98,\"\")","v":""},{"$f":"申込みフォーム!$Z98","v":""},{"$f":"IF(申込みフォーム!BL98<>\"\",申込みフォーム!BL98&\"　　\",\"\")&IF(申込みフォーム!BM98<>\"\",申込みフォーム!BM98&\"　　\",\"\")&IF(申込みフォーム!BN98<>\"\",申込みフォーム!BN98&\"　　\",\"\")","v":{"$error":"#VALUE!"}},{"$f":"IF($B89=VLOOKUP($B89,'受診者リスト(抽出用）'!$A:$F,1,0),VLOOKUP($B89,'受診者リスト(抽出用）'!$A:$F,3,0)&\"　（団体マスタ）\"&VLOOKUP($B89,'受診者リスト(抽出用）'!$A:$F,4,0)&\"　（枝番）\"&VLOOKUP(B89,'受診者リスト(抽出用）'!$A:$F,5,0),\"\")","v":{"$error":"#N/A"}}]
[89,{"$f":"IF(申込みフォーム!B99<>\"\",申込みフォーム!B99&\"　\"&申込みフォーム!C99,\"\")","v":""},{"$f":"IF(申込みフォーム!E99<>\"\",申込みフォーム!E99&\"　\"&申込みフォーム!F99,\"\")","v":""},{"$f":"IF(申込みフォーム!G99<>\"\",申込みフォーム!G99,\"\")","v":""},{"$f":"IF(申込みフォーム!H99<>\"\",申込みフォーム!H99,\"\")","v":""},{"$f":"IF(申込みフォーム!D99<>\"\",申込みフォーム!D99,\"\")","v":""},{"$f":"IF(申込みフォーム!I99<>\"\",REPLACE(申込みフォーム!I99,4,,\"-\"),\"\")","v":""},{"$f":"IF(申込みフォーム!J99<>\"\",申込みフォーム!J99,\"\")","v":""},{"$f":"IF(申込みフォーム!K99<>\"\",申込みフォーム!K99,\"\")","v":""},{"$f":"IF(申込みフォーム!L99<>\"\",MID(申込みフォーム!L99,1,3)&\"-\"&MID(申込みフォーム!L99,4,4)&\"-\"&MID(申込みフォーム!L99,8,4),\"\")","v":""},{"$f":"IF(申込みフォーム!M99<>\"\",申込みフォーム!M99,\"\")","v":""},{"$f":"IF(申込みフォーム!N99<>\"\",申込みフォーム!N99,\"\")","v":""},{"$f":"IF(申込みフォーム!O99<>\"\",申込みフォーム!O99,\"\")","v":""},{"$f":"IF(申込みフォーム!P99<>\"\",申込みフォーム!P99,\"\")","v":""},{"$f":"IF(申込みフォーム!Q99<>\"\",申込みフォーム!Q99,\"\")","v":""},{"$f":"IF(申込みフォーム!R99<>\"\",申込みフォーム!R99,\"\")","v":""},{"$f":"IF(申込みフォーム!S99<>\"\",申込みフォーム!S99,\"\")","v":""},{"$f":"IF(申込みフォーム!U99=\"細胞診のみ\",\"協会子宮　\",IF(申込みフォーム!U99=\"細胞診＋（自費）膣エコー\",\"協会子宮＋自費膣エコー　\",\"\"))&IF(申込みフォーム!W99<>\"\",\"協会ﾏﾝﾓ　\",\"\")&IF(申込みフォーム!Y99<>\"\",\"協会骨　\",\"\")&IF(申込みフォーム!AA99<>\"\",\"協会肝炎　\",\"\")","v":""},{"$f":"IF(申込みフォーム!AB99<>\"\",\"子宮　\",\"\")&IF(申込みフォーム!AC99<>\"\",\"ﾏﾝﾓ　\",\"\")&IF(申込みフォーム!AD99<>\"\",\"乳ｴｺｰ\",\"\")","v":""},{"$f":"IF(申込みフォーム!AE99<>\"\",\"ﾏｰｶｰ　\",\"\")&IF(申込みフォーム!AF99<>\"\",\"心機能　\",\"\")&IF(申込みフォーム!AG99<>\"\",\"ABC　\",\"\")&IF(申込みフォーム!AH99<>\"\",\"Lox　\",\"\")&IF(申込みフォーム!AI99<>\"\",\"甲状腺　\",\"\")&IF(申込みフォーム!AJ99<>\"\",\"肝炎\",\"\")","v":""},{"$f":"IF(申込みフォーム!AK99<>\"\",\"脳　\",\"\")&IF(申込みフォーム!AL99<>\"\",\"胸部CT　\",\"\")&IF(申込みフォーム!AM99<>\"\",\"肺機能　\",\"\")&IF(申込みフォーム!AN99<>\"\",\"腹ｴｺｰ　\",\"\")&IF(申込みフォーム!AO99<>\"\",\"心ｴｺｰ　\",\"\")&IF(申込みフォーム!AP99<>\"\",\"ﾌﾛｰﾗ　\",\"\")&IF(申込みフォーム!AQ99<>\"\",\"OCT　\",\"\")&IF(申込みフォーム!AR99<>\"\",\"検便　\",\"\")&IF(申込みフォーム!AS99<>\"\",\"骨　\",\"\")&IF(申込みフォーム!AT99<>\"\",\"骨＋ﾛｺﾓ\",\"\")","v":""},{"$f":"IF(申込みフォーム!AU99<>\"\",申込みフォーム!AU99&\"　　\",\"\")&IF(申込みフォーム!AV99<>\"\",申込みフォーム!AV99&\"　　\",\"\")&IF(申込みフォーム!AW99<>\"\",申込みフォーム!AW99&\"　　\",\"\")&IF(申込みフォーム!$AX99=\"〇\",\"4月　\",\"\")&IF(申込みフォーム!$AY99=\"〇\",\"5月　\",\"\")&IF(申込みフォーム!$AZ99=\"〇\",\"6月　\",\"\")&IF(申込みフォーム!$BA99=\"〇\",\"7月　\",\"\")&IF(申込みフォーム!$BB99=\"〇\",\"8月　\",\"\")&IF(申込みフォーム!$BC99=\"〇\",\"9月　\",\"\")&IF(申込みフォーム!$BD99=\"〇\",\"10月　\",\"\")&IF(申込みフォーム!$BE99=\"〇\",\"11月　\",\"\")&IF(申込みフォーム!$BF99=\"〇\",\"12月　\",\"\")&IF(申込みフォーム!$BG99=\"〇\",\"1月　\",\"\")&IF(申込みフォーム!$BH99=\"〇\",\"2月　\",\"\")&IF(申込みフォーム!$BI99=\"〇\",\"3月　\",\"\")","v":""},{"$f":"IF(申込みフォーム!BJ99<>\"\",申込みフォーム!BJ99,\"\")","v":""},{"$f":"IF(申込みフォーム!BK99<>\"\",申込みフォーム!BK99,\"\")","v":""},{"$f":"申込みフォーム!$Z99","v":""},{"$f":"IF(申込みフォーム!BL99<>\"\",申込みフォーム!BL99&\"　　\",\"\")&IF(申込みフォーム!BM99<>\"\",申込みフォーム!BM99&\"　　\",\"\")&IF(申込みフォーム!BN99<>\"\",申込みフォーム!BN99&\"　　\",\"\")","v":{"$error":"#VALUE!"}},{"$f":"IF($B90=VLOOKUP($B90,'受診者リスト(抽出用）'!$A:$F,1,0),VLOOKUP($B90,'受診者リスト(抽出用）'!$A:$F,3,0)&\"　（団体マスタ）\"&VLOOKUP($B90,'受診者リスト(抽出用）'!$A:$F,4,0)&\"　（枝番）\"&VLOOKUP(B90,'受診者リスト(抽出用）'!$A:$F,5,0),\"\")","v":{"$error":"#N/A"}}]
[90,{"$f":"IF(申込みフォーム!B100<>\"\",申込みフォーム!B100&\"　\"&申込みフォーム!C100,\"\")","v":""},{"$f":"IF(申込みフォーム!E100<>\"\",申込みフォーム!E100&\"　\"&申込みフォーム!F100,\"\")","v":""},{"$f":"IF(申込みフォーム!G100<>\"\",申込みフォーム!G100,\"\")","v":""},{"$f":"IF(申込みフォーム!H100<>\"\",申込みフォーム!H100,\"\")","v":""},{"$f":"IF(申込みフォーム!D100<>\"\",申込みフォーム!D100,\"\")","v":""},{"$f":"IF(申込みフォーム!I100<>\"\",REPLACE(申込みフォーム!I100,4,,\"-\"),\"\")","v":""},{"$f":"IF(申込みフォーム!J100<>\"\",申込みフォーム!J100,\"\")","v":""},{"$f":"IF(申込みフォーム!K100<>\"\",申込みフォーム!K100,\"\")","v":""},{"$f":"IF(申込みフォーム!L100<>\"\",MID(申込みフォーム!L100,1,3)&\"-\"&MID(申込みフォーム!L100,4,4)&\"-\"&MID(申込みフォーム!L100,8,4),\"\")","v":""},{"$f":"IF(申込みフォーム!M100<>\"\",申込みフォーム!M100,\"\")","v":""},{"$f":"IF(申込みフォーム!N100<>\"\",申込みフォーム!N100,\"\")","v":""},{"$f":"IF(申込みフォーム!O100<>\"\",申込みフォーム!O100,\"\")","v":""},{"$f":"IF(申込みフォーム!P100<>\"\",申込みフォーム!P100,\"\")","v":""},{"$f":"IF(申込みフォーム!Q100<>\"\",申込みフォーム!Q100,\"\")","v":""},{"$f":"IF(申込みフォーム!R100<>\"\",申込みフォーム!R100,\"\")","v":""},{"$f":"IF(申込みフォーム!S100<>\"\",申込みフォーム!S100,\"\")","v":""},{"$f":"IF(申込みフォーム!U100=\"細胞診のみ\",\"協会子宮　\",IF(申込みフォーム!U100=\"細胞診＋（自費）膣エコー\",\"協会子宮＋自費膣エコー　\",\"\"))&IF(申込みフォーム!W100<>\"\",\"協会ﾏﾝﾓ　\",\"\")&IF(申込みフォーム!Y100<>\"\",\"協会骨　\",\"\")&IF(申込みフォーム!AA100<>\"\",\"協会肝炎　\",\"\")","v":""},{"$f":"IF(申込みフォーム!AB100<>\"\",\"子宮　\",\"\")&IF(申込みフォーム!AC100<>\"\",\"ﾏﾝﾓ　\",\"\")&IF(申込みフォーム!AD100<>\"\",\"乳ｴｺｰ\",\"\")","v":""},{"$f":"IF(申込みフォーム!AE100<>\"\",\"ﾏｰｶｰ　\",\"\")&IF(申込みフォーム!AF100<>\"\",\"心機能　\",\"\")&IF(申込みフォーム!AG100<>\"\",\"ABC　\",\"\")&IF(申込みフォーム!AH100<>\"\",\"Lox　\",\"\")&IF(申込みフォーム!AI100<>\"\",\"甲状腺　\",\"\")&IF(申込みフォーム!AJ100<>\"\",\"肝炎\",\"\")","v":""},{"$f":"IF(申込みフォーム!AK100<>\"\",\"脳　\",\"\")&IF(申込みフォーム!AL100<>\"\",\"胸部CT　\",\"\")&IF(申込みフォーム!AM100<>\"\",\"肺機能　\",\"\")&IF(申込みフォーム!AN100<>\"\",\"腹ｴｺｰ　\",\"\")&IF(申込みフォーム!AO100<>\"\",\"心ｴｺｰ　\",\"\")&IF(申込みフォーム!AP100<>\"\",\"ﾌﾛｰﾗ　\",\"\")&IF(申込みフォーム!AQ100<>\"\",\"OCT　\",\"\")&IF(申込みフォーム!AR100<>\"\",\"検便　\",\"\")&IF(申込みフォーム!AS100<>\"\",\"骨　\",\"\")&IF(申込みフォーム!AT100<>\"\",\"骨＋ﾛｺﾓ\",\"\")","v":""},{"$f":"IF(申込みフォーム!AU100<>\"\",申込みフォーム!AU100&\"　　\",\"\")&IF(申込みフォーム!AV100<>\"\",申込みフォーム!AV100&\"　　\",\"\")&IF(申込みフォーム!AW100<>\"\",申込みフォーム!AW100&\"　　\",\"\")&IF(申込みフォーム!$AX100=\"〇\",\"4月　\",\"\")&IF(申込みフォーム!$AY100=\"〇\",\"5月　\",\"\")&IF(申込みフォーム!$AZ100=\"〇\",\"6月　\",\"\")&IF(申込みフォーム!$BA100=\"〇\",\"7月　\",\"\")&IF(申込みフォーム!$BB100=\"〇\",\"8月　\",\"\")&IF(申込みフォーム!$BC100=\"〇\",\"9月　\",\"\")&IF(申込みフォーム!$BD100=\"〇\",\"10月　\",\"\")&IF(申込みフォーム!$BE100=\"〇\",\"11月　\",\"\")&IF(申込みフォーム!$BF100=\"〇\",\"12月　\",\"\")&IF(申込みフォーム!$BG100=\"〇\",\"1月　\",\"\")&IF(申込みフォーム!$BH100=\"〇\",\"2月　\",\"\")&IF(申込みフォーム!$BI100=\"〇\",\"3月　\",\"\")","v":""},{"$f":"IF(申込みフォーム!BJ100<>\"\",申込みフォーム!BJ100,\"\")","v":""},{"$f":"IF(申込みフォーム!BK100<>\"\",申込みフォーム!BK100,\"\")","v":""},{"$f":"申込みフォーム!$Z100","v":""},{"$f":"IF(申込みフォーム!BL100<>\"\",申込みフォーム!BL100&\"　　\",\"\")&IF(申込みフォーム!BM100<>\"\",申込みフォーム!BM100&\"　　\",\"\")&IF(申込みフォーム!BN100<>\"\",申込みフォーム!BN100&\"　　\",\"\")","v":{"$error":"#VALUE!"}},{"$f":"IF($B91=VLOOKUP($B91,'受診者リスト(抽出用）'!$A:$F,1,0),VLOOKUP($B91,'受診者リスト(抽出用）'!$A:$F,3,0)&\"　（団体マスタ）\"&VLOOKUP($B91,'受診者リスト(抽出用）'!$A:$F,4,0)&\"　（枝番）\"&VLOOKUP(B91,'受診者リスト(抽出用）'!$A:$F,5,0),\"\")","v":{"$error":"#N/A"}}]
[91,{"$f":"IF(申込みフォーム!B101<>\"\",申込みフォーム!B101&\"　\"&申込みフォーム!C101,\"\")","v":""},{"$f":"IF(申込みフォーム!E101<>\"\",申込みフォーム!E101&\"　\"&申込みフォーム!F101,\"\")","v":""},{"$f":"IF(申込みフォーム!G101<>\"\",申込みフォーム!G101,\"\")","v":""},{"$f":"IF(申込みフォーム!H101<>\"\",申込みフォーム!H101,\"\")","v":""},{"$f":"IF(申込みフォーム!D101<>\"\",申込みフォーム!D101,\"\")","v":""},{"$f":"IF(申込みフォーム!I101<>\"\",REPLACE(申込みフォーム!I101,4,,\"-\"),\"\")","v":""},{"$f":"IF(申込みフォーム!J101<>\"\",申込みフォーム!J101,\"\")","v":""},{"$f":"IF(申込みフォーム!K101<>\"\",申込みフォーム!K101,\"\")","v":""},{"$f":"IF(申込みフォーム!L101<>\"\",MID(申込みフォーム!L101,1,3)&\"-\"&MID(申込みフォーム!L101,4,4)&\"-\"&MID(申込みフォーム!L101,8,4),\"\")","v":""},{"$f":"IF(申込みフォーム!M101<>\"\",申込みフォーム!M101,\"\")","v":""},{"$f":"IF(申込みフォーム!N101<>\"\",申込みフォーム!N101,\"\")","v":""},{"$f":"IF(申込みフォーム!O101<>\"\",申込みフォーム!O101,\"\")","v":""},{"$f":"IF(申込みフォーム!P101<>\"\",申込みフォーム!P101,\"\")","v":""},{"$f":"IF(申込みフォーム!Q101<>\"\",申込みフォーム!Q101,\"\")","v":""},{"$f":"IF(申込みフォーム!R101<>\"\",申込みフォーム!R101,\"\")","v":""},{"$f":"IF(申込みフォーム!S101<>\"\",申込みフォーム!S101,\"\")","v":""},{"$f":"IF(申込みフォーム!U101=\"細胞診のみ\",\"協会子宮　\",IF(申込みフォーム!U101=\"細胞診＋（自費）膣エコー\",\"協会子宮＋自費膣エコー　\",\"\"))&IF(申込みフォーム!W101<>\"\",\"協会ﾏﾝﾓ　\",\"\")&IF(申込みフォーム!Y101<>\"\",\"協会骨　\",\"\")&IF(申込みフォーム!AA101<>\"\",\"協会肝炎　\",\"\")","v":""},{"$f":"IF(申込みフォーム!AB101<>\"\",\"子宮　\",\"\")&IF(申込みフォーム!AC101<>\"\",\"ﾏﾝﾓ　\",\"\")&IF(申込みフォーム!AD101<>\"\",\"乳ｴｺｰ\",\"\")","v":""},{"$f":"IF(申込みフォーム!AE101<>\"\",\"ﾏｰｶｰ　\",\"\")&IF(申込みフォーム!AF101<>\"\",\"心機能　\",\"\")&IF(申込みフォーム!AG101<>\"\",\"ABC　\",\"\")&IF(申込みフォーム!AH101<>\"\",\"Lox　\",\"\")&IF(申込みフォーム!AI101<>\"\",\"甲状腺　\",\"\")&IF(申込みフォーム!AJ101<>\"\",\"肝炎\",\"\")","v":""},{"$f":"IF(申込みフォーム!AK101<>\"\",\"脳　\",\"\")&IF(申込みフォーム!AL101<>\"\",\"胸部CT　\",\"\")&IF(申込みフォーム!AM101<>\"\",\"肺機能　\",\"\")&IF(申込みフォーム!AN101<>\"\",\"腹ｴｺｰ　\",\"\")&IF(申込みフォーム!AO101<>\"\",\"心ｴｺｰ　\",\"\")&IF(申込みフォーム!AP101<>\"\",\"ﾌﾛｰﾗ　\",\"\")&IF(申込みフォーム!AQ101<>\"\",\"OCT　\",\"\")&IF(申込みフォーム!AR101<>\"\",\"検便　\",\"\")&IF(申込みフォーム!AS101<>\"\",\"骨　\",\"\")&IF(申込みフォーム!AT101<>\"\",\"骨＋ﾛｺﾓ\",\"\")","v":""},{"$f":"IF(申込みフォーム!AU101<>\"\",申込みフォーム!AU101&\"　　\",\"\")&IF(申込みフォーム!AV101<>\"\",申込みフォーム!AV101&\"　　\",\"\")&IF(申込みフォーム!AW101<>\"\",申込みフォーム!AW101&\"　　\",\"\")&IF(申込みフォーム!$AX101=\"〇\",\"4月　\",\"\")&IF(申込みフォーム!$AY101=\"〇\",\"5月　\",\"\")&IF(申込みフォーム!$AZ101=\"〇\",\"6月　\",\"\")&IF(申込みフォーム!$BA101=\"〇\",\"7月　\",\"\")&IF(申込みフォーム!$BB101=\"〇\",\"8月　\",\"\")&IF(申込みフォーム!$BC101=\"〇\",\"9月　\",\"\")&IF(申込みフォーム!$BD101=\"〇\",\"10月　\",\"\")&IF(申込みフォーム!$BE101=\"〇\",\"11月　\",\"\")&IF(申込みフォーム!$BF101=\"〇\",\"12月　\",\"\")&IF(申込みフォーム!$BG101=\"〇\",\"1月　\",\"\")&IF(申込みフォーム!$BH101=\"〇\",\"2月　\",\"\")&IF(申込みフォーム!$BI101=\"〇\",\"3月　\",\"\")","v":""},{"$f":"IF(申込みフォーム!BJ101<>\"\",申込みフォーム!BJ101,\"\")","v":""},{"$f":"IF(申込みフォーム!BK101<>\"\",申込みフォーム!BK101,\"\")","v":""},{"$f":"申込みフォーム!$Z101","v":""},{"$f":"IF(申込みフォーム!BL101<>\"\",申込みフォーム!BL101&\"　　\",\"\")&IF(申込みフォーム!BM101<>\"\",申込みフォーム!BM101&\"　　\",\"\")&IF(申込みフォーム!BN101<>\"\",申込みフォーム!BN101&\"　　\",\"\")","v":{"$error":"#VALUE!"}},{"$f":"IF($B92=VLOOKUP($B92,'受診者リスト(抽出用）'!$A:$F,1,0),VLOOKUP($B92,'受診者リスト(抽出用）'!$A:$F,3,0)&\"　（団体マスタ）\"&VLOOKUP($B92,'受診者リスト(抽出用）'!$A:$F,4,0)&\"　（枝番）\"&VLOOKUP(B92,'受診者リスト(抽出用）'!$A:$F,5,0),\"\")","v":{"$error":"#N/A"}}]
[92,{"$f":"IF(申込みフォーム!B102<>\"\",申込みフォーム!B102&\"　\"&申込みフォーム!C102,\"\")","v":""},{"$f":"IF(申込みフォーム!E102<>\"\",申込みフォーム!E102&\"　\"&申込みフォーム!F102,\"\")","v":""},{"$f":"IF(申込みフォーム!G102<>\"\",申込みフォーム!G102,\"\")","v":""},{"$f":"IF(申込みフォーム!H102<>\"\",申込みフォーム!H102,\"\")","v":""},{"$f":"IF(申込みフォーム!D102<>\"\",申込みフォーム!D102,\"\")","v":""},{"$f":"IF(申込みフォーム!I102<>\"\",REPLACE(申込みフォーム!I102,4,,\"-\"),\"\")","v":""},{"$f":"IF(申込みフォーム!J102<>\"\",申込みフォーム!J102,\"\")","v":""},{"$f":"IF(申込みフォーム!K102<>\"\",申込みフォーム!K102,\"\")","v":""},{"$f":"IF(申込みフォーム!L102<>\"\",MID(申込みフォーム!L102,1,3)&\"-\"&MID(申込みフォーム!L102,4,4)&\"-\"&MID(申込みフォーム!L102,8,4),\"\")","v":""},{"$f":"IF(申込みフォーム!M102<>\"\",申込みフォーム!M102,\"\")","v":""},{"$f":"IF(申込みフォーム!N102<>\"\",申込みフォーム!N102,\"\")","v":""},{"$f":"IF(申込みフォーム!O102<>\"\",申込みフォーム!O102,\"\")","v":""},{"$f":"IF(申込みフォーム!P102<>\"\",申込みフォーム!P102,\"\")","v":""},{"$f":"IF(申込みフォーム!Q102<>\"\",申込みフォーム!Q102,\"\")","v":""},{"$f":"IF(申込みフォーム!R102<>\"\",申込みフォーム!R102,\"\")","v":""},{"$f":"IF(申込みフォーム!S102<>\"\",申込みフォーム!S102,\"\")","v":""},{"$f":"IF(申込みフォーム!U102=\"細胞診のみ\",\"協会子宮　\",IF(申込みフォーム!U102=\"細胞診＋（自費）膣エコー\",\"協会子宮＋自費膣エコー　\",\"\"))&IF(申込みフォーム!W102<>\"\",\"協会ﾏﾝﾓ　\",\"\")&IF(申込みフォーム!Y102<>\"\",\"協会骨　\",\"\")&IF(申込みフォーム!AA102<>\"\",\"協会肝炎　\",\"\")","v":""},{"$f":"IF(申込みフォーム!AB102<>\"\",\"子宮　\",\"\")&IF(申込みフォーム!AC102<>\"\",\"ﾏﾝﾓ　\",\"\")&IF(申込みフォーム!AD102<>\"\",\"乳ｴｺｰ\",\"\")","v":""},{"$f":"IF(申込みフォーム!AE102<>\"\",\"ﾏｰｶｰ　\",\"\")&IF(申込みフォーム!AF102<>\"\",\"心機能　\",\"\")&IF(申込みフォーム!AG102<>\"\",\"ABC　\",\"\")&IF(申込みフォーム!AH102<>\"\",\"Lox　\",\"\")&IF(申込みフォーム!AI102<>\"\",\"甲状腺　\",\"\")&IF(申込みフォーム!AJ102<>\"\",\"肝炎\",\"\")","v":""},{"$f":"IF(申込みフォーム!AK102<>\"\",\"脳　\",\"\")&IF(申込みフォーム!AL102<>\"\",\"胸部CT　\",\"\")&IF(申込みフォーム!AM102<>\"\",\"肺機能　\",\"\")&IF(申込みフォーム!AN102<>\"\",\"腹ｴｺｰ　\",\"\")&IF(申込みフォーム!AO102<>\"\",\"心ｴｺｰ　\",\"\")&IF(申込みフォーム!AP102<>\"\",\"ﾌﾛｰﾗ　\",\"\")&IF(申込みフォーム!AQ102<>\"\",\"OCT　\",\"\")&IF(申込みフォーム!AR102<>\"\",\"検便　\",\"\")&IF(申込みフォーム!AS102<>\"\",\"骨　\",\"\")&IF(申込みフォーム!AT102<>\"\",\"骨＋ﾛｺﾓ\",\"\")","v":""},{"$f":"IF(申込みフォーム!AU102<>\"\",申込みフォーム!AU102&\"　　\",\"\")&IF(申込みフォーム!AV102<>\"\",申込みフォーム!AV102&\"　　\",\"\")&IF(申込みフォーム!AW102<>\"\",申込みフォーム!AW102&\"　　\",\"\")&IF(申込みフォーム!$AX102=\"〇\",\"4月　\",\"\")&IF(申込みフォーム!$AY102=\"〇\",\"5月　\",\"\")&IF(申込みフォーム!$AZ102=\"〇\",\"6月　\",\"\")&IF(申込みフォーム!$BA102=\"〇\",\"7月　\",\"\")&IF(申込みフォーム!$BB102=\"〇\",\"8月　\",\"\")&IF(申込みフォーム!$BC102=\"〇\",\"9月　\",\"\")&IF(申込みフォーム!$BD102=\"〇\",\"10月　\",\"\")&IF(申込みフォーム!$BE102=\"〇\",\"11月　\",\"\")&IF(申込みフォーム!$BF102=\"〇\",\"12月　\",\"\")&IF(申込みフォーム!$BG102=\"〇\",\"1月　\",\"\")&IF(申込みフォーム!$BH102=\"〇\",\"2月　\",\"\")&IF(申込みフォーム!$BI102=\"〇\",\"3月　\",\"\")","v":""},{"$f":"IF(申込みフォーム!BJ102<>\"\",申込みフォーム!BJ102,\"\")","v":""},{"$f":"IF(申込みフォーム!BK102<>\"\",申込みフォーム!BK102,\"\")","v":""},{"$f":"申込みフォーム!$Z102","v":""},{"$f":"IF(申込みフォーム!BL102<>\"\",申込みフォーム!BL102&\"　　\",\"\")&IF(申込みフォーム!BM102<>\"\",申込みフォーム!BM102&\"　　\",\"\")&IF(申込みフォーム!BN102<>\"\",申込みフォーム!BN102&\"　　\",\"\")","v":{"$error":"#VALUE!"}},{"$f":"IF($B93=VLOOKUP($B93,'受診者リスト(抽出用）'!$A:$F,1,0),VLOOKUP($B93,'受診者リスト(抽出用）'!$A:$F,3,0)&\"　（団体マスタ）\"&VLOOKUP($B93,'受診者リスト(抽出用）'!$A:$F,4,0)&\"　（枝番）\"&VLOOKUP(B93,'受診者リスト(抽出用）'!$A:$F,5,0),\"\")","v":{"$error":"#N/A"}}]
[93,{"$f":"IF(申込みフォーム!B103<>\"\",申込みフォーム!B103&\"　\"&申込みフォーム!C103,\"\")","v":""},{"$f":"IF(申込みフォーム!E103<>\"\",申込みフォーム!E103&\"　\"&申込みフォーム!F103,\"\")","v":""},{"$f":"IF(申込みフォーム!G103<>\"\",申込みフォーム!G103,\"\")","v":""},{"$f":"IF(申込みフォーム!H103<>\"\",申込みフォーム!H103,\"\")","v":""},{"$f":"IF(申込みフォーム!D103<>\"\",申込みフォーム!D103,\"\")","v":""},{"$f":"IF(申込みフォーム!I103<>\"\",REPLACE(申込みフォーム!I103,4,,\"-\"),\"\")","v":""},{"$f":"IF(申込みフォーム!J103<>\"\",申込みフォーム!J103,\"\")","v":""},{"$f":"IF(申込みフォーム!K103<>\"\",申込みフォーム!K103,\"\")","v":""},{"$f":"IF(申込みフォーム!L103<>\"\",MID(申込みフォーム!L103,1,3)&\"-\"&MID(申込みフォーム!L103,4,4)&\"-\"&MID(申込みフォーム!L103,8,4),\"\")","v":""},{"$f":"IF(申込みフォーム!M103<>\"\",申込みフォーム!M103,\"\")","v":""},{"$f":"IF(申込みフォーム!N103<>\"\",申込みフォーム!N103,\"\")","v":""},{"$f":"IF(申込みフォーム!O103<>\"\",申込みフォーム!O103,\"\")","v":""},{"$f":"IF(申込みフォーム!P103<>\"\",申込みフォーム!P103,\"\")","v":""},{"$f":"IF(申込みフォーム!Q103<>\"\",申込みフォーム!Q103,\"\")","v":""},{"$f":"IF(申込みフォーム!R103<>\"\",申込みフォーム!R103,\"\")","v":""},{"$f":"IF(申込みフォーム!S103<>\"\",申込みフォーム!S103,\"\")","v":""},{"$f":"IF(申込みフォーム!U103=\"細胞診のみ\",\"協会子宮　\",IF(申込みフォーム!U103=\"細胞診＋（自費）膣エコー\",\"協会子宮＋自費膣エコー　\",\"\"))&IF(申込みフォーム!W103<>\"\",\"協会ﾏﾝﾓ　\",\"\")&IF(申込みフォーム!Y103<>\"\",\"協会骨　\",\"\")&IF(申込みフォーム!AA103<>\"\",\"協会肝炎　\",\"\")","v":""},{"$f":"IF(申込みフォーム!AB103<>\"\",\"子宮　\",\"\")&IF(申込みフォーム!AC103<>\"\",\"ﾏﾝﾓ　\",\"\")&IF(申込みフォーム!AD103<>\"\",\"乳ｴｺｰ\",\"\")","v":""},{"$f":"IF(申込みフォーム!AE103<>\"\",\"ﾏｰｶｰ　\",\"\")&IF(申込みフォーム!AF103<>\"\",\"心機能　\",\"\")&IF(申込みフォーム!AG103<>\"\",\"ABC　\",\"\")&IF(申込みフォーム!AH103<>\"\",\"Lox　\",\"\")&IF(申込みフォーム!AI103<>\"\",\"甲状腺　\",\"\")&IF(申込みフォーム!AJ103<>\"\",\"肝炎\",\"\")","v":""},{"$f":"IF(申込みフォーム!AK103<>\"\",\"脳　\",\"\")&IF(申込みフォーム!AL103<>\"\",\"胸部CT　\",\"\")&IF(申込みフォーム!AM103<>\"\",\"肺機能　\",\"\")&IF(申込みフォーム!AN103<>\"\",\"腹ｴｺｰ　\",\"\")&IF(申込みフォーム!AO103<>\"\",\"心ｴｺｰ　\",\"\")&IF(申込みフォーム!AP103<>\"\",\"ﾌﾛｰﾗ　\",\"\")&IF(申込みフォーム!AQ103<>\"\",\"OCT　\",\"\")&IF(申込みフォーム!AR103<>\"\",\"検便　\",\"\")&IF(申込みフォーム!AS103<>\"\",\"骨　\",\"\")&IF(申込みフォーム!AT103<>\"\",\"骨＋ﾛｺﾓ\",\"\")","v":""},{"$f":"IF(申込みフォーム!AU103<>\"\",申込みフォーム!AU103&\"　　\",\"\")&IF(申込みフォーム!AV103<>\"\",申込みフォーム!AV103&\"　　\",\"\")&IF(申込みフォーム!AW103<>\"\",申込みフォーム!AW103&\"　　\",\"\")&IF(申込みフォーム!$AX103=\"〇\",\"4月　\",\"\")&IF(申込みフォーム!$AY103=\"〇\",\"5月　\",\"\")&IF(申込みフォーム!$AZ103=\"〇\",\"6月　\",\"\")&IF(申込みフォーム!$BA103=\"〇\",\"7月　\",\"\")&IF(申込みフォーム!$BB103=\"〇\",\"8月　\",\"\")&IF(申込みフォーム!$BC103=\"〇\",\"9月　\",\"\")&IF(申込みフォーム!$BD103=\"〇\",\"10月　\",\"\")&IF(申込みフォーム!$BE103=\"〇\",\"11月　\",\"\")&IF(申込みフォーム!$BF103=\"〇\",\"12月　\",\"\")&IF(申込みフォーム!$BG103=\"〇\",\"1月　\",\"\")&IF(申込みフォーム!$BH103=\"〇\",\"2月　\",\"\")&IF(申込みフォーム!$BI103=\"〇\",\"3月　\",\"\")","v":""},{"$f":"IF(申込みフォーム!BJ103<>\"\",申込みフォーム!BJ103,\"\")","v":""},{"$f":"IF(申込みフォーム!BK103<>\"\",申込みフォーム!BK103,\"\")","v":""},{"$f":"申込みフォーム!$Z103","v":""},{"$f":"IF(申込みフォーム!BL103<>\"\",申込みフォーム!BL103&\"　　\",\"\")&IF(申込みフォーム!BM103<>\"\",申込みフォーム!BM103&\"　　\",\"\")&IF(申込みフォーム!BN103<>\"\",申込みフォーム!BN103&\"　　\",\"\")","v":{"$error":"#VALUE!"}},{"$f":"IF($B94=VLOOKUP($B94,'受診者リスト(抽出用）'!$A:$F,1,0),VLOOKUP($B94,'受診者リスト(抽出用）'!$A:$F,3,0)&\"　（団体マスタ）\"&VLOOKUP($B94,'受診者リスト(抽出用）'!$A:$F,4,0)&\"　（枝番）\"&VLOOKUP(B94,'受診者リスト(抽出用）'!$A:$F,5,0),\"\")","v":{"$error":"#N/A"}}]
[94,{"$f":"IF(申込みフォーム!B104<>\"\",申込みフォーム!B104&\"　\"&申込みフォーム!C104,\"\")","v":""},{"$f":"IF(申込みフォーム!E104<>\"\",申込みフォーム!E104&\"　\"&申込みフォーム!F104,\"\")","v":""},{"$f":"IF(申込みフォーム!G104<>\"\",申込みフォーム!G104,\"\")","v":""},{"$f":"IF(申込みフォーム!H104<>\"\",申込みフォーム!H104,\"\")","v":""},{"$f":"IF(申込みフォーム!D104<>\"\",申込みフォーム!D104,\"\")","v":""},{"$f":"IF(申込みフォーム!I104<>\"\",REPLACE(申込みフォーム!I104,4,,\"-\"),\"\")","v":""},{"$f":"IF(申込みフォーム!J104<>\"\",申込みフォーム!J104,\"\")","v":""},{"$f":"IF(申込みフォーム!K104<>\"\",申込みフォーム!K104,\"\")","v":""},{"$f":"IF(申込みフォーム!L104<>\"\",MID(申込みフォーム!L104,1,3)&\"-\"&MID(申込みフォーム!L104,4,4)&\"-\"&MID(申込みフォーム!L104,8,4),\"\")","v":""},{"$f":"IF(申込みフォーム!M104<>\"\",申込みフォーム!M104,\"\")","v":""},{"$f":"IF(申込みフォーム!N104<>\"\",申込みフォーム!N104,\"\")","v":""},{"$f":"IF(申込みフォーム!O104<>\"\",申込みフォーム!O104,\"\")","v":""},{"$f":"IF(申込みフォーム!P104<>\"\",申込みフォーム!P104,\"\")","v":""},{"$f":"IF(申込みフォーム!Q104<>\"\",申込みフォーム!Q104,\"\")","v":""},{"$f":"IF(申込みフォーム!R104<>\"\",申込みフォーム!R104,\"\")","v":""},{"$f":"IF(申込みフォーム!S104<>\"\",申込みフォーム!S104,\"\")","v":""},{"$f":"IF(申込みフォーム!U104=\"細胞診のみ\",\"協会子宮　\",IF(申込みフォーム!U104=\"細胞診＋（自費）膣エコー\",\"協会子宮＋自費膣エコー　\",\"\"))&IF(申込みフォーム!W104<>\"\",\"協会ﾏﾝﾓ　\",\"\")&IF(申込みフォーム!Y104<>\"\",\"協会骨　\",\"\")&IF(申込みフォーム!AA104<>\"\",\"協会肝炎　\",\"\")","v":""},{"$f":"IF(申込みフォーム!AB104<>\"\",\"子宮　\",\"\")&IF(申込みフォーム!AC104<>\"\",\"ﾏﾝﾓ　\",\"\")&IF(申込みフォーム!AD104<>\"\",\"乳ｴｺｰ\",\"\")","v":""},{"$f":"IF(申込みフォーム!AE104<>\"\",\"ﾏｰｶｰ　\",\"\")&IF(申込みフォーム!AF104<>\"\",\"心機能　\",\"\")&IF(申込みフォーム!AG104<>\"\",\"ABC　\",\"\")&IF(申込みフォーム!AH104<>\"\",\"Lox　\",\"\")&IF(申込みフォーム!AI104<>\"\",\"甲状腺　\",\"\")&IF(申込みフォーム!AJ104<>\"\",\"肝炎\",\"\")","v":""},{"$f":"IF(申込みフォーム!AK104<>\"\",\"脳　\",\"\")&IF(申込みフォーム!AL104<>\"\",\"胸部CT　\",\"\")&IF(申込みフォーム!AM104<>\"\",\"肺機能　\",\"\")&IF(申込みフォーム!AN104<>\"\",\"腹ｴｺｰ　\",\"\")&IF(申込みフォーム!AO104<>\"\",\"心ｴｺｰ　\",\"\")&IF(申込みフォーム!AP104<>\"\",\"ﾌﾛｰﾗ　\",\"\")&IF(申込みフォーム!AQ104<>\"\",\"OCT　\",\"\")&IF(申込みフォーム!AR104<>\"\",\"検便　\",\"\")&IF(申込みフォーム!AS104<>\"\",\"骨　\",\"\")&IF(申込みフォーム!AT104<>\"\",\"骨＋ﾛｺﾓ\",\"\")","v":""},{"$f":"IF(申込みフォーム!AU104<>\"\",申込みフォーム!AU104&\"　　\",\"\")&IF(申込みフォーム!AV104<>\"\",申込みフォーム!AV104&\"　　\",\"\")&IF(申込みフォーム!AW104<>\"\",申込みフォーム!AW104&\"　　\",\"\")&IF(申込みフォーム!$AX104=\"〇\",\"4月　\",\"\")&IF(申込みフォーム!$AY104=\"〇\",\"5月　\",\"\")&IF(申込みフォーム!$AZ104=\"〇\",\"6月　\",\"\")&IF(申込みフォーム!$BA104=\"〇\",\"7月　\",\"\")&IF(申込みフォーム!$BB104=\"〇\",\"8月　\",\"\")&IF(申込みフォーム!$BC104=\"〇\",\"9月　\",\"\")&IF(申込みフォーム!$BD104=\"〇\",\"10月　\",\"\")&IF(申込みフォーム!$BE104=\"〇\",\"11月　\",\"\")&IF(申込みフォーム!$BF104=\"〇\",\"12月　\",\"\")&IF(申込みフォーム!$BG104=\"〇\",\"1月　\",\"\")&IF(申込みフォーム!$BH104=\"〇\",\"2月　\",\"\")&IF(申込みフォーム!$BI104=\"〇\",\"3月　\",\"\")","v":""},{"$f":"IF(申込みフォーム!BJ104<>\"\",申込みフォーム!BJ104,\"\")","v":""},{"$f":"IF(申込みフォーム!BK104<>\"\",申込みフォーム!BK104,\"\")","v":""},{"$f":"申込みフォーム!$Z104","v":""},{"$f":"IF(申込みフォーム!BL104<>\"\",申込みフォーム!BL104&\"　　\",\"\")&IF(申込みフォーム!BM104<>\"\",申込みフォーム!BM104&\"　　\",\"\")&IF(申込みフォーム!BN104<>\"\",申込みフォーム!BN104&\"　　\",\"\")","v":{"$error":"#VALUE!"}},{"$f":"IF($B95=VLOOKUP($B95,'受診者リスト(抽出用）'!$A:$F,1,0),VLOOKUP($B95,'受診者リスト(抽出用）'!$A:$F,3,0)&\"　（団体マスタ）\"&VLOOKUP($B95,'受診者リスト(抽出用）'!$A:$F,4,0)&\"　（枝番）\"&VLOOKUP(B95,'受診者リスト(抽出用）'!$A:$F,5,0),\"\")","v":{"$error":"#N/A"}}]
[95,{"$f":"IF(申込みフォーム!B105<>\"\",申込みフォーム!B105&\"　\"&申込みフォーム!C105,\"\")","v":""},{"$f":"IF(申込みフォーム!E105<>\"\",申込みフォーム!E105&\"　\"&申込みフォーム!F105,\"\")","v":""},{"$f":"IF(申込みフォーム!G105<>\"\",申込みフォーム!G105,\"\")","v":""},{"$f":"IF(申込みフォーム!H105<>\"\",申込みフォーム!H105,\"\")","v":""},{"$f":"IF(申込みフォーム!D105<>\"\",申込みフォーム!D105,\"\")","v":""},{"$f":"IF(申込みフォーム!I105<>\"\",REPLACE(申込みフォーム!I105,4,,\"-\"),\"\")","v":""},{"$f":"IF(申込みフォーム!J105<>\"\",申込みフォーム!J105,\"\")","v":""},{"$f":"IF(申込みフォーム!K105<>\"\",申込みフォーム!K105,\"\")","v":""},{"$f":"IF(申込みフォーム!L105<>\"\",MID(申込みフォーム!L105,1,3)&\"-\"&MID(申込みフォーム!L105,4,4)&\"-\"&MID(申込みフォーム!L105,8,4),\"\")","v":""},{"$f":"IF(申込みフォーム!M105<>\"\",申込みフォーム!M105,\"\")","v":""},{"$f":"IF(申込みフォーム!N105<>\"\",申込みフォーム!N105,\"\")","v":""},{"$f":"IF(申込みフォーム!O105<>\"\",申込みフォーム!O105,\"\")","v":""},{"$f":"IF(申込みフォーム!P105<>\"\",申込みフォーム!P105,\"\")","v":""},{"$f":"IF(申込みフォーム!Q105<>\"\",申込みフォーム!Q105,\"\")","v":""},{"$f":"IF(申込みフォーム!R105<>\"\",申込みフォーム!R105,\"\")","v":""},{"$f":"IF(申込みフォーム!S105<>\"\",申込みフォーム!S105,\"\")","v":""},{"$f":"IF(申込みフォーム!U105=\"細胞診のみ\",\"協会子宮　\",IF(申込みフォーム!U105=\"細胞診＋（自費）膣エコー\",\"協会子宮＋自費膣エコー　\",\"\"))&IF(申込みフォーム!W105<>\"\",\"協会ﾏﾝﾓ　\",\"\")&IF(申込みフォーム!Y105<>\"\",\"協会骨　\",\"\")&IF(申込みフォーム!AA105<>\"\",\"協会肝炎　\",\"\")","v":""},{"$f":"IF(申込みフォーム!AB105<>\"\",\"子宮　\",\"\")&IF(申込みフォーム!AC105<>\"\",\"ﾏﾝﾓ　\",\"\")&IF(申込みフォーム!AD105<>\"\",\"乳ｴｺｰ\",\"\")","v":""},{"$f":"IF(申込みフォーム!AE105<>\"\",\"ﾏｰｶｰ　\",\"\")&IF(申込みフォーム!AF105<>\"\",\"心機能　\",\"\")&IF(申込みフォーム!AG105<>\"\",\"ABC　\",\"\")&IF(申込みフォーム!AH105<>\"\",\"Lox　\",\"\")&IF(申込みフォーム!AI105<>\"\",\"甲状腺　\",\"\")&IF(申込みフォーム!AJ105<>\"\",\"肝炎\",\"\")","v":""},{"$f":"IF(申込みフォーム!AK105<>\"\",\"脳　\",\"\")&IF(申込みフォーム!AL105<>\"\",\"胸部CT　\",\"\")&IF(申込みフォーム!AM105<>\"\",\"肺機能　\",\"\")&IF(申込みフォーム!AN105<>\"\",\"腹ｴｺｰ　\",\"\")&IF(申込みフォーム!AO105<>\"\",\"心ｴｺｰ　\",\"\")&IF(申込みフォーム!AP105<>\"\",\"ﾌﾛｰﾗ　\",\"\")&IF(申込みフォーム!AQ105<>\"\",\"OCT　\",\"\")&IF(申込みフォーム!AR105<>\"\",\"検便　\",\"\")&IF(申込みフォーム!AS105<>\"\",\"骨　\",\"\")&IF(申込みフォーム!AT105<>\"\",\"骨＋ﾛｺﾓ\",\"\")","v":""},{"$f":"IF(申込みフォーム!AU105<>\"\",申込みフォーム!AU105&\"　　\",\"\")&IF(申込みフォーム!AV105<>\"\",申込みフォーム!AV105&\"　　\",\"\")&IF(申込みフォーム!AW105<>\"\",申込みフォーム!AW105&\"　　\",\"\")&IF(申込みフォーム!$AX105=\"〇\",\"4月　\",\"\")&IF(申込みフォーム!$AY105=\"〇\",\"5月　\",\"\")&IF(申込みフォーム!$AZ105=\"〇\",\"6月　\",\"\")&IF(申込みフォーム!$BA105=\"〇\",\"7月　\",\"\")&IF(申込みフォーム!$BB105=\"〇\",\"8月　\",\"\")&IF(申込みフォーム!$BC105=\"〇\",\"9月　\",\"\")&IF(申込みフォーム!$BD105=\"〇\",\"10月　\",\"\")&IF(申込みフォーム!$BE105=\"〇\",\"11月　\",\"\")&IF(申込みフォーム!$BF105=\"〇\",\"12月　\",\"\")&IF(申込みフォーム!$BG105=\"〇\",\"1月　\",\"\")&IF(申込みフォーム!$BH105=\"〇\",\"2月　\",\"\")&IF(申込みフォーム!$BI105=\"〇\",\"3月　\",\"\")","v":""},{"$f":"IF(申込みフォーム!BJ105<>\"\",申込みフォーム!BJ105,\"\")","v":""},{"$f":"IF(申込みフォーム!BK105<>\"\",申込みフォーム!BK105,\"\")","v":""},{"$f":"申込みフォーム!$Z105","v":""},{"$f":"IF(申込みフォーム!BL105<>\"\",申込みフォーム!BL105&\"　　\",\"\")&IF(申込みフォーム!BM105<>\"\",申込みフォーム!BM105&\"　　\",\"\")&IF(申込みフォーム!BN105<>\"\",申込みフォーム!BN105&\"　　\",\"\")","v":{"$error":"#VALUE!"}},{"$f":"IF($B96=VLOOKUP($B96,'受診者リスト(抽出用）'!$A:$F,1,0),VLOOKUP($B96,'受診者リスト(抽出用）'!$A:$F,3,0)&\"　（団体マスタ）\"&VLOOKUP($B96,'受診者リスト(抽出用）'!$A:$F,4,0)&\"　（枝番）\"&VLOOKUP(B96,'受診者リスト(抽出用）'!$A:$F,5,0),\"\")","v":{"$error":"#N/A"}}]
[96,{"$f":"IF(申込みフォーム!B106<>\"\",申込みフォーム!B106&\"　\"&申込みフォーム!C106,\"\")","v":""},{"$f":"IF(申込みフォーム!E106<>\"\",申込みフォーム!E106&\"　\"&申込みフォーム!F106,\"\")","v":""},{"$f":"IF(申込みフォーム!G106<>\"\",申込みフォーム!G106,\"\")","v":""},{"$f":"IF(申込みフォーム!H106<>\"\",申込みフォーム!H106,\"\")","v":""},{"$f":"IF(申込みフォーム!D106<>\"\",申込みフォーム!D106,\"\")","v":""},{"$f":"IF(申込みフォーム!I106<>\"\",REPLACE(申込みフォーム!I106,4,,\"-\"),\"\")","v":""},{"$f":"IF(申込みフォーム!J106<>\"\",申込みフォーム!J106,\"\")","v":""},{"$f":"IF(申込みフォーム!K106<>\"\",申込みフォーム!K106,\"\")","v":""},{"$f":"IF(申込みフォーム!L106<>\"\",MID(申込みフォーム!L106,1,3)&\"-\"&MID(申込みフォーム!L106,4,4)&\"-\"&MID(申込みフォーム!L106,8,4),\"\")","v":""},{"$f":"IF(申込みフォーム!M106<>\"\",申込みフォーム!M106,\"\")","v":""},{"$f":"IF(申込みフォーム!N106<>\"\",申込みフォーム!N106,\"\")","v":""},{"$f":"IF(申込みフォーム!O106<>\"\",申込みフォーム!O106,\"\")","v":""},{"$f":"IF(申込みフォーム!P106<>\"\",申込みフォーム!P106,\"\")","v":""},{"$f":"IF(申込みフォーム!Q106<>\"\",申込みフォーム!Q106,\"\")","v":""},{"$f":"IF(申込みフォーム!R106<>\"\",申込みフォーム!R106,\"\")","v":""},{"$f":"IF(申込みフォーム!S106<>\"\",申込みフォーム!S106,\"\")","v":""},{"$f":"IF(申込みフォーム!U106=\"細胞診のみ\",\"協会子宮　\",IF(申込みフォーム!U106=\"細胞診＋（自費）膣エコー\",\"協会子宮＋自費膣エコー　\",\"\"))&IF(申込みフォーム!W106<>\"\",\"協会ﾏﾝﾓ　\",\"\")&IF(申込みフォーム!Y106<>\"\",\"協会骨　\",\"\")&IF(申込みフォーム!AA106<>\"\",\"協会肝炎　\",\"\")","v":""},{"$f":"IF(申込みフォーム!AB106<>\"\",\"子宮　\",\"\")&IF(申込みフォーム!AC106<>\"\",\"ﾏﾝﾓ　\",\"\")&IF(申込みフォーム!AD106<>\"\",\"乳ｴｺｰ\",\"\")","v":""},{"$f":"IF(申込みフォーム!AE106<>\"\",\"ﾏｰｶｰ　\",\"\")&IF(申込みフォーム!AF106<>\"\",\"心機能　\",\"\")&IF(申込みフォーム!AG106<>\"\",\"ABC　\",\"\")&IF(申込みフォーム!AH106<>\"\",\"Lox　\",\"\")&IF(申込みフォーム!AI106<>\"\",\"甲状腺　\",\"\")&IF(申込みフォーム!AJ106<>\"\",\"肝炎\",\"\")","v":""},{"$f":"IF(申込みフォーム!AK106<>\"\",\"脳　\",\"\")&IF(申込みフォーム!AL106<>\"\",\"胸部CT　\",\"\")&IF(申込みフォーム!AM106<>\"\",\"肺機能　\",\"\")&IF(申込みフォーム!AN106<>\"\",\"腹ｴｺｰ　\",\"\")&IF(申込みフォーム!AO106<>\"\",\"心ｴｺｰ　\",\"\")&IF(申込みフォーム!AP106<>\"\",\"ﾌﾛｰﾗ　\",\"\")&IF(申込みフォーム!AQ106<>\"\",\"OCT　\",\"\")&IF(申込みフォーム!AR106<>\"\",\"検便　\",\"\")&IF(申込みフォーム!AS106<>\"\",\"骨　\",\"\")&IF(申込みフォーム!AT106<>\"\",\"骨＋ﾛｺﾓ\",\"\")","v":""},{"$f":"IF(申込みフォーム!AU106<>\"\",申込みフォーム!AU106&\"　　\",\"\")&IF(申込みフォーム!AV106<>\"\",申込みフォーム!AV106&\"　　\",\"\")&IF(申込みフォーム!AW106<>\"\",申込みフォーム!AW106&\"　　\",\"\")&IF(申込みフォーム!$AX106=\"〇\",\"4月　\",\"\")&IF(申込みフォーム!$AY106=\"〇\",\"5月　\",\"\")&IF(申込みフォーム!$AZ106=\"〇\",\"6月　\",\"\")&IF(申込みフォーム!$BA106=\"〇\",\"7月　\",\"\")&IF(申込みフォーム!$BB106=\"〇\",\"8月　\",\"\")&IF(申込みフォーム!$BC106=\"〇\",\"9月　\",\"\")&IF(申込みフォーム!$BD106=\"〇\",\"10月　\",\"\")&IF(申込みフォーム!$BE106=\"〇\",\"11月　\",\"\")&IF(申込みフォーム!$BF106=\"〇\",\"12月　\",\"\")&IF(申込みフォーム!$BG106=\"〇\",\"1月　\",\"\")&IF(申込みフォーム!$BH106=\"〇\",\"2月　\",\"\")&IF(申込みフォーム!$BI106=\"〇\",\"3月　\",\"\")","v":""},{"$f":"IF(申込みフォーム!BJ106<>\"\",申込みフォーム!BJ106,\"\")","v":""},{"$f":"IF(申込みフォーム!BK106<>\"\",申込みフォーム!BK106,\"\")","v":""},{"$f":"申込みフォーム!$Z106","v":""},{"$f":"IF(申込みフォーム!BL106<>\"\",申込みフォーム!BL106&\"　　\",\"\")&IF(申込みフォーム!BM106<>\"\",申込みフォーム!BM106&\"　　\",\"\")&IF(申込みフォーム!BN106<>\"\",申込みフォーム!BN106&\"　　\",\"\")","v":{"$error":"#VALUE!"}},{"$f":"IF($B97=VLOOKUP($B97,'受診者リスト(抽出用）'!$A:$F,1,0),VLOOKUP($B97,'受診者リスト(抽出用）'!$A:$F,3,0)&\"　（団体マスタ）\"&VLOOKUP($B97,'受診者リスト(抽出用）'!$A:$F,4,0)&\"　（枝番）\"&VLOOKUP(B97,'受診者リスト(抽出用）'!$A:$F,5,0),\"\")","v":{"$error":"#N/A"}}]
[97,{"$f":"IF(申込みフォーム!B107<>\"\",申込みフォーム!B107&\"　\"&申込みフォーム!C107,\"\")","v":""},{"$f":"IF(申込みフォーム!E107<>\"\",申込みフォーム!E107&\"　\"&申込みフォーム!F107,\"\")","v":""},{"$f":"IF(申込みフォーム!G107<>\"\",申込みフォーム!G107,\"\")","v":""},{"$f":"IF(申込みフォーム!H107<>\"\",申込みフォーム!H107,\"\")","v":""},{"$f":"IF(申込みフォーム!D107<>\"\",申込みフォーム!D107,\"\")","v":""},{"$f":"IF(申込みフォーム!I107<>\"\",REPLACE(申込みフォーム!I107,4,,\"-\"),\"\")","v":""},{"$f":"IF(申込みフォーム!J107<>\"\",申込みフォーム!J107,\"\")","v":""},{"$f":"IF(申込みフォーム!K107<>\"\",申込みフォーム!K107,\"\")","v":""},{"$f":"IF(申込みフォーム!L107<>\"\",MID(申込みフォーム!L107,1,3)&\"-\"&MID(申込みフォーム!L107,4,4)&\"-\"&MID(申込みフォーム!L107,8,4),\"\")","v":""},{"$f":"IF(申込みフォーム!M107<>\"\",申込みフォーム!M107,\"\")","v":""},{"$f":"IF(申込みフォーム!N107<>\"\",申込みフォーム!N107,\"\")","v":""},{"$f":"IF(申込みフォーム!O107<>\"\",申込みフォーム!O107,\"\")","v":""},{"$f":"IF(申込みフォーム!P107<>\"\",申込みフォーム!P107,\"\")","v":""},{"$f":"IF(申込みフォーム!Q107<>\"\",申込みフォーム!Q107,\"\")","v":""},{"$f":"IF(申込みフォーム!R107<>\"\",申込みフォーム!R107,\"\")","v":""},{"$f":"IF(申込みフォーム!S107<>\"\",申込みフォーム!S107,\"\")","v":""},{"$f":"IF(申込みフォーム!U107=\"細胞診のみ\",\"協会子宮　\",IF(申込みフォーム!U107=\"細胞診＋（自費）膣エコー\",\"協会子宮＋自費膣エコー　\",\"\"))&IF(申込みフォーム!W107<>\"\",\"協会ﾏﾝﾓ　\",\"\")&IF(申込みフォーム!Y107<>\"\",\"協会骨　\",\"\")&IF(申込みフォーム!AA107<>\"\",\"協会肝炎　\",\"\")","v":""},{"$f":"IF(申込みフォーム!AB107<>\"\",\"子宮　\",\"\")&IF(申込みフォーム!AC107<>\"\",\"ﾏﾝﾓ　\",\"\")&IF(申込みフォーム!AD107<>\"\",\"乳ｴｺｰ\",\"\")","v":""},{"$f":"IF(申込みフォーム!AE107<>\"\",\"ﾏｰｶｰ　\",\"\")&IF(申込みフォーム!AF107<>\"\",\"心機能　\",\"\")&IF(申込みフォーム!AG107<>\"\",\"ABC　\",\"\")&IF(申込みフォーム!AH107<>\"\",\"Lox　\",\"\")&IF(申込みフォーム!AI107<>\"\",\"甲状腺　\",\"\")&IF(申込みフォーム!AJ107<>\"\",\"肝炎\",\"\")","v":""},{"$f":"IF(申込みフォーム!AK107<>\"\",\"脳　\",\"\")&IF(申込みフォーム!AL107<>\"\",\"胸部CT　\",\"\")&IF(申込みフォーム!AM107<>\"\",\"肺機能　\",\"\")&IF(申込みフォーム!AN107<>\"\",\"腹ｴｺｰ　\",\"\")&IF(申込みフォーム!AO107<>\"\",\"心ｴｺｰ　\",\"\")&IF(申込みフォーム!AP107<>\"\",\"ﾌﾛｰﾗ　\",\"\")&IF(申込みフォーム!AQ107<>\"\",\"OCT　\",\"\")&IF(申込みフォーム!AR107<>\"\",\"検便　\",\"\")&IF(申込みフォーム!AS107<>\"\",\"骨　\",\"\")&IF(申込みフォーム!AT107<>\"\",\"骨＋ﾛｺﾓ\",\"\")","v":""},{"$f":"IF(申込みフォーム!AU107<>\"\",申込みフォーム!AU107&\"　　\",\"\")&IF(申込みフォーム!AV107<>\"\",申込みフォーム!AV107&\"　　\",\"\")&IF(申込みフォーム!AW107<>\"\",申込みフォーム!AW107&\"　　\",\"\")&IF(申込みフォーム!$AX107=\"〇\",\"4月　\",\"\")&IF(申込みフォーム!$AY107=\"〇\",\"5月　\",\"\")&IF(申込みフォーム!$AZ107=\"〇\",\"6月　\",\"\")&IF(申込みフォーム!$BA107=\"〇\",\"7月　\",\"\")&IF(申込みフォーム!$BB107=\"〇\",\"8月　\",\"\")&IF(申込みフォーム!$BC107=\"〇\",\"9月　\",\"\")&IF(申込みフォーム!$BD107=\"〇\",\"10月　\",\"\")&IF(申込みフォーム!$BE107=\"〇\",\"11月　\",\"\")&IF(申込みフォーム!$BF107=\"〇\",\"12月　\",\"\")&IF(申込みフォーム!$BG107=\"〇\",\"1月　\",\"\")&IF(申込みフォーム!$BH107=\"〇\",\"2月　\",\"\")&IF(申込みフォーム!$BI107=\"〇\",\"3月　\",\"\")","v":""},{"$f":"IF(申込みフォーム!BJ107<>\"\",申込みフォーム!BJ107,\"\")","v":""},{"$f":"IF(申込みフォーム!BK107<>\"\",申込みフォーム!BK107,\"\")","v":""},{"$f":"申込みフォーム!$Z107","v":""},{"$f":"IF(申込みフォーム!BL107<>\"\",申込みフォーム!BL107&\"　　\",\"\")&IF(申込みフォーム!BM107<>\"\",申込みフォーム!BM107&\"　　\",\"\")&IF(申込みフォーム!BN107<>\"\",申込みフォーム!BN107&\"　　\",\"\")","v":{"$error":"#VALUE!"}},{"$f":"IF($B98=VLOOKUP($B98,'受診者リスト(抽出用）'!$A:$F,1,0),VLOOKUP($B98,'受診者リスト(抽出用）'!$A:$F,3,0)&\"　（団体マスタ）\"&VLOOKUP($B98,'受診者リスト(抽出用）'!$A:$F,4,0)&\"　（枝番）\"&VLOOKUP(B98,'受診者リスト(抽出用）'!$A:$F,5,0),\"\")","v":{"$error":"#N/A"}}]
[98,{"$f":"IF(申込みフォーム!B108<>\"\",申込みフォーム!B108&\"　\"&申込みフォーム!C108,\"\")","v":""},{"$f":"IF(申込みフォーム!E108<>\"\",申込みフォーム!E108&\"　\"&申込みフォーム!F108,\"\")","v":""},{"$f":"IF(申込みフォーム!G108<>\"\",申込みフォーム!G108,\"\")","v":""},{"$f":"IF(申込みフォーム!H108<>\"\",申込みフォーム!H108,\"\")","v":""},{"$f":"IF(申込みフォーム!D108<>\"\",申込みフォーム!D108,\"\")","v":""},{"$f":"IF(申込みフォーム!I108<>\"\",REPLACE(申込みフォーム!I108,4,,\"-\"),\"\")","v":""},{"$f":"IF(申込みフォーム!J108<>\"\",申込みフォーム!J108,\"\")","v":""},{"$f":"IF(申込みフォーム!K108<>\"\",申込みフォーム!K108,\"\")","v":""},{"$f":"IF(申込みフォーム!L108<>\"\",MID(申込みフォーム!L108,1,3)&\"-\"&MID(申込みフォーム!L108,4,4)&\"-\"&MID(申込みフォーム!L108,8,4),\"\")","v":""},{"$f":"IF(申込みフォーム!M108<>\"\",申込みフォーム!M108,\"\")","v":""},{"$f":"IF(申込みフォーム!N108<>\"\",申込みフォーム!N108,\"\")","v":""},{"$f":"IF(申込みフォーム!O108<>\"\",申込みフォーム!O108,\"\")","v":""},{"$f":"IF(申込みフォーム!P108<>\"\",申込みフォーム!P108,\"\")","v":""},{"$f":"IF(申込みフォーム!Q108<>\"\",申込みフォーム!Q108,\"\")","v":""},{"$f":"IF(申込みフォーム!R108<>\"\",申込みフォーム!R108,\"\")","v":""},{"$f":"IF(申込みフォーム!S108<>\"\",申込みフォーム!S108,\"\")","v":""},{"$f":"IF(申込みフォーム!U108=\"細胞診のみ\",\"協会子宮　\",IF(申込みフォーム!U108=\"細胞診＋（自費）膣エコー\",\"協会子宮＋自費膣エコー　\",\"\"))&IF(申込みフォーム!W108<>\"\",\"協会ﾏﾝﾓ　\",\"\")&IF(申込みフォーム!Y108<>\"\",\"協会骨　\",\"\")&IF(申込みフォーム!AA108<>\"\",\"協会肝炎　\",\"\")","v":""},{"$f":"IF(申込みフォーム!AB108<>\"\",\"子宮　\",\"\")&IF(申込みフォーム!AC108<>\"\",\"ﾏﾝﾓ　\",\"\")&IF(申込みフォーム!AD108<>\"\",\"乳ｴｺｰ\",\"\")","v":""},{"$f":"IF(申込みフォーム!AE108<>\"\",\"ﾏｰｶｰ　\",\"\")&IF(申込みフォーム!AF108<>\"\",\"心機能　\",\"\")&IF(申込みフォーム!AG108<>\"\",\"ABC　\",\"\")&IF(申込みフォーム!AH108<>\"\",\"Lox　\",\"\")&IF(申込みフォーム!AI108<>\"\",\"甲状腺　\",\"\")&IF(申込みフォーム!AJ108<>\"\",\"肝炎\",\"\")","v":""},{"$f":"IF(申込みフォーム!AK108<>\"\",\"脳　\",\"\")&IF(申込みフォーム!AL108<>\"\",\"胸部CT　\",\"\")&IF(申込みフォーム!AM108<>\"\",\"肺機能　\",\"\")&IF(申込みフォーム!AN108<>\"\",\"腹ｴｺｰ　\",\"\")&IF(申込みフォーム!AO108<>\"\",\"心ｴｺｰ　\",\"\")&IF(申込みフォーム!AP108<>\"\",\"ﾌﾛｰﾗ　\",\"\")&IF(申込みフォーム!AQ108<>\"\",\"OCT　\",\"\")&IF(申込みフォーム!AR108<>\"\",\"検便　\",\"\")&IF(申込みフォーム!AS108<>\"\",\"骨　\",\"\")&IF(申込みフォーム!AT108<>\"\",\"骨＋ﾛｺﾓ\",\"\")","v":""},{"$f":"IF(申込みフォーム!AU108<>\"\",申込みフォーム!AU108&\"　　\",\"\")&IF(申込みフォーム!AV108<>\"\",申込みフォーム!AV108&\"　　\",\"\")&IF(申込みフォーム!AW108<>\"\",申込みフォーム!AW108&\"　　\",\"\")&IF(申込みフォーム!$AX108=\"〇\",\"4月　\",\"\")&IF(申込みフォーム!$AY108=\"〇\",\"5月　\",\"\")&IF(申込みフォーム!$AZ108=\"〇\",\"6月　\",\"\")&IF(申込みフォーム!$BA108=\"〇\",\"7月　\",\"\")&IF(申込みフォーム!$BB108=\"〇\",\"8月　\",\"\")&IF(申込みフォーム!$BC108=\"〇\",\"9月　\",\"\")&IF(申込みフォーム!$BD108=\"〇\",\"10月　\",\"\")&IF(申込みフォーム!$BE108=\"〇\",\"11月　\",\"\")&IF(申込みフォーム!$BF108=\"〇\",\"12月　\",\"\")&IF(申込みフォーム!$BG108=\"〇\",\"1月　\",\"\")&IF(申込みフォーム!$BH108=\"〇\",\"2月　\",\"\")&IF(申込みフォーム!$BI108=\"〇\",\"3月　\",\"\")","v":""},{"$f":"IF(申込みフォーム!BJ108<>\"\",申込みフォーム!BJ108,\"\")","v":""},{"$f":"IF(申込みフォーム!BK108<>\"\",申込みフォーム!BK108,\"\")","v":""},{"$f":"申込みフォーム!$Z108","v":""},{"$f":"IF(申込みフォーム!BL108<>\"\",申込みフォーム!BL108&\"　　\",\"\")&IF(申込みフォーム!BM108<>\"\",申込みフォーム!BM108&\"　　\",\"\")&IF(申込みフォーム!BN108<>\"\",申込みフォーム!BN108&\"　　\",\"\")","v":{"$error":"#VALUE!"}},{"$f":"IF($B99=VLOOKUP($B99,'受診者リスト(抽出用）'!$A:$F,1,0),VLOOKUP($B99,'受診者リスト(抽出用）'!$A:$F,3,0)&\"　（団体マスタ）\"&VLOOKUP($B99,'受診者リスト(抽出用）'!$A:$F,4,0)&\"　（枝番）\"&VLOOKUP(B99,'受診者リスト(抽出用）'!$A:$F,5,0),\"\")","v":{"$error":"#N/A"}}]
[99,{"$f":"IF(申込みフォーム!B109<>\"\",申込みフォーム!B109&\"　\"&申込みフォーム!C109,\"\")","v":""},{"$f":"IF(申込みフォーム!E109<>\"\",申込みフォーム!E109&\"　\"&申込みフォーム!F109,\"\")","v":""},{"$f":"IF(申込みフォーム!G109<>\"\",申込みフォーム!G109,\"\")","v":""},{"$f":"IF(申込みフォーム!H109<>\"\",申込みフォーム!H109,\"\")","v":""},{"$f":"IF(申込みフォーム!D109<>\"\",申込みフォーム!D109,\"\")","v":""},{"$f":"IF(申込みフォーム!I109<>\"\",REPLACE(申込みフォーム!I109,4,,\"-\"),\"\")","v":""},{"$f":"IF(申込みフォーム!J109<>\"\",申込みフォーム!J109,\"\")","v":""},{"$f":"IF(申込みフォーム!K109<>\"\",申込みフォーム!K109,\"\")","v":""},{"$f":"IF(申込みフォーム!L109<>\"\",MID(申込みフォーム!L109,1,3)&\"-\"&MID(申込みフォーム!L109,4,4)&\"-\"&MID(申込みフォーム!L109,8,4),\"\")","v":""},{"$f":"IF(申込みフォーム!M109<>\"\",申込みフォーム!M109,\"\")","v":""},{"$f":"IF(申込みフォーム!N109<>\"\",申込みフォーム!N109,\"\")","v":""},{"$f":"IF(申込みフォーム!O109<>\"\",申込みフォーム!O109,\"\")","v":""},{"$f":"IF(申込みフォーム!P109<>\"\",申込みフォーム!P109,\"\")","v":""},{"$f":"IF(申込みフォーム!Q109<>\"\",申込みフォーム!Q109,\"\")","v":""},{"$f":"IF(申込みフォーム!R109<>\"\",申込みフォーム!R109,\"\")","v":""},{"$f":"IF(申込みフォーム!S109<>\"\",申込みフォーム!S109,\"\")","v":""},{"$f":"IF(申込みフォーム!U109=\"細胞診のみ\",\"協会子宮　\",IF(申込みフォーム!U109=\"細胞診＋（自費）膣エコー\",\"協会子宮＋自費膣エコー　\",\"\"))&IF(申込みフォーム!W109<>\"\",\"協会ﾏﾝﾓ　\",\"\")&IF(申込みフォーム!Y109<>\"\",\"協会骨　\",\"\")&IF(申込みフォーム!AA109<>\"\",\"協会肝炎　\",\"\")","v":""},{"$f":"IF(申込みフォーム!AB109<>\"\",\"子宮　\",\"\")&IF(申込みフォーム!AC109<>\"\",\"ﾏﾝﾓ　\",\"\")&IF(申込みフォーム!AD109<>\"\",\"乳ｴｺｰ\",\"\")","v":""},{"$f":"IF(申込みフォーム!AE109<>\"\",\"ﾏｰｶｰ　\",\"\")&IF(申込みフォーム!AF109<>\"\",\"心機能　\",\"\")&IF(申込みフォーム!AG109<>\"\",\"ABC　\",\"\")&IF(申込みフォーム!AH109<>\"\",\"Lox　\",\"\")&IF(申込みフォーム!AI109<>\"\",\"甲状腺　\",\"\")&IF(申込みフォーム!AJ109<>\"\",\"肝炎\",\"\")","v":""},{"$f":"IF(申込みフォーム!AK109<>\"\",\"脳　\",\"\")&IF(申込みフォーム!AL109<>\"\",\"胸部CT　\",\"\")&IF(申込みフォーム!AM109<>\"\",\"肺機能　\",\"\")&IF(申込みフォーム!AN109<>\"\",\"腹ｴｺｰ　\",\"\")&IF(申込みフォーム!AO109<>\"\",\"心ｴｺｰ　\",\"\")&IF(申込みフォーム!AP109<>\"\",\"ﾌﾛｰﾗ　\",\"\")&IF(申込みフォーム!AQ109<>\"\",\"OCT　\",\"\")&IF(申込みフォーム!AR109<>\"\",\"検便　\",\"\")&IF(申込みフォーム!AS109<>\"\",\"骨　\",\"\")&IF(申込みフォーム!AT109<>\"\",\"骨＋ﾛｺﾓ\",\"\")","v":""},{"$f":"IF(申込みフォーム!AU109<>\"\",申込みフォーム!AU109&\"　　\",\"\")&IF(申込みフォーム!AV109<>\"\",申込みフォーム!AV109&\"　　\",\"\")&IF(申込みフォーム!AW109<>\"\",申込みフォーム!AW109&\"　　\",\"\")&IF(申込みフォーム!$AX109=\"〇\",\"4月　\",\"\")&IF(申込みフォーム!$AY109=\"〇\",\"5月　\",\"\")&IF(申込みフォーム!$AZ109=\"〇\",\"6月　\",\"\")&IF(申込みフォーム!$BA109=\"〇\",\"7月　\",\"\")&IF(申込みフォーム!$BB109=\"〇\",\"8月　\",\"\")&IF(申込みフォーム!$BC109=\"〇\",\"9月　\",\"\")&IF(申込みフォーム!$BD109=\"〇\",\"10月　\",\"\")&IF(申込みフォーム!$BE109=\"〇\",\"11月　\",\"\")&IF(申込みフォーム!$BF109=\"〇\",\"12月　\",\"\")&IF(申込みフォーム!$BG109=\"〇\",\"1月　\",\"\")&IF(申込みフォーム!$BH109=\"〇\",\"2月　\",\"\")&IF(申込みフォーム!$BI109=\"〇\",\"3月　\",\"\")","v":""},{"$f":"IF(申込みフォーム!BJ109<>\"\",申込みフォーム!BJ109,\"\")","v":""},{"$f":"IF(申込みフォーム!BK109<>\"\",申込みフォーム!BK109,\"\")","v":""},{"$f":"申込みフォーム!$Z109","v":""},{"$f":"IF(申込みフォーム!BL109<>\"\",申込みフォーム!BL109&\"　　\",\"\")&IF(申込みフォーム!BM109<>\"\",申込みフォーム!BM109&\"　　\",\"\")&IF(申込みフォーム!BN109<>\"\",申込みフォーム!BN109&\"　　\",\"\")","v":{"$error":"#VALUE!"}},{"$f":"IF($B100=VLOOKUP($B100,'受診者リスト(抽出用）'!$A:$F,1,0),VLOOKUP($B100,'受診者リスト(抽出用）'!$A:$F,3,0)&\"　（団体マスタ）\"&VLOOKUP($B100,'受診者リスト(抽出用）'!$A:$F,4,0)&\"　（枝番）\"&VLOOKUP(B100,'受診者リスト(抽出用）'!$A:$F,5,0),\"\")","v":{"$error":"#N/A"}}]
[100,{"$f":"IF(申込みフォーム!B110<>\"\",申込みフォーム!B110&\"　\"&申込みフォーム!C110,\"\")","v":""},{"$f":"IF(申込みフォーム!E110<>\"\",申込みフォーム!E110&\"　\"&申込みフォーム!F110,\"\")","v":""},{"$f":"IF(申込みフォーム!G110<>\"\",申込みフォーム!G110,\"\")","v":""},{"$f":"IF(申込みフォーム!H110<>\"\",申込みフォーム!H110,\"\")","v":""},{"$f":"IF(申込みフォーム!D110<>\"\",申込みフォーム!D110,\"\")","v":""},{"$f":"IF(申込みフォーム!I110<>\"\",REPLACE(申込みフォーム!I110,4,,\"-\"),\"\")","v":""},{"$f":"IF(申込みフォーム!J110<>\"\",申込みフォーム!J110,\"\")","v":""},{"$f":"IF(申込みフォーム!K110<>\"\",申込みフォーム!K110,\"\")","v":""},{"$f":"IF(申込みフォーム!L110<>\"\",MID(申込みフォーム!L110,1,3)&\"-\"&MID(申込みフォーム!L110,4,4)&\"-\"&MID(申込みフォーム!L110,8,4),\"\")","v":""},{"$f":"IF(申込みフォーム!M110<>\"\",申込みフォーム!M110,\"\")","v":""},{"$f":"IF(申込みフォーム!N110<>\"\",申込みフォーム!N110,\"\")","v":""},{"$f":"IF(申込みフォーム!O110<>\"\",申込みフォーム!O110,\"\")","v":""},{"$f":"IF(申込みフォーム!P110<>\"\",申込みフォーム!P110,\"\")","v":""},{"$f":"IF(申込みフォーム!Q110<>\"\",申込みフォーム!Q110,\"\")","v":""},{"$f":"IF(申込みフォーム!R110<>\"\",申込みフォーム!R110,\"\")","v":""},{"$f":"IF(申込みフォーム!S110<>\"\",申込みフォーム!S110,\"\")","v":""},{"$f":"IF(申込みフォーム!U110=\"細胞診のみ\",\"協会子宮　\",IF(申込みフォーム!U110=\"細胞診＋（自費）膣エコー\",\"協会子宮＋自費膣エコー　\",\"\"))&IF(申込みフォーム!W110<>\"\",\"協会ﾏﾝﾓ　\",\"\")&IF(申込みフォーム!Y110<>\"\",\"協会骨　\",\"\")&IF(申込みフォーム!AA110<>\"\",\"協会肝炎　\",\"\")","v":""},{"$f":"IF(申込みフォーム!AB110<>\"\",\"子宮　\",\"\")&IF(申込みフォーム!AC110<>\"\",\"ﾏﾝﾓ　\",\"\")&IF(申込みフォーム!AD110<>\"\",\"乳ｴｺｰ\",\"\")","v":""},{"$f":"IF(申込みフォーム!AE110<>\"\",\"ﾏｰｶｰ　\",\"\")&IF(申込みフォーム!AF110<>\"\",\"心機能　\",\"\")&IF(申込みフォーム!AG110<>\"\",\"ABC　\",\"\")&IF(申込みフォーム!AH110<>\"\",\"Lox　\",\"\")&IF(申込みフォーム!AI110<>\"\",\"甲状腺　\",\"\")&IF(申込みフォーム!AJ110<>\"\",\"肝炎\",\"\")","v":""},{"$f":"IF(申込みフォーム!AK110<>\"\",\"脳　\",\"\")&IF(申込みフォーム!AL110<>\"\",\"胸部CT　\",\"\")&IF(申込みフォーム!AM110<>\"\",\"肺機能　\",\"\")&IF(申込みフォーム!AN110<>\"\",\"腹ｴｺｰ　\",\"\")&IF(申込みフォーム!AO110<>\"\",\"心ｴｺｰ　\",\"\")&IF(申込みフォーム!AP110<>\"\",\"ﾌﾛｰﾗ　\",\"\")&IF(申込みフォーム!AQ110<>\"\",\"OCT　\",\"\")&IF(申込みフォーム!AR110<>\"\",\"検便　\",\"\")&IF(申込みフォーム!AS110<>\"\",\"骨　\",\"\")&IF(申込みフォーム!AT110<>\"\",\"骨＋ﾛｺﾓ\",\"\")","v":""},{"$f":"IF(申込みフォーム!AU110<>\"\",申込みフォーム!AU110&\"　　\",\"\")&IF(申込みフォーム!AV110<>\"\",申込みフォーム!AV110&\"　　\",\"\")&IF(申込みフォーム!AW110<>\"\",申込みフォーム!AW110&\"　　\",\"\")&IF(申込みフォーム!$AX110=\"〇\",\"4月　\",\"\")&IF(申込みフォーム!$AY110=\"〇\",\"5月　\",\"\")&IF(申込みフォーム!$AZ110=\"〇\",\"6月　\",\"\")&IF(申込みフォーム!$BA110=\"〇\",\"7月　\",\"\")&IF(申込みフォーム!$BB110=\"〇\",\"8月　\",\"\")&IF(申込みフォーム!$BC110=\"〇\",\"9月　\",\"\")&IF(申込みフォーム!$BD110=\"〇\",\"10月　\",\"\")&IF(申込みフォーム!$BE110=\"〇\",\"11月　\",\"\")&IF(申込みフォーム!$BF110=\"〇\",\"12月　\",\"\")&IF(申込みフォーム!$BG110=\"〇\",\"1月　\",\"\")&IF(申込みフォーム!$BH110=\"〇\",\"2月　\",\"\")&IF(申込みフォーム!$BI110=\"〇\",\"3月　\",\"\")","v":""},{"$f":"IF(申込みフォーム!BJ110<>\"\",申込みフォーム!BJ110,\"\")","v":""},{"$f":"IF(申込みフォーム!BK110<>\"\",申込みフォーム!BK110,\"\")","v":""},{"$f":"申込みフォーム!$Z110","v":""},{"$f":"IF(申込みフォーム!BL110<>\"\",申込みフォーム!BL110&\"　　\",\"\")&IF(申込みフォーム!BM110<>\"\",申込みフォーム!BM110&\"　　\",\"\")&IF(申込みフォーム!BN110<>\"\",申込みフォーム!BN110&\"　　\",\"\")","v":{"$error":"#VALUE!"}},{"$f":"IF($B101=VLOOKUP($B101,'受診者リスト(抽出用）'!$A:$F,1,0),VLOOKUP($B101,'受診者リスト(抽出用）'!$A:$F,3,0)&\"　（団体マスタ）\"&VLOOKUP($B101,'受診者リスト(抽出用）'!$A:$F,4,0)&\"　（枝番）\"&VLOOKUP(B101,'受診者リスト(抽出用）'!$A:$F,5,0),\"\")","v":{"$error":"#N/A"}}]
[101,{"$f":"IF(申込みフォーム!B111<>\"\",申込みフォーム!B111&\"　\"&申込みフォーム!C111,\"\")","v":""},{"$f":"IF(申込みフォーム!E111<>\"\",申込みフォーム!E111&\"　\"&申込みフォーム!F111,\"\")","v":""},{"$f":"IF(申込みフォーム!G111<>\"\",申込みフォーム!G111,\"\")","v":""},{"$f":"IF(申込みフォーム!H111<>\"\",申込みフォーム!H111,\"\")","v":""},{"$f":"IF(申込みフォーム!D111<>\"\",申込みフォーム!D111,\"\")","v":""},{"$f":"IF(申込みフォーム!I111<>\"\",REPLACE(申込みフォーム!I111,4,,\"-\"),\"\")","v":""},{"$f":"IF(申込みフォーム!J111<>\"\",申込みフォーム!J111,\"\")","v":""},{"$f":"IF(申込みフォーム!K111<>\"\",申込みフォーム!K111,\"\")","v":""},{"$f":"IF(申込みフォーム!L111<>\"\",MID(申込みフォーム!L111,1,3)&\"-\"&MID(申込みフォーム!L111,4,4)&\"-\"&MID(申込みフォーム!L111,8,4),\"\")","v":""},{"$f":"IF(申込みフォーム!M111<>\"\",申込みフォーム!M111,\"\")","v":""},{"$f":"IF(申込みフォーム!N111<>\"\",申込みフォーム!N111,\"\")","v":""},{"$f":"IF(申込みフォーム!O111<>\"\",申込みフォーム!O111,\"\")","v":""},{"$f":"IF(申込みフォーム!P111<>\"\",申込みフォーム!P111,\"\")","v":""},{"$f":"IF(申込みフォーム!Q111<>\"\",申込みフォーム!Q111,\"\")","v":""},{"$f":"IF(申込みフォーム!R111<>\"\",申込みフォーム!R111,\"\")","v":""},{"$f":"IF(申込みフォーム!S111<>\"\",申込みフォーム!S111,\"\")","v":""},{"$f":"IF(申込みフォーム!U111=\"細胞診のみ\",\"協会子宮　\",IF(申込みフォーム!U111=\"細胞診＋（自費）膣エコー\",\"協会子宮＋自費膣エコー　\",\"\"))&IF(申込みフォーム!W111<>\"\",\"協会ﾏﾝﾓ　\",\"\")&IF(申込みフォーム!Y111<>\"\",\"協会骨　\",\"\")&IF(申込みフォーム!AA111<>\"\",\"協会肝炎　\",\"\")","v":""},{"$f":"IF(申込みフォーム!AB111<>\"\",\"子宮　\",\"\")&IF(申込みフォーム!AC111<>\"\",\"ﾏﾝﾓ　\",\"\")&IF(申込みフォーム!AD111<>\"\",\"乳ｴｺｰ\",\"\")","v":""},{"$f":"IF(申込みフォーム!AE111<>\"\",\"ﾏｰｶｰ　\",\"\")&IF(申込みフォーム!AF111<>\"\",\"心機能　\",\"\")&IF(申込みフォーム!AG111<>\"\",\"ABC　\",\"\")&IF(申込みフォーム!AH111<>\"\",\"Lox　\",\"\")&IF(申込みフォーム!AI111<>\"\",\"甲状腺　\",\"\")&IF(申込みフォーム!AJ111<>\"\",\"肝炎\",\"\")","v":""},{"$f":"IF(申込みフォーム!AK111<>\"\",\"脳　\",\"\")&IF(申込みフォーム!AL111<>\"\",\"胸部CT　\",\"\")&IF(申込みフォーム!AM111<>\"\",\"肺機能　\",\"\")&IF(申込みフォーム!AN111<>\"\",\"腹ｴｺｰ　\",\"\")&IF(申込みフォーム!AO111<>\"\",\"心ｴｺｰ　\",\"\")&IF(申込みフォーム!AP111<>\"\",\"ﾌﾛｰﾗ　\",\"\")&IF(申込みフォーム!AQ111<>\"\",\"OCT　\",\"\")&IF(申込みフォーム!AR111<>\"\",\"検便　\",\"\")&IF(申込みフォーム!AS111<>\"\",\"骨　\",\"\")&IF(申込みフォーム!AT111<>\"\",\"骨＋ﾛｺﾓ\",\"\")","v":""},{"$f":"IF(申込みフォーム!AU111<>\"\",申込みフォーム!AU111&\"　　\",\"\")&IF(申込みフォーム!AV111<>\"\",申込みフォーム!AV111&\"　　\",\"\")&IF(申込みフォーム!AW111<>\"\",申込みフォーム!AW111&\"　　\",\"\")&IF(申込みフォーム!$AX111=\"〇\",\"4月　\",\"\")&IF(申込みフォーム!$AY111=\"〇\",\"5月　\",\"\")&IF(申込みフォーム!$AZ111=\"〇\",\"6月　\",\"\")&IF(申込みフォーム!$BA111=\"〇\",\"7月　\",\"\")&IF(申込みフォーム!$BB111=\"〇\",\"8月　\",\"\")&IF(申込みフォーム!$BC111=\"〇\",\"9月　\",\"\")&IF(申込みフォーム!$BD111=\"〇\",\"10月　\",\"\")&IF(申込みフォーム!$BE111=\"〇\",\"11月　\",\"\")&IF(申込みフォーム!$BF111=\"〇\",\"12月　\",\"\")&IF(申込みフォーム!$BG111=\"〇\",\"1月　\",\"\")&IF(申込みフォーム!$BH111=\"〇\",\"2月　\",\"\")&IF(申込みフォーム!$BI111=\"〇\",\"3月　\",\"\")","v":""},{"$f":"IF(申込みフォーム!BJ111<>\"\",申込みフォーム!BJ111,\"\")","v":""},{"$f":"IF(申込みフォーム!BK111<>\"\",申込みフォーム!BK111,\"\")","v":""},{"$f":"申込みフォーム!$Z111","v":""},{"$f":"IF(申込みフォーム!BL111<>\"\",申込みフォーム!BL111&\"　　\",\"\")&IF(申込みフォーム!BM111<>\"\",申込みフォーム!BM111&\"　　\",\"\")&IF(申込みフォーム!BN111<>\"\",申込みフォーム!BN111&\"　　\",\"\")","v":{"$error":"#VALUE!"}},{"$f":"IF($B102=VLOOKUP($B102,'受診者リスト(抽出用）'!$A:$F,1,0),VLOOKUP($B102,'受診者リスト(抽出用）'!$A:$F,3,0)&\"　（団体マスタ）\"&VLOOKUP($B102,'受診者リスト(抽出用）'!$A:$F,4,0)&\"　（枝番）\"&VLOOKUP(B102,'受診者リスト(抽出用）'!$A:$F,5,0),\"\")","v":{"$error":"#N/A"}}]
[102,{"$f":"IF(申込みフォーム!B112<>\"\",申込みフォーム!B112&\"　\"&申込みフォーム!C112,\"\")","v":""},{"$f":"IF(申込みフォーム!E112<>\"\",申込みフォーム!E112&\"　\"&申込みフォーム!F112,\"\")","v":""},{"$f":"IF(申込みフォーム!G112<>\"\",申込みフォーム!G112,\"\")","v":""},{"$f":"IF(申込みフォーム!H112<>\"\",申込みフォーム!H112,\"\")","v":""},{"$f":"IF(申込みフォーム!D112<>\"\",申込みフォーム!D112,\"\")","v":""},{"$f":"IF(申込みフォーム!I112<>\"\",REPLACE(申込みフォーム!I112,4,,\"-\"),\"\")","v":""},{"$f":"IF(申込みフォーム!J112<>\"\",申込みフォーム!J112,\"\")","v":""},{"$f":"IF(申込みフォーム!K112<>\"\",申込みフォーム!K112,\"\")","v":""},{"$f":"IF(申込みフォーム!L112<>\"\",MID(申込みフォーム!L112,1,3)&\"-\"&MID(申込みフォーム!L112,4,4)&\"-\"&MID(申込みフォーム!L112,8,4),\"\")","v":""},{"$f":"IF(申込みフォーム!M112<>\"\",申込みフォーム!M112,\"\")","v":""},{"$f":"IF(申込みフォーム!N112<>\"\",申込みフォーム!N112,\"\")","v":""},{"$f":"IF(申込みフォーム!O112<>\"\",申込みフォーム!O112,\"\")","v":""},{"$f":"IF(申込みフォーム!P112<>\"\",申込みフォーム!P112,\"\")","v":""},{"$f":"IF(申込みフォーム!Q112<>\"\",申込みフォーム!Q112,\"\")","v":""},{"$f":"IF(申込みフォーム!R112<>\"\",申込みフォーム!R112,\"\")","v":""},{"$f":"IF(申込みフォーム!S112<>\"\",申込みフォーム!S112,\"\")","v":""},{"$f":"IF(申込みフォーム!U112=\"細胞診のみ\",\"協会子宮　\",IF(申込みフォーム!U112=\"細胞診＋（自費）膣エコー\",\"協会子宮＋自費膣エコー　\",\"\"))&IF(申込みフォーム!W112<>\"\",\"協会ﾏﾝﾓ　\",\"\")&IF(申込みフォーム!Y112<>\"\",\"協会骨　\",\"\")&IF(申込みフォーム!AA112<>\"\",\"協会肝炎　\",\"\")","v":""},{"$f":"IF(申込みフォーム!AB112<>\"\",\"子宮　\",\"\")&IF(申込みフォーム!AC112<>\"\",\"ﾏﾝﾓ　\",\"\")&IF(申込みフォーム!AD112<>\"\",\"乳ｴｺｰ\",\"\")","v":""},{"$f":"IF(申込みフォーム!AE112<>\"\",\"ﾏｰｶｰ　\",\"\")&IF(申込みフォーム!AF112<>\"\",\"心機能　\",\"\")&IF(申込みフォーム!AG112<>\"\",\"ABC　\",\"\")&IF(申込みフォーム!AH112<>\"\",\"Lox　\",\"\")&IF(申込みフォーム!AI112<>\"\",\"甲状腺　\",\"\")&IF(申込みフォーム!AJ112<>\"\",\"肝炎\",\"\")","v":""},{"$f":"IF(申込みフォーム!AK112<>\"\",\"脳　\",\"\")&IF(申込みフォーム!AL112<>\"\",\"胸部CT　\",\"\")&IF(申込みフォーム!AM112<>\"\",\"肺機能　\",\"\")&IF(申込みフォーム!AN112<>\"\",\"腹ｴｺｰ　\",\"\")&IF(申込みフォーム!AO112<>\"\",\"心ｴｺｰ　\",\"\")&IF(申込みフォーム!AP112<>\"\",\"ﾌﾛｰﾗ　\",\"\")&IF(申込みフォーム!AQ112<>\"\",\"OCT　\",\"\")&IF(申込みフォーム!AR112<>\"\",\"検便　\",\"\")&IF(申込みフォーム!AS112<>\"\",\"骨　\",\"\")&IF(申込みフォーム!AT112<>\"\",\"骨＋ﾛｺﾓ\",\"\")","v":""},{"$f":"IF(申込みフォーム!AU112<>\"\",申込みフォーム!AU112&\"　　\",\"\")&IF(申込みフォーム!AV112<>\"\",申込みフォーム!AV112&\"　　\",\"\")&IF(申込みフォーム!AW112<>\"\",申込みフォーム!AW112&\"　　\",\"\")&IF(申込みフォーム!$AX112=\"〇\",\"4月　\",\"\")&IF(申込みフォーム!$AY112=\"〇\",\"5月　\",\"\")&IF(申込みフォーム!$AZ112=\"〇\",\"6月　\",\"\")&IF(申込みフォーム!$BA112=\"〇\",\"7月　\",\"\")&IF(申込みフォーム!$BB112=\"〇\",\"8月　\",\"\")&IF(申込みフォーム!$BC112=\"〇\",\"9月　\",\"\")&IF(申込みフォーム!$BD112=\"〇\",\"10月　\",\"\")&IF(申込みフォーム!$BE112=\"〇\",\"11月　\",\"\")&IF(申込みフォーム!$BF112=\"〇\",\"12月　\",\"\")&IF(申込みフォーム!$BG112=\"〇\",\"1月　\",\"\")&IF(申込みフォーム!$BH112=\"〇\",\"2月　\",\"\")&IF(申込みフォーム!$BI112=\"〇\",\"3月　\",\"\")","v":""},{"$f":"IF(申込みフォーム!BJ112<>\"\",申込みフォーム!BJ112,\"\")","v":""},{"$f":"IF(申込みフォーム!BK112<>\"\",申込みフォーム!BK112,\"\")","v":""},{"$f":"申込みフォーム!$Z112","v":""},{"$f":"IF(申込みフォーム!BL112<>\"\",申込みフォーム!BL112&\"　　\",\"\")&IF(申込みフォーム!BM112<>\"\",申込みフォーム!BM112&\"　　\",\"\")&IF(申込みフォーム!BN112<>\"\",申込みフォーム!BN112&\"　　\",\"\")","v":{"$error":"#VALUE!"}},{"$f":"IF($B103=VLOOKUP($B103,'受診者リスト(抽出用）'!$A:$F,1,0),VLOOKUP($B103,'受診者リスト(抽出用）'!$A:$F,3,0)&\"　（団体マスタ）\"&VLOOKUP($B103,'受診者リスト(抽出用）'!$A:$F,4,0)&\"　（枝番）\"&VLOOKUP(B103,'受診者リスト(抽出用）'!$A:$F,5,0),\"\")","v":{"$error":"#N/A"}}]
[103,{"$f":"IF(申込みフォーム!B113<>\"\",申込みフォーム!B113&\"　\"&申込みフォーム!C113,\"\")","v":""},{"$f":"IF(申込みフォーム!E113<>\"\",申込みフォーム!E113&\"　\"&申込みフォーム!F113,\"\")","v":""},{"$f":"IF(申込みフォーム!G113<>\"\",申込みフォーム!G113,\"\")","v":""},{"$f":"IF(申込みフォーム!H113<>\"\",申込みフォーム!H113,\"\")","v":""},{"$f":"IF(申込みフォーム!D113<>\"\",申込みフォーム!D113,\"\")","v":""},{"$f":"IF(申込みフォーム!I113<>\"\",REPLACE(申込みフォーム!I113,4,,\"-\"),\"\")","v":""},{"$f":"IF(申込みフォーム!J113<>\"\",申込みフォーム!J113,\"\")","v":""},{"$f":"IF(申込みフォーム!K113<>\"\",申込みフォーム!K113,\"\")","v":""},{"$f":"IF(申込みフォーム!L113<>\"\",MID(申込みフォーム!L113,1,3)&\"-\"&MID(申込みフォーム!L113,4,4)&\"-\"&MID(申込みフォーム!L113,8,4),\"\")","v":""},{"$f":"IF(申込みフォーム!M113<>\"\",申込みフォーム!M113,\"\")","v":""},{"$f":"IF(申込みフォーム!N113<>\"\",申込みフォーム!N113,\"\")","v":""},{"$f":"IF(申込みフォーム!O113<>\"\",申込みフォーム!O113,\"\")","v":""},{"$f":"IF(申込みフォーム!P113<>\"\",申込みフォーム!P113,\"\")","v":""},{"$f":"IF(申込みフォーム!Q113<>\"\",申込みフォーム!Q113,\"\")","v":""},{"$f":"IF(申込みフォーム!R113<>\"\",申込みフォーム!R113,\"\")","v":""},{"$f":"IF(申込みフォーム!S113<>\"\",申込みフォーム!S113,\"\")","v":""},{"$f":"IF(申込みフォーム!U113=\"細胞診のみ\",\"協会子宮　\",IF(申込みフォーム!U113=\"細胞診＋（自費）膣エコー\",\"協会子宮＋自費膣エコー　\",\"\"))&IF(申込みフォーム!W113<>\"\",\"協会ﾏﾝﾓ　\",\"\")&IF(申込みフォーム!Y113<>\"\",\"協会骨　\",\"\")&IF(申込みフォーム!AA113<>\"\",\"協会肝炎　\",\"\")","v":""},{"$f":"IF(申込みフォーム!AB113<>\"\",\"子宮　\",\"\")&IF(申込みフォーム!AC113<>\"\",\"ﾏﾝﾓ　\",\"\")&IF(申込みフォーム!AD113<>\"\",\"乳ｴｺｰ\",\"\")","v":""},{"$f":"IF(申込みフォーム!AE113<>\"\",\"ﾏｰｶｰ　\",\"\")&IF(申込みフォーム!AF113<>\"\",\"心機能　\",\"\")&IF(申込みフォーム!AG113<>\"\",\"ABC　\",\"\")&IF(申込みフォーム!AH113<>\"\",\"Lox　\",\"\")&IF(申込みフォーム!AI113<>\"\",\"甲状腺　\",\"\")&IF(申込みフォーム!AJ113<>\"\",\"肝炎\",\"\")","v":""},{"$f":"IF(申込みフォーム!AK113<>\"\",\"脳　\",\"\")&IF(申込みフォーム!AL113<>\"\",\"胸部CT　\",\"\")&IF(申込みフォーム!AM113<>\"\",\"肺機能　\",\"\")&IF(申込みフォーム!AN113<>\"\",\"腹ｴｺｰ　\",\"\")&IF(申込みフォーム!AO113<>\"\",\"心ｴｺｰ　\",\"\")&IF(申込みフォーム!AP113<>\"\",\"ﾌﾛｰﾗ　\",\"\")&IF(申込みフォーム!AQ113<>\"\",\"OCT　\",\"\")&IF(申込みフォーム!AR113<>\"\",\"検便　\",\"\")&IF(申込みフォーム!AS113<>\"\",\"骨　\",\"\")&IF(申込みフォーム!AT113<>\"\",\"骨＋ﾛｺﾓ\",\"\")","v":""},{"$f":"IF(申込みフォーム!AU113<>\"\",申込みフォーム!AU113&\"　　\",\"\")&IF(申込みフォーム!AV113<>\"\",申込みフォーム!AV113&\"　　\",\"\")&IF(申込みフォーム!AW113<>\"\",申込みフォーム!AW113&\"　　\",\"\")&IF(申込みフォーム!$AX113=\"〇\",\"4月　\",\"\")&IF(申込みフォーム!$AY113=\"〇\",\"5月　\",\"\")&IF(申込みフォーム!$AZ113=\"〇\",\"6月　\",\"\")&IF(申込みフォーム!$BA113=\"〇\",\"7月　\",\"\")&IF(申込みフォーム!$BB113=\"〇\",\"8月　\",\"\")&IF(申込みフォーム!$BC113=\"〇\",\"9月　\",\"\")&IF(申込みフォーム!$BD113=\"〇\",\"10月　\",\"\")&IF(申込みフォーム!$BE113=\"〇\",\"11月　\",\"\")&IF(申込みフォーム!$BF113=\"〇\",\"12月　\",\"\")&IF(申込みフォーム!$BG113=\"〇\",\"1月　\",\"\")&IF(申込みフォーム!$BH113=\"〇\",\"2月　\",\"\")&IF(申込みフォーム!$BI113=\"〇\",\"3月　\",\"\")","v":""},{"$f":"IF(申込みフォーム!BJ113<>\"\",申込みフォーム!BJ113,\"\")","v":""},{"$f":"IF(申込みフォーム!BK113<>\"\",申込みフォーム!BK113,\"\")","v":""},{"$f":"申込みフォーム!$Z113","v":""},{"$f":"IF(申込みフォーム!BL113<>\"\",申込みフォーム!BL113&\"　　\",\"\")&IF(申込みフォーム!BM113<>\"\",申込みフォーム!BM113&\"　　\",\"\")&IF(申込みフォーム!BN113<>\"\",申込みフォーム!BN113&\"　　\",\"\")","v":{"$error":"#VALUE!"}},{"$f":"IF($B104=VLOOKUP($B104,'受診者リスト(抽出用）'!$A:$F,1,0),VLOOKUP($B104,'受診者リスト(抽出用）'!$A:$F,3,0)&\"　（団体マスタ）\"&VLOOKUP($B104,'受診者リスト(抽出用）'!$A:$F,4,0)&\"　（枝番）\"&VLOOKUP(B104,'受診者リスト(抽出用）'!$A:$F,5,0),\"\")","v":{"$error":"#N/A"}}]
[104,{"$f":"IF(申込みフォーム!B114<>\"\",申込みフォーム!B114&\"　\"&申込みフォーム!C114,\"\")","v":""},{"$f":"IF(申込みフォーム!E114<>\"\",申込みフォーム!E114&\"　\"&申込みフォーム!F114,\"\")","v":""},{"$f":"IF(申込みフォーム!G114<>\"\",申込みフォーム!G114,\"\")","v":""},{"$f":"IF(申込みフォーム!H114<>\"\",申込みフォーム!H114,\"\")","v":""},{"$f":"IF(申込みフォーム!D114<>\"\",申込みフォーム!D114,\"\")","v":""},{"$f":"IF(申込みフォーム!I114<>\"\",REPLACE(申込みフォーム!I114,4,,\"-\"),\"\")","v":""},{"$f":"IF(申込みフォーム!J114<>\"\",申込みフォーム!J114,\"\")","v":""},{"$f":"IF(申込みフォーム!K114<>\"\",申込みフォーム!K114,\"\")","v":""},{"$f":"IF(申込みフォーム!L114<>\"\",MID(申込みフォーム!L114,1,3)&\"-\"&MID(申込みフォーム!L114,4,4)&\"-\"&MID(申込みフォーム!L114,8,4),\"\")","v":""},{"$f":"IF(申込みフォーム!M114<>\"\",申込みフォーム!M114,\"\")","v":""},{"$f":"IF(申込みフォーム!N114<>\"\",申込みフォーム!N114,\"\")","v":""},{"$f":"IF(申込みフォーム!O114<>\"\",申込みフォーム!O114,\"\")","v":""},{"$f":"IF(申込みフォーム!P114<>\"\",申込みフォーム!P114,\"\")","v":""},{"$f":"IF(申込みフォーム!Q114<>\"\",申込みフォーム!Q114,\"\")","v":""},{"$f":"IF(申込みフォーム!R114<>\"\",申込みフォーム!R114,\"\")","v":""},{"$f":"IF(申込みフォーム!S114<>\"\",申込みフォーム!S114,\"\")","v":""},{"$f":"IF(申込みフォーム!U114=\"細胞診のみ\",\"協会子宮　\",IF(申込みフォーム!U114=\"細胞診＋（自費）膣エコー\",\"協会子宮＋自費膣エコー　\",\"\"))&IF(申込みフォーム!W114<>\"\",\"協会ﾏﾝﾓ　\",\"\")&IF(申込みフォーム!Y114<>\"\",\"協会骨　\",\"\")&IF(申込みフォーム!AA114<>\"\",\"協会肝炎　\",\"\")","v":""},{"$f":"IF(申込みフォーム!AB114<>\"\",\"子宮　\",\"\")&IF(申込みフォーム!AC114<>\"\",\"ﾏﾝﾓ　\",\"\")&IF(申込みフォーム!AD114<>\"\",\"乳ｴｺｰ\",\"\")","v":""},{"$f":"IF(申込みフォーム!AE114<>\"\",\"ﾏｰｶｰ　\",\"\")&IF(申込みフォーム!AF114<>\"\",\"心機能　\",\"\")&IF(申込みフォーム!AG114<>\"\",\"ABC　\",\"\")&IF(申込みフォーム!AH114<>\"\",\"Lox　\",\"\")&IF(申込みフォーム!AI114<>\"\",\"甲状腺　\",\"\")&IF(申込みフォーム!AJ114<>\"\",\"肝炎\",\"\")","v":""},{"$f":"IF(申込みフォーム!AK114<>\"\",\"脳　\",\"\")&IF(申込みフォーム!AL114<>\"\",\"胸部CT　\",\"\")&IF(申込みフォーム!AM114<>\"\",\"肺機能　\",\"\")&IF(申込みフォーム!AN114<>\"\",\"腹ｴｺｰ　\",\"\")&IF(申込みフォーム!AO114<>\"\",\"心ｴｺｰ　\",\"\")&IF(申込みフォーム!AP114<>\"\",\"ﾌﾛｰﾗ　\",\"\")&IF(申込みフォーム!AQ114<>\"\",\"OCT　\",\"\")&IF(申込みフォーム!AR114<>\"\",\"検便　\",\"\")&IF(申込みフォーム!AS114<>\"\",\"骨　\",\"\")&IF(申込みフォーム!AT114<>\"\",\"骨＋ﾛｺﾓ\",\"\")","v":""},{"$f":"IF(申込みフォーム!AU114<>\"\",申込みフォーム!AU114&\"　　\",\"\")&IF(申込みフォーム!AV114<>\"\",申込みフォーム!AV114&\"　　\",\"\")&IF(申込みフォーム!AW114<>\"\",申込みフォーム!AW114&\"　　\",\"\")&IF(申込みフォーム!$AX114=\"〇\",\"4月　\",\"\")&IF(申込みフォーム!$AY114=\"〇\",\"5月　\",\"\")&IF(申込みフォーム!$AZ114=\"〇\",\"6月　\",\"\")&IF(申込みフォーム!$BA114=\"〇\",\"7月　\",\"\")&IF(申込みフォーム!$BB114=\"〇\",\"8月　\",\"\")&IF(申込みフォーム!$BC114=\"〇\",\"9月　\",\"\")&IF(申込みフォーム!$BD114=\"〇\",\"10月　\",\"\")&IF(申込みフォーム!$BE114=\"〇\",\"11月　\",\"\")&IF(申込みフォーム!$BF114=\"〇\",\"12月　\",\"\")&IF(申込みフォーム!$BG114=\"〇\",\"1月　\",\"\")&IF(申込みフォーム!$BH114=\"〇\",\"2月　\",\"\")&IF(申込みフォーム!$BI114=\"〇\",\"3月　\",\"\")","v":""},{"$f":"IF(申込みフォーム!BJ114<>\"\",申込みフォーム!BJ114,\"\")","v":""},{"$f":"IF(申込みフォーム!BK114<>\"\",申込みフォーム!BK114,\"\")","v":""},{"$f":"申込みフォーム!$Z114","v":""},{"$f":"IF(申込みフォーム!BL114<>\"\",申込みフォーム!BL114&\"　　\",\"\")&IF(申込みフォーム!BM114<>\"\",申込みフォーム!BM114&\"　　\",\"\")&IF(申込みフォーム!BN114<>\"\",申込みフォーム!BN114&\"　　\",\"\")","v":{"$error":"#VALUE!"}},{"$f":"IF($B105=VLOOKUP($B105,'受診者リスト(抽出用）'!$A:$F,1,0),VLOOKUP($B105,'受診者リスト(抽出用）'!$A:$F,3,0)&\"　（団体マスタ）\"&VLOOKUP($B105,'受診者リスト(抽出用）'!$A:$F,4,0)&\"　（枝番）\"&VLOOKUP(B105,'受診者リスト(抽出用）'!$A:$F,5,0),\"\")","v":{"$error":"#N/A"}}]
[105,{"$f":"IF(申込みフォーム!B115<>\"\",申込みフォーム!B115&\"　\"&申込みフォーム!C115,\"\")","v":""},{"$f":"IF(申込みフォーム!E115<>\"\",申込みフォーム!E115&\"　\"&申込みフォーム!F115,\"\")","v":""},{"$f":"IF(申込みフォーム!G115<>\"\",申込みフォーム!G115,\"\")","v":""},{"$f":"IF(申込みフォーム!H115<>\"\",申込みフォーム!H115,\"\")","v":""},{"$f":"IF(申込みフォーム!D115<>\"\",申込みフォーム!D115,\"\")","v":""},{"$f":"IF(申込みフォーム!I115<>\"\",REPLACE(申込みフォーム!I115,4,,\"-\"),\"\")","v":""},{"$f":"IF(申込みフォーム!J115<>\"\",申込みフォーム!J115,\"\")","v":""},{"$f":"IF(申込みフォーム!K115<>\"\",申込みフォーム!K115,\"\")","v":""},{"$f":"IF(申込みフォーム!L115<>\"\",MID(申込みフォーム!L115,1,3)&\"-\"&MID(申込みフォーム!L115,4,4)&\"-\"&MID(申込みフォーム!L115,8,4),\"\")","v":""},{"$f":"IF(申込みフォーム!M115<>\"\",申込みフォーム!M115,\"\")","v":""},{"$f":"IF(申込みフォーム!N115<>\"\",申込みフォーム!N115,\"\")","v":""},{"$f":"IF(申込みフォーム!O115<>\"\",申込みフォーム!O115,\"\")","v":""},{"$f":"IF(申込みフォーム!P115<>\"\",申込みフォーム!P115,\"\")","v":""},{"$f":"IF(申込みフォーム!Q115<>\"\",申込みフォーム!Q115,\"\")","v":""},{"$f":"IF(申込みフォーム!R115<>\"\",申込みフォーム!R115,\"\")","v":""},{"$f":"IF(申込みフォーム!S115<>\"\",申込みフォーム!S115,\"\")","v":""},{"$f":"IF(申込みフォーム!U115=\"細胞診のみ\",\"協会子宮　\",IF(申込みフォーム!U115=\"細胞診＋（自費）膣エコー\",\"協会子宮＋自費膣エコー　\",\"\"))&IF(申込みフォーム!W115<>\"\",\"協会ﾏﾝﾓ　\",\"\")&IF(申込みフォーム!Y115<>\"\",\"協会骨　\",\"\")&IF(申込みフォーム!AA115<>\"\",\"協会肝炎　\",\"\")","v":""},{"$f":"IF(申込みフォーム!AB115<>\"\",\"子宮　\",\"\")&IF(申込みフォーム!AC115<>\"\",\"ﾏﾝﾓ　\",\"\")&IF(申込みフォーム!AD115<>\"\",\"乳ｴｺｰ\",\"\")","v":""},{"$f":"IF(申込みフォーム!AE115<>\"\",\"ﾏｰｶｰ　\",\"\")&IF(申込みフォーム!AF115<>\"\",\"心機能　\",\"\")&IF(申込みフォーム!AG115<>\"\",\"ABC　\",\"\")&IF(申込みフォーム!AH115<>\"\",\"Lox　\",\"\")&IF(申込みフォーム!AI115<>\"\",\"甲状腺　\",\"\")&IF(申込みフォーム!AJ115<>\"\",\"肝炎\",\"\")","v":""},{"$f":"IF(申込みフォーム!AK115<>\"\",\"脳　\",\"\")&IF(申込みフォーム!AL115<>\"\",\"胸部CT　\",\"\")&IF(申込みフォーム!AM115<>\"\",\"肺機能　\",\"\")&IF(申込みフォーム!AN115<>\"\",\"腹ｴｺｰ　\",\"\")&IF(申込みフォーム!AO115<>\"\",\"心ｴｺｰ　\",\"\")&IF(申込みフォーム!AP115<>\"\",\"ﾌﾛｰﾗ　\",\"\")&IF(申込みフォーム!AQ115<>\"\",\"OCT　\",\"\")&IF(申込みフォーム!AR115<>\"\",\"検便　\",\"\")&IF(申込みフォーム!AS115<>\"\",\"骨　\",\"\")&IF(申込みフォーム!AT115<>\"\",\"骨＋ﾛｺﾓ\",\"\")","v":""},{"$f":"IF(申込みフォーム!AU115<>\"\",申込みフォーム!AU115&\"　　\",\"\")&IF(申込みフォーム!AV115<>\"\",申込みフォーム!AV115&\"　　\",\"\")&IF(申込みフォーム!AW115<>\"\",申込みフォーム!AW115&\"　　\",\"\")&IF(申込みフォーム!$AX115=\"〇\",\"4月　\",\"\")&IF(申込みフォーム!$AY115=\"〇\",\"5月　\",\"\")&IF(申込みフォーム!$AZ115=\"〇\",\"6月　\",\"\")&IF(申込みフォーム!$BA115=\"〇\",\"7月　\",\"\")&IF(申込みフォーム!$BB115=\"〇\",\"8月　\",\"\")&IF(申込みフォーム!$BC115=\"〇\",\"9月　\",\"\")&IF(申込みフォーム!$BD115=\"〇\",\"10月　\",\"\")&IF(申込みフォーム!$BE115=\"〇\",\"11月　\",\"\")&IF(申込みフォーム!$BF115=\"〇\",\"12月　\",\"\")&IF(申込みフォーム!$BG115=\"〇\",\"1月　\",\"\")&IF(申込みフォーム!$BH115=\"〇\",\"2月　\",\"\")&IF(申込みフォーム!$BI115=\"〇\",\"3月　\",\"\")","v":""},{"$f":"IF(申込みフォーム!BJ115<>\"\",申込みフォーム!BJ115,\"\")","v":""},{"$f":"IF(申込みフォーム!BK115<>\"\",申込みフォーム!BK115,\"\")","v":""},{"$f":"申込みフォーム!$Z115","v":""},{"$f":"IF(申込みフォーム!BL115<>\"\",申込みフォーム!BL115&\"　　\",\"\")&IF(申込みフォーム!BM115<>\"\",申込みフォーム!BM115&\"　　\",\"\")&IF(申込みフォーム!BN115<>\"\",申込みフォーム!BN115&\"　　\",\"\")","v":{"$error":"#VALUE!"}},{"$f":"IF($B106=VLOOKUP($B106,'受診者リスト(抽出用）'!$A:$F,1,0),VLOOKUP($B106,'受診者リスト(抽出用）'!$A:$F,3,0)&\"　（団体マスタ）\"&VLOOKUP($B106,'受診者リスト(抽出用）'!$A:$F,4,0)&\"　（枝番）\"&VLOOKUP(B106,'受診者リスト(抽出用）'!$A:$F,5,0),\"\")","v":{"$error":"#N/A"}}]
[106,{"$f":"IF(申込みフォーム!B116<>\"\",申込みフォーム!B116&\"　\"&申込みフォーム!C116,\"\")","v":""},{"$f":"IF(申込みフォーム!E116<>\"\",申込みフォーム!E116&\"　\"&申込みフォーム!F116,\"\")","v":""},{"$f":"IF(申込みフォーム!G116<>\"\",申込みフォーム!G116,\"\")","v":""},{"$f":"IF(申込みフォーム!H116<>\"\",申込みフォーム!H116,\"\")","v":""},{"$f":"IF(申込みフォーム!D116<>\"\",申込みフォーム!D116,\"\")","v":""},{"$f":"IF(申込みフォーム!I116<>\"\",REPLACE(申込みフォーム!I116,4,,\"-\"),\"\")","v":""},{"$f":"IF(申込みフォーム!J116<>\"\",申込みフォーム!J116,\"\")","v":""},{"$f":"IF(申込みフォーム!K116<>\"\",申込みフォーム!K116,\"\")","v":""},{"$f":"IF(申込みフォーム!L116<>\"\",MID(申込みフォーム!L116,1,3)&\"-\"&MID(申込みフォーム!L116,4,4)&\"-\"&MID(申込みフォーム!L116,8,4),\"\")","v":""},{"$f":"IF(申込みフォーム!M116<>\"\",申込みフォーム!M116,\"\")","v":""},{"$f":"IF(申込みフォーム!N116<>\"\",申込みフォーム!N116,\"\")","v":""},{"$f":"IF(申込みフォーム!O116<>\"\",申込みフォーム!O116,\"\")","v":""},{"$f":"IF(申込みフォーム!P116<>\"\",申込みフォーム!P116,\"\")","v":""},{"$f":"IF(申込みフォーム!Q116<>\"\",申込みフォーム!Q116,\"\")","v":""},{"$f":"IF(申込みフォーム!R116<>\"\",申込みフォーム!R116,\"\")","v":""},{"$f":"IF(申込みフォーム!S116<>\"\",申込みフォーム!S116,\"\")","v":""},{"$f":"IF(申込みフォーム!U116=\"細胞診のみ\",\"協会子宮　\",IF(申込みフォーム!U116=\"細胞診＋（自費）膣エコー\",\"協会子宮＋自費膣エコー　\",\"\"))&IF(申込みフォーム!W116<>\"\",\"協会ﾏﾝﾓ　\",\"\")&IF(申込みフォーム!Y116<>\"\",\"協会骨　\",\"\")&IF(申込みフォーム!AA116<>\"\",\"協会肝炎　\",\"\")","v":""},{"$f":"IF(申込みフォーム!AB116<>\"\",\"子宮　\",\"\")&IF(申込みフォーム!AC116<>\"\",\"ﾏﾝﾓ　\",\"\")&IF(申込みフォーム!AD116<>\"\",\"乳ｴｺｰ\",\"\")","v":""},{"$f":"IF(申込みフォーム!AE116<>\"\",\"ﾏｰｶｰ　\",\"\")&IF(申込みフォーム!AF116<>\"\",\"心機能　\",\"\")&IF(申込みフォーム!AG116<>\"\",\"ABC　\",\"\")&IF(申込みフォーム!AH116<>\"\",\"Lox　\",\"\")&IF(申込みフォーム!AI116<>\"\",\"甲状腺　\",\"\")&IF(申込みフォーム!AJ116<>\"\",\"肝炎\",\"\")","v":""},{"$f":"IF(申込みフォーム!AK116<>\"\",\"脳　\",\"\")&IF(申込みフォーム!AL116<>\"\",\"胸部CT　\",\"\")&IF(申込みフォーム!AM116<>\"\",\"肺機能　\",\"\")&IF(申込みフォーム!AN116<>\"\",\"腹ｴｺｰ　\",\"\")&IF(申込みフォーム!AO116<>\"\",\"心ｴｺｰ　\",\"\")&IF(申込みフォーム!AP116<>\"\",\"ﾌﾛｰﾗ　\",\"\")&IF(申込みフォーム!AQ116<>\"\",\"OCT　\",\"\")&IF(申込みフォーム!AR116<>\"\",\"検便　\",\"\")&IF(申込みフォーム!AS116<>\"\",\"骨　\",\"\")&IF(申込みフォーム!AT116<>\"\",\"骨＋ﾛｺﾓ\",\"\")","v":""},{"$f":"IF(申込みフォーム!AU116<>\"\",申込みフォーム!AU116&\"　　\",\"\")&IF(申込みフォーム!AV116<>\"\",申込みフォーム!AV116&\"　　\",\"\")&IF(申込みフォーム!AW116<>\"\",申込みフォーム!AW116&\"　　\",\"\")&IF(申込みフォーム!$AX116=\"〇\",\"4月　\",\"\")&IF(申込みフォーム!$AY116=\"〇\",\"5月　\",\"\")&IF(申込みフォーム!$AZ116=\"〇\",\"6月　\",\"\")&IF(申込みフォーム!$BA116=\"〇\",\"7月　\",\"\")&IF(申込みフォーム!$BB116=\"〇\",\"8月　\",\"\")&IF(申込みフォーム!$BC116=\"〇\",\"9月　\",\"\")&IF(申込みフォーム!$BD116=\"〇\",\"10月　\",\"\")&IF(申込みフォーム!$BE116=\"〇\",\"11月　\",\"\")&IF(申込みフォーム!$BF116=\"〇\",\"12月　\",\"\")&IF(申込みフォーム!$BG116=\"〇\",\"1月　\",\"\")&IF(申込みフォーム!$BH116=\"〇\",\"2月　\",\"\")&IF(申込みフォーム!$BI116=\"〇\",\"3月　\",\"\")","v":""},{"$f":"IF(申込みフォーム!BJ116<>\"\",申込みフォーム!BJ116,\"\")","v":""},{"$f":"IF(申込みフォーム!BK116<>\"\",申込みフォーム!BK116,\"\")","v":""},{"$f":"申込みフォーム!$Z116","v":""},{"$f":"IF(申込みフォーム!BL116<>\"\",申込みフォーム!BL116&\"　　\",\"\")&IF(申込みフォーム!BM116<>\"\",申込みフォーム!BM116&\"　　\",\"\")&IF(申込みフォーム!BN116<>\"\",申込みフォーム!BN116&\"　　\",\"\")","v":{"$error":"#VALUE!"}},{"$f":"IF($B107=VLOOKUP($B107,'受診者リスト(抽出用）'!$A:$F,1,0),VLOOKUP($B107,'受診者リスト(抽出用）'!$A:$F,3,0)&\"　（団体マスタ）\"&VLOOKUP($B107,'受診者リスト(抽出用）'!$A:$F,4,0)&\"　（枝番）\"&VLOOKUP(B107,'受診者リスト(抽出用）'!$A:$F,5,0),\"\")","v":{"$error":"#N/A"}}]
[107,{"$f":"IF(申込みフォーム!B117<>\"\",申込みフォーム!B117&\"　\"&申込みフォーム!C117,\"\")","v":""},{"$f":"IF(申込みフォーム!E117<>\"\",申込みフォーム!E117&\"　\"&申込みフォーム!F117,\"\")","v":""},{"$f":"IF(申込みフォーム!G117<>\"\",申込みフォーム!G117,\"\")","v":""},{"$f":"IF(申込みフォーム!H117<>\"\",申込みフォーム!H117,\"\")","v":""},{"$f":"IF(申込みフォーム!D117<>\"\",申込みフォーム!D117,\"\")","v":""},{"$f":"IF(申込みフォーム!I117<>\"\",REPLACE(申込みフォーム!I117,4,,\"-\"),\"\")","v":""},{"$f":"IF(申込みフォーム!J117<>\"\",申込みフォーム!J117,\"\")","v":""},{"$f":"IF(申込みフォーム!K117<>\"\",申込みフォーム!K117,\"\")","v":""},{"$f":"IF(申込みフォーム!L117<>\"\",MID(申込みフォーム!L117,1,3)&\"-\"&MID(申込みフォーム!L117,4,4)&\"-\"&MID(申込みフォーム!L117,8,4),\"\")","v":""},{"$f":"IF(申込みフォーム!M117<>\"\",申込みフォーム!M117,\"\")","v":""},{"$f":"IF(申込みフォーム!N117<>\"\",申込みフォーム!N117,\"\")","v":""},{"$f":"IF(申込みフォーム!O117<>\"\",申込みフォーム!O117,\"\")","v":""},{"$f":"IF(申込みフォーム!P117<>\"\",申込みフォーム!P117,\"\")","v":""},{"$f":"IF(申込みフォーム!Q117<>\"\",申込みフォーム!Q117,\"\")","v":""},{"$f":"IF(申込みフォーム!R117<>\"\",申込みフォーム!R117,\"\")","v":""},{"$f":"IF(申込みフォーム!S117<>\"\",申込みフォーム!S117,\"\")","v":""},{"$f":"IF(申込みフォーム!U117=\"細胞診のみ\",\"協会子宮　\",IF(申込みフォーム!U117=\"細胞診＋（自費）膣エコー\",\"協会子宮＋自費膣エコー　\",\"\"))&IF(申込みフォーム!W117<>\"\",\"協会ﾏﾝﾓ　\",\"\")&IF(申込みフォーム!Y117<>\"\",\"協会骨　\",\"\")&IF(申込みフォーム!AA117<>\"\",\"協会肝炎　\",\"\")","v":""},{"$f":"IF(申込みフォーム!AB117<>\"\",\"子宮　\",\"\")&IF(申込みフォーム!AC117<>\"\",\"ﾏﾝﾓ　\",\"\")&IF(申込みフォーム!AD117<>\"\",\"乳ｴｺｰ\",\"\")","v":""},{"$f":"IF(申込みフォーム!AE117<>\"\",\"ﾏｰｶｰ　\",\"\")&IF(申込みフォーム!AF117<>\"\",\"心機能　\",\"\")&IF(申込みフォーム!AG117<>\"\",\"ABC　\",\"\")&IF(申込みフォーム!AH117<>\"\",\"Lox　\",\"\")&IF(申込みフォーム!AI117<>\"\",\"甲状腺　\",\"\")&IF(申込みフォーム!AJ117<>\"\",\"肝炎\",\"\")","v":""},{"$f":"IF(申込みフォーム!AK117<>\"\",\"脳　\",\"\")&IF(申込みフォーム!AL117<>\"\",\"胸部CT　\",\"\")&IF(申込みフォーム!AM117<>\"\",\"肺機能　\",\"\")&IF(申込みフォーム!AN117<>\"\",\"腹ｴｺｰ　\",\"\")&IF(申込みフォーム!AO117<>\"\",\"心ｴｺｰ　\",\"\")&IF(申込みフォーム!AP117<>\"\",\"ﾌﾛｰﾗ　\",\"\")&IF(申込みフォーム!AQ117<>\"\",\"OCT　\",\"\")&IF(申込みフォーム!AR117<>\"\",\"検便　\",\"\")&IF(申込みフォーム!AS117<>\"\",\"骨　\",\"\")&IF(申込みフォーム!AT117<>\"\",\"骨＋ﾛｺﾓ\",\"\")","v":""},{"$f":"IF(申込みフォーム!AU117<>\"\",申込みフォーム!AU117&\"　　\",\"\")&IF(申込みフォーム!AV117<>\"\",申込みフォーム!AV117&\"　　\",\"\")&IF(申込みフォーム!AW117<>\"\",申込みフォーム!AW117&\"　　\",\"\")&IF(申込みフォーム!$AX117=\"〇\",\"4月　\",\"\")&IF(申込みフォーム!$AY117=\"〇\",\"5月　\",\"\")&IF(申込みフォーム!$AZ117=\"〇\",\"6月　\",\"\")&IF(申込みフォーム!$BA117=\"〇\",\"7月　\",\"\")&IF(申込みフォーム!$BB117=\"〇\",\"8月　\",\"\")&IF(申込みフォーム!$BC117=\"〇\",\"9月　\",\"\")&IF(申込みフォーム!$BD117=\"〇\",\"10月　\",\"\")&IF(申込みフォーム!$BE117=\"〇\",\"11月　\",\"\")&IF(申込みフォーム!$BF117=\"〇\",\"12月　\",\"\")&IF(申込みフォーム!$BG117=\"〇\",\"1月　\",\"\")&IF(申込みフォーム!$BH117=\"〇\",\"2月　\",\"\")&IF(申込みフォーム!$BI117=\"〇\",\"3月　\",\"\")","v":""},{"$f":"IF(申込みフォーム!BJ117<>\"\",申込みフォーム!BJ117,\"\")","v":""},{"$f":"IF(申込みフォーム!BK117<>\"\",申込みフォーム!BK117,\"\")","v":""},{"$f":"申込みフォーム!$Z117","v":""},{"$f":"IF(申込みフォーム!BL117<>\"\",申込みフォーム!BL117&\"　　\",\"\")&IF(申込みフォーム!BM117<>\"\",申込みフォーム!BM117&\"　　\",\"\")&IF(申込みフォーム!BN117<>\"\",申込みフォーム!BN117&\"　　\",\"\")","v":{"$error":"#VALUE!"}},{"$f":"IF($B108=VLOOKUP($B108,'受診者リスト(抽出用）'!$A:$F,1,0),VLOOKUP($B108,'受診者リスト(抽出用）'!$A:$F,3,0)&\"　（団体マスタ）\"&VLOOKUP($B108,'受診者リスト(抽出用）'!$A:$F,4,0)&\"　（枝番）\"&VLOOKUP(B108,'受診者リスト(抽出用）'!$A:$F,5,0),\"\")","v":{"$error":"#N/A"}}]
[108,{"$f":"IF(申込みフォーム!B118<>\"\",申込みフォーム!B118&\"　\"&申込みフォーム!C118,\"\")","v":""},{"$f":"IF(申込みフォーム!E118<>\"\",申込みフォーム!E118&\"　\"&申込みフォーム!F118,\"\")","v":""},{"$f":"IF(申込みフォーム!G118<>\"\",申込みフォーム!G118,\"\")","v":""},{"$f":"IF(申込みフォーム!H118<>\"\",申込みフォーム!H118,\"\")","v":""},{"$f":"IF(申込みフォーム!D118<>\"\",申込みフォーム!D118,\"\")","v":""},{"$f":"IF(申込みフォーム!I118<>\"\",REPLACE(申込みフォーム!I118,4,,\"-\"),\"\")","v":""},{"$f":"IF(申込みフォーム!J118<>\"\",申込みフォーム!J118,\"\")","v":""},{"$f":"IF(申込みフォーム!K118<>\"\",申込みフォーム!K118,\"\")","v":""},{"$f":"IF(申込みフォーム!L118<>\"\",MID(申込みフォーム!L118,1,3)&\"-\"&MID(申込みフォーム!L118,4,4)&\"-\"&MID(申込みフォーム!L118,8,4),\"\")","v":""},{"$f":"IF(申込みフォーム!M118<>\"\",申込みフォーム!M118,\"\")","v":""},{"$f":"IF(申込みフォーム!N118<>\"\",申込みフォーム!N118,\"\")","v":""},{"$f":"IF(申込みフォーム!O118<>\"\",申込みフォーム!O118,\"\")","v":""},{"$f":"IF(申込みフォーム!P118<>\"\",申込みフォーム!P118,\"\")","v":""},{"$f":"IF(申込みフォーム!Q118<>\"\",申込みフォーム!Q118,\"\")","v":""},{"$f":"IF(申込みフォーム!R118<>\"\",申込みフォーム!R118,\"\")","v":""},{"$f":"IF(申込みフォーム!S118<>\"\",申込みフォーム!S118,\"\")","v":""},{"$f":"IF(申込みフォーム!U118=\"細胞診のみ\",\"協会子宮　\",IF(申込みフォーム!U118=\"細胞診＋（自費）膣エコー\",\"協会子宮＋自費膣エコー　\",\"\"))&IF(申込みフォーム!W118<>\"\",\"協会ﾏﾝﾓ　\",\"\")&IF(申込みフォーム!Y118<>\"\",\"協会骨　\",\"\")&IF(申込みフォーム!AA118<>\"\",\"協会肝炎　\",\"\")","v":""},{"$f":"IF(申込みフォーム!AB118<>\"\",\"子宮　\",\"\")&IF(申込みフォーム!AC118<>\"\",\"ﾏﾝﾓ　\",\"\")&IF(申込みフォーム!AD118<>\"\",\"乳ｴｺｰ\",\"\")","v":""},{"$f":"IF(申込みフォーム!AE118<>\"\",\"ﾏｰｶｰ　\",\"\")&IF(申込みフォーム!AF118<>\"\",\"心機能　\",\"\")&IF(申込みフォーム!AG118<>\"\",\"ABC　\",\"\")&IF(申込みフォーム!AH118<>\"\",\"Lox　\",\"\")&IF(申込みフォーム!AI118<>\"\",\"甲状腺　\",\"\")&IF(申込みフォーム!AJ118<>\"\",\"肝炎\",\"\")","v":""},{"$f":"IF(申込みフォーム!AK118<>\"\",\"脳　\",\"\")&IF(申込みフォーム!AL118<>\"\",\"胸部CT　\",\"\")&IF(申込みフォーム!AM118<>\"\",\"肺機能　\",\"\")&IF(申込みフォーム!AN118<>\"\",\"腹ｴｺｰ　\",\"\")&IF(申込みフォーム!AO118<>\"\",\"心ｴｺｰ　\",\"\")&IF(申込みフォーム!AP118<>\"\",\"ﾌﾛｰﾗ　\",\"\")&IF(申込みフォーム!AQ118<>\"\",\"OCT　\",\"\")&IF(申込みフォーム!AR118<>\"\",\"検便　\",\"\")&IF(申込みフォーム!AS118<>\"\",\"骨　\",\"\")&IF(申込みフォーム!AT118<>\"\",\"骨＋ﾛｺﾓ\",\"\")","v":""},{"$f":"IF(申込みフォーム!AU118<>\"\",申込みフォーム!AU118&\"　　\",\"\")&IF(申込みフォーム!AV118<>\"\",申込みフォーム!AV118&\"　　\",\"\")&IF(申込みフォーム!AW118<>\"\",申込みフォーム!AW118&\"　　\",\"\")&IF(申込みフォーム!$AX118=\"〇\",\"4月　\",\"\")&IF(申込みフォーム!$AY118=\"〇\",\"5月　\",\"\")&IF(申込みフォーム!$AZ118=\"〇\",\"6月　\",\"\")&IF(申込みフォーム!$BA118=\"〇\",\"7月　\",\"\")&IF(申込みフォーム!$BB118=\"〇\",\"8月　\",\"\")&IF(申込みフォーム!$BC118=\"〇\",\"9月　\",\"\")&IF(申込みフォーム!$BD118=\"〇\",\"10月　\",\"\")&IF(申込みフォーム!$BE118=\"〇\",\"11月　\",\"\")&IF(申込みフォーム!$BF118=\"〇\",\"12月　\",\"\")&IF(申込みフォーム!$BG118=\"〇\",\"1月　\",\"\")&IF(申込みフォーム!$BH118=\"〇\",\"2月　\",\"\")&IF(申込みフォーム!$BI118=\"〇\",\"3月　\",\"\")","v":""},{"$f":"IF(申込みフォーム!BJ118<>\"\",申込みフォーム!BJ118,\"\")","v":""},{"$f":"IF(申込みフォーム!BK118<>\"\",申込みフォーム!BK118,\"\")","v":""},{"$f":"申込みフォーム!$Z118","v":""},{"$f":"IF(申込みフォーム!BL118<>\"\",申込みフォーム!BL118&\"　　\",\"\")&IF(申込みフォーム!BM118<>\"\",申込みフォーム!BM118&\"　　\",\"\")&IF(申込みフォーム!BN118<>\"\",申込みフォーム!BN118&\"　　\",\"\")","v":{"$error":"#VALUE!"}},{"$f":"IF($B109=VLOOKUP($B109,'受診者リスト(抽出用）'!$A:$F,1,0),VLOOKUP($B109,'受診者リスト(抽出用）'!$A:$F,3,0)&\"　（団体マスタ）\"&VLOOKUP($B109,'受診者リスト(抽出用）'!$A:$F,4,0)&\"　（枝番）\"&VLOOKUP(B109,'受診者リスト(抽出用）'!$A:$F,5,0),\"\")","v":{"$error":"#N/A"}}]
[109,{"$f":"IF(申込みフォーム!B119<>\"\",申込みフォーム!B119&\"　\"&申込みフォーム!C119,\"\")","v":""},{"$f":"IF(申込みフォーム!E119<>\"\",申込みフォーム!E119&\"　\"&申込みフォーム!F119,\"\")","v":""},{"$f":"IF(申込みフォーム!G119<>\"\",申込みフォーム!G119,\"\")","v":""},{"$f":"IF(申込みフォーム!H119<>\"\",申込みフォーム!H119,\"\")","v":""},{"$f":"IF(申込みフォーム!D119<>\"\",申込みフォーム!D119,\"\")","v":""},{"$f":"IF(申込みフォーム!I119<>\"\",REPLACE(申込みフォーム!I119,4,,\"-\"),\"\")","v":""},{"$f":"IF(申込みフォーム!J119<>\"\",申込みフォーム!J119,\"\")","v":""},{"$f":"IF(申込みフォーム!K119<>\"\",申込みフォーム!K119,\"\")","v":""},{"$f":"IF(申込みフォーム!L119<>\"\",MID(申込みフォーム!L119,1,3)&\"-\"&MID(申込みフォーム!L119,4,4)&\"-\"&MID(申込みフォーム!L119,8,4),\"\")","v":""},{"$f":"IF(申込みフォーム!M119<>\"\",申込みフォーム!M119,\"\")","v":""},{"$f":"IF(申込みフォーム!N119<>\"\",申込みフォーム!N119,\"\")","v":""},{"$f":"IF(申込みフォーム!O119<>\"\",申込みフォーム!O119,\"\")","v":""},{"$f":"IF(申込みフォーム!P119<>\"\",申込みフォーム!P119,\"\")","v":""},{"$f":"IF(申込みフォーム!Q119<>\"\",申込みフォーム!Q119,\"\")","v":""},{"$f":"IF(申込みフォーム!R119<>\"\",申込みフォーム!R119,\"\")","v":""},{"$f":"IF(申込みフォーム!S119<>\"\",申込みフォーム!S119,\"\")","v":""},{"$f":"IF(申込みフォーム!U119=\"細胞診のみ\",\"協会子宮　\",IF(申込みフォーム!U119=\"細胞診＋（自費）膣エコー\",\"協会子宮＋自費膣エコー　\",\"\"))&IF(申込みフォーム!W119<>\"\",\"協会ﾏﾝﾓ　\",\"\")&IF(申込みフォーム!Y119<>\"\",\"協会骨　\",\"\")&IF(申込みフォーム!AA119<>\"\",\"協会肝炎　\",\"\")","v":""},{"$f":"IF(申込みフォーム!AB119<>\"\",\"子宮　\",\"\")&IF(申込みフォーム!AC119<>\"\",\"ﾏﾝﾓ　\",\"\")&IF(申込みフォーム!AD119<>\"\",\"乳ｴｺｰ\",\"\")","v":""},{"$f":"IF(申込みフォーム!AE119<>\"\",\"ﾏｰｶｰ　\",\"\")&IF(申込みフォーム!AF119<>\"\",\"心機能　\",\"\")&IF(申込みフォーム!AG119<>\"\",\"ABC　\",\"\")&IF(申込みフォーム!AH119<>\"\",\"Lox　\",\"\")&IF(申込みフォーム!AI119<>\"\",\"甲状腺　\",\"\")&IF(申込みフォーム!AJ119<>\"\",\"肝炎\",\"\")","v":""},{"$f":"IF(申込みフォーム!AK119<>\"\",\"脳　\",\"\")&IF(申込みフォーム!AL119<>\"\",\"胸部CT　\",\"\")&IF(申込みフォーム!AM119<>\"\",\"肺機能　\",\"\")&IF(申込みフォーム!AN119<>\"\",\"腹ｴｺｰ　\",\"\")&IF(申込みフォーム!AO119<>\"\",\"心ｴｺｰ　\",\"\")&IF(申込みフォーム!AP119<>\"\",\"ﾌﾛｰﾗ　\",\"\")&IF(申込みフォーム!AQ119<>\"\",\"OCT　\",\"\")&IF(申込みフォーム!AR119<>\"\",\"検便　\",\"\")&IF(申込みフォーム!AS119<>\"\",\"骨　\",\"\")&IF(申込みフォーム!AT119<>\"\",\"骨＋ﾛｺﾓ\",\"\")","v":""},{"$f":"IF(申込みフォーム!AU119<>\"\",申込みフォーム!AU119&\"　　\",\"\")&IF(申込みフォーム!AV119<>\"\",申込みフォーム!AV119&\"　　\",\"\")&IF(申込みフォーム!AW119<>\"\",申込みフォーム!AW119&\"　　\",\"\")&IF(申込みフォーム!$AX119=\"〇\",\"4月　\",\"\")&IF(申込みフォーム!$AY119=\"〇\",\"5月　\",\"\")&IF(申込みフォーム!$AZ119=\"〇\",\"6月　\",\"\")&IF(申込みフォーム!$BA119=\"〇\",\"7月　\",\"\")&IF(申込みフォーム!$BB119=\"〇\",\"8月　\",\"\")&IF(申込みフォーム!$BC119=\"〇\",\"9月　\",\"\")&IF(申込みフォーム!$BD119=\"〇\",\"10月　\",\"\")&IF(申込みフォーム!$BE119=\"〇\",\"11月　\",\"\")&IF(申込みフォーム!$BF119=\"〇\",\"12月　\",\"\")&IF(申込みフォーム!$BG119=\"〇\",\"1月　\",\"\")&IF(申込みフォーム!$BH119=\"〇\",\"2月　\",\"\")&IF(申込みフォーム!$BI119=\"〇\",\"3月　\",\"\")","v":""},{"$f":"IF(申込みフォーム!BJ119<>\"\",申込みフォーム!BJ119,\"\")","v":""},{"$f":"IF(申込みフォーム!BK119<>\"\",申込みフォーム!BK119,\"\")","v":""},{"$f":"申込みフォーム!$Z119","v":""},{"$f":"IF(申込みフォーム!BL119<>\"\",申込みフォーム!BL119&\"　　\",\"\")&IF(申込みフォーム!BM119<>\"\",申込みフォーム!BM119&\"　　\",\"\")&IF(申込みフォーム!BN119<>\"\",申込みフォーム!BN119&\"　　\",\"\")","v":{"$error":"#VALUE!"}},{"$f":"IF($B110=VLOOKUP($B110,'受診者リスト(抽出用）'!$A:$F,1,0),VLOOKUP($B110,'受診者リスト(抽出用）'!$A:$F,3,0)&\"　（団体マスタ）\"&VLOOKUP($B110,'受診者リスト(抽出用）'!$A:$F,4,0)&\"　（枝番）\"&VLOOKUP(B110,'受診者リスト(抽出用）'!$A:$F,5,0),\"\")","v":{"$error":"#N/A"}}]
[110,{"$f":"IF(申込みフォーム!B120<>\"\",申込みフォーム!B120&\"　\"&申込みフォーム!C120,\"\")","v":""},{"$f":"IF(申込みフォーム!E120<>\"\",申込みフォーム!E120&\"　\"&申込みフォーム!F120,\"\")","v":""},{"$f":"IF(申込みフォーム!G120<>\"\",申込みフォーム!G120,\"\")","v":""},{"$f":"IF(申込みフォーム!H120<>\"\",申込みフォーム!H120,\"\")","v":""},{"$f":"IF(申込みフォーム!D120<>\"\",申込みフォーム!D120,\"\")","v":""},{"$f":"IF(申込みフォーム!I120<>\"\",REPLACE(申込みフォーム!I120,4,,\"-\"),\"\")","v":""},{"$f":"IF(申込みフォーム!J120<>\"\",申込みフォーム!J120,\"\")","v":""},{"$f":"IF(申込みフォーム!K120<>\"\",申込みフォーム!K120,\"\")","v":""},{"$f":"IF(申込みフォーム!L120<>\"\",MID(申込みフォーム!L120,1,3)&\"-\"&MID(申込みフォーム!L120,4,4)&\"-\"&MID(申込みフォーム!L120,8,4),\"\")","v":""},{"$f":"IF(申込みフォーム!M120<>\"\",申込みフォーム!M120,\"\")","v":""},{"$f":"IF(申込みフォーム!N120<>\"\",申込みフォーム!N120,\"\")","v":""},{"$f":"IF(申込みフォーム!O120<>\"\",申込みフォーム!O120,\"\")","v":""},{"$f":"IF(申込みフォーム!P120<>\"\",申込みフォーム!P120,\"\")","v":""},{"$f":"IF(申込みフォーム!Q120<>\"\",申込みフォーム!Q120,\"\")","v":""},{"$f":"IF(申込みフォーム!R120<>\"\",申込みフォーム!R120,\"\")","v":""},{"$f":"IF(申込みフォーム!S120<>\"\",申込みフォーム!S120,\"\")","v":""},{"$f":"IF(申込みフォーム!U120=\"細胞診のみ\",\"協会子宮　\",IF(申込みフォーム!U120=\"細胞診＋（自費）膣エコー\",\"協会子宮＋自費膣エコー　\",\"\"))&IF(申込みフォーム!W120<>\"\",\"協会ﾏﾝﾓ　\",\"\")&IF(申込みフォーム!Y120<>\"\",\"協会骨　\",\"\")&IF(申込みフォーム!AA120<>\"\",\"協会肝炎　\",\"\")","v":""},{"$f":"IF(申込みフォーム!AB120<>\"\",\"子宮　\",\"\")&IF(申込みフォーム!AC120<>\"\",\"ﾏﾝﾓ　\",\"\")&IF(申込みフォーム!AD120<>\"\",\"乳ｴｺｰ\",\"\")","v":""},{"$f":"IF(申込みフォーム!AE120<>\"\",\"ﾏｰｶｰ　\",\"\")&IF(申込みフォーム!AF120<>\"\",\"心機能　\",\"\")&IF(申込みフォーム!AG120<>\"\",\"ABC　\",\"\")&IF(申込みフォーム!AH120<>\"\",\"Lox　\",\"\")&IF(申込みフォーム!AI120<>\"\",\"甲状腺　\",\"\")&IF(申込みフォーム!AJ120<>\"\",\"肝炎\",\"\")","v":""},{"$f":"IF(申込みフォーム!AK120<>\"\",\"脳　\",\"\")&IF(申込みフォーム!AL120<>\"\",\"胸部CT　\",\"\")&IF(申込みフォーム!AM120<>\"\",\"肺機能　\",\"\")&IF(申込みフォーム!AN120<>\"\",\"腹ｴｺｰ　\",\"\")&IF(申込みフォーム!AO120<>\"\",\"心ｴｺｰ　\",\"\")&IF(申込みフォーム!AP120<>\"\",\"ﾌﾛｰﾗ　\",\"\")&IF(申込みフォーム!AQ120<>\"\",\"OCT　\",\"\")&IF(申込みフォーム!AR120<>\"\",\"検便　\",\"\")&IF(申込みフォーム!AS120<>\"\",\"骨　\",\"\")&IF(申込みフォーム!AT120<>\"\",\"骨＋ﾛｺﾓ\",\"\")","v":""},{"$f":"IF(申込みフォーム!AU120<>\"\",申込みフォーム!AU120&\"　　\",\"\")&IF(申込みフォーム!AV120<>\"\",申込みフォーム!AV120&\"　　\",\"\")&IF(申込みフォーム!AW120<>\"\",申込みフォーム!AW120&\"　　\",\"\")&IF(申込みフォーム!$AX120=\"〇\",\"4月　\",\"\")&IF(申込みフォーム!$AY120=\"〇\",\"5月　\",\"\")&IF(申込みフォーム!$AZ120=\"〇\",\"6月　\",\"\")&IF(申込みフォーム!$BA120=\"〇\",\"7月　\",\"\")&IF(申込みフォーム!$BB120=\"〇\",\"8月　\",\"\")&IF(申込みフォーム!$BC120=\"〇\",\"9月　\",\"\")&IF(申込みフォーム!$BD120=\"〇\",\"10月　\",\"\")&IF(申込みフォーム!$BE120=\"〇\",\"11月　\",\"\")&IF(申込みフォーム!$BF120=\"〇\",\"12月　\",\"\")&IF(申込みフォーム!$BG120=\"〇\",\"1月　\",\"\")&IF(申込みフォーム!$BH120=\"〇\",\"2月　\",\"\")&IF(申込みフォーム!$BI120=\"〇\",\"3月　\",\"\")","v":""},{"$f":"IF(申込みフォーム!BJ120<>\"\",申込みフォーム!BJ120,\"\")","v":""},{"$f":"IF(申込みフォーム!BK120<>\"\",申込みフォーム!BK120,\"\")","v":""},{"$f":"申込みフォーム!$Z120","v":""},{"$f":"IF(申込みフォーム!BL120<>\"\",申込みフォーム!BL120&\"　　\",\"\")&IF(申込みフォーム!BM120<>\"\",申込みフォーム!BM120&\"　　\",\"\")&IF(申込みフォーム!BN120<>\"\",申込みフォーム!BN120&\"　　\",\"\")","v":{"$error":"#VALUE!"}},{"$f":"IF($B111=VLOOKUP($B111,'受診者リスト(抽出用）'!$A:$F,1,0),VLOOKUP($B111,'受診者リスト(抽出用）'!$A:$F,3,0)&\"　（団体マスタ）\"&VLOOKUP($B111,'受診者リスト(抽出用）'!$A:$F,4,0)&\"　（枝番）\"&VLOOKUP(B111,'受診者リスト(抽出用）'!$A:$F,5,0),\"\")","v":{"$error":"#N/A"}}]
[111,{"$f":"IF(申込みフォーム!B121<>\"\",申込みフォーム!B121&\"　\"&申込みフォーム!C121,\"\")","v":""},{"$f":"IF(申込みフォーム!E121<>\"\",申込みフォーム!E121&\"　\"&申込みフォーム!F121,\"\")","v":""},{"$f":"IF(申込みフォーム!G121<>\"\",申込みフォーム!G121,\"\")","v":""},{"$f":"IF(申込みフォーム!H121<>\"\",申込みフォーム!H121,\"\")","v":""},{"$f":"IF(申込みフォーム!D121<>\"\",申込みフォーム!D121,\"\")","v":""},{"$f":"IF(申込みフォーム!I121<>\"\",REPLACE(申込みフォーム!I121,4,,\"-\"),\"\")","v":""},{"$f":"IF(申込みフォーム!J121<>\"\",申込みフォーム!J121,\"\")","v":""},{"$f":"IF(申込みフォーム!K121<>\"\",申込みフォーム!K121,\"\")","v":""},{"$f":"IF(申込みフォーム!L121<>\"\",MID(申込みフォーム!L121,1,3)&\"-\"&MID(申込みフォーム!L121,4,4)&\"-\"&MID(申込みフォーム!L121,8,4),\"\")","v":""},{"$f":"IF(申込みフォーム!M121<>\"\",申込みフォーム!M121,\"\")","v":""},{"$f":"IF(申込みフォーム!N121<>\"\",申込みフォーム!N121,\"\")","v":""},{"$f":"IF(申込みフォーム!O121<>\"\",申込みフォーム!O121,\"\")","v":""},{"$f":"IF(申込みフォーム!P121<>\"\",申込みフォーム!P121,\"\")","v":""},{"$f":"IF(申込みフォーム!Q121<>\"\",申込みフォーム!Q121,\"\")","v":""},{"$f":"IF(申込みフォーム!R121<>\"\",申込みフォーム!R121,\"\")","v":""},{"$f":"IF(申込みフォーム!S121<>\"\",申込みフォーム!S121,\"\")","v":""},{"$f":"IF(申込みフォーム!U121=\"細胞診のみ\",\"協会子宮　\",IF(申込みフォーム!U121=\"細胞診＋（自費）膣エコー\",\"協会子宮＋自費膣エコー　\",\"\"))&IF(申込みフォーム!W121<>\"\",\"協会ﾏﾝﾓ　\",\"\")&IF(申込みフォーム!Y121<>\"\",\"協会骨　\",\"\")&IF(申込みフォーム!AA121<>\"\",\"協会肝炎　\",\"\")","v":""},{"$f":"IF(申込みフォーム!AB121<>\"\",\"子宮　\",\"\")&IF(申込みフォーム!AC121<>\"\",\"ﾏﾝﾓ　\",\"\")&IF(申込みフォーム!AD121<>\"\",\"乳ｴｺｰ\",\"\")","v":""},{"$f":"IF(申込みフォーム!AE121<>\"\",\"ﾏｰｶｰ　\",\"\")&IF(申込みフォーム!AF121<>\"\",\"心機能　\",\"\")&IF(申込みフォーム!AG121<>\"\",\"ABC　\",\"\")&IF(申込みフォーム!AH121<>\"\",\"Lox　\",\"\")&IF(申込みフォーム!AI121<>\"\",\"甲状腺　\",\"\")&IF(申込みフォーム!AJ121<>\"\",\"肝炎\",\"\")","v":""},{"$f":"IF(申込みフォーム!AK121<>\"\",\"脳　\",\"\")&IF(申込みフォーム!AL121<>\"\",\"胸部CT　\",\"\")&IF(申込みフォーム!AM121<>\"\",\"肺機能　\",\"\")&IF(申込みフォーム!AN121<>\"\",\"腹ｴｺｰ　\",\"\")&IF(申込みフォーム!AO121<>\"\",\"心ｴｺｰ　\",\"\")&IF(申込みフォーム!AP121<>\"\",\"ﾌﾛｰﾗ　\",\"\")&IF(申込みフォーム!AQ121<>\"\",\"OCT　\",\"\")&IF(申込みフォーム!AR121<>\"\",\"検便　\",\"\")&IF(申込みフォーム!AS121<>\"\",\"骨　\",\"\")&IF(申込みフォーム!AT121<>\"\",\"骨＋ﾛｺﾓ\",\"\")","v":""},{"$f":"IF(申込みフォーム!AU121<>\"\",申込みフォーム!AU121&\"　　\",\"\")&IF(申込みフォーム!AV121<>\"\",申込みフォーム!AV121&\"　　\",\"\")&IF(申込みフォーム!AW121<>\"\",申込みフォーム!AW121&\"　　\",\"\")&IF(申込みフォーム!$AX121=\"〇\",\"4月　\",\"\")&IF(申込みフォーム!$AY121=\"〇\",\"5月　\",\"\")&IF(申込みフォーム!$AZ121=\"〇\",\"6月　\",\"\")&IF(申込みフォーム!$BA121=\"〇\",\"7月　\",\"\")&IF(申込みフォーム!$BB121=\"〇\",\"8月　\",\"\")&IF(申込みフォーム!$BC121=\"〇\",\"9月　\",\"\")&IF(申込みフォーム!$BD121=\"〇\",\"10月　\",\"\")&IF(申込みフォーム!$BE121=\"〇\",\"11月　\",\"\")&IF(申込みフォーム!$BF121=\"〇\",\"12月　\",\"\")&IF(申込みフォーム!$BG121=\"〇\",\"1月　\",\"\")&IF(申込みフォーム!$BH121=\"〇\",\"2月　\",\"\")&IF(申込みフォーム!$BI121=\"〇\",\"3月　\",\"\")","v":""},{"$f":"IF(申込みフォーム!BJ121<>\"\",申込みフォーム!BJ121,\"\")","v":""},{"$f":"IF(申込みフォーム!BK121<>\"\",申込みフォーム!BK121,\"\")","v":""},{"$f":"申込みフォーム!$Z121","v":""},{"$f":"IF(申込みフォーム!BL121<>\"\",申込みフォーム!BL121&\"　　\",\"\")&IF(申込みフォーム!BM121<>\"\",申込みフォーム!BM121&\"　　\",\"\")&IF(申込みフォーム!BN121<>\"\",申込みフォーム!BN121&\"　　\",\"\")","v":{"$error":"#VALUE!"}},{"$f":"IF($B112=VLOOKUP($B112,'受診者リスト(抽出用）'!$A:$F,1,0),VLOOKUP($B112,'受診者リスト(抽出用）'!$A:$F,3,0)&\"　（団体マスタ）\"&VLOOKUP($B112,'受診者リスト(抽出用）'!$A:$F,4,0)&\"　（枝番）\"&VLOOKUP(B112,'受診者リスト(抽出用）'!$A:$F,5,0),\"\")","v":{"$error":"#N/A"}}]
[112,{"$f":"IF(申込みフォーム!B122<>\"\",申込みフォーム!B122&\"　\"&申込みフォーム!C122,\"\")","v":""},{"$f":"IF(申込みフォーム!E122<>\"\",申込みフォーム!E122&\"　\"&申込みフォーム!F122,\"\")","v":""},{"$f":"IF(申込みフォーム!G122<>\"\",申込みフォーム!G122,\"\")","v":""},{"$f":"IF(申込みフォーム!H122<>\"\",申込みフォーム!H122,\"\")","v":""},{"$f":"IF(申込みフォーム!D122<>\"\",申込みフォーム!D122,\"\")","v":""},{"$f":"IF(申込みフォーム!I122<>\"\",REPLACE(申込みフォーム!I122,4,,\"-\"),\"\")","v":""},{"$f":"IF(申込みフォーム!J122<>\"\",申込みフォーム!J122,\"\")","v":""},{"$f":"IF(申込みフォーム!K122<>\"\",申込みフォーム!K122,\"\")","v":""},{"$f":"IF(申込みフォーム!L122<>\"\",MID(申込みフォーム!L122,1,3)&\"-\"&MID(申込みフォーム!L122,4,4)&\"-\"&MID(申込みフォーム!L122,8,4),\"\")","v":""},{"$f":"IF(申込みフォーム!M122<>\"\",申込みフォーム!M122,\"\")","v":""},{"$f":"IF(申込みフォーム!N122<>\"\",申込みフォーム!N122,\"\")","v":""},{"$f":"IF(申込みフォーム!O122<>\"\",申込みフォーム!O122,\"\")","v":""},{"$f":"IF(申込みフォーム!P122<>\"\",申込みフォーム!P122,\"\")","v":""},{"$f":"IF(申込みフォーム!Q122<>\"\",申込みフォーム!Q122,\"\")","v":""},{"$f":"IF(申込みフォーム!R122<>\"\",申込みフォーム!R122,\"\")","v":""},{"$f":"IF(申込みフォーム!S122<>\"\",申込みフォーム!S122,\"\")","v":""},{"$f":"IF(申込みフォーム!U122=\"細胞診のみ\",\"協会子宮　\",IF(申込みフォーム!U122=\"細胞診＋（自費）膣エコー\",\"協会子宮＋自費膣エコー　\",\"\"))&IF(申込みフォーム!W122<>\"\",\"協会ﾏﾝﾓ　\",\"\")&IF(申込みフォーム!Y122<>\"\",\"協会骨　\",\"\")&IF(申込みフォーム!AA122<>\"\",\"協会肝炎　\",\"\")","v":""},{"$f":"IF(申込みフォーム!AB122<>\"\",\"子宮　\",\"\")&IF(申込みフォーム!AC122<>\"\",\"ﾏﾝﾓ　\",\"\")&IF(申込みフォーム!AD122<>\"\",\"乳ｴｺｰ\",\"\")","v":""},{"$f":"IF(申込みフォーム!AE122<>\"\",\"ﾏｰｶｰ　\",\"\")&IF(申込みフォーム!AF122<>\"\",\"心機能　\",\"\")&IF(申込みフォーム!AG122<>\"\",\"ABC　\",\"\")&IF(申込みフォーム!AH122<>\"\",\"Lox　\",\"\")&IF(申込みフォーム!AI122<>\"\",\"甲状腺　\",\"\")&IF(申込みフォーム!AJ122<>\"\",\"肝炎\",\"\")","v":""},{"$f":"IF(申込みフォーム!AK122<>\"\",\"脳　\",\"\")&IF(申込みフォーム!AL122<>\"\",\"胸部CT　\",\"\")&IF(申込みフォーム!AM122<>\"\",\"肺機能　\",\"\")&IF(申込みフォーム!AN122<>\"\",\"腹ｴｺｰ　\",\"\")&IF(申込みフォーム!AO122<>\"\",\"心ｴｺｰ　\",\"\")&IF(申込みフォーム!AP122<>\"\",\"ﾌﾛｰﾗ　\",\"\")&IF(申込みフォーム!AQ122<>\"\",\"OCT　\",\"\")&IF(申込みフォーム!AR122<>\"\",\"検便　\",\"\")&IF(申込みフォーム!AS122<>\"\",\"骨　\",\"\")&IF(申込みフォーム!AT122<>\"\",\"骨＋ﾛｺﾓ\",\"\")","v":""},{"$f":"IF(申込みフォーム!AU122<>\"\",申込みフォーム!AU122&\"　　\",\"\")&IF(申込みフォーム!AV122<>\"\",申込みフォーム!AV122&\"　　\",\"\")&IF(申込みフォーム!AW122<>\"\",申込みフォーム!AW122&\"　　\",\"\")&IF(申込みフォーム!$AX122=\"〇\",\"4月　\",\"\")&IF(申込みフォーム!$AY122=\"〇\",\"5月　\",\"\")&IF(申込みフォーム!$AZ122=\"〇\",\"6月　\",\"\")&IF(申込みフォーム!$BA122=\"〇\",\"7月　\",\"\")&IF(申込みフォーム!$BB122=\"〇\",\"8月　\",\"\")&IF(申込みフォーム!$BC122=\"〇\",\"9月　\",\"\")&IF(申込みフォーム!$BD122=\"〇\",\"10月　\",\"\")&IF(申込みフォーム!$BE122=\"〇\",\"11月　\",\"\")&IF(申込みフォーム!$BF122=\"〇\",\"12月　\",\"\")&IF(申込みフォーム!$BG122=\"〇\",\"1月　\",\"\")&IF(申込みフォーム!$BH122=\"〇\",\"2月　\",\"\")&IF(申込みフォーム!$BI122=\"〇\",\"3月　\",\"\")","v":""},{"$f":"IF(申込みフォーム!BJ122<>\"\",申込みフォーム!BJ122,\"\")","v":""},{"$f":"IF(申込みフォーム!BK122<>\"\",申込みフォーム!BK122,\"\")","v":""},{"$f":"申込みフォーム!$Z122","v":""},{"$f":"IF(申込みフォーム!BL122<>\"\",申込みフォーム!BL122&\"　　\",\"\")&IF(申込みフォーム!BM122<>\"\",申込みフォーム!BM122&\"　　\",\"\")&IF(申込みフォーム!BN122<>\"\",申込みフォーム!BN122&\"　　\",\"\")","v":{"$error":"#VALUE!"}},{"$f":"IF($B113=VLOOKUP($B113,'受診者リスト(抽出用）'!$A:$F,1,0),VLOOKUP($B113,'受診者リスト(抽出用）'!$A:$F,3,0)&\"　（団体マスタ）\"&VLOOKUP($B113,'受診者リスト(抽出用）'!$A:$F,4,0)&\"　（枝番）\"&VLOOKUP(B113,'受診者リスト(抽出用）'!$A:$F,5,0),\"\")","v":{"$error":"#N/A"}}]
[113,{"$f":"IF(申込みフォーム!B123<>\"\",申込みフォーム!B123&\"　\"&申込みフォーム!C123,\"\")","v":""},{"$f":"IF(申込みフォーム!E123<>\"\",申込みフォーム!E123&\"　\"&申込みフォーム!F123,\"\")","v":""},{"$f":"IF(申込みフォーム!G123<>\"\",申込みフォーム!G123,\"\")","v":""},{"$f":"IF(申込みフォーム!H123<>\"\",申込みフォーム!H123,\"\")","v":""},{"$f":"IF(申込みフォーム!D123<>\"\",申込みフォーム!D123,\"\")","v":""},{"$f":"IF(申込みフォーム!I123<>\"\",REPLACE(申込みフォーム!I123,4,,\"-\"),\"\")","v":""},{"$f":"IF(申込みフォーム!J123<>\"\",申込みフォーム!J123,\"\")","v":""},{"$f":"IF(申込みフォーム!K123<>\"\",申込みフォーム!K123,\"\")","v":""},{"$f":"IF(申込みフォーム!L123<>\"\",MID(申込みフォーム!L123,1,3)&\"-\"&MID(申込みフォーム!L123,4,4)&\"-\"&MID(申込みフォーム!L123,8,4),\"\")","v":""},{"$f":"IF(申込みフォーム!M123<>\"\",申込みフォーム!M123,\"\")","v":""},{"$f":"IF(申込みフォーム!N123<>\"\",申込みフォーム!N123,\"\")","v":""},{"$f":"IF(申込みフォーム!O123<>\"\",申込みフォーム!O123,\"\")","v":""},{"$f":"IF(申込みフォーム!P123<>\"\",申込みフォーム!P123,\"\")","v":""},{"$f":"IF(申込みフォーム!Q123<>\"\",申込みフォーム!Q123,\"\")","v":""},{"$f":"IF(申込みフォーム!R123<>\"\",申込みフォーム!R123,\"\")","v":""},{"$f":"IF(申込みフォーム!S123<>\"\",申込みフォーム!S123,\"\")","v":""},{"$f":"IF(申込みフォーム!U123=\"細胞診のみ\",\"協会子宮　\",IF(申込みフォーム!U123=\"細胞診＋（自費）膣エコー\",\"協会子宮＋自費膣エコー　\",\"\"))&IF(申込みフォーム!W123<>\"\",\"協会ﾏﾝﾓ　\",\"\")&IF(申込みフォーム!Y123<>\"\",\"協会骨　\",\"\")&IF(申込みフォーム!AA123<>\"\",\"協会肝炎　\",\"\")","v":""},{"$f":"IF(申込みフォーム!AB123<>\"\",\"子宮　\",\"\")&IF(申込みフォーム!AC123<>\"\",\"ﾏﾝﾓ　\",\"\")&IF(申込みフォーム!AD123<>\"\",\"乳ｴｺｰ\",\"\")","v":""},{"$f":"IF(申込みフォーム!AE123<>\"\",\"ﾏｰｶｰ　\",\"\")&IF(申込みフォーム!AF123<>\"\",\"心機能　\",\"\")&IF(申込みフォーム!AG123<>\"\",\"ABC　\",\"\")&IF(申込みフォーム!AH123<>\"\",\"Lox　\",\"\")&IF(申込みフォーム!AI123<>\"\",\"甲状腺　\",\"\")&IF(申込みフォーム!AJ123<>\"\",\"肝炎\",\"\")","v":""},{"$f":"IF(申込みフォーム!AK123<>\"\",\"脳　\",\"\")&IF(申込みフォーム!AL123<>\"\",\"胸部CT　\",\"\")&IF(申込みフォーム!AM123<>\"\",\"肺機能　\",\"\")&IF(申込みフォーム!AN123<>\"\",\"腹ｴｺｰ　\",\"\")&IF(申込みフォーム!AO123<>\"\",\"心ｴｺｰ　\",\"\")&IF(申込みフォーム!AP123<>\"\",\"ﾌﾛｰﾗ　\",\"\")&IF(申込みフォーム!AQ123<>\"\",\"OCT　\",\"\")&IF(申込みフォーム!AR123<>\"\",\"検便　\",\"\")&IF(申込みフォーム!AS123<>\"\",\"骨　\",\"\")&IF(申込みフォーム!AT123<>\"\",\"骨＋ﾛｺﾓ\",\"\")","v":""},{"$f":"IF(申込みフォーム!AU123<>\"\",申込みフォーム!AU123&\"　　\",\"\")&IF(申込みフォーム!AV123<>\"\",申込みフォーム!AV123&\"　　\",\"\")&IF(申込みフォーム!AW123<>\"\",申込みフォーム!AW123&\"　　\",\"\")&IF(申込みフォーム!$AX123=\"〇\",\"4月　\",\"\")&IF(申込みフォーム!$AY123=\"〇\",\"5月　\",\"\")&IF(申込みフォーム!$AZ123=\"〇\",\"6月　\",\"\")&IF(申込みフォーム!$BA123=\"〇\",\"7月　\",\"\")&IF(申込みフォーム!$BB123=\"〇\",\"8月　\",\"\")&IF(申込みフォーム!$BC123=\"〇\",\"9月　\",\"\")&IF(申込みフォーム!$BD123=\"〇\",\"10月　\",\"\")&IF(申込みフォーム!$BE123=\"〇\",\"11月　\",\"\")&IF(申込みフォーム!$BF123=\"〇\",\"12月　\",\"\")&IF(申込みフォーム!$BG123=\"〇\",\"1月　\",\"\")&IF(申込みフォーム!$BH123=\"〇\",\"2月　\",\"\")&IF(申込みフォーム!$BI123=\"〇\",\"3月　\",\"\")","v":""},{"$f":"IF(申込みフォーム!BJ123<>\"\",申込みフォーム!BJ123,\"\")","v":""},{"$f":"IF(申込みフォーム!BK123<>\"\",申込みフォーム!BK123,\"\")","v":""},{"$f":"申込みフォーム!$Z123","v":""},{"$f":"IF(申込みフォーム!BL123<>\"\",申込みフォーム!BL123&\"　　\",\"\")&IF(申込みフォーム!BM123<>\"\",申込みフォーム!BM123&\"　　\",\"\")&IF(申込みフォーム!BN123<>\"\",申込みフォーム!BN123&\"　　\",\"\")","v":{"$error":"#VALUE!"}},{"$f":"IF($B114=VLOOKUP($B114,'受診者リスト(抽出用）'!$A:$F,1,0),VLOOKUP($B114,'受診者リスト(抽出用）'!$A:$F,3,0)&\"　（団体マスタ）\"&VLOOKUP($B114,'受診者リスト(抽出用）'!$A:$F,4,0)&\"　（枝番）\"&VLOOKUP(B114,'受診者リスト(抽出用）'!$A:$F,5,0),\"\")","v":{"$error":"#N/A"}}]
[114,{"$f":"IF(申込みフォーム!B124<>\"\",申込みフォーム!B124&\"　\"&申込みフォーム!C124,\"\")","v":""},{"$f":"IF(申込みフォーム!E124<>\"\",申込みフォーム!E124&\"　\"&申込みフォーム!F124,\"\")","v":""},{"$f":"IF(申込みフォーム!G124<>\"\",申込みフォーム!G124,\"\")","v":""},{"$f":"IF(申込みフォーム!H124<>\"\",申込みフォーム!H124,\"\")","v":""},{"$f":"IF(申込みフォーム!D124<>\"\",申込みフォーム!D124,\"\")","v":""},{"$f":"IF(申込みフォーム!I124<>\"\",REPLACE(申込みフォーム!I124,4,,\"-\"),\"\")","v":""},{"$f":"IF(申込みフォーム!J124<>\"\",申込みフォーム!J124,\"\")","v":""},{"$f":"IF(申込みフォーム!K124<>\"\",申込みフォーム!K124,\"\")","v":""},{"$f":"IF(申込みフォーム!L124<>\"\",MID(申込みフォーム!L124,1,3)&\"-\"&MID(申込みフォーム!L124,4,4)&\"-\"&MID(申込みフォーム!L124,8,4),\"\")","v":""},{"$f":"IF(申込みフォーム!M124<>\"\",申込みフォーム!M124,\"\")","v":""},{"$f":"IF(申込みフォーム!N124<>\"\",申込みフォーム!N124,\"\")","v":""},{"$f":"IF(申込みフォーム!O124<>\"\",申込みフォーム!O124,\"\")","v":""},{"$f":"IF(申込みフォーム!P124<>\"\",申込みフォーム!P124,\"\")","v":""},{"$f":"IF(申込みフォーム!Q124<>\"\",申込みフォーム!Q124,\"\")","v":""},{"$f":"IF(申込みフォーム!R124<>\"\",申込みフォーム!R124,\"\")","v":""},{"$f":"IF(申込みフォーム!S124<>\"\",申込みフォーム!S124,\"\")","v":""},{"$f":"IF(申込みフォーム!U124=\"細胞診のみ\",\"協会子宮　\",IF(申込みフォーム!U124=\"細胞診＋（自費）膣エコー\",\"協会子宮＋自費膣エコー　\",\"\"))&IF(申込みフォーム!W124<>\"\",\"協会ﾏﾝﾓ　\",\"\")&IF(申込みフォーム!Y124<>\"\",\"協会骨　\",\"\")&IF(申込みフォーム!AA124<>\"\",\"協会肝炎　\",\"\")","v":""},{"$f":"IF(申込みフォーム!AB124<>\"\",\"子宮　\",\"\")&IF(申込みフォーム!AC124<>\"\",\"ﾏﾝﾓ　\",\"\")&IF(申込みフォーム!AD124<>\"\",\"乳ｴｺｰ\",\"\")","v":""},{"$f":"IF(申込みフォーム!AE124<>\"\",\"ﾏｰｶｰ　\",\"\")&IF(申込みフォーム!AF124<>\"\",\"心機能　\",\"\")&IF(申込みフォーム!AG124<>\"\",\"ABC　\",\"\")&IF(申込みフォーム!AH124<>\"\",\"Lox　\",\"\")&IF(申込みフォーム!AI124<>\"\",\"甲状腺　\",\"\")&IF(申込みフォーム!AJ124<>\"\",\"肝炎\",\"\")","v":""},{"$f":"IF(申込みフォーム!AK124<>\"\",\"脳　\",\"\")&IF(申込みフォーム!AL124<>\"\",\"胸部CT　\",\"\")&IF(申込みフォーム!AM124<>\"\",\"肺機能　\",\"\")&IF(申込みフォーム!AN124<>\"\",\"腹ｴｺｰ　\",\"\")&IF(申込みフォーム!AO124<>\"\",\"心ｴｺｰ　\",\"\")&IF(申込みフォーム!AP124<>\"\",\"ﾌﾛｰﾗ　\",\"\")&IF(申込みフォーム!AQ124<>\"\",\"OCT　\",\"\")&IF(申込みフォーム!AR124<>\"\",\"検便　\",\"\")&IF(申込みフォーム!AS124<>\"\",\"骨　\",\"\")&IF(申込みフォーム!AT124<>\"\",\"骨＋ﾛｺﾓ\",\"\")","v":""},{"$f":"IF(申込みフォーム!AU124<>\"\",申込みフォーム!AU124&\"　　\",\"\")&IF(申込みフォーム!AV124<>\"\",申込みフォーム!AV124&\"　　\",\"\")&IF(申込みフォーム!AW124<>\"\",申込みフォーム!AW124&\"　　\",\"\")&IF(申込みフォーム!$AX124=\"〇\",\"4月　\",\"\")&IF(申込みフォーム!$AY124=\"〇\",\"5月　\",\"\")&IF(申込みフォーム!$AZ124=\"〇\",\"6月　\",\"\")&IF(申込みフォーム!$BA124=\"〇\",\"7月　\",\"\")&IF(申込みフォーム!$BB124=\"〇\",\"8月　\",\"\")&IF(申込みフォーム!$BC124=\"〇\",\"9月　\",\"\")&IF(申込みフォーム!$BD124=\"〇\",\"10月　\",\"\")&IF(申込みフォーム!$BE124=\"〇\",\"11月　\",\"\")&IF(申込みフォーム!$BF124=\"〇\",\"12月　\",\"\")&IF(申込みフォーム!$BG124=\"〇\",\"1月　\",\"\")&IF(申込みフォーム!$BH124=\"〇\",\"2月　\",\"\")&IF(申込みフォーム!$BI124=\"〇\",\"3月　\",\"\")","v":""},{"$f":"IF(申込みフォーム!BJ124<>\"\",申込みフォーム!BJ124,\"\")","v":""},{"$f":"IF(申込みフォーム!BK124<>\"\",申込みフォーム!BK124,\"\")","v":""},{"$f":"申込みフォーム!$Z124","v":""},{"$f":"IF(申込みフォーム!BL124<>\"\",申込みフォーム!BL124&\"　　\",\"\")&IF(申込みフォーム!BM124<>\"\",申込みフォーム!BM124&\"　　\",\"\")&IF(申込みフォーム!BN124<>\"\",申込みフォーム!BN124&\"　　\",\"\")","v":{"$error":"#VALUE!"}},{"$f":"IF($B115=VLOOKUP($B115,'受診者リスト(抽出用）'!$A:$F,1,0),VLOOKUP($B115,'受診者リスト(抽出用）'!$A:$F,3,0)&\"　（団体マスタ）\"&VLOOKUP($B115,'受診者リスト(抽出用）'!$A:$F,4,0)&\"　（枝番）\"&VLOOKUP(B115,'受診者リスト(抽出用）'!$A:$F,5,0),\"\")","v":{"$error":"#N/A"}}]
[115,{"$f":"IF(申込みフォーム!B125<>\"\",申込みフォーム!B125&\"　\"&申込みフォーム!C125,\"\")","v":""},{"$f":"IF(申込みフォーム!E125<>\"\",申込みフォーム!E125&\"　\"&申込みフォーム!F125,\"\")","v":""},{"$f":"IF(申込みフォーム!G125<>\"\",申込みフォーム!G125,\"\")","v":""},{"$f":"IF(申込みフォーム!H125<>\"\",申込みフォーム!H125,\"\")","v":""},{"$f":"IF(申込みフォーム!D125<>\"\",申込みフォーム!D125,\"\")","v":""},{"$f":"IF(申込みフォーム!I125<>\"\",REPLACE(申込みフォーム!I125,4,,\"-\"),\"\")","v":""},{"$f":"IF(申込みフォーム!J125<>\"\",申込みフォーム!J125,\"\")","v":""},{"$f":"IF(申込みフォーム!K125<>\"\",申込みフォーム!K125,\"\")","v":""},{"$f":"IF(申込みフォーム!L125<>\"\",MID(申込みフォーム!L125,1,3)&\"-\"&MID(申込みフォーム!L125,4,4)&\"-\"&MID(申込みフォーム!L125,8,4),\"\")","v":""},{"$f":"IF(申込みフォーム!M125<>\"\",申込みフォーム!M125,\"\")","v":""},{"$f":"IF(申込みフォーム!N125<>\"\",申込みフォーム!N125,\"\")","v":""},{"$f":"IF(申込みフォーム!O125<>\"\",申込みフォーム!O125,\"\")","v":""},{"$f":"IF(申込みフォーム!P125<>\"\",申込みフォーム!P125,\"\")","v":""},{"$f":"IF(申込みフォーム!Q125<>\"\",申込みフォーム!Q125,\"\")","v":""},{"$f":"IF(申込みフォーム!R125<>\"\",申込みフォーム!R125,\"\")","v":""},{"$f":"IF(申込みフォーム!S125<>\"\",申込みフォーム!S125,\"\")","v":""},{"$f":"IF(申込みフォーム!U125=\"細胞診のみ\",\"協会子宮　\",IF(申込みフォーム!U125=\"細胞診＋（自費）膣エコー\",\"協会子宮＋自費膣エコー　\",\"\"))&IF(申込みフォーム!W125<>\"\",\"協会ﾏﾝﾓ　\",\"\")&IF(申込みフォーム!Y125<>\"\",\"協会骨　\",\"\")&IF(申込みフォーム!AA125<>\"\",\"協会肝炎　\",\"\")","v":""},{"$f":"IF(申込みフォーム!AB125<>\"\",\"子宮　\",\"\")&IF(申込みフォーム!AC125<>\"\",\"ﾏﾝﾓ　\",\"\")&IF(申込みフォーム!AD125<>\"\",\"乳ｴｺｰ\",\"\")","v":""},{"$f":"IF(申込みフォーム!AE125<>\"\",\"ﾏｰｶｰ　\",\"\")&IF(申込みフォーム!AF125<>\"\",\"心機能　\",\"\")&IF(申込みフォーム!AG125<>\"\",\"ABC　\",\"\")&IF(申込みフォーム!AH125<>\"\",\"Lox　\",\"\")&IF(申込みフォーム!AI125<>\"\",\"甲状腺　\",\"\")&IF(申込みフォーム!AJ125<>\"\",\"肝炎\",\"\")","v":""},{"$f":"IF(申込みフォーム!AK125<>\"\",\"脳　\",\"\")&IF(申込みフォーム!AL125<>\"\",\"胸部CT　\",\"\")&IF(申込みフォーム!AM125<>\"\",\"肺機能　\",\"\")&IF(申込みフォーム!AN125<>\"\",\"腹ｴｺｰ　\",\"\")&IF(申込みフォーム!AO125<>\"\",\"心ｴｺｰ　\",\"\")&IF(申込みフォーム!AP125<>\"\",\"ﾌﾛｰﾗ　\",\"\")&IF(申込みフォーム!AQ125<>\"\",\"OCT　\",\"\")&IF(申込みフォーム!AR125<>\"\",\"検便　\",\"\")&IF(申込みフォーム!AS125<>\"\",\"骨　\",\"\")&IF(申込みフォーム!AT125<>\"\",\"骨＋ﾛｺﾓ\",\"\")","v":""},{"$f":"IF(申込みフォーム!AU125<>\"\",申込みフォーム!AU125&\"　　\",\"\")&IF(申込みフォーム!AV125<>\"\",申込みフォーム!AV125&\"　　\",\"\")&IF(申込みフォーム!AW125<>\"\",申込みフォーム!AW125&\"　　\",\"\")&IF(申込みフォーム!$AX125=\"〇\",\"4月　\",\"\")&IF(申込みフォーム!$AY125=\"〇\",\"5月　\",\"\")&IF(申込みフォーム!$AZ125=\"〇\",\"6月　\",\"\")&IF(申込みフォーム!$BA125=\"〇\",\"7月　\",\"\")&IF(申込みフォーム!$BB125=\"〇\",\"8月　\",\"\")&IF(申込みフォーム!$BC125=\"〇\",\"9月　\",\"\")&IF(申込みフォーム!$BD125=\"〇\",\"10月　\",\"\")&IF(申込みフォーム!$BE125=\"〇\",\"11月　\",\"\")&IF(申込みフォーム!$BF125=\"〇\",\"12月　\",\"\")&IF(申込みフォーム!$BG125=\"〇\",\"1月　\",\"\")&IF(申込みフォーム!$BH125=\"〇\",\"2月　\",\"\")&IF(申込みフォーム!$BI125=\"〇\",\"3月　\",\"\")","v":""},{"$f":"IF(申込みフォーム!BJ125<>\"\",申込みフォーム!BJ125,\"\")","v":""},{"$f":"IF(申込みフォーム!BK125<>\"\",申込みフォーム!BK125,\"\")","v":""},{"$f":"申込みフォーム!$Z125","v":""},{"$f":"IF(申込みフォーム!BL125<>\"\",申込みフォーム!BL125&\"　　\",\"\")&IF(申込みフォーム!BM125<>\"\",申込みフォーム!BM125&\"　　\",\"\")&IF(申込みフォーム!BN125<>\"\",申込みフォーム!BN125&\"　　\",\"\")","v":{"$error":"#VALUE!"}},{"$f":"IF($B116=VLOOKUP($B116,'受診者リスト(抽出用）'!$A:$F,1,0),VLOOKUP($B116,'受診者リスト(抽出用）'!$A:$F,3,0)&\"　（団体マスタ）\"&VLOOKUP($B116,'受診者リスト(抽出用）'!$A:$F,4,0)&\"　（枝番）\"&VLOOKUP(B116,'受診者リスト(抽出用）'!$A:$F,5,0),\"\")","v":{"$error":"#N/A"}}]
[116,{"$f":"IF(申込みフォーム!B126<>\"\",申込みフォーム!B126&\"　\"&申込みフォーム!C126,\"\")","v":""},{"$f":"IF(申込みフォーム!E126<>\"\",申込みフォーム!E126&\"　\"&申込みフォーム!F126,\"\")","v":""},{"$f":"IF(申込みフォーム!G126<>\"\",申込みフォーム!G126,\"\")","v":""},{"$f":"IF(申込みフォーム!H126<>\"\",申込みフォーム!H126,\"\")","v":""},{"$f":"IF(申込みフォーム!D126<>\"\",申込みフォーム!D126,\"\")","v":""},{"$f":"IF(申込みフォーム!I126<>\"\",REPLACE(申込みフォーム!I126,4,,\"-\"),\"\")","v":""},{"$f":"IF(申込みフォーム!J126<>\"\",申込みフォーム!J126,\"\")","v":""},{"$f":"IF(申込みフォーム!K126<>\"\",申込みフォーム!K126,\"\")","v":""},{"$f":"IF(申込みフォーム!L126<>\"\",MID(申込みフォーム!L126,1,3)&\"-\"&MID(申込みフォーム!L126,4,4)&\"-\"&MID(申込みフォーム!L126,8,4),\"\")","v":""},{"$f":"IF(申込みフォーム!M126<>\"\",申込みフォーム!M126,\"\")","v":""},{"$f":"IF(申込みフォーム!N126<>\"\",申込みフォーム!N126,\"\")","v":""},{"$f":"IF(申込みフォーム!O126<>\"\",申込みフォーム!O126,\"\")","v":""},{"$f":"IF(申込みフォーム!P126<>\"\",申込みフォーム!P126,\"\")","v":""},{"$f":"IF(申込みフォーム!Q126<>\"\",申込みフォーム!Q126,\"\")","v":""},{"$f":"IF(申込みフォーム!R126<>\"\",申込みフォーム!R126,\"\")","v":""},{"$f":"IF(申込みフォーム!S126<>\"\",申込みフォーム!S126,\"\")","v":""},{"$f":"IF(申込みフォーム!U126=\"細胞診のみ\",\"協会子宮　\",IF(申込みフォーム!U126=\"細胞診＋（自費）膣エコー\",\"協会子宮＋自費膣エコー　\",\"\"))&IF(申込みフォーム!W126<>\"\",\"協会ﾏﾝﾓ　\",\"\")&IF(申込みフォーム!Y126<>\"\",\"協会骨　\",\"\")&IF(申込みフォーム!AA126<>\"\",\"協会肝炎　\",\"\")","v":""},{"$f":"IF(申込みフォーム!AB126<>\"\",\"子宮　\",\"\")&IF(申込みフォーム!AC126<>\"\",\"ﾏﾝﾓ　\",\"\")&IF(申込みフォーム!AD126<>\"\",\"乳ｴｺｰ\",\"\")","v":""},{"$f":"IF(申込みフォーム!AE126<>\"\",\"ﾏｰｶｰ　\",\"\")&IF(申込みフォーム!AF126<>\"\",\"心機能　\",\"\")&IF(申込みフォーム!AG126<>\"\",\"ABC　\",\"\")&IF(申込みフォーム!AH126<>\"\",\"Lox　\",\"\")&IF(申込みフォーム!AI126<>\"\",\"甲状腺　\",\"\")&IF(申込みフォーム!AJ126<>\"\",\"肝炎\",\"\")","v":""},{"$f":"IF(申込みフォーム!AK126<>\"\",\"脳　\",\"\")&IF(申込みフォーム!AL126<>\"\",\"胸部CT　\",\"\")&IF(申込みフォーム!AM126<>\"\",\"肺機能　\",\"\")&IF(申込みフォーム!AN126<>\"\",\"腹ｴｺｰ　\",\"\")&IF(申込みフォーム!AO126<>\"\",\"心ｴｺｰ　\",\"\")&IF(申込みフォーム!AP126<>\"\",\"ﾌﾛｰﾗ　\",\"\")&IF(申込みフォーム!AQ126<>\"\",\"OCT　\",\"\")&IF(申込みフォーム!AR126<>\"\",\"検便　\",\"\")&IF(申込みフォーム!AS126<>\"\",\"骨　\",\"\")&IF(申込みフォーム!AT126<>\"\",\"骨＋ﾛｺﾓ\",\"\")","v":""},{"$f":"IF(申込みフォーム!AU126<>\"\",申込みフォーム!AU126&\"　　\",\"\")&IF(申込みフォーム!AV126<>\"\",申込みフォーム!AV126&\"　　\",\"\")&IF(申込みフォーム!AW126<>\"\",申込みフォーム!AW126&\"　　\",\"\")&IF(申込みフォーム!$AX126=\"〇\",\"4月　\",\"\")&IF(申込みフォーム!$AY126=\"〇\",\"5月　\",\"\")&IF(申込みフォーム!$AZ126=\"〇\",\"6月　\",\"\")&IF(申込みフォーム!$BA126=\"〇\",\"7月　\",\"\")&IF(申込みフォーム!$BB126=\"〇\",\"8月　\",\"\")&IF(申込みフォーム!$BC126=\"〇\",\"9月　\",\"\")&IF(申込みフォーム!$BD126=\"〇\",\"10月　\",\"\")&IF(申込みフォーム!$BE126=\"〇\",\"11月　\",\"\")&IF(申込みフォーム!$BF126=\"〇\",\"12月　\",\"\")&IF(申込みフォーム!$BG126=\"〇\",\"1月　\",\"\")&IF(申込みフォーム!$BH126=\"〇\",\"2月　\",\"\")&IF(申込みフォーム!$BI126=\"〇\",\"3月　\",\"\")","v":""},{"$f":"IF(申込みフォーム!BJ126<>\"\",申込みフォーム!BJ126,\"\")","v":""},{"$f":"IF(申込みフォーム!BK126<>\"\",申込みフォーム!BK126,\"\")","v":""},{"$f":"申込みフォーム!$Z126","v":""},{"$f":"IF(申込みフォーム!BL126<>\"\",申込みフォーム!BL126&\"　　\",\"\")&IF(申込みフォーム!BM126<>\"\",申込みフォーム!BM126&\"　　\",\"\")&IF(申込みフォーム!BN126<>\"\",申込みフォーム!BN126&\"　　\",\"\")","v":{"$error":"#VALUE!"}},{"$f":"IF($B117=VLOOKUP($B117,'受診者リスト(抽出用）'!$A:$F,1,0),VLOOKUP($B117,'受診者リスト(抽出用）'!$A:$F,3,0)&\"　（団体マスタ）\"&VLOOKUP($B117,'受診者リスト(抽出用）'!$A:$F,4,0)&\"　（枝番）\"&VLOOKUP(B117,'受診者リスト(抽出用）'!$A:$F,5,0),\"\")","v":{"$error":"#N/A"}}]
[117,{"$f":"IF(申込みフォーム!B127<>\"\",申込みフォーム!B127&\"　\"&申込みフォーム!C127,\"\")","v":""},{"$f":"IF(申込みフォーム!E127<>\"\",申込みフォーム!E127&\"　\"&申込みフォーム!F127,\"\")","v":""},{"$f":"IF(申込みフォーム!G127<>\"\",申込みフォーム!G127,\"\")","v":""},{"$f":"IF(申込みフォーム!H127<>\"\",申込みフォーム!H127,\"\")","v":""},{"$f":"IF(申込みフォーム!D127<>\"\",申込みフォーム!D127,\"\")","v":""},{"$f":"IF(申込みフォーム!I127<>\"\",REPLACE(申込みフォーム!I127,4,,\"-\"),\"\")","v":""},{"$f":"IF(申込みフォーム!J127<>\"\",申込みフォーム!J127,\"\")","v":""},{"$f":"IF(申込みフォーム!K127<>\"\",申込みフォーム!K127,\"\")","v":""},{"$f":"IF(申込みフォーム!L127<>\"\",MID(申込みフォーム!L127,1,3)&\"-\"&MID(申込みフォーム!L127,4,4)&\"-\"&MID(申込みフォーム!L127,8,4),\"\")","v":""},{"$f":"IF(申込みフォーム!M127<>\"\",申込みフォーム!M127,\"\")","v":""},{"$f":"IF(申込みフォーム!N127<>\"\",申込みフォーム!N127,\"\")","v":""},{"$f":"IF(申込みフォーム!O127<>\"\",申込みフォーム!O127,\"\")","v":""},{"$f":"IF(申込みフォーム!P127<>\"\",申込みフォーム!P127,\"\")","v":""},{"$f":"IF(申込みフォーム!Q127<>\"\",申込みフォーム!Q127,\"\")","v":""},{"$f":"IF(申込みフォーム!R127<>\"\",申込みフォーム!R127,\"\")","v":""},{"$f":"IF(申込みフォーム!S127<>\"\",申込みフォーム!S127,\"\")","v":""},{"$f":"IF(申込みフォーム!U127=\"細胞診のみ\",\"協会子宮　\",IF(申込みフォーム!U127=\"細胞診＋（自費）膣エコー\",\"協会子宮＋自費膣エコー　\",\"\"))&IF(申込みフォーム!W127<>\"\",\"協会ﾏﾝﾓ　\",\"\")&IF(申込みフォーム!Y127<>\"\",\"協会骨　\",\"\")&IF(申込みフォーム!AA127<>\"\",\"協会肝炎　\",\"\")","v":""},{"$f":"IF(申込みフォーム!AB127<>\"\",\"子宮　\",\"\")&IF(申込みフォーム!AC127<>\"\",\"ﾏﾝﾓ　\",\"\")&IF(申込みフォーム!AD127<>\"\",\"乳ｴｺｰ\",\"\")","v":""},{"$f":"IF(申込みフォーム!AE127<>\"\",\"ﾏｰｶｰ　\",\"\")&IF(申込みフォーム!AF127<>\"\",\"心機能　\",\"\")&IF(申込みフォーム!AG127<>\"\",\"ABC　\",\"\")&IF(申込みフォーム!AH127<>\"\",\"Lox　\",\"\")&IF(申込みフォーム!AI127<>\"\",\"甲状腺　\",\"\")&IF(申込みフォーム!AJ127<>\"\",\"肝炎\",\"\")","v":""},{"$f":"IF(申込みフォーム!AK127<>\"\",\"脳　\",\"\")&IF(申込みフォーム!AL127<>\"\",\"胸部CT　\",\"\")&IF(申込みフォーム!AM127<>\"\",\"肺機能　\",\"\")&IF(申込みフォーム!AN127<>\"\",\"腹ｴｺｰ　\",\"\")&IF(申込みフォーム!AO127<>\"\",\"心ｴｺｰ　\",\"\")&IF(申込みフォーム!AP127<>\"\",\"ﾌﾛｰﾗ　\",\"\")&IF(申込みフォーム!AQ127<>\"\",\"OCT　\",\"\")&IF(申込みフォーム!AR127<>\"\",\"検便　\",\"\")&IF(申込みフォーム!AS127<>\"\",\"骨　\",\"\")&IF(申込みフォーム!AT127<>\"\",\"骨＋ﾛｺﾓ\",\"\")","v":""},{"$f":"IF(申込みフォーム!AU127<>\"\",申込みフォーム!AU127&\"　　\",\"\")&IF(申込みフォーム!AV127<>\"\",申込みフォーム!AV127&\"　　\",\"\")&IF(申込みフォーム!AW127<>\"\",申込みフォーム!AW127&\"　　\",\"\")&IF(申込みフォーム!$AX127=\"〇\",\"4月　\",\"\")&IF(申込みフォーム!$AY127=\"〇\",\"5月　\",\"\")&IF(申込みフォーム!$AZ127=\"〇\",\"6月　\",\"\")&IF(申込みフォーム!$BA127=\"〇\",\"7月　\",\"\")&IF(申込みフォーム!$BB127=\"〇\",\"8月　\",\"\")&IF(申込みフォーム!$BC127=\"〇\",\"9月　\",\"\")&IF(申込みフォーム!$BD127=\"〇\",\"10月　\",\"\")&IF(申込みフォーム!$BE127=\"〇\",\"11月　\",\"\")&IF(申込みフォーム!$BF127=\"〇\",\"12月　\",\"\")&IF(申込みフォーム!$BG127=\"〇\",\"1月　\",\"\")&IF(申込みフォーム!$BH127=\"〇\",\"2月　\",\"\")&IF(申込みフォーム!$BI127=\"〇\",\"3月　\",\"\")","v":""},{"$f":"IF(申込みフォーム!BJ127<>\"\",申込みフォーム!BJ127,\"\")","v":""},{"$f":"IF(申込みフォーム!BK127<>\"\",申込みフォーム!BK127,\"\")","v":""},{"$f":"申込みフォーム!$Z127","v":""},{"$f":"IF(申込みフォーム!BL127<>\"\",申込みフォーム!BL127&\"　　\",\"\")&IF(申込みフォーム!BM127<>\"\",申込みフォーム!BM127&\"　　\",\"\")&IF(申込みフォーム!BN127<>\"\",申込みフォーム!BN127&\"　　\",\"\")","v":{"$error":"#VALUE!"}},{"$f":"IF($B118=VLOOKUP($B118,'受診者リスト(抽出用）'!$A:$F,1,0),VLOOKUP($B118,'受診者リスト(抽出用）'!$A:$F,3,0)&\"　（団体マスタ）\"&VLOOKUP($B118,'受診者リスト(抽出用）'!$A:$F,4,0)&\"　（枝番）\"&VLOOKUP(B118,'受診者リスト(抽出用）'!$A:$F,5,0),\"\")","v":{"$error":"#N/A"}}]
[118,{"$f":"IF(申込みフォーム!B128<>\"\",申込みフォーム!B128&\"　\"&申込みフォーム!C128,\"\")","v":""},{"$f":"IF(申込みフォーム!E128<>\"\",申込みフォーム!E128&\"　\"&申込みフォーム!F128,\"\")","v":""},{"$f":"IF(申込みフォーム!G128<>\"\",申込みフォーム!G128,\"\")","v":""},{"$f":"IF(申込みフォーム!H128<>\"\",申込みフォーム!H128,\"\")","v":""},{"$f":"IF(申込みフォーム!D128<>\"\",申込みフォーム!D128,\"\")","v":""},{"$f":"IF(申込みフォーム!I128<>\"\",REPLACE(申込みフォーム!I128,4,,\"-\"),\"\")","v":""},{"$f":"IF(申込みフォーム!J128<>\"\",申込みフォーム!J128,\"\")","v":""},{"$f":"IF(申込みフォーム!K128<>\"\",申込みフォーム!K128,\"\")","v":""},{"$f":"IF(申込みフォーム!L128<>\"\",MID(申込みフォーム!L128,1,3)&\"-\"&MID(申込みフォーム!L128,4,4)&\"-\"&MID(申込みフォーム!L128,8,4),\"\")","v":""},{"$f":"IF(申込みフォーム!M128<>\"\",申込みフォーム!M128,\"\")","v":""},{"$f":"IF(申込みフォーム!N128<>\"\",申込みフォーム!N128,\"\")","v":""},{"$f":"IF(申込みフォーム!O128<>\"\",申込みフォーム!O128,\"\")","v":""},{"$f":"IF(申込みフォーム!P128<>\"\",申込みフォーム!P128,\"\")","v":""},{"$f":"IF(申込みフォーム!Q128<>\"\",申込みフォーム!Q128,\"\")","v":""},{"$f":"IF(申込みフォーム!R128<>\"\",申込みフォーム!R128,\"\")","v":""},{"$f":"IF(申込みフォーム!S128<>\"\",申込みフォーム!S128,\"\")","v":""},{"$f":"IF(申込みフォーム!U128=\"細胞診のみ\",\"協会子宮　\",IF(申込みフォーム!U128=\"細胞診＋（自費）膣エコー\",\"協会子宮＋自費膣エコー　\",\"\"))&IF(申込みフォーム!W128<>\"\",\"協会ﾏﾝﾓ　\",\"\")&IF(申込みフォーム!Y128<>\"\",\"協会骨　\",\"\")&IF(申込みフォーム!AA128<>\"\",\"協会肝炎　\",\"\")","v":""},{"$f":"IF(申込みフォーム!AB128<>\"\",\"子宮　\",\"\")&IF(申込みフォーム!AC128<>\"\",\"ﾏﾝﾓ　\",\"\")&IF(申込みフォーム!AD128<>\"\",\"乳ｴｺｰ\",\"\")","v":""},{"$f":"IF(申込みフォーム!AE128<>\"\",\"ﾏｰｶｰ　\",\"\")&IF(申込みフォーム!AF128<>\"\",\"心機能　\",\"\")&IF(申込みフォーム!AG128<>\"\",\"ABC　\",\"\")&IF(申込みフォーム!AH128<>\"\",\"Lox　\",\"\")&IF(申込みフォーム!AI128<>\"\",\"甲状腺　\",\"\")&IF(申込みフォーム!AJ128<>\"\",\"肝炎\",\"\")","v":""},{"$f":"IF(申込みフォーム!AK128<>\"\",\"脳　\",\"\")&IF(申込みフォーム!AL128<>\"\",\"胸部CT　\",\"\")&IF(申込みフォーム!AM128<>\"\",\"肺機能　\",\"\")&IF(申込みフォーム!AN128<>\"\",\"腹ｴｺｰ　\",\"\")&IF(申込みフォーム!AO128<>\"\",\"心ｴｺｰ　\",\"\")&IF(申込みフォーム!AP128<>\"\",\"ﾌﾛｰﾗ　\",\"\")&IF(申込みフォーム!AQ128<>\"\",\"OCT　\",\"\")&IF(申込みフォーム!AR128<>\"\",\"検便　\",\"\")&IF(申込みフォーム!AS128<>\"\",\"骨　\",\"\")&IF(申込みフォーム!AT128<>\"\",\"骨＋ﾛｺﾓ\",\"\")","v":""},{"$f":"IF(申込みフォーム!AU128<>\"\",申込みフォーム!AU128&\"　　\",\"\")&IF(申込みフォーム!AV128<>\"\",申込みフォーム!AV128&\"　　\",\"\")&IF(申込みフォーム!AW128<>\"\",申込みフォーム!AW128&\"　　\",\"\")&IF(申込みフォーム!$AX128=\"〇\",\"4月　\",\"\")&IF(申込みフォーム!$AY128=\"〇\",\"5月　\",\"\")&IF(申込みフォーム!$AZ128=\"〇\",\"6月　\",\"\")&IF(申込みフォーム!$BA128=\"〇\",\"7月　\",\"\")&IF(申込みフォーム!$BB128=\"〇\",\"8月　\",\"\")&IF(申込みフォーム!$BC128=\"〇\",\"9月　\",\"\")&IF(申込みフォーム!$BD128=\"〇\",\"10月　\",\"\")&IF(申込みフォーム!$BE128=\"〇\",\"11月　\",\"\")&IF(申込みフォーム!$BF128=\"〇\",\"12月　\",\"\")&IF(申込みフォーム!$BG128=\"〇\",\"1月　\",\"\")&IF(申込みフォーム!$BH128=\"〇\",\"2月　\",\"\")&IF(申込みフォーム!$BI128=\"〇\",\"3月　\",\"\")","v":""},{"$f":"IF(申込みフォーム!BJ128<>\"\",申込みフォーム!BJ128,\"\")","v":""},{"$f":"IF(申込みフォーム!BK128<>\"\",申込みフォーム!BK128,\"\")","v":""},{"$f":"申込みフォーム!$Z128","v":""},{"$f":"IF(申込みフォーム!BL128<>\"\",申込みフォーム!BL128&\"　　\",\"\")&IF(申込みフォーム!BM128<>\"\",申込みフォーム!BM128&\"　　\",\"\")&IF(申込みフォーム!BN128<>\"\",申込みフォーム!BN128&\"　　\",\"\")","v":{"$error":"#VALUE!"}},{"$f":"IF($B119=VLOOKUP($B119,'受診者リスト(抽出用）'!$A:$F,1,0),VLOOKUP($B119,'受診者リスト(抽出用）'!$A:$F,3,0)&\"　（団体マスタ）\"&VLOOKUP($B119,'受診者リスト(抽出用）'!$A:$F,4,0)&\"　（枝番）\"&VLOOKUP(B119,'受診者リスト(抽出用）'!$A:$F,5,0),\"\")","v":{"$error":"#N/A"}}]
[119,{"$f":"IF(申込みフォーム!B129<>\"\",申込みフォーム!B129&\"　\"&申込みフォーム!C129,\"\")","v":""},{"$f":"IF(申込みフォーム!E129<>\"\",申込みフォーム!E129&\"　\"&申込みフォーム!F129,\"\")","v":""},{"$f":"IF(申込みフォーム!G129<>\"\",申込みフォーム!G129,\"\")","v":""},{"$f":"IF(申込みフォーム!H129<>\"\",申込みフォーム!H129,\"\")","v":""},{"$f":"IF(申込みフォーム!D129<>\"\",申込みフォーム!D129,\"\")","v":""},{"$f":"IF(申込みフォーム!I129<>\"\",REPLACE(申込みフォーム!I129,4,,\"-\"),\"\")","v":""},{"$f":"IF(申込みフォーム!J129<>\"\",申込みフォーム!J129,\"\")","v":""},{"$f":"IF(申込みフォーム!K129<>\"\",申込みフォーム!K129,\"\")","v":""},{"$f":"IF(申込みフォーム!L129<>\"\",MID(申込みフォーム!L129,1,3)&\"-\"&MID(申込みフォーム!L129,4,4)&\"-\"&MID(申込みフォーム!L129,8,4),\"\")","v":""},{"$f":"IF(申込みフォーム!M129<>\"\",申込みフォーム!M129,\"\")","v":""},{"$f":"IF(申込みフォーム!N129<>\"\",申込みフォーム!N129,\"\")","v":""},{"$f":"IF(申込みフォーム!O129<>\"\",申込みフォーム!O129,\"\")","v":""},{"$f":"IF(申込みフォーム!P129<>\"\",申込みフォーム!P129,\"\")","v":""},{"$f":"IF(申込みフォーム!Q129<>\"\",申込みフォーム!Q129,\"\")","v":""},{"$f":"IF(申込みフォーム!R129<>\"\",申込みフォーム!R129,\"\")","v":""},{"$f":"IF(申込みフォーム!S129<>\"\",申込みフォーム!S129,\"\")","v":""},{"$f":"IF(申込みフォーム!U129=\"細胞診のみ\",\"協会子宮　\",IF(申込みフォーム!U129=\"細胞診＋（自費）膣エコー\",\"協会子宮＋自費膣エコー　\",\"\"))&IF(申込みフォーム!W129<>\"\",\"協会ﾏﾝﾓ　\",\"\")&IF(申込みフォーム!Y129<>\"\",\"協会骨　\",\"\")&IF(申込みフォーム!AA129<>\"\",\"協会肝炎　\",\"\")","v":""},{"$f":"IF(申込みフォーム!AB129<>\"\",\"子宮　\",\"\")&IF(申込みフォーム!AC129<>\"\",\"ﾏﾝﾓ　\",\"\")&IF(申込みフォーム!AD129<>\"\",\"乳ｴｺｰ\",\"\")","v":""},{"$f":"IF(申込みフォーム!AE129<>\"\",\"ﾏｰｶｰ　\",\"\")&IF(申込みフォーム!AF129<>\"\",\"心機能　\",\"\")&IF(申込みフォーム!AG129<>\"\",\"ABC　\",\"\")&IF(申込みフォーム!AH129<>\"\",\"Lox　\",\"\")&IF(申込みフォーム!AI129<>\"\",\"甲状腺　\",\"\")&IF(申込みフォーム!AJ129<>\"\",\"肝炎\",\"\")","v":""},{"$f":"IF(申込みフォーム!AK129<>\"\",\"脳　\",\"\")&IF(申込みフォーム!AL129<>\"\",\"胸部CT　\",\"\")&IF(申込みフォーム!AM129<>\"\",\"肺機能　\",\"\")&IF(申込みフォーム!AN129<>\"\",\"腹ｴｺｰ　\",\"\")&IF(申込みフォーム!AO129<>\"\",\"心ｴｺｰ　\",\"\")&IF(申込みフォーム!AP129<>\"\",\"ﾌﾛｰﾗ　\",\"\")&IF(申込みフォーム!AQ129<>\"\",\"OCT　\",\"\")&IF(申込みフォーム!AR129<>\"\",\"検便　\",\"\")&IF(申込みフォーム!AS129<>\"\",\"骨　\",\"\")&IF(申込みフォーム!AT129<>\"\",\"骨＋ﾛｺﾓ\",\"\")","v":""},{"$f":"IF(申込みフォーム!AU129<>\"\",申込みフォーム!AU129&\"　　\",\"\")&IF(申込みフォーム!AV129<>\"\",申込みフォーム!AV129&\"　　\",\"\")&IF(申込みフォーム!AW129<>\"\",申込みフォーム!AW129&\"　　\",\"\")&IF(申込みフォーム!$AX129=\"〇\",\"4月　\",\"\")&IF(申込みフォーム!$AY129=\"〇\",\"5月　\",\"\")&IF(申込みフォーム!$AZ129=\"〇\",\"6月　\",\"\")&IF(申込みフォーム!$BA129=\"〇\",\"7月　\",\"\")&IF(申込みフォーム!$BB129=\"〇\",\"8月　\",\"\")&IF(申込みフォーム!$BC129=\"〇\",\"9月　\",\"\")&IF(申込みフォーム!$BD129=\"〇\",\"10月　\",\"\")&IF(申込みフォーム!$BE129=\"〇\",\"11月　\",\"\")&IF(申込みフォーム!$BF129=\"〇\",\"12月　\",\"\")&IF(申込みフォーム!$BG129=\"〇\",\"1月　\",\"\")&IF(申込みフォーム!$BH129=\"〇\",\"2月　\",\"\")&IF(申込みフォーム!$BI129=\"〇\",\"3月　\",\"\")","v":""},{"$f":"IF(申込みフォーム!BJ129<>\"\",申込みフォーム!BJ129,\"\")","v":""},{"$f":"IF(申込みフォーム!BK129<>\"\",申込みフォーム!BK129,\"\")","v":""},{"$f":"申込みフォーム!$Z129","v":""},{"$f":"IF(申込みフォーム!BL129<>\"\",申込みフォーム!BL129&\"　　\",\"\")&IF(申込みフォーム!BM129<>\"\",申込みフォーム!BM129&\"　　\",\"\")&IF(申込みフォーム!BN129<>\"\",申込みフォーム!BN129&\"　　\",\"\")","v":{"$error":"#VALUE!"}},{"$f":"IF($B120=VLOOKUP($B120,'受診者リスト(抽出用）'!$A:$F,1,0),VLOOKUP($B120,'受診者リスト(抽出用）'!$A:$F,3,0)&\"　（団体マスタ）\"&VLOOKUP($B120,'受診者リスト(抽出用）'!$A:$F,4,0)&\"　（枝番）\"&VLOOKUP(B120,'受診者リスト(抽出用）'!$A:$F,5,0),\"\")","v":{"$error":"#N/A"}}]
[120,{"$f":"IF(申込みフォーム!B130<>\"\",申込みフォーム!B130&\"　\"&申込みフォーム!C130,\"\")","v":""},{"$f":"IF(申込みフォーム!E130<>\"\",申込みフォーム!E130&\"　\"&申込みフォーム!F130,\"\")","v":""},{"$f":"IF(申込みフォーム!G130<>\"\",申込みフォーム!G130,\"\")","v":""},{"$f":"IF(申込みフォーム!H130<>\"\",申込みフォーム!H130,\"\")","v":""},{"$f":"IF(申込みフォーム!D130<>\"\",申込みフォーム!D130,\"\")","v":""},{"$f":"IF(申込みフォーム!I130<>\"\",REPLACE(申込みフォーム!I130,4,,\"-\"),\"\")","v":""},{"$f":"IF(申込みフォーム!J130<>\"\",申込みフォーム!J130,\"\")","v":""},{"$f":"IF(申込みフォーム!K130<>\"\",申込みフォーム!K130,\"\")","v":""},{"$f":"IF(申込みフォーム!L130<>\"\",MID(申込みフォーム!L130,1,3)&\"-\"&MID(申込みフォーム!L130,4,4)&\"-\"&MID(申込みフォーム!L130,8,4),\"\")","v":""},{"$f":"IF(申込みフォーム!M130<>\"\",申込みフォーム!M130,\"\")","v":""},{"$f":"IF(申込みフォーム!N130<>\"\",申込みフォーム!N130,\"\")","v":""},{"$f":"IF(申込みフォーム!O130<>\"\",申込みフォーム!O130,\"\")","v":""},{"$f":"IF(申込みフォーム!P130<>\"\",申込みフォーム!P130,\"\")","v":""},{"$f":"IF(申込みフォーム!Q130<>\"\",申込みフォーム!Q130,\"\")","v":""},{"$f":"IF(申込みフォーム!R130<>\"\",申込みフォーム!R130,\"\")","v":""},{"$f":"IF(申込みフォーム!S130<>\"\",申込みフォーム!S130,\"\")","v":""},{"$f":"IF(申込みフォーム!U130=\"細胞診のみ\",\"協会子宮　\",IF(申込みフォーム!U130=\"細胞診＋（自費）膣エコー\",\"協会子宮＋自費膣エコー　\",\"\"))&IF(申込みフォーム!W130<>\"\",\"協会ﾏﾝﾓ　\",\"\")&IF(申込みフォーム!Y130<>\"\",\"協会骨　\",\"\")&IF(申込みフォーム!AA130<>\"\",\"協会肝炎　\",\"\")","v":""},{"$f":"IF(申込みフォーム!AB130<>\"\",\"子宮　\",\"\")&IF(申込みフォーム!AC130<>\"\",\"ﾏﾝﾓ　\",\"\")&IF(申込みフォーム!AD130<>\"\",\"乳ｴｺｰ\",\"\")","v":""},{"$f":"IF(申込みフォーム!AE130<>\"\",\"ﾏｰｶｰ　\",\"\")&IF(申込みフォーム!AF130<>\"\",\"心機能　\",\"\")&IF(申込みフォーム!AG130<>\"\",\"ABC　\",\"\")&IF(申込みフォーム!AH130<>\"\",\"Lox　\",\"\")&IF(申込みフォーム!AI130<>\"\",\"甲状腺　\",\"\")&IF(申込みフォーム!AJ130<>\"\",\"肝炎\",\"\")","v":""},{"$f":"IF(申込みフォーム!AK130<>\"\",\"脳　\",\"\")&IF(申込みフォーム!AL130<>\"\",\"胸部CT　\",\"\")&IF(申込みフォーム!AM130<>\"\",\"肺機能　\",\"\")&IF(申込みフォーム!AN130<>\"\",\"腹ｴｺｰ　\",\"\")&IF(申込みフォーム!AO130<>\"\",\"心ｴｺｰ　\",\"\")&IF(申込みフォーム!AP130<>\"\",\"ﾌﾛｰﾗ　\",\"\")&IF(申込みフォーム!AQ130<>\"\",\"OCT　\",\"\")&IF(申込みフォーム!AR130<>\"\",\"検便　\",\"\")&IF(申込みフォーム!AS130<>\"\",\"骨　\",\"\")&IF(申込みフォーム!AT130<>\"\",\"骨＋ﾛｺﾓ\",\"\")","v":""},{"$f":"IF(申込みフォーム!AU130<>\"\",申込みフォーム!AU130&\"　　\",\"\")&IF(申込みフォーム!AV130<>\"\",申込みフォーム!AV130&\"　　\",\"\")&IF(申込みフォーム!AW130<>\"\",申込みフォーム!AW130&\"　　\",\"\")&IF(申込みフォーム!$AX130=\"〇\",\"4月　\",\"\")&IF(申込みフォーム!$AY130=\"〇\",\"5月　\",\"\")&IF(申込みフォーム!$AZ130=\"〇\",\"6月　\",\"\")&IF(申込みフォーム!$BA130=\"〇\",\"7月　\",\"\")&IF(申込みフォーム!$BB130=\"〇\",\"8月　\",\"\")&IF(申込みフォーム!$BC130=\"〇\",\"9月　\",\"\")&IF(申込みフォーム!$BD130=\"〇\",\"10月　\",\"\")&IF(申込みフォーム!$BE130=\"〇\",\"11月　\",\"\")&IF(申込みフォーム!$BF130=\"〇\",\"12月　\",\"\")&IF(申込みフォーム!$BG130=\"〇\",\"1月　\",\"\")&IF(申込みフォーム!$BH130=\"〇\",\"2月　\",\"\")&IF(申込みフォーム!$BI130=\"〇\",\"3月　\",\"\")","v":""},{"$f":"IF(申込みフォーム!BJ130<>\"\",申込みフォーム!BJ130,\"\")","v":""},{"$f":"IF(申込みフォーム!BK130<>\"\",申込みフォーム!BK130,\"\")","v":""},{"$f":"申込みフォーム!$Z130","v":""},{"$f":"IF(申込みフォーム!BL130<>\"\",申込みフォーム!BL130&\"　　\",\"\")&IF(申込みフォーム!BM130<>\"\",申込みフォーム!BM130&\"　　\",\"\")&IF(申込みフォーム!BN130<>\"\",申込みフォーム!BN130&\"　　\",\"\")","v":{"$error":"#VALUE!"}},{"$f":"IF($B121=VLOOKUP($B121,'受診者リスト(抽出用）'!$A:$F,1,0),VLOOKUP($B121,'受診者リスト(抽出用）'!$A:$F,3,0)&\"　（団体マスタ）\"&VLOOKUP($B121,'受診者リスト(抽出用）'!$A:$F,4,0)&\"　（枝番）\"&VLOOKUP(B121,'受診者リスト(抽出用）'!$A:$F,5,0),\"\")","v":{"$error":"#N/A"}}]
[121,{"$f":"IF(申込みフォーム!B131<>\"\",申込みフォーム!B131&\"　\"&申込みフォーム!C131,\"\")","v":""},{"$f":"IF(申込みフォーム!E131<>\"\",申込みフォーム!E131&\"　\"&申込みフォーム!F131,\"\")","v":""},{"$f":"IF(申込みフォーム!G131<>\"\",申込みフォーム!G131,\"\")","v":""},{"$f":"IF(申込みフォーム!H131<>\"\",申込みフォーム!H131,\"\")","v":""},{"$f":"IF(申込みフォーム!D131<>\"\",申込みフォーム!D131,\"\")","v":""},{"$f":"IF(申込みフォーム!I131<>\"\",REPLACE(申込みフォーム!I131,4,,\"-\"),\"\")","v":""},{"$f":"IF(申込みフォーム!J131<>\"\",申込みフォーム!J131,\"\")","v":""},{"$f":"IF(申込みフォーム!K131<>\"\",申込みフォーム!K131,\"\")","v":""},{"$f":"IF(申込みフォーム!L131<>\"\",MID(申込みフォーム!L131,1,3)&\"-\"&MID(申込みフォーム!L131,4,4)&\"-\"&MID(申込みフォーム!L131,8,4),\"\")","v":""},{"$f":"IF(申込みフォーム!M131<>\"\",申込みフォーム!M131,\"\")","v":""},{"$f":"IF(申込みフォーム!N131<>\"\",申込みフォーム!N131,\"\")","v":""},{"$f":"IF(申込みフォーム!O131<>\"\",申込みフォーム!O131,\"\")","v":""},{"$f":"IF(申込みフォーム!P131<>\"\",申込みフォーム!P131,\"\")","v":""},{"$f":"IF(申込みフォーム!Q131<>\"\",申込みフォーム!Q131,\"\")","v":""},{"$f":"IF(申込みフォーム!R131<>\"\",申込みフォーム!R131,\"\")","v":""},{"$f":"IF(申込みフォーム!S131<>\"\",申込みフォーム!S131,\"\")","v":""},{"$f":"IF(申込みフォーム!U131=\"細胞診のみ\",\"協会子宮　\",IF(申込みフォーム!U131=\"細胞診＋（自費）膣エコー\",\"協会子宮＋自費膣エコー　\",\"\"))&IF(申込みフォーム!W131<>\"\",\"協会ﾏﾝﾓ　\",\"\")&IF(申込みフォーム!Y131<>\"\",\"協会骨　\",\"\")&IF(申込みフォーム!AA131<>\"\",\"協会肝炎　\",\"\")","v":""},{"$f":"IF(申込みフォーム!AB131<>\"\",\"子宮　\",\"\")&IF(申込みフォーム!AC131<>\"\",\"ﾏﾝﾓ　\",\"\")&IF(申込みフォーム!AD131<>\"\",\"乳ｴｺｰ\",\"\")","v":""},{"$f":"IF(申込みフォーム!AE131<>\"\",\"ﾏｰｶｰ　\",\"\")&IF(申込みフォーム!AF131<>\"\",\"心機能　\",\"\")&IF(申込みフォーム!AG131<>\"\",\"ABC　\",\"\")&IF(申込みフォーム!AH131<>\"\",\"Lox　\",\"\")&IF(申込みフォーム!AI131<>\"\",\"甲状腺　\",\"\")&IF(申込みフォーム!AJ131<>\"\",\"肝炎\",\"\")","v":""},{"$f":"IF(申込みフォーム!AK131<>\"\",\"脳　\",\"\")&IF(申込みフォーム!AL131<>\"\",\"胸部CT　\",\"\")&IF(申込みフォーム!AM131<>\"\",\"肺機能　\",\"\")&IF(申込みフォーム!AN131<>\"\",\"腹ｴｺｰ　\",\"\")&IF(申込みフォーム!AO131<>\"\",\"心ｴｺｰ　\",\"\")&IF(申込みフォーム!AP131<>\"\",\"ﾌﾛｰﾗ　\",\"\")&IF(申込みフォーム!AQ131<>\"\",\"OCT　\",\"\")&IF(申込みフォーム!AR131<>\"\",\"検便　\",\"\")&IF(申込みフォーム!AS131<>\"\",\"骨　\",\"\")&IF(申込みフォーム!AT131<>\"\",\"骨＋ﾛｺﾓ\",\"\")","v":""},{"$f":"IF(申込みフォーム!AU131<>\"\",申込みフォーム!AU131&\"　　\",\"\")&IF(申込みフォーム!AV131<>\"\",申込みフォーム!AV131&\"　　\",\"\")&IF(申込みフォーム!AW131<>\"\",申込みフォーム!AW131&\"　　\",\"\")&IF(申込みフォーム!$AX131=\"〇\",\"4月　\",\"\")&IF(申込みフォーム!$AY131=\"〇\",\"5月　\",\"\")&IF(申込みフォーム!$AZ131=\"〇\",\"6月　\",\"\")&IF(申込みフォーム!$BA131=\"〇\",\"7月　\",\"\")&IF(申込みフォーム!$BB131=\"〇\",\"8月　\",\"\")&IF(申込みフォーム!$BC131=\"〇\",\"9月　\",\"\")&IF(申込みフォーム!$BD131=\"〇\",\"10月　\",\"\")&IF(申込みフォーム!$BE131=\"〇\",\"11月　\",\"\")&IF(申込みフォーム!$BF131=\"〇\",\"12月　\",\"\")&IF(申込みフォーム!$BG131=\"〇\",\"1月　\",\"\")&IF(申込みフォーム!$BH131=\"〇\",\"2月　\",\"\")&IF(申込みフォーム!$BI131=\"〇\",\"3月　\",\"\")","v":""},{"$f":"IF(申込みフォーム!BJ131<>\"\",申込みフォーム!BJ131,\"\")","v":""},{"$f":"IF(申込みフォーム!BK131<>\"\",申込みフォーム!BK131,\"\")","v":""},{"$f":"申込みフォーム!$Z131","v":""},{"$f":"IF(申込みフォーム!BL131<>\"\",申込みフォーム!BL131&\"　　\",\"\")&IF(申込みフォーム!BM131<>\"\",申込みフォーム!BM131&\"　　\",\"\")&IF(申込みフォーム!BN131<>\"\",申込みフォーム!BN131&\"　　\",\"\")","v":{"$error":"#VALUE!"}},{"$f":"IF($B122=VLOOKUP($B122,'受診者リスト(抽出用）'!$A:$F,1,0),VLOOKUP($B122,'受診者リスト(抽出用）'!$A:$F,3,0)&\"　（団体マスタ）\"&VLOOKUP($B122,'受診者リスト(抽出用）'!$A:$F,4,0)&\"　（枝番）\"&VLOOKUP(B122,'受診者リスト(抽出用）'!$A:$F,5,0),\"\")","v":{"$error":"#N/A"}}]
[122,{"$f":"IF(申込みフォーム!B132<>\"\",申込みフォーム!B132&\"　\"&申込みフォーム!C132,\"\")","v":""},{"$f":"IF(申込みフォーム!E132<>\"\",申込みフォーム!E132&\"　\"&申込みフォーム!F132,\"\")","v":""},{"$f":"IF(申込みフォーム!G132<>\"\",申込みフォーム!G132,\"\")","v":""},{"$f":"IF(申込みフォーム!H132<>\"\",申込みフォーム!H132,\"\")","v":""},{"$f":"IF(申込みフォーム!D132<>\"\",申込みフォーム!D132,\"\")","v":""},{"$f":"IF(申込みフォーム!I132<>\"\",REPLACE(申込みフォーム!I132,4,,\"-\"),\"\")","v":""},{"$f":"IF(申込みフォーム!J132<>\"\",申込みフォーム!J132,\"\")","v":""},{"$f":"IF(申込みフォーム!K132<>\"\",申込みフォーム!K132,\"\")","v":""},{"$f":"IF(申込みフォーム!L132<>\"\",MID(申込みフォーム!L132,1,3)&\"-\"&MID(申込みフォーム!L132,4,4)&\"-\"&MID(申込みフォーム!L132,8,4),\"\")","v":""},{"$f":"IF(申込みフォーム!M132<>\"\",申込みフォーム!M132,\"\")","v":""},{"$f":"IF(申込みフォーム!N132<>\"\",申込みフォーム!N132,\"\")","v":""},{"$f":"IF(申込みフォーム!O132<>\"\",申込みフォーム!O132,\"\")","v":""},{"$f":"IF(申込みフォーム!P132<>\"\",申込みフォーム!P132,\"\")","v":""},{"$f":"IF(申込みフォーム!Q132<>\"\",申込みフォーム!Q132,\"\")","v":""},{"$f":"IF(申込みフォーム!R132<>\"\",申込みフォーム!R132,\"\")","v":""},{"$f":"IF(申込みフォーム!S132<>\"\",申込みフォーム!S132,\"\")","v":""},{"$f":"IF(申込みフォーム!U132=\"細胞診のみ\",\"協会子宮　\",IF(申込みフォーム!U132=\"細胞診＋（自費）膣エコー\",\"協会子宮＋自費膣エコー　\",\"\"))&IF(申込みフォーム!W132<>\"\",\"協会ﾏﾝﾓ　\",\"\")&IF(申込みフォーム!Y132<>\"\",\"協会骨　\",\"\")&IF(申込みフォーム!AA132<>\"\",\"協会肝炎　\",\"\")","v":""},{"$f":"IF(申込みフォーム!AB132<>\"\",\"子宮　\",\"\")&IF(申込みフォーム!AC132<>\"\",\"ﾏﾝﾓ　\",\"\")&IF(申込みフォーム!AD132<>\"\",\"乳ｴｺｰ\",\"\")","v":""},{"$f":"IF(申込みフォーム!AE132<>\"\",\"ﾏｰｶｰ　\",\"\")&IF(申込みフォーム!AF132<>\"\",\"心機能　\",\"\")&IF(申込みフォーム!AG132<>\"\",\"ABC　\",\"\")&IF(申込みフォーム!AH132<>\"\",\"Lox　\",\"\")&IF(申込みフォーム!AI132<>\"\",\"甲状腺　\",\"\")&IF(申込みフォーム!AJ132<>\"\",\"肝炎\",\"\")","v":""},{"$f":"IF(申込みフォーム!AK132<>\"\",\"脳　\",\"\")&IF(申込みフォーム!AL132<>\"\",\"胸部CT　\",\"\")&IF(申込みフォーム!AM132<>\"\",\"肺機能　\",\"\")&IF(申込みフォーム!AN132<>\"\",\"腹ｴｺｰ　\",\"\")&IF(申込みフォーム!AO132<>\"\",\"心ｴｺｰ　\",\"\")&IF(申込みフォーム!AP132<>\"\",\"ﾌﾛｰﾗ　\",\"\")&IF(申込みフォーム!AQ132<>\"\",\"OCT　\",\"\")&IF(申込みフォーム!AR132<>\"\",\"検便　\",\"\")&IF(申込みフォーム!AS132<>\"\",\"骨　\",\"\")&IF(申込みフォーム!AT132<>\"\",\"骨＋ﾛｺﾓ\",\"\")","v":""},{"$f":"IF(申込みフォーム!AU132<>\"\",申込みフォーム!AU132&\"　　\",\"\")&IF(申込みフォーム!AV132<>\"\",申込みフォーム!AV132&\"　　\",\"\")&IF(申込みフォーム!AW132<>\"\",申込みフォーム!AW132&\"　　\",\"\")&IF(申込みフォーム!$AX132=\"〇\",\"4月　\",\"\")&IF(申込みフォーム!$AY132=\"〇\",\"5月　\",\"\")&IF(申込みフォーム!$AZ132=\"〇\",\"6月　\",\"\")&IF(申込みフォーム!$BA132=\"〇\",\"7月　\",\"\")&IF(申込みフォーム!$BB132=\"〇\",\"8月　\",\"\")&IF(申込みフォーム!$BC132=\"〇\",\"9月　\",\"\")&IF(申込みフォーム!$BD132=\"〇\",\"10月　\",\"\")&IF(申込みフォーム!$BE132=\"〇\",\"11月　\",\"\")&IF(申込みフォーム!$BF132=\"〇\",\"12月　\",\"\")&IF(申込みフォーム!$BG132=\"〇\",\"1月　\",\"\")&IF(申込みフォーム!$BH132=\"〇\",\"2月　\",\"\")&IF(申込みフォーム!$BI132=\"〇\",\"3月　\",\"\")","v":""},{"$f":"IF(申込みフォーム!BJ132<>\"\",申込みフォーム!BJ132,\"\")","v":""},{"$f":"IF(申込みフォーム!BK132<>\"\",申込みフォーム!BK132,\"\")","v":""},{"$f":"申込みフォーム!$Z132","v":""},{"$f":"IF(申込みフォーム!BL132<>\"\",申込みフォーム!BL132&\"　　\",\"\")&IF(申込みフォーム!BM132<>\"\",申込みフォーム!BM132&\"　　\",\"\")&IF(申込みフォーム!BN132<>\"\",申込みフォーム!BN132&\"　　\",\"\")","v":{"$error":"#VALUE!"}},{"$f":"IF($B123=VLOOKUP($B123,'受診者リスト(抽出用）'!$A:$F,1,0),VLOOKUP($B123,'受診者リスト(抽出用）'!$A:$F,3,0)&\"　（団体マスタ）\"&VLOOKUP($B123,'受診者リスト(抽出用）'!$A:$F,4,0)&\"　（枝番）\"&VLOOKUP(B123,'受診者リスト(抽出用）'!$A:$F,5,0),\"\")","v":{"$error":"#N/A"}}]
[123,{"$f":"IF(申込みフォーム!B133<>\"\",申込みフォーム!B133&\"　\"&申込みフォーム!C133,\"\")","v":""},{"$f":"IF(申込みフォーム!E133<>\"\",申込みフォーム!E133&\"　\"&申込みフォーム!F133,\"\")","v":""},{"$f":"IF(申込みフォーム!G133<>\"\",申込みフォーム!G133,\"\")","v":""},{"$f":"IF(申込みフォーム!H133<>\"\",申込みフォーム!H133,\"\")","v":""},{"$f":"IF(申込みフォーム!D133<>\"\",申込みフォーム!D133,\"\")","v":""},{"$f":"IF(申込みフォーム!I133<>\"\",REPLACE(申込みフォーム!I133,4,,\"-\"),\"\")","v":""},{"$f":"IF(申込みフォーム!J133<>\"\",申込みフォーム!J133,\"\")","v":""},{"$f":"IF(申込みフォーム!K133<>\"\",申込みフォーム!K133,\"\")","v":""},{"$f":"IF(申込みフォーム!L133<>\"\",MID(申込みフォーム!L133,1,3)&\"-\"&MID(申込みフォーム!L133,4,4)&\"-\"&MID(申込みフォーム!L133,8,4),\"\")","v":""},{"$f":"IF(申込みフォーム!M133<>\"\",申込みフォーム!M133,\"\")","v":""},{"$f":"IF(申込みフォーム!N133<>\"\",申込みフォーム!N133,\"\")","v":""},{"$f":"IF(申込みフォーム!O133<>\"\",申込みフォーム!O133,\"\")","v":""},{"$f":"IF(申込みフォーム!P133<>\"\",申込みフォーム!P133,\"\")","v":""},{"$f":"IF(申込みフォーム!Q133<>\"\",申込みフォーム!Q133,\"\")","v":""},{"$f":"IF(申込みフォーム!R133<>\"\",申込みフォーム!R133,\"\")","v":""},{"$f":"IF(申込みフォーム!S133<>\"\",申込みフォーム!S133,\"\")","v":""},{"$f":"IF(申込みフォーム!U133=\"細胞診のみ\",\"協会子宮　\",IF(申込みフォーム!U133=\"細胞診＋（自費）膣エコー\",\"協会子宮＋自費膣エコー　\",\"\"))&IF(申込みフォーム!W133<>\"\",\"協会ﾏﾝﾓ　\",\"\")&IF(申込みフォーム!Y133<>\"\",\"協会骨　\",\"\")&IF(申込みフォーム!AA133<>\"\",\"協会肝炎　\",\"\")","v":""},{"$f":"IF(申込みフォーム!AB133<>\"\",\"子宮　\",\"\")&IF(申込みフォーム!AC133<>\"\",\"ﾏﾝﾓ　\",\"\")&IF(申込みフォーム!AD133<>\"\",\"乳ｴｺｰ\",\"\")","v":""},{"$f":"IF(申込みフォーム!AE133<>\"\",\"ﾏｰｶｰ　\",\"\")&IF(申込みフォーム!AF133<>\"\",\"心機能　\",\"\")&IF(申込みフォーム!AG133<>\"\",\"ABC　\",\"\")&IF(申込みフォーム!AH133<>\"\",\"Lox　\",\"\")&IF(申込みフォーム!AI133<>\"\",\"甲状腺　\",\"\")&IF(申込みフォーム!AJ133<>\"\",\"肝炎\",\"\")","v":""},{"$f":"IF(申込みフォーム!AK133<>\"\",\"脳　\",\"\")&IF(申込みフォーム!AL133<>\"\",\"胸部CT　\",\"\")&IF(申込みフォーム!AM133<>\"\",\"肺機能　\",\"\")&IF(申込みフォーム!AN133<>\"\",\"腹ｴｺｰ　\",\"\")&IF(申込みフォーム!AO133<>\"\",\"心ｴｺｰ　\",\"\")&IF(申込みフォーム!AP133<>\"\",\"ﾌﾛｰﾗ　\",\"\")&IF(申込みフォーム!AQ133<>\"\",\"OCT　\",\"\")&IF(申込みフォーム!AR133<>\"\",\"検便　\",\"\")&IF(申込みフォーム!AS133<>\"\",\"骨　\",\"\")&IF(申込みフォーム!AT133<>\"\",\"骨＋ﾛｺﾓ\",\"\")","v":""},{"$f":"IF(申込みフォーム!AU133<>\"\",申込みフォーム!AU133&\"　　\",\"\")&IF(申込みフォーム!AV133<>\"\",申込みフォーム!AV133&\"　　\",\"\")&IF(申込みフォーム!AW133<>\"\",申込みフォーム!AW133&\"　　\",\"\")&IF(申込みフォーム!$AX133=\"〇\",\"4月　\",\"\")&IF(申込みフォーム!$AY133=\"〇\",\"5月　\",\"\")&IF(申込みフォーム!$AZ133=\"〇\",\"6月　\",\"\")&IF(申込みフォーム!$BA133=\"〇\",\"7月　\",\"\")&IF(申込みフォーム!$BB133=\"〇\",\"8月　\",\"\")&IF(申込みフォーム!$BC133=\"〇\",\"9月　\",\"\")&IF(申込みフォーム!$BD133=\"〇\",\"10月　\",\"\")&IF(申込みフォーム!$BE133=\"〇\",\"11月　\",\"\")&IF(申込みフォーム!$BF133=\"〇\",\"12月　\",\"\")&IF(申込みフォーム!$BG133=\"〇\",\"1月　\",\"\")&IF(申込みフォーム!$BH133=\"〇\",\"2月　\",\"\")&IF(申込みフォーム!$BI133=\"〇\",\"3月　\",\"\")","v":""},{"$f":"IF(申込みフォーム!BJ133<>\"\",申込みフォーム!BJ133,\"\")","v":""},{"$f":"IF(申込みフォーム!BK133<>\"\",申込みフォーム!BK133,\"\")","v":""},{"$f":"申込みフォーム!$Z133","v":""},{"$f":"IF(申込みフォーム!BL133<>\"\",申込みフォーム!BL133&\"　　\",\"\")&IF(申込みフォーム!BM133<>\"\",申込みフォーム!BM133&\"　　\",\"\")&IF(申込みフォーム!BN133<>\"\",申込みフォーム!BN133&\"　　\",\"\")","v":{"$error":"#VALUE!"}},{"$f":"IF($B124=VLOOKUP($B124,'受診者リスト(抽出用）'!$A:$F,1,0),VLOOKUP($B124,'受診者リスト(抽出用）'!$A:$F,3,0)&\"　（団体マスタ）\"&VLOOKUP($B124,'受診者リスト(抽出用）'!$A:$F,4,0)&\"　（枝番）\"&VLOOKUP(B124,'受診者リスト(抽出用）'!$A:$F,5,0),\"\")","v":{"$error":"#N/A"}}]
[124,{"$f":"IF(申込みフォーム!B134<>\"\",申込みフォーム!B134&\"　\"&申込みフォーム!C134,\"\")","v":""},{"$f":"IF(申込みフォーム!E134<>\"\",申込みフォーム!E134&\"　\"&申込みフォーム!F134,\"\")","v":""},{"$f":"IF(申込みフォーム!G134<>\"\",申込みフォーム!G134,\"\")","v":""},{"$f":"IF(申込みフォーム!H134<>\"\",申込みフォーム!H134,\"\")","v":""},{"$f":"IF(申込みフォーム!D134<>\"\",申込みフォーム!D134,\"\")","v":""},{"$f":"IF(申込みフォーム!I134<>\"\",REPLACE(申込みフォーム!I134,4,,\"-\"),\"\")","v":""},{"$f":"IF(申込みフォーム!J134<>\"\",申込みフォーム!J134,\"\")","v":""},{"$f":"IF(申込みフォーム!K134<>\"\",申込みフォーム!K134,\"\")","v":""},{"$f":"IF(申込みフォーム!L134<>\"\",MID(申込みフォーム!L134,1,3)&\"-\"&MID(申込みフォーム!L134,4,4)&\"-\"&MID(申込みフォーム!L134,8,4),\"\")","v":""},{"$f":"IF(申込みフォーム!M134<>\"\",申込みフォーム!M134,\"\")","v":""},{"$f":"IF(申込みフォーム!N134<>\"\",申込みフォーム!N134,\"\")","v":""},{"$f":"IF(申込みフォーム!O134<>\"\",申込みフォーム!O134,\"\")","v":""},{"$f":"IF(申込みフォーム!P134<>\"\",申込みフォーム!P134,\"\")","v":""},{"$f":"IF(申込みフォーム!Q134<>\"\",申込みフォーム!Q134,\"\")","v":""},{"$f":"IF(申込みフォーム!R134<>\"\",申込みフォーム!R134,\"\")","v":""},{"$f":"IF(申込みフォーム!S134<>\"\",申込みフォーム!S134,\"\")","v":""},{"$f":"IF(申込みフォーム!U134=\"細胞診のみ\",\"協会子宮　\",IF(申込みフォーム!U134=\"細胞診＋（自費）膣エコー\",\"協会子宮＋自費膣エコー　\",\"\"))&IF(申込みフォーム!W134<>\"\",\"協会ﾏﾝﾓ　\",\"\")&IF(申込みフォーム!Y134<>\"\",\"協会骨　\",\"\")&IF(申込みフォーム!AA134<>\"\",\"協会肝炎　\",\"\")","v":""},{"$f":"IF(申込みフォーム!AB134<>\"\",\"子宮　\",\"\")&IF(申込みフォーム!AC134<>\"\",\"ﾏﾝﾓ　\",\"\")&IF(申込みフォーム!AD134<>\"\",\"乳ｴｺｰ\",\"\")","v":""},{"$f":"IF(申込みフォーム!AE134<>\"\",\"ﾏｰｶｰ　\",\"\")&IF(申込みフォーム!AF134<>\"\",\"心機能　\",\"\")&IF(申込みフォーム!AG134<>\"\",\"ABC　\",\"\")&IF(申込みフォーム!AH134<>\"\",\"Lox　\",\"\")&IF(申込みフォーム!AI134<>\"\",\"甲状腺　\",\"\")&IF(申込みフォーム!AJ134<>\"\",\"肝炎\",\"\")","v":""},{"$f":"IF(申込みフォーム!AK134<>\"\",\"脳　\",\"\")&IF(申込みフォーム!AL134<>\"\",\"胸部CT　\",\"\")&IF(申込みフォーム!AM134<>\"\",\"肺機能　\",\"\")&IF(申込みフォーム!AN134<>\"\",\"腹ｴｺｰ　\",\"\")&IF(申込みフォーム!AO134<>\"\",\"心ｴｺｰ　\",\"\")&IF(申込みフォーム!AP134<>\"\",\"ﾌﾛｰﾗ　\",\"\")&IF(申込みフォーム!AQ134<>\"\",\"OCT　\",\"\")&IF(申込みフォーム!AR134<>\"\",\"検便　\",\"\")&IF(申込みフォーム!AS134<>\"\",\"骨　\",\"\")&IF(申込みフォーム!AT134<>\"\",\"骨＋ﾛｺﾓ\",\"\")","v":""},{"$f":"IF(申込みフォーム!AU134<>\"\",申込みフォーム!AU134&\"　　\",\"\")&IF(申込みフォーム!AV134<>\"\",申込みフォーム!AV134&\"　　\",\"\")&IF(申込みフォーム!AW134<>\"\",申込みフォーム!AW134&\"　　\",\"\")&IF(申込みフォーム!$AX134=\"〇\",\"4月　\",\"\")&IF(申込みフォーム!$AY134=\"〇\",\"5月　\",\"\")&IF(申込みフォーム!$AZ134=\"〇\",\"6月　\",\"\")&IF(申込みフォーム!$BA134=\"〇\",\"7月　\",\"\")&IF(申込みフォーム!$BB134=\"〇\",\"8月　\",\"\")&IF(申込みフォーム!$BC134=\"〇\",\"9月　\",\"\")&IF(申込みフォーム!$BD134=\"〇\",\"10月　\",\"\")&IF(申込みフォーム!$BE134=\"〇\",\"11月　\",\"\")&IF(申込みフォーム!$BF134=\"〇\",\"12月　\",\"\")&IF(申込みフォーム!$BG134=\"〇\",\"1月　\",\"\")&IF(申込みフォーム!$BH134=\"〇\",\"2月　\",\"\")&IF(申込みフォーム!$BI134=\"〇\",\"3月　\",\"\")","v":""},{"$f":"IF(申込みフォーム!BJ134<>\"\",申込みフォーム!BJ134,\"\")","v":""},{"$f":"IF(申込みフォーム!BK134<>\"\",申込みフォーム!BK134,\"\")","v":""},{"$f":"申込みフォーム!$Z134","v":""},{"$f":"IF(申込みフォーム!BL134<>\"\",申込みフォーム!BL134&\"　　\",\"\")&IF(申込みフォーム!BM134<>\"\",申込みフォーム!BM134&\"　　\",\"\")&IF(申込みフォーム!BN134<>\"\",申込みフォーム!BN134&\"　　\",\"\")","v":{"$error":"#VALUE!"}},{"$f":"IF($B125=VLOOKUP($B125,'受診者リスト(抽出用）'!$A:$F,1,0),VLOOKUP($B125,'受診者リスト(抽出用）'!$A:$F,3,0)&\"　（団体マスタ）\"&VLOOKUP($B125,'受診者リスト(抽出用）'!$A:$F,4,0)&\"　（枝番）\"&VLOOKUP(B125,'受診者リスト(抽出用）'!$A:$F,5,0),\"\")","v":{"$error":"#N/A"}}]
[125,{"$f":"IF(申込みフォーム!B135<>\"\",申込みフォーム!B135&\"　\"&申込みフォーム!C135,\"\")","v":""},{"$f":"IF(申込みフォーム!E135<>\"\",申込みフォーム!E135&\"　\"&申込みフォーム!F135,\"\")","v":""},{"$f":"IF(申込みフォーム!G135<>\"\",申込みフォーム!G135,\"\")","v":""},{"$f":"IF(申込みフォーム!H135<>\"\",申込みフォーム!H135,\"\")","v":""},{"$f":"IF(申込みフォーム!D135<>\"\",申込みフォーム!D135,\"\")","v":""},{"$f":"IF(申込みフォーム!I135<>\"\",REPLACE(申込みフォーム!I135,4,,\"-\"),\"\")","v":""},{"$f":"IF(申込みフォーム!J135<>\"\",申込みフォーム!J135,\"\")","v":""},{"$f":"IF(申込みフォーム!K135<>\"\",申込みフォーム!K135,\"\")","v":""},{"$f":"IF(申込みフォーム!L135<>\"\",MID(申込みフォーム!L135,1,3)&\"-\"&MID(申込みフォーム!L135,4,4)&\"-\"&MID(申込みフォーム!L135,8,4),\"\")","v":""},{"$f":"IF(申込みフォーム!M135<>\"\",申込みフォーム!M135,\"\")","v":""},{"$f":"IF(申込みフォーム!N135<>\"\",申込みフォーム!N135,\"\")","v":""},{"$f":"IF(申込みフォーム!O135<>\"\",申込みフォーム!O135,\"\")","v":""},{"$f":"IF(申込みフォーム!P135<>\"\",申込みフォーム!P135,\"\")","v":""},{"$f":"IF(申込みフォーム!Q135<>\"\",申込みフォーム!Q135,\"\")","v":""},{"$f":"IF(申込みフォーム!R135<>\"\",申込みフォーム!R135,\"\")","v":""},{"$f":"IF(申込みフォーム!S135<>\"\",申込みフォーム!S135,\"\")","v":""},{"$f":"IF(申込みフォーム!U135=\"細胞診のみ\",\"協会子宮　\",IF(申込みフォーム!U135=\"細胞診＋（自費）膣エコー\",\"協会子宮＋自費膣エコー　\",\"\"))&IF(申込みフォーム!W135<>\"\",\"協会ﾏﾝﾓ　\",\"\")&IF(申込みフォーム!Y135<>\"\",\"協会骨　\",\"\")&IF(申込みフォーム!AA135<>\"\",\"協会肝炎　\",\"\")","v":""},{"$f":"IF(申込みフォーム!AB135<>\"\",\"子宮　\",\"\")&IF(申込みフォーム!AC135<>\"\",\"ﾏﾝﾓ　\",\"\")&IF(申込みフォーム!AD135<>\"\",\"乳ｴｺｰ\",\"\")","v":""},{"$f":"IF(申込みフォーム!AE135<>\"\",\"ﾏｰｶｰ　\",\"\")&IF(申込みフォーム!AF135<>\"\",\"心機能　\",\"\")&IF(申込みフォーム!AG135<>\"\",\"ABC　\",\"\")&IF(申込みフォーム!AH135<>\"\",\"Lox　\",\"\")&IF(申込みフォーム!AI135<>\"\",\"甲状腺　\",\"\")&IF(申込みフォーム!AJ135<>\"\",\"肝炎\",\"\")","v":""},{"$f":"IF(申込みフォーム!AK135<>\"\",\"脳　\",\"\")&IF(申込みフォーム!AL135<>\"\",\"胸部CT　\",\"\")&IF(申込みフォーム!AM135<>\"\",\"肺機能　\",\"\")&IF(申込みフォーム!AN135<>\"\",\"腹ｴｺｰ　\",\"\")&IF(申込みフォーム!AO135<>\"\",\"心ｴｺｰ　\",\"\")&IF(申込みフォーム!AP135<>\"\",\"ﾌﾛｰﾗ　\",\"\")&IF(申込みフォーム!AQ135<>\"\",\"OCT　\",\"\")&IF(申込みフォーム!AR135<>\"\",\"検便　\",\"\")&IF(申込みフォーム!AS135<>\"\",\"骨　\",\"\")&IF(申込みフォーム!AT135<>\"\",\"骨＋ﾛｺﾓ\",\"\")","v":""},{"$f":"IF(申込みフォーム!AU135<>\"\",申込みフォーム!AU135&\"　　\",\"\")&IF(申込みフォーム!AV135<>\"\",申込みフォーム!AV135&\"　　\",\"\")&IF(申込みフォーム!AW135<>\"\",申込みフォーム!AW135&\"　　\",\"\")&IF(申込みフォーム!$AX135=\"〇\",\"4月　\",\"\")&IF(申込みフォーム!$AY135=\"〇\",\"5月　\",\"\")&IF(申込みフォーム!$AZ135=\"〇\",\"6月　\",\"\")&IF(申込みフォーム!$BA135=\"〇\",\"7月　\",\"\")&IF(申込みフォーム!$BB135=\"〇\",\"8月　\",\"\")&IF(申込みフォーム!$BC135=\"〇\",\"9月　\",\"\")&IF(申込みフォーム!$BD135=\"〇\",\"10月　\",\"\")&IF(申込みフォーム!$BE135=\"〇\",\"11月　\",\"\")&IF(申込みフォーム!$BF135=\"〇\",\"12月　\",\"\")&IF(申込みフォーム!$BG135=\"〇\",\"1月　\",\"\")&IF(申込みフォーム!$BH135=\"〇\",\"2月　\",\"\")&IF(申込みフォーム!$BI135=\"〇\",\"3月　\",\"\")","v":""},{"$f":"IF(申込みフォーム!BJ135<>\"\",申込みフォーム!BJ135,\"\")","v":""},{"$f":"IF(申込みフォーム!BK135<>\"\",申込みフォーム!BK135,\"\")","v":""},{"$f":"申込みフォーム!$Z135","v":""},{"$f":"IF(申込みフォーム!BL135<>\"\",申込みフォーム!BL135&\"　　\",\"\")&IF(申込みフォーム!BM135<>\"\",申込みフォーム!BM135&\"　　\",\"\")&IF(申込みフォーム!BN135<>\"\",申込みフォーム!BN135&\"　　\",\"\")","v":{"$error":"#VALUE!"}},{"$f":"IF($B126=VLOOKUP($B126,'受診者リスト(抽出用）'!$A:$F,1,0),VLOOKUP($B126,'受診者リスト(抽出用）'!$A:$F,3,0)&\"　（団体マスタ）\"&VLOOKUP($B126,'受診者リスト(抽出用）'!$A:$F,4,0)&\"　（枝番）\"&VLOOKUP(B126,'受診者リスト(抽出用）'!$A:$F,5,0),\"\")","v":{"$error":"#N/A"}}]
[126,{"$f":"IF(申込みフォーム!B136<>\"\",申込みフォーム!B136&\"　\"&申込みフォーム!C136,\"\")","v":""},{"$f":"IF(申込みフォーム!E136<>\"\",申込みフォーム!E136&\"　\"&申込みフォーム!F136,\"\")","v":""},{"$f":"IF(申込みフォーム!G136<>\"\",申込みフォーム!G136,\"\")","v":""},{"$f":"IF(申込みフォーム!H136<>\"\",申込みフォーム!H136,\"\")","v":""},{"$f":"IF(申込みフォーム!D136<>\"\",申込みフォーム!D136,\"\")","v":""},{"$f":"IF(申込みフォーム!I136<>\"\",REPLACE(申込みフォーム!I136,4,,\"-\"),\"\")","v":""},{"$f":"IF(申込みフォーム!J136<>\"\",申込みフォーム!J136,\"\")","v":""},{"$f":"IF(申込みフォーム!K136<>\"\",申込みフォーム!K136,\"\")","v":""},{"$f":"IF(申込みフォーム!L136<>\"\",MID(申込みフォーム!L136,1,3)&\"-\"&MID(申込みフォーム!L136,4,4)&\"-\"&MID(申込みフォーム!L136,8,4),\"\")","v":""},{"$f":"IF(申込みフォーム!M136<>\"\",申込みフォーム!M136,\"\")","v":""},{"$f":"IF(申込みフォーム!N136<>\"\",申込みフォーム!N136,\"\")","v":""},{"$f":"IF(申込みフォーム!O136<>\"\",申込みフォーム!O136,\"\")","v":""},{"$f":"IF(申込みフォーム!P136<>\"\",申込みフォーム!P136,\"\")","v":""},{"$f":"IF(申込みフォーム!Q136<>\"\",申込みフォーム!Q136,\"\")","v":""},{"$f":"IF(申込みフォーム!R136<>\"\",申込みフォーム!R136,\"\")","v":""},{"$f":"IF(申込みフォーム!S136<>\"\",申込みフォーム!S136,\"\")","v":""},{"$f":"IF(申込みフォーム!U136=\"細胞診のみ\",\"協会子宮　\",IF(申込みフォーム!U136=\"細胞診＋（自費）膣エコー\",\"協会子宮＋自費膣エコー　\",\"\"))&IF(申込みフォーム!W136<>\"\",\"協会ﾏﾝﾓ　\",\"\")&IF(申込みフォーム!Y136<>\"\",\"協会骨　\",\"\")&IF(申込みフォーム!AA136<>\"\",\"協会肝炎　\",\"\")","v":""},{"$f":"IF(申込みフォーム!AB136<>\"\",\"子宮　\",\"\")&IF(申込みフォーム!AC136<>\"\",\"ﾏﾝﾓ　\",\"\")&IF(申込みフォーム!AD136<>\"\",\"乳ｴｺｰ\",\"\")","v":""},{"$f":"IF(申込みフォーム!AE136<>\"\",\"ﾏｰｶｰ　\",\"\")&IF(申込みフォーム!AF136<>\"\",\"心機能　\",\"\")&IF(申込みフォーム!AG136<>\"\",\"ABC　\",\"\")&IF(申込みフォーム!AH136<>\"\",\"Lox　\",\"\")&IF(申込みフォーム!AI136<>\"\",\"甲状腺　\",\"\")&IF(申込みフォーム!AJ136<>\"\",\"肝炎\",\"\")","v":""},{"$f":"IF(申込みフォーム!AK136<>\"\",\"脳　\",\"\")&IF(申込みフォーム!AL136<>\"\",\"胸部CT　\",\"\")&IF(申込みフォーム!AM136<>\"\",\"肺機能　\",\"\")&IF(申込みフォーム!AN136<>\"\",\"腹ｴｺｰ　\",\"\")&IF(申込みフォーム!AO136<>\"\",\"心ｴｺｰ　\",\"\")&IF(申込みフォーム!AP136<>\"\",\"ﾌﾛｰﾗ　\",\"\")&IF(申込みフォーム!AQ136<>\"\",\"OCT　\",\"\")&IF(申込みフォーム!AR136<>\"\",\"検便　\",\"\")&IF(申込みフォーム!AS136<>\"\",\"骨　\",\"\")&IF(申込みフォーム!AT136<>\"\",\"骨＋ﾛｺﾓ\",\"\")","v":""},{"$f":"IF(申込みフォーム!AU136<>\"\",申込みフォーム!AU136&\"　　\",\"\")&IF(申込みフォーム!AV136<>\"\",申込みフォーム!AV136&\"　　\",\"\")&IF(申込みフォーム!AW136<>\"\",申込みフォーム!AW136&\"　　\",\"\")&IF(申込みフォーム!$AX136=\"〇\",\"4月　\",\"\")&IF(申込みフォーム!$AY136=\"〇\",\"5月　\",\"\")&IF(申込みフォーム!$AZ136=\"〇\",\"6月　\",\"\")&IF(申込みフォーム!$BA136=\"〇\",\"7月　\",\"\")&IF(申込みフォーム!$BB136=\"〇\",\"8月　\",\"\")&IF(申込みフォーム!$BC136=\"〇\",\"9月　\",\"\")&IF(申込みフォーム!$BD136=\"〇\",\"10月　\",\"\")&IF(申込みフォーム!$BE136=\"〇\",\"11月　\",\"\")&IF(申込みフォーム!$BF136=\"〇\",\"12月　\",\"\")&IF(申込みフォーム!$BG136=\"〇\",\"1月　\",\"\")&IF(申込みフォーム!$BH136=\"〇\",\"2月　\",\"\")&IF(申込みフォーム!$BI136=\"〇\",\"3月　\",\"\")","v":""},{"$f":"IF(申込みフォーム!BJ136<>\"\",申込みフォーム!BJ136,\"\")","v":""},{"$f":"IF(申込みフォーム!BK136<>\"\",申込みフォーム!BK136,\"\")","v":""},{"$f":"申込みフォーム!$Z136","v":""},{"$f":"IF(申込みフォーム!BL136<>\"\",申込みフォーム!BL136&\"　　\",\"\")&IF(申込みフォーム!BM136<>\"\",申込みフォーム!BM136&\"　　\",\"\")&IF(申込みフォーム!BN136<>\"\",申込みフォーム!BN136&\"　　\",\"\")","v":{"$error":"#VALUE!"}},{"$f":"IF($B127=VLOOKUP($B127,'受診者リスト(抽出用）'!$A:$F,1,0),VLOOKUP($B127,'受診者リスト(抽出用）'!$A:$F,3,0)&\"　（団体マスタ）\"&VLOOKUP($B127,'受診者リスト(抽出用）'!$A:$F,4,0)&\"　（枝番）\"&VLOOKUP(B127,'受診者リスト(抽出用）'!$A:$F,5,0),\"\")","v":{"$error":"#N/A"}}]
[127,{"$f":"IF(申込みフォーム!B137<>\"\",申込みフォーム!B137&\"　\"&申込みフォーム!C137,\"\")","v":""},{"$f":"IF(申込みフォーム!E137<>\"\",申込みフォーム!E137&\"　\"&申込みフォーム!F137,\"\")","v":""},{"$f":"IF(申込みフォーム!G137<>\"\",申込みフォーム!G137,\"\")","v":""},{"$f":"IF(申込みフォーム!H137<>\"\",申込みフォーム!H137,\"\")","v":""},{"$f":"IF(申込みフォーム!D137<>\"\",申込みフォーム!D137,\"\")","v":""},{"$f":"IF(申込みフォーム!I137<>\"\",REPLACE(申込みフォーム!I137,4,,\"-\"),\"\")","v":""},{"$f":"IF(申込みフォーム!J137<>\"\",申込みフォーム!J137,\"\")","v":""},{"$f":"IF(申込みフォーム!K137<>\"\",申込みフォーム!K137,\"\")","v":""},{"$f":"IF(申込みフォーム!L137<>\"\",MID(申込みフォーム!L137,1,3)&\"-\"&MID(申込みフォーム!L137,4,4)&\"-\"&MID(申込みフォーム!L137,8,4),\"\")","v":""},{"$f":"IF(申込みフォーム!M137<>\"\",申込みフォーム!M137,\"\")","v":""},{"$f":"IF(申込みフォーム!N137<>\"\",申込みフォーム!N137,\"\")","v":""},{"$f":"IF(申込みフォーム!O137<>\"\",申込みフォーム!O137,\"\")","v":""},{"$f":"IF(申込みフォーム!P137<>\"\",申込みフォーム!P137,\"\")","v":""},{"$f":"IF(申込みフォーム!Q137<>\"\",申込みフォーム!Q137,\"\")","v":""},{"$f":"IF(申込みフォーム!R137<>\"\",申込みフォーム!R137,\"\")","v":""},{"$f":"IF(申込みフォーム!S137<>\"\",申込みフォーム!S137,\"\")","v":""},{"$f":"IF(申込みフォーム!U137=\"細胞診のみ\",\"協会子宮　\",IF(申込みフォーム!U137=\"細胞診＋（自費）膣エコー\",\"協会子宮＋自費膣エコー　\",\"\"))&IF(申込みフォーム!W137<>\"\",\"協会ﾏﾝﾓ　\",\"\")&IF(申込みフォーム!Y137<>\"\",\"協会骨　\",\"\")&IF(申込みフォーム!AA137<>\"\",\"協会肝炎　\",\"\")","v":""},{"$f":"IF(申込みフォーム!AB137<>\"\",\"子宮　\",\"\")&IF(申込みフォーム!AC137<>\"\",\"ﾏﾝﾓ　\",\"\")&IF(申込みフォーム!AD137<>\"\",\"乳ｴｺｰ\",\"\")","v":""},{"$f":"IF(申込みフォーム!AE137<>\"\",\"ﾏｰｶｰ　\",\"\")&IF(申込みフォーム!AF137<>\"\",\"心機能　\",\"\")&IF(申込みフォーム!AG137<>\"\",\"ABC　\",\"\")&IF(申込みフォーム!AH137<>\"\",\"Lox　\",\"\")&IF(申込みフォーム!AI137<>\"\",\"甲状腺　\",\"\")&IF(申込みフォーム!AJ137<>\"\",\"肝炎\",\"\")","v":""},{"$f":"IF(申込みフォーム!AK137<>\"\",\"脳　\",\"\")&IF(申込みフォーム!AL137<>\"\",\"胸部CT　\",\"\")&IF(申込みフォーム!AM137<>\"\",\"肺機能　\",\"\")&IF(申込みフォーム!AN137<>\"\",\"腹ｴｺｰ　\",\"\")&IF(申込みフォーム!AO137<>\"\",\"心ｴｺｰ　\",\"\")&IF(申込みフォーム!AP137<>\"\",\"ﾌﾛｰﾗ　\",\"\")&IF(申込みフォーム!AQ137<>\"\",\"OCT　\",\"\")&IF(申込みフォーム!AR137<>\"\",\"検便　\",\"\")&IF(申込みフォーム!AS137<>\"\",\"骨　\",\"\")&IF(申込みフォーム!AT137<>\"\",\"骨＋ﾛｺﾓ\",\"\")","v":""},{"$f":"IF(申込みフォーム!AU137<>\"\",申込みフォーム!AU137&\"　　\",\"\")&IF(申込みフォーム!AV137<>\"\",申込みフォーム!AV137&\"　　\",\"\")&IF(申込みフォーム!AW137<>\"\",申込みフォーム!AW137&\"　　\",\"\")&IF(申込みフォーム!$AX137=\"〇\",\"4月　\",\"\")&IF(申込みフォーム!$AY137=\"〇\",\"5月　\",\"\")&IF(申込みフォーム!$AZ137=\"〇\",\"6月　\",\"\")&IF(申込みフォーム!$BA137=\"〇\",\"7月　\",\"\")&IF(申込みフォーム!$BB137=\"〇\",\"8月　\",\"\")&IF(申込みフォーム!$BC137=\"〇\",\"9月　\",\"\")&IF(申込みフォーム!$BD137=\"〇\",\"10月　\",\"\")&IF(申込みフォーム!$BE137=\"〇\",\"11月　\",\"\")&IF(申込みフォーム!$BF137=\"〇\",\"12月　\",\"\")&IF(申込みフォーム!$BG137=\"〇\",\"1月　\",\"\")&IF(申込みフォーム!$BH137=\"〇\",\"2月　\",\"\")&IF(申込みフォーム!$BI137=\"〇\",\"3月　\",\"\")","v":""},{"$f":"IF(申込みフォーム!BJ137<>\"\",申込みフォーム!BJ137,\"\")","v":""},{"$f":"IF(申込みフォーム!BK137<>\"\",申込みフォーム!BK137,\"\")","v":""},{"$f":"申込みフォーム!$Z137","v":""},{"$f":"IF(申込みフォーム!BL137<>\"\",申込みフォーム!BL137&\"　　\",\"\")&IF(申込みフォーム!BM137<>\"\",申込みフォーム!BM137&\"　　\",\"\")&IF(申込みフォーム!BN137<>\"\",申込みフォーム!BN137&\"　　\",\"\")","v":{"$error":"#VALUE!"}},{"$f":"IF($B128=VLOOKUP($B128,'受診者リスト(抽出用）'!$A:$F,1,0),VLOOKUP($B128,'受診者リスト(抽出用）'!$A:$F,3,0)&\"　（団体マスタ）\"&VLOOKUP($B128,'受診者リスト(抽出用）'!$A:$F,4,0)&\"　（枝番）\"&VLOOKUP(B128,'受診者リスト(抽出用）'!$A:$F,5,0),\"\")","v":{"$error":"#N/A"}}]
[128,{"$f":"IF(申込みフォーム!B138<>\"\",申込みフォーム!B138&\"　\"&申込みフォーム!C138,\"\")","v":""},{"$f":"IF(申込みフォーム!E138<>\"\",申込みフォーム!E138&\"　\"&申込みフォーム!F138,\"\")","v":""},{"$f":"IF(申込みフォーム!G138<>\"\",申込みフォーム!G138,\"\")","v":""},{"$f":"IF(申込みフォーム!H138<>\"\",申込みフォーム!H138,\"\")","v":""},{"$f":"IF(申込みフォーム!D138<>\"\",申込みフォーム!D138,\"\")","v":""},{"$f":"IF(申込みフォーム!I138<>\"\",REPLACE(申込みフォーム!I138,4,,\"-\"),\"\")","v":""},{"$f":"IF(申込みフォーム!J138<>\"\",申込みフォーム!J138,\"\")","v":""},{"$f":"IF(申込みフォーム!K138<>\"\",申込みフォーム!K138,\"\")","v":""},{"$f":"IF(申込みフォーム!L138<>\"\",MID(申込みフォーム!L138,1,3)&\"-\"&MID(申込みフォーム!L138,4,4)&\"-\"&MID(申込みフォーム!L138,8,4),\"\")","v":""},{"$f":"IF(申込みフォーム!M138<>\"\",申込みフォーム!M138,\"\")","v":""},{"$f":"IF(申込みフォーム!N138<>\"\",申込みフォーム!N138,\"\")","v":""},{"$f":"IF(申込みフォーム!O138<>\"\",申込みフォーム!O138,\"\")","v":""},{"$f":"IF(申込みフォーム!P138<>\"\",申込みフォーム!P138,\"\")","v":""},{"$f":"IF(申込みフォーム!Q138<>\"\",申込みフォーム!Q138,\"\")","v":""},{"$f":"IF(申込みフォーム!R138<>\"\",申込みフォーム!R138,\"\")","v":""},{"$f":"IF(申込みフォーム!S138<>\"\",申込みフォーム!S138,\"\")","v":""},{"$f":"IF(申込みフォーム!U138=\"細胞診のみ\",\"協会子宮　\",IF(申込みフォーム!U138=\"細胞診＋（自費）膣エコー\",\"協会子宮＋自費膣エコー　\",\"\"))&IF(申込みフォーム!W138<>\"\",\"協会ﾏﾝﾓ　\",\"\")&IF(申込みフォーム!Y138<>\"\",\"協会骨　\",\"\")&IF(申込みフォーム!AA138<>\"\",\"協会肝炎　\",\"\")","v":""},{"$f":"IF(申込みフォーム!AB138<>\"\",\"子宮　\",\"\")&IF(申込みフォーム!AC138<>\"\",\"ﾏﾝﾓ　\",\"\")&IF(申込みフォーム!AD138<>\"\",\"乳ｴｺｰ\",\"\")","v":""},{"$f":"IF(申込みフォーム!AE138<>\"\",\"ﾏｰｶｰ　\",\"\")&IF(申込みフォーム!AF138<>\"\",\"心機能　\",\"\")&IF(申込みフォーム!AG138<>\"\",\"ABC　\",\"\")&IF(申込みフォーム!AH138<>\"\",\"Lox　\",\"\")&IF(申込みフォーム!AI138<>\"\",\"甲状腺　\",\"\")&IF(申込みフォーム!AJ138<>\"\",\"肝炎\",\"\")","v":""},{"$f":"IF(申込みフォーム!AK138<>\"\",\"脳　\",\"\")&IF(申込みフォーム!AL138<>\"\",\"胸部CT　\",\"\")&IF(申込みフォーム!AM138<>\"\",\"肺機能　\",\"\")&IF(申込みフォーム!AN138<>\"\",\"腹ｴｺｰ　\",\"\")&IF(申込みフォーム!AO138<>\"\",\"心ｴｺｰ　\",\"\")&IF(申込みフォーム!AP138<>\"\",\"ﾌﾛｰﾗ　\",\"\")&IF(申込みフォーム!AQ138<>\"\",\"OCT　\",\"\")&IF(申込みフォーム!AR138<>\"\",\"検便　\",\"\")&IF(申込みフォーム!AS138<>\"\",\"骨　\",\"\")&IF(申込みフォーム!AT138<>\"\",\"骨＋ﾛｺﾓ\",\"\")","v":""},{"$f":"IF(申込みフォーム!AU138<>\"\",申込みフォーム!AU138&\"　　\",\"\")&IF(申込みフォーム!AV138<>\"\",申込みフォーム!AV138&\"　　\",\"\")&IF(申込みフォーム!AW138<>\"\",申込みフォーム!AW138&\"　　\",\"\")&IF(申込みフォーム!$AX138=\"〇\",\"4月　\",\"\")&IF(申込みフォーム!$AY138=\"〇\",\"5月　\",\"\")&IF(申込みフォーム!$AZ138=\"〇\",\"6月　\",\"\")&IF(申込みフォーム!$BA138=\"〇\",\"7月　\",\"\")&IF(申込みフォーム!$BB138=\"〇\",\"8月　\",\"\")&IF(申込みフォーム!$BC138=\"〇\",\"9月　\",\"\")&IF(申込みフォーム!$BD138=\"〇\",\"10月　\",\"\")&IF(申込みフォーム!$BE138=\"〇\",\"11月　\",\"\")&IF(申込みフォーム!$BF138=\"〇\",\"12月　\",\"\")&IF(申込みフォーム!$BG138=\"〇\",\"1月　\",\"\")&IF(申込みフォーム!$BH138=\"〇\",\"2月　\",\"\")&IF(申込みフォーム!$BI138=\"〇\",\"3月　\",\"\")","v":""},{"$f":"IF(申込みフォーム!BJ138<>\"\",申込みフォーム!BJ138,\"\")","v":""},{"$f":"IF(申込みフォーム!BK138<>\"\",申込みフォーム!BK138,\"\")","v":""},{"$f":"申込みフォーム!$Z138","v":""},{"$f":"IF(申込みフォーム!BL138<>\"\",申込みフォーム!BL138&\"　　\",\"\")&IF(申込みフォーム!BM138<>\"\",申込みフォーム!BM138&\"　　\",\"\")&IF(申込みフォーム!BN138<>\"\",申込みフォーム!BN138&\"　　\",\"\")","v":{"$error":"#VALUE!"}},{"$f":"IF($B129=VLOOKUP($B129,'受診者リスト(抽出用）'!$A:$F,1,0),VLOOKUP($B129,'受診者リスト(抽出用）'!$A:$F,3,0)&\"　（団体マスタ）\"&VLOOKUP($B129,'受診者リスト(抽出用）'!$A:$F,4,0)&\"　（枝番）\"&VLOOKUP(B129,'受診者リスト(抽出用）'!$A:$F,5,0),\"\")","v":{"$error":"#N/A"}}]
[129,{"$f":"IF(申込みフォーム!B139<>\"\",申込みフォーム!B139&\"　\"&申込みフォーム!C139,\"\")","v":""},{"$f":"IF(申込みフォーム!E139<>\"\",申込みフォーム!E139&\"　\"&申込みフォーム!F139,\"\")","v":""},{"$f":"IF(申込みフォーム!G139<>\"\",申込みフォーム!G139,\"\")","v":""},{"$f":"IF(申込みフォーム!H139<>\"\",申込みフォーム!H139,\"\")","v":""},{"$f":"IF(申込みフォーム!D139<>\"\",申込みフォーム!D139,\"\")","v":""},{"$f":"IF(申込みフォーム!I139<>\"\",REPLACE(申込みフォーム!I139,4,,\"-\"),\"\")","v":""},{"$f":"IF(申込みフォーム!J139<>\"\",申込みフォーム!J139,\"\")","v":""},{"$f":"IF(申込みフォーム!K139<>\"\",申込みフォーム!K139,\"\")","v":""},{"$f":"IF(申込みフォーム!L139<>\"\",MID(申込みフォーム!L139,1,3)&\"-\"&MID(申込みフォーム!L139,4,4)&\"-\"&MID(申込みフォーム!L139,8,4),\"\")","v":""},{"$f":"IF(申込みフォーム!M139<>\"\",申込みフォーム!M139,\"\")","v":""},{"$f":"IF(申込みフォーム!N139<>\"\",申込みフォーム!N139,\"\")","v":""},{"$f":"IF(申込みフォーム!O139<>\"\",申込みフォーム!O139,\"\")","v":""},{"$f":"IF(申込みフォーム!P139<>\"\",申込みフォーム!P139,\"\")","v":""},{"$f":"IF(申込みフォーム!Q139<>\"\",申込みフォーム!Q139,\"\")","v":""},{"$f":"IF(申込みフォーム!R139<>\"\",申込みフォーム!R139,\"\")","v":""},{"$f":"IF(申込みフォーム!S139<>\"\",申込みフォーム!S139,\"\")","v":""},{"$f":"IF(申込みフォーム!U139=\"細胞診のみ\",\"協会子宮　\",IF(申込みフォーム!U139=\"細胞診＋（自費）膣エコー\",\"協会子宮＋自費膣エコー　\",\"\"))&IF(申込みフォーム!W139<>\"\",\"協会ﾏﾝﾓ　\",\"\")&IF(申込みフォーム!Y139<>\"\",\"協会骨　\",\"\")&IF(申込みフォーム!AA139<>\"\",\"協会肝炎　\",\"\")","v":""},{"$f":"IF(申込みフォーム!AB139<>\"\",\"子宮　\",\"\")&IF(申込みフォーム!AC139<>\"\",\"ﾏﾝﾓ　\",\"\")&IF(申込みフォーム!AD139<>\"\",\"乳ｴｺｰ\",\"\")","v":""},{"$f":"IF(申込みフォーム!AE139<>\"\",\"ﾏｰｶｰ　\",\"\")&IF(申込みフォーム!AF139<>\"\",\"心機能　\",\"\")&IF(申込みフォーム!AG139<>\"\",\"ABC　\",\"\")&IF(申込みフォーム!AH139<>\"\",\"Lox　\",\"\")&IF(申込みフォーム!AI139<>\"\",\"甲状腺　\",\"\")&IF(申込みフォーム!AJ139<>\"\",\"肝炎\",\"\")","v":""},{"$f":"IF(申込みフォーム!AK139<>\"\",\"脳　\",\"\")&IF(申込みフォーム!AL139<>\"\",\"胸部CT　\",\"\")&IF(申込みフォーム!AM139<>\"\",\"肺機能　\",\"\")&IF(申込みフォーム!AN139<>\"\",\"腹ｴｺｰ　\",\"\")&IF(申込みフォーム!AO139<>\"\",\"心ｴｺｰ　\",\"\")&IF(申込みフォーム!AP139<>\"\",\"ﾌﾛｰﾗ　\",\"\")&IF(申込みフォーム!AQ139<>\"\",\"OCT　\",\"\")&IF(申込みフォーム!AR139<>\"\",\"検便　\",\"\")&IF(申込みフォーム!AS139<>\"\",\"骨　\",\"\")&IF(申込みフォーム!AT139<>\"\",\"骨＋ﾛｺﾓ\",\"\")","v":""},{"$f":"IF(申込みフォーム!AU139<>\"\",申込みフォーム!AU139&\"　　\",\"\")&IF(申込みフォーム!AV139<>\"\",申込みフォーム!AV139&\"　　\",\"\")&IF(申込みフォーム!AW139<>\"\",申込みフォーム!AW139&\"　　\",\"\")&IF(申込みフォーム!$AX139=\"〇\",\"4月　\",\"\")&IF(申込みフォーム!$AY139=\"〇\",\"5月　\",\"\")&IF(申込みフォーム!$AZ139=\"〇\",\"6月　\",\"\")&IF(申込みフォーム!$BA139=\"〇\",\"7月　\",\"\")&IF(申込みフォーム!$BB139=\"〇\",\"8月　\",\"\")&IF(申込みフォーム!$BC139=\"〇\",\"9月　\",\"\")&IF(申込みフォーム!$BD139=\"〇\",\"10月　\",\"\")&IF(申込みフォーム!$BE139=\"〇\",\"11月　\",\"\")&IF(申込みフォーム!$BF139=\"〇\",\"12月　\",\"\")&IF(申込みフォーム!$BG139=\"〇\",\"1月　\",\"\")&IF(申込みフォーム!$BH139=\"〇\",\"2月　\",\"\")&IF(申込みフォーム!$BI139=\"〇\",\"3月　\",\"\")","v":""},{"$f":"IF(申込みフォーム!BJ139<>\"\",申込みフォーム!BJ139,\"\")","v":""},{"$f":"IF(申込みフォーム!BK139<>\"\",申込みフォーム!BK139,\"\")","v":""},{"$f":"申込みフォーム!$Z139","v":""},{"$f":"IF(申込みフォーム!BL139<>\"\",申込みフォーム!BL139&\"　　\",\"\")&IF(申込みフォーム!BM139<>\"\",申込みフォーム!BM139&\"　　\",\"\")&IF(申込みフォーム!BN139<>\"\",申込みフォーム!BN139&\"　　\",\"\")","v":{"$error":"#VALUE!"}},{"$f":"IF($B130=VLOOKUP($B130,'受診者リスト(抽出用）'!$A:$F,1,0),VLOOKUP($B130,'受診者リスト(抽出用）'!$A:$F,3,0)&\"　（団体マスタ）\"&VLOOKUP($B130,'受診者リスト(抽出用）'!$A:$F,4,0)&\"　（枝番）\"&VLOOKUP(B130,'受診者リスト(抽出用）'!$A:$F,5,0),\"\")","v":{"$error":"#N/A"}}]
[130,{"$f":"IF(申込みフォーム!B140<>\"\",申込みフォーム!B140&\"　\"&申込みフォーム!C140,\"\")","v":""},{"$f":"IF(申込みフォーム!E140<>\"\",申込みフォーム!E140&\"　\"&申込みフォーム!F140,\"\")","v":""},{"$f":"IF(申込みフォーム!G140<>\"\",申込みフォーム!G140,\"\")","v":""},{"$f":"IF(申込みフォーム!H140<>\"\",申込みフォーム!H140,\"\")","v":""},{"$f":"IF(申込みフォーム!D140<>\"\",申込みフォーム!D140,\"\")","v":""},{"$f":"IF(申込みフォーム!I140<>\"\",REPLACE(申込みフォーム!I140,4,,\"-\"),\"\")","v":""},{"$f":"IF(申込みフォーム!J140<>\"\",申込みフォーム!J140,\"\")","v":""},{"$f":"IF(申込みフォーム!K140<>\"\",申込みフォーム!K140,\"\")","v":""},{"$f":"IF(申込みフォーム!L140<>\"\",MID(申込みフォーム!L140,1,3)&\"-\"&MID(申込みフォーム!L140,4,4)&\"-\"&MID(申込みフォーム!L140,8,4),\"\")","v":""},{"$f":"IF(申込みフォーム!M140<>\"\",申込みフォーム!M140,\"\")","v":""},{"$f":"IF(申込みフォーム!N140<>\"\",申込みフォーム!N140,\"\")","v":""},{"$f":"IF(申込みフォーム!O140<>\"\",申込みフォーム!O140,\"\")","v":""},{"$f":"IF(申込みフォーム!P140<>\"\",申込みフォーム!P140,\"\")","v":""},{"$f":"IF(申込みフォーム!Q140<>\"\",申込みフォーム!Q140,\"\")","v":""},{"$f":"IF(申込みフォーム!R140<>\"\",申込みフォーム!R140,\"\")","v":""},{"$f":"IF(申込みフォーム!S140<>\"\",申込みフォーム!S140,\"\")","v":""},{"$f":"IF(申込みフォーム!U140=\"細胞診のみ\",\"協会子宮　\",IF(申込みフォーム!U140=\"細胞診＋（自費）膣エコー\",\"協会子宮＋自費膣エコー　\",\"\"))&IF(申込みフォーム!W140<>\"\",\"協会ﾏﾝﾓ　\",\"\")&IF(申込みフォーム!Y140<>\"\",\"協会骨　\",\"\")&IF(申込みフォーム!AA140<>\"\",\"協会肝炎　\",\"\")","v":""},{"$f":"IF(申込みフォーム!AB140<>\"\",\"子宮　\",\"\")&IF(申込みフォーム!AC140<>\"\",\"ﾏﾝﾓ　\",\"\")&IF(申込みフォーム!AD140<>\"\",\"乳ｴｺｰ\",\"\")","v":""},{"$f":"IF(申込みフォーム!AE140<>\"\",\"ﾏｰｶｰ　\",\"\")&IF(申込みフォーム!AF140<>\"\",\"心機能　\",\"\")&IF(申込みフォーム!AG140<>\"\",\"ABC　\",\"\")&IF(申込みフォーム!AH140<>\"\",\"Lox　\",\"\")&IF(申込みフォーム!AI140<>\"\",\"甲状腺　\",\"\")&IF(申込みフォーム!AJ140<>\"\",\"肝炎\",\"\")","v":""},{"$f":"IF(申込みフォーム!AK140<>\"\",\"脳　\",\"\")&IF(申込みフォーム!AL140<>\"\",\"胸部CT　\",\"\")&IF(申込みフォーム!AM140<>\"\",\"肺機能　\",\"\")&IF(申込みフォーム!AN140<>\"\",\"腹ｴｺｰ　\",\"\")&IF(申込みフォーム!AO140<>\"\",\"心ｴｺｰ　\",\"\")&IF(申込みフォーム!AP140<>\"\",\"ﾌﾛｰﾗ　\",\"\")&IF(申込みフォーム!AQ140<>\"\",\"OCT　\",\"\")&IF(申込みフォーム!AR140<>\"\",\"検便　\",\"\")&IF(申込みフォーム!AS140<>\"\",\"骨　\",\"\")&IF(申込みフォーム!AT140<>\"\",\"骨＋ﾛｺﾓ\",\"\")","v":""},{"$f":"IF(申込みフォーム!AU140<>\"\",申込みフォーム!AU140&\"　　\",\"\")&IF(申込みフォーム!AV140<>\"\",申込みフォーム!AV140&\"　　\",\"\")&IF(申込みフォーム!AW140<>\"\",申込みフォーム!AW140&\"　　\",\"\")&IF(申込みフォーム!$AX140=\"〇\",\"4月　\",\"\")&IF(申込みフォーム!$AY140=\"〇\",\"5月　\",\"\")&IF(申込みフォーム!$AZ140=\"〇\",\"6月　\",\"\")&IF(申込みフォーム!$BA140=\"〇\",\"7月　\",\"\")&IF(申込みフォーム!$BB140=\"〇\",\"8月　\",\"\")&IF(申込みフォーム!$BC140=\"〇\",\"9月　\",\"\")&IF(申込みフォーム!$BD140=\"〇\",\"10月　\",\"\")&IF(申込みフォーム!$BE140=\"〇\",\"11月　\",\"\")&IF(申込みフォーム!$BF140=\"〇\",\"12月　\",\"\")&IF(申込みフォーム!$BG140=\"〇\",\"1月　\",\"\")&IF(申込みフォーム!$BH140=\"〇\",\"2月　\",\"\")&IF(申込みフォーム!$BI140=\"〇\",\"3月　\",\"\")","v":""},{"$f":"IF(申込みフォーム!BJ140<>\"\",申込みフォーム!BJ140,\"\")","v":""},{"$f":"IF(申込みフォーム!BK140<>\"\",申込みフォーム!BK140,\"\")","v":""},{"$f":"申込みフォーム!$Z140","v":""},{"$f":"IF(申込みフォーム!BL140<>\"\",申込みフォーム!BL140&\"　　\",\"\")&IF(申込みフォーム!BM140<>\"\",申込みフォーム!BM140&\"　　\",\"\")&IF(申込みフォーム!BN140<>\"\",申込みフォーム!BN140&\"　　\",\"\")","v":{"$error":"#VALUE!"}},{"$f":"IF($B131=VLOOKUP($B131,'受診者リスト(抽出用）'!$A:$F,1,0),VLOOKUP($B131,'受診者リスト(抽出用）'!$A:$F,3,0)&\"　（団体マスタ）\"&VLOOKUP($B131,'受診者リスト(抽出用）'!$A:$F,4,0)&\"　（枝番）\"&VLOOKUP(B131,'受診者リスト(抽出用）'!$A:$F,5,0),\"\")","v":{"$error":"#N/A"}}]
[131,{"$f":"IF(申込みフォーム!B141<>\"\",申込みフォーム!B141&\"　\"&申込みフォーム!C141,\"\")","v":""},{"$f":"IF(申込みフォーム!E141<>\"\",申込みフォーム!E141&\"　\"&申込みフォーム!F141,\"\")","v":""},{"$f":"IF(申込みフォーム!G141<>\"\",申込みフォーム!G141,\"\")","v":""},{"$f":"IF(申込みフォーム!H141<>\"\",申込みフォーム!H141,\"\")","v":""},{"$f":"IF(申込みフォーム!D141<>\"\",申込みフォーム!D141,\"\")","v":""},{"$f":"IF(申込みフォーム!I141<>\"\",REPLACE(申込みフォーム!I141,4,,\"-\"),\"\")","v":""},{"$f":"IF(申込みフォーム!J141<>\"\",申込みフォーム!J141,\"\")","v":""},{"$f":"IF(申込みフォーム!K141<>\"\",申込みフォーム!K141,\"\")","v":""},{"$f":"IF(申込みフォーム!L141<>\"\",MID(申込みフォーム!L141,1,3)&\"-\"&MID(申込みフォーム!L141,4,4)&\"-\"&MID(申込みフォーム!L141,8,4),\"\")","v":""},{"$f":"IF(申込みフォーム!M141<>\"\",申込みフォーム!M141,\"\")","v":""},{"$f":"IF(申込みフォーム!N141<>\"\",申込みフォーム!N141,\"\")","v":""},{"$f":"IF(申込みフォーム!O141<>\"\",申込みフォーム!O141,\"\")","v":""},{"$f":"IF(申込みフォーム!P141<>\"\",申込みフォーム!P141,\"\")","v":""},{"$f":"IF(申込みフォーム!Q141<>\"\",申込みフォーム!Q141,\"\")","v":""},{"$f":"IF(申込みフォーム!R141<>\"\",申込みフォーム!R141,\"\")","v":""},{"$f":"IF(申込みフォーム!S141<>\"\",申込みフォーム!S141,\"\")","v":""},{"$f":"IF(申込みフォーム!U141=\"細胞診のみ\",\"協会子宮　\",IF(申込みフォーム!U141=\"細胞診＋（自費）膣エコー\",\"協会子宮＋自費膣エコー　\",\"\"))&IF(申込みフォーム!W141<>\"\",\"協会ﾏﾝﾓ　\",\"\")&IF(申込みフォーム!Y141<>\"\",\"協会骨　\",\"\")&IF(申込みフォーム!AA141<>\"\",\"協会肝炎　\",\"\")","v":""},{"$f":"IF(申込みフォーム!AB141<>\"\",\"子宮　\",\"\")&IF(申込みフォーム!AC141<>\"\",\"ﾏﾝﾓ　\",\"\")&IF(申込みフォーム!AD141<>\"\",\"乳ｴｺｰ\",\"\")","v":""},{"$f":"IF(申込みフォーム!AE141<>\"\",\"ﾏｰｶｰ　\",\"\")&IF(申込みフォーム!AF141<>\"\",\"心機能　\",\"\")&IF(申込みフォーム!AG141<>\"\",\"ABC　\",\"\")&IF(申込みフォーム!AH141<>\"\",\"Lox　\",\"\")&IF(申込みフォーム!AI141<>\"\",\"甲状腺　\",\"\")&IF(申込みフォーム!AJ141<>\"\",\"肝炎\",\"\")","v":""},{"$f":"IF(申込みフォーム!AK141<>\"\",\"脳　\",\"\")&IF(申込みフォーム!AL141<>\"\",\"胸部CT　\",\"\")&IF(申込みフォーム!AM141<>\"\",\"肺機能　\",\"\")&IF(申込みフォーム!AN141<>\"\",\"腹ｴｺｰ　\",\"\")&IF(申込みフォーム!AO141<>\"\",\"心ｴｺｰ　\",\"\")&IF(申込みフォーム!AP141<>\"\",\"ﾌﾛｰﾗ　\",\"\")&IF(申込みフォーム!AQ141<>\"\",\"OCT　\",\"\")&IF(申込みフォーム!AR141<>\"\",\"検便　\",\"\")&IF(申込みフォーム!AS141<>\"\",\"骨　\",\"\")&IF(申込みフォーム!AT141<>\"\",\"骨＋ﾛｺﾓ\",\"\")","v":""},{"$f":"IF(申込みフォーム!AU141<>\"\",申込みフォーム!AU141&\"　　\",\"\")&IF(申込みフォーム!AV141<>\"\",申込みフォーム!AV141&\"　　\",\"\")&IF(申込みフォーム!AW141<>\"\",申込みフォーム!AW141&\"　　\",\"\")&IF(申込みフォーム!$AX141=\"〇\",\"4月　\",\"\")&IF(申込みフォーム!$AY141=\"〇\",\"5月　\",\"\")&IF(申込みフォーム!$AZ141=\"〇\",\"6月　\",\"\")&IF(申込みフォーム!$BA141=\"〇\",\"7月　\",\"\")&IF(申込みフォーム!$BB141=\"〇\",\"8月　\",\"\")&IF(申込みフォーム!$BC141=\"〇\",\"9月　\",\"\")&IF(申込みフォーム!$BD141=\"〇\",\"10月　\",\"\")&IF(申込みフォーム!$BE141=\"〇\",\"11月　\",\"\")&IF(申込みフォーム!$BF141=\"〇\",\"12月　\",\"\")&IF(申込みフォーム!$BG141=\"〇\",\"1月　\",\"\")&IF(申込みフォーム!$BH141=\"〇\",\"2月　\",\"\")&IF(申込みフォーム!$BI141=\"〇\",\"3月　\",\"\")","v":""},{"$f":"IF(申込みフォーム!BJ141<>\"\",申込みフォーム!BJ141,\"\")","v":""},{"$f":"IF(申込みフォーム!BK141<>\"\",申込みフォーム!BK141,\"\")","v":""},{"$f":"申込みフォーム!$Z141","v":""},{"$f":"IF(申込みフォーム!BL141<>\"\",申込みフォーム!BL141&\"　　\",\"\")&IF(申込みフォーム!BM141<>\"\",申込みフォーム!BM141&\"　　\",\"\")&IF(申込みフォーム!BN141<>\"\",申込みフォーム!BN141&\"　　\",\"\")","v":{"$error":"#VALUE!"}},{"$f":"IF($B132=VLOOKUP($B132,'受診者リスト(抽出用）'!$A:$F,1,0),VLOOKUP($B132,'受診者リスト(抽出用）'!$A:$F,3,0)&\"　（団体マスタ）\"&VLOOKUP($B132,'受診者リスト(抽出用）'!$A:$F,4,0)&\"　（枝番）\"&VLOOKUP(B132,'受診者リスト(抽出用）'!$A:$F,5,0),\"\")","v":{"$error":"#N/A"}}]
[132,{"$f":"IF(申込みフォーム!B142<>\"\",申込みフォーム!B142&\"　\"&申込みフォーム!C142,\"\")","v":""},{"$f":"IF(申込みフォーム!E142<>\"\",申込みフォーム!E142&\"　\"&申込みフォーム!F142,\"\")","v":""},{"$f":"IF(申込みフォーム!G142<>\"\",申込みフォーム!G142,\"\")","v":""},{"$f":"IF(申込みフォーム!H142<>\"\",申込みフォーム!H142,\"\")","v":""},{"$f":"IF(申込みフォーム!D142<>\"\",申込みフォーム!D142,\"\")","v":""},{"$f":"IF(申込みフォーム!I142<>\"\",REPLACE(申込みフォーム!I142,4,,\"-\"),\"\")","v":""},{"$f":"IF(申込みフォーム!J142<>\"\",申込みフォーム!J142,\"\")","v":""},{"$f":"IF(申込みフォーム!K142<>\"\",申込みフォーム!K142,\"\")","v":""},{"$f":"IF(申込みフォーム!L142<>\"\",MID(申込みフォーム!L142,1,3)&\"-\"&MID(申込みフォーム!L142,4,4)&\"-\"&MID(申込みフォーム!L142,8,4),\"\")","v":""},{"$f":"IF(申込みフォーム!M142<>\"\",申込みフォーム!M142,\"\")","v":""},{"$f":"IF(申込みフォーム!N142<>\"\",申込みフォーム!N142,\"\")","v":""},{"$f":"IF(申込みフォーム!O142<>\"\",申込みフォーム!O142,\"\")","v":""},{"$f":"IF(申込みフォーム!P142<>\"\",申込みフォーム!P142,\"\")","v":""},{"$f":"IF(申込みフォーム!Q142<>\"\",申込みフォーム!Q142,\"\")","v":""},{"$f":"IF(申込みフォーム!R142<>\"\",申込みフォーム!R142,\"\")","v":""},{"$f":"IF(申込みフォーム!S142<>\"\",申込みフォーム!S142,\"\")","v":""},{"$f":"IF(申込みフォーム!U142=\"細胞診のみ\",\"協会子宮　\",IF(申込みフォーム!U142=\"細胞診＋（自費）膣エコー\",\"協会子宮＋自費膣エコー　\",\"\"))&IF(申込みフォーム!W142<>\"\",\"協会ﾏﾝﾓ　\",\"\")&IF(申込みフォーム!Y142<>\"\",\"協会骨　\",\"\")&IF(申込みフォーム!AA142<>\"\",\"協会肝炎　\",\"\")","v":""},{"$f":"IF(申込みフォーム!AB142<>\"\",\"子宮　\",\"\")&IF(申込みフォーム!AC142<>\"\",\"ﾏﾝﾓ　\",\"\")&IF(申込みフォーム!AD142<>\"\",\"乳ｴｺｰ\",\"\")","v":""},{"$f":"IF(申込みフォーム!AE142<>\"\",\"ﾏｰｶｰ　\",\"\")&IF(申込みフォーム!AF142<>\"\",\"心機能　\",\"\")&IF(申込みフォーム!AG142<>\"\",\"ABC　\",\"\")&IF(申込みフォーム!AH142<>\"\",\"Lox　\",\"\")&IF(申込みフォーム!AI142<>\"\",\"甲状腺　\",\"\")&IF(申込みフォーム!AJ142<>\"\",\"肝炎\",\"\")","v":""},{"$f":"IF(申込みフォーム!AK142<>\"\",\"脳　\",\"\")&IF(申込みフォーム!AL142<>\"\",\"胸部CT　\",\"\")&IF(申込みフォーム!AM142<>\"\",\"肺機能　\",\"\")&IF(申込みフォーム!AN142<>\"\",\"腹ｴｺｰ　\",\"\")&IF(申込みフォーム!AO142<>\"\",\"心ｴｺｰ　\",\"\")&IF(申込みフォーム!AP142<>\"\",\"ﾌﾛｰﾗ　\",\"\")&IF(申込みフォーム!AQ142<>\"\",\"OCT　\",\"\")&IF(申込みフォーム!AR142<>\"\",\"検便　\",\"\")&IF(申込みフォーム!AS142<>\"\",\"骨　\",\"\")&IF(申込みフォーム!AT142<>\"\",\"骨＋ﾛｺﾓ\",\"\")","v":""},{"$f":"IF(申込みフォーム!AU142<>\"\",申込みフォーム!AU142&\"　　\",\"\")&IF(申込みフォーム!AV142<>\"\",申込みフォーム!AV142&\"　　\",\"\")&IF(申込みフォーム!AW142<>\"\",申込みフォーム!AW142&\"　　\",\"\")&IF(申込みフォーム!$AX142=\"〇\",\"4月　\",\"\")&IF(申込みフォーム!$AY142=\"〇\",\"5月　\",\"\")&IF(申込みフォーム!$AZ142=\"〇\",\"6月　\",\"\")&IF(申込みフォーム!$BA142=\"〇\",\"7月　\",\"\")&IF(申込みフォーム!$BB142=\"〇\",\"8月　\",\"\")&IF(申込みフォーム!$BC142=\"〇\",\"9月　\",\"\")&IF(申込みフォーム!$BD142=\"〇\",\"10月　\",\"\")&IF(申込みフォーム!$BE142=\"〇\",\"11月　\",\"\")&IF(申込みフォーム!$BF142=\"〇\",\"12月　\",\"\")&IF(申込みフォーム!$BG142=\"〇\",\"1月　\",\"\")&IF(申込みフォーム!$BH142=\"〇\",\"2月　\",\"\")&IF(申込みフォーム!$BI142=\"〇\",\"3月　\",\"\")","v":""},{"$f":"IF(申込みフォーム!BJ142<>\"\",申込みフォーム!BJ142,\"\")","v":""},{"$f":"IF(申込みフォーム!BK142<>\"\",申込みフォーム!BK142,\"\")","v":""},{"$f":"申込みフォーム!$Z142","v":""},{"$f":"IF(申込みフォーム!BL142<>\"\",申込みフォーム!BL142&\"　　\",\"\")&IF(申込みフォーム!BM142<>\"\",申込みフォーム!BM142&\"　　\",\"\")&IF(申込みフォーム!BN142<>\"\",申込みフォーム!BN142&\"　　\",\"\")","v":{"$error":"#VALUE!"}},{"$f":"IF($B133=VLOOKUP($B133,'受診者リスト(抽出用）'!$A:$F,1,0),VLOOKUP($B133,'受診者リスト(抽出用）'!$A:$F,3,0)&\"　（団体マスタ）\"&VLOOKUP($B133,'受診者リスト(抽出用）'!$A:$F,4,0)&\"　（枝番）\"&VLOOKUP(B133,'受診者リスト(抽出用）'!$A:$F,5,0),\"\")","v":{"$error":"#N/A"}}]
[133,{"$f":"IF(申込みフォーム!B143<>\"\",申込みフォーム!B143&\"　\"&申込みフォーム!C143,\"\")","v":""},{"$f":"IF(申込みフォーム!E143<>\"\",申込みフォーム!E143&\"　\"&申込みフォーム!F143,\"\")","v":""},{"$f":"IF(申込みフォーム!G143<>\"\",申込みフォーム!G143,\"\")","v":""},{"$f":"IF(申込みフォーム!H143<>\"\",申込みフォーム!H143,\"\")","v":""},{"$f":"IF(申込みフォーム!D143<>\"\",申込みフォーム!D143,\"\")","v":""},{"$f":"IF(申込みフォーム!I143<>\"\",REPLACE(申込みフォーム!I143,4,,\"-\"),\"\")","v":""},{"$f":"IF(申込みフォーム!J143<>\"\",申込みフォーム!J143,\"\")","v":""},{"$f":"IF(申込みフォーム!K143<>\"\",申込みフォーム!K143,\"\")","v":""},{"$f":"IF(申込みフォーム!L143<>\"\",MID(申込みフォーム!L143,1,3)&\"-\"&MID(申込みフォーム!L143,4,4)&\"-\"&MID(申込みフォーム!L143,8,4),\"\")","v":""},{"$f":"IF(申込みフォーム!M143<>\"\",申込みフォーム!M143,\"\")","v":""},{"$f":"IF(申込みフォーム!N143<>\"\",申込みフォーム!N143,\"\")","v":""},{"$f":"IF(申込みフォーム!O143<>\"\",申込みフォーム!O143,\"\")","v":""},{"$f":"IF(申込みフォーム!P143<>\"\",申込みフォーム!P143,\"\")","v":""},{"$f":"IF(申込みフォーム!Q143<>\"\",申込みフォーム!Q143,\"\")","v":""},{"$f":"IF(申込みフォーム!R143<>\"\",申込みフォーム!R143,\"\")","v":""},{"$f":"IF(申込みフォーム!S143<>\"\",申込みフォーム!S143,\"\")","v":""},{"$f":"IF(申込みフォーム!U143=\"細胞診のみ\",\"協会子宮　\",IF(申込みフォーム!U143=\"細胞診＋（自費）膣エコー\",\"協会子宮＋自費膣エコー　\",\"\"))&IF(申込みフォーム!W143<>\"\",\"協会ﾏﾝﾓ　\",\"\")&IF(申込みフォーム!Y143<>\"\",\"協会骨　\",\"\")&IF(申込みフォーム!AA143<>\"\",\"協会肝炎　\",\"\")","v":""},{"$f":"IF(申込みフォーム!AB143<>\"\",\"子宮　\",\"\")&IF(申込みフォーム!AC143<>\"\",\"ﾏﾝﾓ　\",\"\")&IF(申込みフォーム!AD143<>\"\",\"乳ｴｺｰ\",\"\")","v":""},{"$f":"IF(申込みフォーム!AE143<>\"\",\"ﾏｰｶｰ　\",\"\")&IF(申込みフォーム!AF143<>\"\",\"心機能　\",\"\")&IF(申込みフォーム!AG143<>\"\",\"ABC　\",\"\")&IF(申込みフォーム!AH143<>\"\",\"Lox　\",\"\")&IF(申込みフォーム!AI143<>\"\",\"甲状腺　\",\"\")&IF(申込みフォーム!AJ143<>\"\",\"肝炎\",\"\")","v":""},{"$f":"IF(申込みフォーム!AK143<>\"\",\"脳　\",\"\")&IF(申込みフォーム!AL143<>\"\",\"胸部CT　\",\"\")&IF(申込みフォーム!AM143<>\"\",\"肺機能　\",\"\")&IF(申込みフォーム!AN143<>\"\",\"腹ｴｺｰ　\",\"\")&IF(申込みフォーム!AO143<>\"\",\"心ｴｺｰ　\",\"\")&IF(申込みフォーム!AP143<>\"\",\"ﾌﾛｰﾗ　\",\"\")&IF(申込みフォーム!AQ143<>\"\",\"OCT　\",\"\")&IF(申込みフォーム!AR143<>\"\",\"検便　\",\"\")&IF(申込みフォーム!AS143<>\"\",\"骨　\",\"\")&IF(申込みフォーム!AT143<>\"\",\"骨＋ﾛｺﾓ\",\"\")","v":""},{"$f":"IF(申込みフォーム!AU143<>\"\",申込みフォーム!AU143&\"　　\",\"\")&IF(申込みフォーム!AV143<>\"\",申込みフォーム!AV143&\"　　\",\"\")&IF(申込みフォーム!AW143<>\"\",申込みフォーム!AW143&\"　　\",\"\")&IF(申込みフォーム!$AX143=\"〇\",\"4月　\",\"\")&IF(申込みフォーム!$AY143=\"〇\",\"5月　\",\"\")&IF(申込みフォーム!$AZ143=\"〇\",\"6月　\",\"\")&IF(申込みフォーム!$BA143=\"〇\",\"7月　\",\"\")&IF(申込みフォーム!$BB143=\"〇\",\"8月　\",\"\")&IF(申込みフォーム!$BC143=\"〇\",\"9月　\",\"\")&IF(申込みフォーム!$BD143=\"〇\",\"10月　\",\"\")&IF(申込みフォーム!$BE143=\"〇\",\"11月　\",\"\")&IF(申込みフォーム!$BF143=\"〇\",\"12月　\",\"\")&IF(申込みフォーム!$BG143=\"〇\",\"1月　\",\"\")&IF(申込みフォーム!$BH143=\"〇\",\"2月　\",\"\")&IF(申込みフォーム!$BI143=\"〇\",\"3月　\",\"\")","v":""},{"$f":"IF(申込みフォーム!BJ143<>\"\",申込みフォーム!BJ143,\"\")","v":""},{"$f":"IF(申込みフォーム!BK143<>\"\",申込みフォーム!BK143,\"\")","v":""},{"$f":"申込みフォーム!$Z143","v":""},{"$f":"IF(申込みフォーム!BL143<>\"\",申込みフォーム!BL143&\"　　\",\"\")&IF(申込みフォーム!BM143<>\"\",申込みフォーム!BM143&\"　　\",\"\")&IF(申込みフォーム!BN143<>\"\",申込みフォーム!BN143&\"　　\",\"\")","v":{"$error":"#VALUE!"}},{"$f":"IF($B134=VLOOKUP($B134,'受診者リスト(抽出用）'!$A:$F,1,0),VLOOKUP($B134,'受診者リスト(抽出用）'!$A:$F,3,0)&\"　（団体マスタ）\"&VLOOKUP($B134,'受診者リスト(抽出用）'!$A:$F,4,0)&\"　（枝番）\"&VLOOKUP(B134,'受診者リスト(抽出用）'!$A:$F,5,0),\"\")","v":{"$error":"#N/A"}}]
[134,{"$f":"IF(申込みフォーム!B144<>\"\",申込みフォーム!B144&\"　\"&申込みフォーム!C144,\"\")","v":""},{"$f":"IF(申込みフォーム!E144<>\"\",申込みフォーム!E144&\"　\"&申込みフォーム!F144,\"\")","v":""},{"$f":"IF(申込みフォーム!G144<>\"\",申込みフォーム!G144,\"\")","v":""},{"$f":"IF(申込みフォーム!H144<>\"\",申込みフォーム!H144,\"\")","v":""},{"$f":"IF(申込みフォーム!D144<>\"\",申込みフォーム!D144,\"\")","v":""},{"$f":"IF(申込みフォーム!I144<>\"\",REPLACE(申込みフォーム!I144,4,,\"-\"),\"\")","v":""},{"$f":"IF(申込みフォーム!J144<>\"\",申込みフォーム!J144,\"\")","v":""},{"$f":"IF(申込みフォーム!K144<>\"\",申込みフォーム!K144,\"\")","v":""},{"$f":"IF(申込みフォーム!L144<>\"\",MID(申込みフォーム!L144,1,3)&\"-\"&MID(申込みフォーム!L144,4,4)&\"-\"&MID(申込みフォーム!L144,8,4),\"\")","v":""},{"$f":"IF(申込みフォーム!M144<>\"\",申込みフォーム!M144,\"\")","v":""},{"$f":"IF(申込みフォーム!N144<>\"\",申込みフォーム!N144,\"\")","v":""},{"$f":"IF(申込みフォーム!O144<>\"\",申込みフォーム!O144,\"\")","v":""},{"$f":"IF(申込みフォーム!P144<>\"\",申込みフォーム!P144,\"\")","v":""},{"$f":"IF(申込みフォーム!Q144<>\"\",申込みフォーム!Q144,\"\")","v":""},{"$f":"IF(申込みフォーム!R144<>\"\",申込みフォーム!R144,\"\")","v":""},{"$f":"IF(申込みフォーム!S144<>\"\",申込みフォーム!S144,\"\")","v":""},{"$f":"IF(申込みフォーム!U144=\"細胞診のみ\",\"協会子宮　\",IF(申込みフォーム!U144=\"細胞診＋（自費）膣エコー\",\"協会子宮＋自費膣エコー　\",\"\"))&IF(申込みフォーム!W144<>\"\",\"協会ﾏﾝﾓ　\",\"\")&IF(申込みフォーム!Y144<>\"\",\"協会骨　\",\"\")&IF(申込みフォーム!AA144<>\"\",\"協会肝炎　\",\"\")","v":""},{"$f":"IF(申込みフォーム!AB144<>\"\",\"子宮　\",\"\")&IF(申込みフォーム!AC144<>\"\",\"ﾏﾝﾓ　\",\"\")&IF(申込みフォーム!AD144<>\"\",\"乳ｴｺｰ\",\"\")","v":""},{"$f":"IF(申込みフォーム!AE144<>\"\",\"ﾏｰｶｰ　\",\"\")&IF(申込みフォーム!AF144<>\"\",\"心機能　\",\"\")&IF(申込みフォーム!AG144<>\"\",\"ABC　\",\"\")&IF(申込みフォーム!AH144<>\"\",\"Lox　\",\"\")&IF(申込みフォーム!AI144<>\"\",\"甲状腺　\",\"\")&IF(申込みフォーム!AJ144<>\"\",\"肝炎\",\"\")","v":""},{"$f":"IF(申込みフォーム!AK144<>\"\",\"脳　\",\"\")&IF(申込みフォーム!AL144<>\"\",\"胸部CT　\",\"\")&IF(申込みフォーム!AM144<>\"\",\"肺機能　\",\"\")&IF(申込みフォーム!AN144<>\"\",\"腹ｴｺｰ　\",\"\")&IF(申込みフォーム!AO144<>\"\",\"心ｴｺｰ　\",\"\")&IF(申込みフォーム!AP144<>\"\",\"ﾌﾛｰﾗ　\",\"\")&IF(申込みフォーム!AQ144<>\"\",\"OCT　\",\"\")&IF(申込みフォーム!AR144<>\"\",\"検便　\",\"\")&IF(申込みフォーム!AS144<>\"\",\"骨　\",\"\")&IF(申込みフォーム!AT144<>\"\",\"骨＋ﾛｺﾓ\",\"\")","v":""},{"$f":"IF(申込みフォーム!AU144<>\"\",申込みフォーム!AU144&\"　　\",\"\")&IF(申込みフォーム!AV144<>\"\",申込みフォーム!AV144&\"　　\",\"\")&IF(申込みフォーム!AW144<>\"\",申込みフォーム!AW144&\"　　\",\"\")&IF(申込みフォーム!$AX144=\"〇\",\"4月　\",\"\")&IF(申込みフォーム!$AY144=\"〇\",\"5月　\",\"\")&IF(申込みフォーム!$AZ144=\"〇\",\"6月　\",\"\")&IF(申込みフォーム!$BA144=\"〇\",\"7月　\",\"\")&IF(申込みフォーム!$BB144=\"〇\",\"8月　\",\"\")&IF(申込みフォーム!$BC144=\"〇\",\"9月　\",\"\")&IF(申込みフォーム!$BD144=\"〇\",\"10月　\",\"\")&IF(申込みフォーム!$BE144=\"〇\",\"11月　\",\"\")&IF(申込みフォーム!$BF144=\"〇\",\"12月　\",\"\")&IF(申込みフォーム!$BG144=\"〇\",\"1月　\",\"\")&IF(申込みフォーム!$BH144=\"〇\",\"2月　\",\"\")&IF(申込みフォーム!$BI144=\"〇\",\"3月　\",\"\")","v":""},{"$f":"IF(申込みフォーム!BJ144<>\"\",申込みフォーム!BJ144,\"\")","v":""},{"$f":"IF(申込みフォーム!BK144<>\"\",申込みフォーム!BK144,\"\")","v":""},{"$f":"申込みフォーム!$Z144","v":""},{"$f":"IF(申込みフォーム!BL144<>\"\",申込みフォーム!BL144&\"　　\",\"\")&IF(申込みフォーム!BM144<>\"\",申込みフォーム!BM144&\"　　\",\"\")&IF(申込みフォーム!BN144<>\"\",申込みフォーム!BN144&\"　　\",\"\")","v":{"$error":"#VALUE!"}},{"$f":"IF($B135=VLOOKUP($B135,'受診者リスト(抽出用）'!$A:$F,1,0),VLOOKUP($B135,'受診者リスト(抽出用）'!$A:$F,3,0)&\"　（団体マスタ）\"&VLOOKUP($B135,'受診者リスト(抽出用）'!$A:$F,4,0)&\"　（枝番）\"&VLOOKUP(B135,'受診者リスト(抽出用）'!$A:$F,5,0),\"\")","v":{"$error":"#N/A"}}]
[135,{"$f":"IF(申込みフォーム!B145<>\"\",申込みフォーム!B145&\"　\"&申込みフォーム!C145,\"\")","v":""},{"$f":"IF(申込みフォーム!E145<>\"\",申込みフォーム!E145&\"　\"&申込みフォーム!F145,\"\")","v":""},{"$f":"IF(申込みフォーム!G145<>\"\",申込みフォーム!G145,\"\")","v":""},{"$f":"IF(申込みフォーム!H145<>\"\",申込みフォーム!H145,\"\")","v":""},{"$f":"IF(申込みフォーム!D145<>\"\",申込みフォーム!D145,\"\")","v":""},{"$f":"IF(申込みフォーム!I145<>\"\",REPLACE(申込みフォーム!I145,4,,\"-\"),\"\")","v":""},{"$f":"IF(申込みフォーム!J145<>\"\",申込みフォーム!J145,\"\")","v":""},{"$f":"IF(申込みフォーム!K145<>\"\",申込みフォーム!K145,\"\")","v":""},{"$f":"IF(申込みフォーム!L145<>\"\",MID(申込みフォーム!L145,1,3)&\"-\"&MID(申込みフォーム!L145,4,4)&\"-\"&MID(申込みフォーム!L145,8,4),\"\")","v":""},{"$f":"IF(申込みフォーム!M145<>\"\",申込みフォーム!M145,\"\")","v":""},{"$f":"IF(申込みフォーム!N145<>\"\",申込みフォーム!N145,\"\")","v":""},{"$f":"IF(申込みフォーム!O145<>\"\",申込みフォーム!O145,\"\")","v":""},{"$f":"IF(申込みフォーム!P145<>\"\",申込みフォーム!P145,\"\")","v":""},{"$f":"IF(申込みフォーム!Q145<>\"\",申込みフォーム!Q145,\"\")","v":""},{"$f":"IF(申込みフォーム!R145<>\"\",申込みフォーム!R145,\"\")","v":""},{"$f":"IF(申込みフォーム!S145<>\"\",申込みフォーム!S145,\"\")","v":""},{"$f":"IF(申込みフォーム!U145=\"細胞診のみ\",\"協会子宮　\",IF(申込みフォーム!U145=\"細胞診＋（自費）膣エコー\",\"協会子宮＋自費膣エコー　\",\"\"))&IF(申込みフォーム!W145<>\"\",\"協会ﾏﾝﾓ　\",\"\")&IF(申込みフォーム!Y145<>\"\",\"協会骨　\",\"\")&IF(申込みフォーム!AA145<>\"\",\"協会肝炎　\",\"\")","v":""},{"$f":"IF(申込みフォーム!AB145<>\"\",\"子宮　\",\"\")&IF(申込みフォーム!AC145<>\"\",\"ﾏﾝﾓ　\",\"\")&IF(申込みフォーム!AD145<>\"\",\"乳ｴｺｰ\",\"\")","v":""},{"$f":"IF(申込みフォーム!AE145<>\"\",\"ﾏｰｶｰ　\",\"\")&IF(申込みフォーム!AF145<>\"\",\"心機能　\",\"\")&IF(申込みフォーム!AG145<>\"\",\"ABC　\",\"\")&IF(申込みフォーム!AH145<>\"\",\"Lox　\",\"\")&IF(申込みフォーム!AI145<>\"\",\"甲状腺　\",\"\")&IF(申込みフォーム!AJ145<>\"\",\"肝炎\",\"\")","v":""},{"$f":"IF(申込みフォーム!AK145<>\"\",\"脳　\",\"\")&IF(申込みフォーム!AL145<>\"\",\"胸部CT　\",\"\")&IF(申込みフォーム!AM145<>\"\",\"肺機能　\",\"\")&IF(申込みフォーム!AN145<>\"\",\"腹ｴｺｰ　\",\"\")&IF(申込みフォーム!AO145<>\"\",\"心ｴｺｰ　\",\"\")&IF(申込みフォーム!AP145<>\"\",\"ﾌﾛｰﾗ　\",\"\")&IF(申込みフォーム!AQ145<>\"\",\"OCT　\",\"\")&IF(申込みフォーム!AR145<>\"\",\"検便　\",\"\")&IF(申込みフォーム!AS145<>\"\",\"骨　\",\"\")&IF(申込みフォーム!AT145<>\"\",\"骨＋ﾛｺﾓ\",\"\")","v":""},{"$f":"IF(申込みフォーム!AU145<>\"\",申込みフォーム!AU145&\"　　\",\"\")&IF(申込みフォーム!AV145<>\"\",申込みフォーム!AV145&\"　　\",\"\")&IF(申込みフォーム!AW145<>\"\",申込みフォーム!AW145&\"　　\",\"\")&IF(申込みフォーム!$AX145=\"〇\",\"4月　\",\"\")&IF(申込みフォーム!$AY145=\"〇\",\"5月　\",\"\")&IF(申込みフォーム!$AZ145=\"〇\",\"6月　\",\"\")&IF(申込みフォーム!$BA145=\"〇\",\"7月　\",\"\")&IF(申込みフォーム!$BB145=\"〇\",\"8月　\",\"\")&IF(申込みフォーム!$BC145=\"〇\",\"9月　\",\"\")&IF(申込みフォーム!$BD145=\"〇\",\"10月　\",\"\")&IF(申込みフォーム!$BE145=\"〇\",\"11月　\",\"\")&IF(申込みフォーム!$BF145=\"〇\",\"12月　\",\"\")&IF(申込みフォーム!$BG145=\"〇\",\"1月　\",\"\")&IF(申込みフォーム!$BH145=\"〇\",\"2月　\",\"\")&IF(申込みフォーム!$BI145=\"〇\",\"3月　\",\"\")","v":""},{"$f":"IF(申込みフォーム!BJ145<>\"\",申込みフォーム!BJ145,\"\")","v":""},{"$f":"IF(申込みフォーム!BK145<>\"\",申込みフォーム!BK145,\"\")","v":""},{"$f":"申込みフォーム!$Z145","v":""},{"$f":"IF(申込みフォーム!BL145<>\"\",申込みフォーム!BL145&\"　　\",\"\")&IF(申込みフォーム!BM145<>\"\",申込みフォーム!BM145&\"　　\",\"\")&IF(申込みフォーム!BN145<>\"\",申込みフォーム!BN145&\"　　\",\"\")","v":{"$error":"#VALUE!"}},{"$f":"IF($B136=VLOOKUP($B136,'受診者リスト(抽出用）'!$A:$F,1,0),VLOOKUP($B136,'受診者リスト(抽出用）'!$A:$F,3,0)&\"　（団体マスタ）\"&VLOOKUP($B136,'受診者リスト(抽出用）'!$A:$F,4,0)&\"　（枝番）\"&VLOOKUP(B136,'受診者リスト(抽出用）'!$A:$F,5,0),\"\")","v":{"$error":"#N/A"}}]
[136,{"$f":"IF(申込みフォーム!B146<>\"\",申込みフォーム!B146&\"　\"&申込みフォーム!C146,\"\")","v":""},{"$f":"IF(申込みフォーム!E146<>\"\",申込みフォーム!E146&\"　\"&申込みフォーム!F146,\"\")","v":""},{"$f":"IF(申込みフォーム!G146<>\"\",申込みフォーム!G146,\"\")","v":""},{"$f":"IF(申込みフォーム!H146<>\"\",申込みフォーム!H146,\"\")","v":""},{"$f":"IF(申込みフォーム!D146<>\"\",申込みフォーム!D146,\"\")","v":""},{"$f":"IF(申込みフォーム!I146<>\"\",REPLACE(申込みフォーム!I146,4,,\"-\"),\"\")","v":""},{"$f":"IF(申込みフォーム!J146<>\"\",申込みフォーム!J146,\"\")","v":""},{"$f":"IF(申込みフォーム!K146<>\"\",申込みフォーム!K146,\"\")","v":""},{"$f":"IF(申込みフォーム!L146<>\"\",MID(申込みフォーム!L146,1,3)&\"-\"&MID(申込みフォーム!L146,4,4)&\"-\"&MID(申込みフォーム!L146,8,4),\"\")","v":""},{"$f":"IF(申込みフォーム!M146<>\"\",申込みフォーム!M146,\"\")","v":""},{"$f":"IF(申込みフォーム!N146<>\"\",申込みフォーム!N146,\"\")","v":""},{"$f":"IF(申込みフォーム!O146<>\"\",申込みフォーム!O146,\"\")","v":""},{"$f":"IF(申込みフォーム!P146<>\"\",申込みフォーム!P146,\"\")","v":""},{"$f":"IF(申込みフォーム!Q146<>\"\",申込みフォーム!Q146,\"\")","v":""},{"$f":"IF(申込みフォーム!R146<>\"\",申込みフォーム!R146,\"\")","v":""},{"$f":"IF(申込みフォーム!S146<>\"\",申込みフォーム!S146,\"\")","v":""},{"$f":"IF(申込みフォーム!U146=\"細胞診のみ\",\"協会子宮　\",IF(申込みフォーム!U146=\"細胞診＋（自費）膣エコー\",\"協会子宮＋自費膣エコー　\",\"\"))&IF(申込みフォーム!W146<>\"\",\"協会ﾏﾝﾓ　\",\"\")&IF(申込みフォーム!Y146<>\"\",\"協会骨　\",\"\")&IF(申込みフォーム!AA146<>\"\",\"協会肝炎　\",\"\")","v":""},{"$f":"IF(申込みフォーム!AB146<>\"\",\"子宮　\",\"\")&IF(申込みフォーム!AC146<>\"\",\"ﾏﾝﾓ　\",\"\")&IF(申込みフォーム!AD146<>\"\",\"乳ｴｺｰ\",\"\")","v":""},{"$f":"IF(申込みフォーム!AE146<>\"\",\"ﾏｰｶｰ　\",\"\")&IF(申込みフォーム!AF146<>\"\",\"心機能　\",\"\")&IF(申込みフォーム!AG146<>\"\",\"ABC　\",\"\")&IF(申込みフォーム!AH146<>\"\",\"Lox　\",\"\")&IF(申込みフォーム!AI146<>\"\",\"甲状腺　\",\"\")&IF(申込みフォーム!AJ146<>\"\",\"肝炎\",\"\")","v":""},{"$f":"IF(申込みフォーム!AK146<>\"\",\"脳　\",\"\")&IF(申込みフォーム!AL146<>\"\",\"胸部CT　\",\"\")&IF(申込みフォーム!AM146<>\"\",\"肺機能　\",\"\")&IF(申込みフォーム!AN146<>\"\",\"腹ｴｺｰ　\",\"\")&IF(申込みフォーム!AO146<>\"\",\"心ｴｺｰ　\",\"\")&IF(申込みフォーム!AP146<>\"\",\"ﾌﾛｰﾗ　\",\"\")&IF(申込みフォーム!AQ146<>\"\",\"OCT　\",\"\")&IF(申込みフォーム!AR146<>\"\",\"検便　\",\"\")&IF(申込みフォーム!AS146<>\"\",\"骨　\",\"\")&IF(申込みフォーム!AT146<>\"\",\"骨＋ﾛｺﾓ\",\"\")","v":""},{"$f":"IF(申込みフォーム!AU146<>\"\",申込みフォーム!AU146&\"　　\",\"\")&IF(申込みフォーム!AV146<>\"\",申込みフォーム!AV146&\"　　\",\"\")&IF(申込みフォーム!AW146<>\"\",申込みフォーム!AW146&\"　　\",\"\")&IF(申込みフォーム!$AX146=\"〇\",\"4月　\",\"\")&IF(申込みフォーム!$AY146=\"〇\",\"5月　\",\"\")&IF(申込みフォーム!$AZ146=\"〇\",\"6月　\",\"\")&IF(申込みフォーム!$BA146=\"〇\",\"7月　\",\"\")&IF(申込みフォーム!$BB146=\"〇\",\"8月　\",\"\")&IF(申込みフォーム!$BC146=\"〇\",\"9月　\",\"\")&IF(申込みフォーム!$BD146=\"〇\",\"10月　\",\"\")&IF(申込みフォーム!$BE146=\"〇\",\"11月　\",\"\")&IF(申込みフォーム!$BF146=\"〇\",\"12月　\",\"\")&IF(申込みフォーム!$BG146=\"〇\",\"1月　\",\"\")&IF(申込みフォーム!$BH146=\"〇\",\"2月　\",\"\")&IF(申込みフォーム!$BI146=\"〇\",\"3月　\",\"\")","v":""},{"$f":"IF(申込みフォーム!BJ146<>\"\",申込みフォーム!BJ146,\"\")","v":""},{"$f":"IF(申込みフォーム!BK146<>\"\",申込みフォーム!BK146,\"\")","v":""},{"$f":"申込みフォーム!$Z146","v":""},{"$f":"IF(申込みフォーム!BL146<>\"\",申込みフォーム!BL146&\"　　\",\"\")&IF(申込みフォーム!BM146<>\"\",申込みフォーム!BM146&\"　　\",\"\")&IF(申込みフォーム!BN146<>\"\",申込みフォーム!BN146&\"　　\",\"\")","v":{"$error":"#VALUE!"}},{"$f":"IF($B137=VLOOKUP($B137,'受診者リスト(抽出用）'!$A:$F,1,0),VLOOKUP($B137,'受診者リスト(抽出用）'!$A:$F,3,0)&\"　（団体マスタ）\"&VLOOKUP($B137,'受診者リスト(抽出用）'!$A:$F,4,0)&\"　（枝番）\"&VLOOKUP(B137,'受診者リスト(抽出用）'!$A:$F,5,0),\"\")","v":{"$error":"#N/A"}}]
[137,{"$f":"IF(申込みフォーム!B147<>\"\",申込みフォーム!B147&\"　\"&申込みフォーム!C147,\"\")","v":""},{"$f":"IF(申込みフォーム!E147<>\"\",申込みフォーム!E147&\"　\"&申込みフォーム!F147,\"\")","v":""},{"$f":"IF(申込みフォーム!G147<>\"\",申込みフォーム!G147,\"\")","v":""},{"$f":"IF(申込みフォーム!H147<>\"\",申込みフォーム!H147,\"\")","v":""},{"$f":"IF(申込みフォーム!D147<>\"\",申込みフォーム!D147,\"\")","v":""},{"$f":"IF(申込みフォーム!I147<>\"\",REPLACE(申込みフォーム!I147,4,,\"-\"),\"\")","v":""},{"$f":"IF(申込みフォーム!J147<>\"\",申込みフォーム!J147,\"\")","v":""},{"$f":"IF(申込みフォーム!K147<>\"\",申込みフォーム!K147,\"\")","v":""},{"$f":"IF(申込みフォーム!L147<>\"\",MID(申込みフォーム!L147,1,3)&\"-\"&MID(申込みフォーム!L147,4,4)&\"-\"&MID(申込みフォーム!L147,8,4),\"\")","v":""},{"$f":"IF(申込みフォーム!M147<>\"\",申込みフォーム!M147,\"\")","v":""},{"$f":"IF(申込みフォーム!N147<>\"\",申込みフォーム!N147,\"\")","v":""},{"$f":"IF(申込みフォーム!O147<>\"\",申込みフォーム!O147,\"\")","v":""},{"$f":"IF(申込みフォーム!P147<>\"\",申込みフォーム!P147,\"\")","v":""},{"$f":"IF(申込みフォーム!Q147<>\"\",申込みフォーム!Q147,\"\")","v":""},{"$f":"IF(申込みフォーム!R147<>\"\",申込みフォーム!R147,\"\")","v":""},{"$f":"IF(申込みフォーム!S147<>\"\",申込みフォーム!S147,\"\")","v":""},{"$f":"IF(申込みフォーム!U147=\"細胞診のみ\",\"協会子宮　\",IF(申込みフォーム!U147=\"細胞診＋（自費）膣エコー\",\"協会子宮＋自費膣エコー　\",\"\"))&IF(申込みフォーム!W147<>\"\",\"協会ﾏﾝﾓ　\",\"\")&IF(申込みフォーム!Y147<>\"\",\"協会骨　\",\"\")&IF(申込みフォーム!AA147<>\"\",\"協会肝炎　\",\"\")","v":""},{"$f":"IF(申込みフォーム!AB147<>\"\",\"子宮　\",\"\")&IF(申込みフォーム!AC147<>\"\",\"ﾏﾝﾓ　\",\"\")&IF(申込みフォーム!AD147<>\"\",\"乳ｴｺｰ\",\"\")","v":""},{"$f":"IF(申込みフォーム!AE147<>\"\",\"ﾏｰｶｰ　\",\"\")&IF(申込みフォーム!AF147<>\"\",\"心機能　\",\"\")&IF(申込みフォーム!AG147<>\"\",\"ABC　\",\"\")&IF(申込みフォーム!AH147<>\"\",\"Lox　\",\"\")&IF(申込みフォーム!AI147<>\"\",\"甲状腺　\",\"\")&IF(申込みフォーム!AJ147<>\"\",\"肝炎\",\"\")","v":""},{"$f":"IF(申込みフォーム!AK147<>\"\",\"脳　\",\"\")&IF(申込みフォーム!AL147<>\"\",\"胸部CT　\",\"\")&IF(申込みフォーム!AM147<>\"\",\"肺機能　\",\"\")&IF(申込みフォーム!AN147<>\"\",\"腹ｴｺｰ　\",\"\")&IF(申込みフォーム!AO147<>\"\",\"心ｴｺｰ　\",\"\")&IF(申込みフォーム!AP147<>\"\",\"ﾌﾛｰﾗ　\",\"\")&IF(申込みフォーム!AQ147<>\"\",\"OCT　\",\"\")&IF(申込みフォーム!AR147<>\"\",\"検便　\",\"\")&IF(申込みフォーム!AS147<>\"\",\"骨　\",\"\")&IF(申込みフォーム!AT147<>\"\",\"骨＋ﾛｺﾓ\",\"\")","v":""},{"$f":"IF(申込みフォーム!AU147<>\"\",申込みフォーム!AU147&\"　　\",\"\")&IF(申込みフォーム!AV147<>\"\",申込みフォーム!AV147&\"　　\",\"\")&IF(申込みフォーム!AW147<>\"\",申込みフォーム!AW147&\"　　\",\"\")&IF(申込みフォーム!$AX147=\"〇\",\"4月　\",\"\")&IF(申込みフォーム!$AY147=\"〇\",\"5月　\",\"\")&IF(申込みフォーム!$AZ147=\"〇\",\"6月　\",\"\")&IF(申込みフォーム!$BA147=\"〇\",\"7月　\",\"\")&IF(申込みフォーム!$BB147=\"〇\",\"8月　\",\"\")&IF(申込みフォーム!$BC147=\"〇\",\"9月　\",\"\")&IF(申込みフォーム!$BD147=\"〇\",\"10月　\",\"\")&IF(申込みフォーム!$BE147=\"〇\",\"11月　\",\"\")&IF(申込みフォーム!$BF147=\"〇\",\"12月　\",\"\")&IF(申込みフォーム!$BG147=\"〇\",\"1月　\",\"\")&IF(申込みフォーム!$BH147=\"〇\",\"2月　\",\"\")&IF(申込みフォーム!$BI147=\"〇\",\"3月　\",\"\")","v":""},{"$f":"IF(申込みフォーム!BJ147<>\"\",申込みフォーム!BJ147,\"\")","v":""},{"$f":"IF(申込みフォーム!BK147<>\"\",申込みフォーム!BK147,\"\")","v":""},{"$f":"申込みフォーム!$Z147","v":""},{"$f":"IF(申込みフォーム!BL147<>\"\",申込みフォーム!BL147&\"　　\",\"\")&IF(申込みフォーム!BM147<>\"\",申込みフォーム!BM147&\"　　\",\"\")&IF(申込みフォーム!BN147<>\"\",申込みフォーム!BN147&\"　　\",\"\")","v":{"$error":"#VALUE!"}},{"$f":"IF($B138=VLOOKUP($B138,'受診者リスト(抽出用）'!$A:$F,1,0),VLOOKUP($B138,'受診者リスト(抽出用）'!$A:$F,3,0)&\"　（団体マスタ）\"&VLOOKUP($B138,'受診者リスト(抽出用）'!$A:$F,4,0)&\"　（枝番）\"&VLOOKUP(B138,'受診者リスト(抽出用）'!$A:$F,5,0),\"\")","v":{"$error":"#N/A"}}]
[138,{"$f":"IF(申込みフォーム!B148<>\"\",申込みフォーム!B148&\"　\"&申込みフォーム!C148,\"\")","v":""},{"$f":"IF(申込みフォーム!E148<>\"\",申込みフォーム!E148&\"　\"&申込みフォーム!F148,\"\")","v":""},{"$f":"IF(申込みフォーム!G148<>\"\",申込みフォーム!G148,\"\")","v":""},{"$f":"IF(申込みフォーム!H148<>\"\",申込みフォーム!H148,\"\")","v":""},{"$f":"IF(申込みフォーム!D148<>\"\",申込みフォーム!D148,\"\")","v":""},{"$f":"IF(申込みフォーム!I148<>\"\",REPLACE(申込みフォーム!I148,4,,\"-\"),\"\")","v":""},{"$f":"IF(申込みフォーム!J148<>\"\",申込みフォーム!J148,\"\")","v":""},{"$f":"IF(申込みフォーム!K148<>\"\",申込みフォーム!K148,\"\")","v":""},{"$f":"IF(申込みフォーム!L148<>\"\",MID(申込みフォーム!L148,1,3)&\"-\"&MID(申込みフォーム!L148,4,4)&\"-\"&MID(申込みフォーム!L148,8,4),\"\")","v":""},{"$f":"IF(申込みフォーム!M148<>\"\",申込みフォーム!M148,\"\")","v":""},{"$f":"IF(申込みフォーム!N148<>\"\",申込みフォーム!N148,\"\")","v":""},{"$f":"IF(申込みフォーム!O148<>\"\",申込みフォーム!O148,\"\")","v":""},{"$f":"IF(申込みフォーム!P148<>\"\",申込みフォーム!P148,\"\")","v":""},{"$f":"IF(申込みフォーム!Q148<>\"\",申込みフォーム!Q148,\"\")","v":""},{"$f":"IF(申込みフォーム!R148<>\"\",申込みフォーム!R148,\"\")","v":""},{"$f":"IF(申込みフォーム!S148<>\"\",申込みフォーム!S148,\"\")","v":""},{"$f":"IF(申込みフォーム!U148=\"細胞診のみ\",\"協会子宮　\",IF(申込みフォーム!U148=\"細胞診＋（自費）膣エコー\",\"協会子宮＋自費膣エコー　\",\"\"))&IF(申込みフォーム!W148<>\"\",\"協会ﾏﾝﾓ　\",\"\")&IF(申込みフォーム!Y148<>\"\",\"協会骨　\",\"\")&IF(申込みフォーム!AA148<>\"\",\"協会肝炎　\",\"\")","v":""},{"$f":"IF(申込みフォーム!AB148<>\"\",\"子宮　\",\"\")&IF(申込みフォーム!AC148<>\"\",\"ﾏﾝﾓ　\",\"\")&IF(申込みフォーム!AD148<>\"\",\"乳ｴｺｰ\",\"\")","v":""},{"$f":"IF(申込みフォーム!AE148<>\"\",\"ﾏｰｶｰ　\",\"\")&IF(申込みフォーム!AF148<>\"\",\"心機能　\",\"\")&IF(申込みフォーム!AG148<>\"\",\"ABC　\",\"\")&IF(申込みフォーム!AH148<>\"\",\"Lox　\",\"\")&IF(申込みフォーム!AI148<>\"\",\"甲状腺　\",\"\")&IF(申込みフォーム!AJ148<>\"\",\"肝炎\",\"\")","v":""},{"$f":"IF(申込みフォーム!AK148<>\"\",\"脳　\",\"\")&IF(申込みフォーム!AL148<>\"\",\"胸部CT　\",\"\")&IF(申込みフォーム!AM148<>\"\",\"肺機能　\",\"\")&IF(申込みフォーム!AN148<>\"\",\"腹ｴｺｰ　\",\"\")&IF(申込みフォーム!AO148<>\"\",\"心ｴｺｰ　\",\"\")&IF(申込みフォーム!AP148<>\"\",\"ﾌﾛｰﾗ　\",\"\")&IF(申込みフォーム!AQ148<>\"\",\"OCT　\",\"\")&IF(申込みフォーム!AR148<>\"\",\"検便　\",\"\")&IF(申込みフォーム!AS148<>\"\",\"骨　\",\"\")&IF(申込みフォーム!AT148<>\"\",\"骨＋ﾛｺﾓ\",\"\")","v":""},{"$f":"IF(申込みフォーム!AU148<>\"\",申込みフォーム!AU148&\"　　\",\"\")&IF(申込みフォーム!AV148<>\"\",申込みフォーム!AV148&\"　　\",\"\")&IF(申込みフォーム!AW148<>\"\",申込みフォーム!AW148&\"　　\",\"\")&IF(申込みフォーム!$AX148=\"〇\",\"4月　\",\"\")&IF(申込みフォーム!$AY148=\"〇\",\"5月　\",\"\")&IF(申込みフォーム!$AZ148=\"〇\",\"6月　\",\"\")&IF(申込みフォーム!$BA148=\"〇\",\"7月　\",\"\")&IF(申込みフォーム!$BB148=\"〇\",\"8月　\",\"\")&IF(申込みフォーム!$BC148=\"〇\",\"9月　\",\"\")&IF(申込みフォーム!$BD148=\"〇\",\"10月　\",\"\")&IF(申込みフォーム!$BE148=\"〇\",\"11月　\",\"\")&IF(申込みフォーム!$BF148=\"〇\",\"12月　\",\"\")&IF(申込みフォーム!$BG148=\"〇\",\"1月　\",\"\")&IF(申込みフォーム!$BH148=\"〇\",\"2月　\",\"\")&IF(申込みフォーム!$BI148=\"〇\",\"3月　\",\"\")","v":""},{"$f":"IF(申込みフォーム!BJ148<>\"\",申込みフォーム!BJ148,\"\")","v":""},{"$f":"IF(申込みフォーム!BK148<>\"\",申込みフォーム!BK148,\"\")","v":""},{"$f":"申込みフォーム!$Z148","v":""},{"$f":"IF(申込みフォーム!BL148<>\"\",申込みフォーム!BL148&\"　　\",\"\")&IF(申込みフォーム!BM148<>\"\",申込みフォーム!BM148&\"　　\",\"\")&IF(申込みフォーム!BN148<>\"\",申込みフォーム!BN148&\"　　\",\"\")","v":{"$error":"#VALUE!"}},{"$f":"IF($B139=VLOOKUP($B139,'受診者リスト(抽出用）'!$A:$F,1,0),VLOOKUP($B139,'受診者リスト(抽出用）'!$A:$F,3,0)&\"　（団体マスタ）\"&VLOOKUP($B139,'受診者リスト(抽出用）'!$A:$F,4,0)&\"　（枝番）\"&VLOOKUP(B139,'受診者リスト(抽出用）'!$A:$F,5,0),\"\")","v":{"$error":"#N/A"}}]
[139,{"$f":"IF(申込みフォーム!B149<>\"\",申込みフォーム!B149&\"　\"&申込みフォーム!C149,\"\")","v":""},{"$f":"IF(申込みフォーム!E149<>\"\",申込みフォーム!E149&\"　\"&申込みフォーム!F149,\"\")","v":""},{"$f":"IF(申込みフォーム!G149<>\"\",申込みフォーム!G149,\"\")","v":""},{"$f":"IF(申込みフォーム!H149<>\"\",申込みフォーム!H149,\"\")","v":""},{"$f":"IF(申込みフォーム!D149<>\"\",申込みフォーム!D149,\"\")","v":""},{"$f":"IF(申込みフォーム!I149<>\"\",REPLACE(申込みフォーム!I149,4,,\"-\"),\"\")","v":""},{"$f":"IF(申込みフォーム!J149<>\"\",申込みフォーム!J149,\"\")","v":""},{"$f":"IF(申込みフォーム!K149<>\"\",申込みフォーム!K149,\"\")","v":""},{"$f":"IF(申込みフォーム!L149<>\"\",MID(申込みフォーム!L149,1,3)&\"-\"&MID(申込みフォーム!L149,4,4)&\"-\"&MID(申込みフォーム!L149,8,4),\"\")","v":""},{"$f":"IF(申込みフォーム!M149<>\"\",申込みフォーム!M149,\"\")","v":""},{"$f":"IF(申込みフォーム!N149<>\"\",申込みフォーム!N149,\"\")","v":""},{"$f":"IF(申込みフォーム!O149<>\"\",申込みフォーム!O149,\"\")","v":""},{"$f":"IF(申込みフォーム!P149<>\"\",申込みフォーム!P149,\"\")","v":""},{"$f":"IF(申込みフォーム!Q149<>\"\",申込みフォーム!Q149,\"\")","v":""},{"$f":"IF(申込みフォーム!R149<>\"\",申込みフォーム!R149,\"\")","v":""},{"$f":"IF(申込みフォーム!S149<>\"\",申込みフォーム!S149,\"\")","v":""},{"$f":"IF(申込みフォーム!U149=\"細胞診のみ\",\"協会子宮　\",IF(申込みフォーム!U149=\"細胞診＋（自費）膣エコー\",\"協会子宮＋自費膣エコー　\",\"\"))&IF(申込みフォーム!W149<>\"\",\"協会ﾏﾝﾓ　\",\"\")&IF(申込みフォーム!Y149<>\"\",\"協会骨　\",\"\")&IF(申込みフォーム!AA149<>\"\",\"協会肝炎　\",\"\")","v":""},{"$f":"IF(申込みフォーム!AB149<>\"\",\"子宮　\",\"\")&IF(申込みフォーム!AC149<>\"\",\"ﾏﾝﾓ　\",\"\")&IF(申込みフォーム!AD149<>\"\",\"乳ｴｺｰ\",\"\")","v":""},{"$f":"IF(申込みフォーム!AE149<>\"\",\"ﾏｰｶｰ　\",\"\")&IF(申込みフォーム!AF149<>\"\",\"心機能　\",\"\")&IF(申込みフォーム!AG149<>\"\",\"ABC　\",\"\")&IF(申込みフォーム!AH149<>\"\",\"Lox　\",\"\")&IF(申込みフォーム!AI149<>\"\",\"甲状腺　\",\"\")&IF(申込みフォーム!AJ149<>\"\",\"肝炎\",\"\")","v":""},{"$f":"IF(申込みフォーム!AK149<>\"\",\"脳　\",\"\")&IF(申込みフォーム!AL149<>\"\",\"胸部CT　\",\"\")&IF(申込みフォーム!AM149<>\"\",\"肺機能　\",\"\")&IF(申込みフォーム!AN149<>\"\",\"腹ｴｺｰ　\",\"\")&IF(申込みフォーム!AO149<>\"\",\"心ｴｺｰ　\",\"\")&IF(申込みフォーム!AP149<>\"\",\"ﾌﾛｰﾗ　\",\"\")&IF(申込みフォーム!AQ149<>\"\",\"OCT　\",\"\")&IF(申込みフォーム!AR149<>\"\",\"検便　\",\"\")&IF(申込みフォーム!AS149<>\"\",\"骨　\",\"\")&IF(申込みフォーム!AT149<>\"\",\"骨＋ﾛｺﾓ\",\"\")","v":""},{"$f":"IF(申込みフォーム!AU149<>\"\",申込みフォーム!AU149&\"　　\",\"\")&IF(申込みフォーム!AV149<>\"\",申込みフォーム!AV149&\"　　\",\"\")&IF(申込みフォーム!AW149<>\"\",申込みフォーム!AW149&\"　　\",\"\")&IF(申込みフォーム!$AX149=\"〇\",\"4月　\",\"\")&IF(申込みフォーム!$AY149=\"〇\",\"5月　\",\"\")&IF(申込みフォーム!$AZ149=\"〇\",\"6月　\",\"\")&IF(申込みフォーム!$BA149=\"〇\",\"7月　\",\"\")&IF(申込みフォーム!$BB149=\"〇\",\"8月　\",\"\")&IF(申込みフォーム!$BC149=\"〇\",\"9月　\",\"\")&IF(申込みフォーム!$BD149=\"〇\",\"10月　\",\"\")&IF(申込みフォーム!$BE149=\"〇\",\"11月　\",\"\")&IF(申込みフォーム!$BF149=\"〇\",\"12月　\",\"\")&IF(申込みフォーム!$BG149=\"〇\",\"1月　\",\"\")&IF(申込みフォーム!$BH149=\"〇\",\"2月　\",\"\")&IF(申込みフォーム!$BI149=\"〇\",\"3月　\",\"\")","v":""},{"$f":"IF(申込みフォーム!BJ149<>\"\",申込みフォーム!BJ149,\"\")","v":""},{"$f":"IF(申込みフォーム!BK149<>\"\",申込みフォーム!BK149,\"\")","v":""},{"$f":"申込みフォーム!$Z149","v":""},{"$f":"IF(申込みフォーム!BL149<>\"\",申込みフォーム!BL149&\"　　\",\"\")&IF(申込みフォーム!BM149<>\"\",申込みフォーム!BM149&\"　　\",\"\")&IF(申込みフォーム!BN149<>\"\",申込みフォーム!BN149&\"　　\",\"\")","v":{"$error":"#VALUE!"}},{"$f":"IF($B140=VLOOKUP($B140,'受診者リスト(抽出用）'!$A:$F,1,0),VLOOKUP($B140,'受診者リスト(抽出用）'!$A:$F,3,0)&\"　（団体マスタ）\"&VLOOKUP($B140,'受診者リスト(抽出用）'!$A:$F,4,0)&\"　（枝番）\"&VLOOKUP(B140,'受診者リスト(抽出用）'!$A:$F,5,0),\"\")","v":{"$error":"#N/A"}}]
[140,{"$f":"IF(申込みフォーム!B150<>\"\",申込みフォーム!B150&\"　\"&申込みフォーム!C150,\"\")","v":""},{"$f":"IF(申込みフォーム!E150<>\"\",申込みフォーム!E150&\"　\"&申込みフォーム!F150,\"\")","v":""},{"$f":"IF(申込みフォーム!G150<>\"\",申込みフォーム!G150,\"\")","v":""},{"$f":"IF(申込みフォーム!H150<>\"\",申込みフォーム!H150,\"\")","v":""},{"$f":"IF(申込みフォーム!D150<>\"\",申込みフォーム!D150,\"\")","v":""},{"$f":"IF(申込みフォーム!I150<>\"\",REPLACE(申込みフォーム!I150,4,,\"-\"),\"\")","v":""},{"$f":"IF(申込みフォーム!J150<>\"\",申込みフォーム!J150,\"\")","v":""},{"$f":"IF(申込みフォーム!K150<>\"\",申込みフォーム!K150,\"\")","v":""},{"$f":"IF(申込みフォーム!L150<>\"\",MID(申込みフォーム!L150,1,3)&\"-\"&MID(申込みフォーム!L150,4,4)&\"-\"&MID(申込みフォーム!L150,8,4),\"\")","v":""},{"$f":"IF(申込みフォーム!M150<>\"\",申込みフォーム!M150,\"\")","v":""},{"$f":"IF(申込みフォーム!N150<>\"\",申込みフォーム!N150,\"\")","v":""},{"$f":"IF(申込みフォーム!O150<>\"\",申込みフォーム!O150,\"\")","v":""},{"$f":"IF(申込みフォーム!P150<>\"\",申込みフォーム!P150,\"\")","v":""},{"$f":"IF(申込みフォーム!Q150<>\"\",申込みフォーム!Q150,\"\")","v":""},{"$f":"IF(申込みフォーム!R150<>\"\",申込みフォーム!R150,\"\")","v":""},{"$f":"IF(申込みフォーム!S150<>\"\",申込みフォーム!S150,\"\")","v":""},{"$f":"IF(申込みフォーム!U150=\"細胞診のみ\",\"協会子宮　\",IF(申込みフォーム!U150=\"細胞診＋（自費）膣エコー\",\"協会子宮＋自費膣エコー　\",\"\"))&IF(申込みフォーム!W150<>\"\",\"協会ﾏﾝﾓ　\",\"\")&IF(申込みフォーム!Y150<>\"\",\"協会骨　\",\"\")&IF(申込みフォーム!AA150<>\"\",\"協会肝炎　\",\"\")","v":""},{"$f":"IF(申込みフォーム!AB150<>\"\",\"子宮　\",\"\")&IF(申込みフォーム!AC150<>\"\",\"ﾏﾝﾓ　\",\"\")&IF(申込みフォーム!AD150<>\"\",\"乳ｴｺｰ\",\"\")","v":""},{"$f":"IF(申込みフォーム!AE150<>\"\",\"ﾏｰｶｰ　\",\"\")&IF(申込みフォーム!AF150<>\"\",\"心機能　\",\"\")&IF(申込みフォーム!AG150<>\"\",\"ABC　\",\"\")&IF(申込みフォーム!AH150<>\"\",\"Lox　\",\"\")&IF(申込みフォーム!AI150<>\"\",\"甲状腺　\",\"\")&IF(申込みフォーム!AJ150<>\"\",\"肝炎\",\"\")","v":""},{"$f":"IF(申込みフォーム!AK150<>\"\",\"脳　\",\"\")&IF(申込みフォーム!AL150<>\"\",\"胸部CT　\",\"\")&IF(申込みフォーム!AM150<>\"\",\"肺機能　\",\"\")&IF(申込みフォーム!AN150<>\"\",\"腹ｴｺｰ　\",\"\")&IF(申込みフォーム!AO150<>\"\",\"心ｴｺｰ　\",\"\")&IF(申込みフォーム!AP150<>\"\",\"ﾌﾛｰﾗ　\",\"\")&IF(申込みフォーム!AQ150<>\"\",\"OCT　\",\"\")&IF(申込みフォーム!AR150<>\"\",\"検便　\",\"\")&IF(申込みフォーム!AS150<>\"\",\"骨　\",\"\")&IF(申込みフォーム!AT150<>\"\",\"骨＋ﾛｺﾓ\",\"\")","v":""},{"$f":"IF(申込みフォーム!AU150<>\"\",申込みフォーム!AU150&\"　　\",\"\")&IF(申込みフォーム!AV150<>\"\",申込みフォーム!AV150&\"　　\",\"\")&IF(申込みフォーム!AW150<>\"\",申込みフォーム!AW150&\"　　\",\"\")&IF(申込みフォーム!$AX150=\"〇\",\"4月　\",\"\")&IF(申込みフォーム!$AY150=\"〇\",\"5月　\",\"\")&IF(申込みフォーム!$AZ150=\"〇\",\"6月　\",\"\")&IF(申込みフォーム!$BA150=\"〇\",\"7月　\",\"\")&IF(申込みフォーム!$BB150=\"〇\",\"8月　\",\"\")&IF(申込みフォーム!$BC150=\"〇\",\"9月　\",\"\")&IF(申込みフォーム!$BD150=\"〇\",\"10月　\",\"\")&IF(申込みフォーム!$BE150=\"〇\",\"11月　\",\"\")&IF(申込みフォーム!$BF150=\"〇\",\"12月　\",\"\")&IF(申込みフォーム!$BG150=\"〇\",\"1月　\",\"\")&IF(申込みフォーム!$BH150=\"〇\",\"2月　\",\"\")&IF(申込みフォーム!$BI150=\"〇\",\"3月　\",\"\")","v":""},{"$f":"IF(申込みフォーム!BJ150<>\"\",申込みフォーム!BJ150,\"\")","v":""},{"$f":"IF(申込みフォーム!BK150<>\"\",申込みフォーム!BK150,\"\")","v":""},{"$f":"申込みフォーム!$Z150","v":""},{"$f":"IF(申込みフォーム!BL150<>\"\",申込みフォーム!BL150&\"　　\",\"\")&IF(申込みフォーム!BM150<>\"\",申込みフォーム!BM150&\"　　\",\"\")&IF(申込みフォーム!BN150<>\"\",申込みフォーム!BN150&\"　　\",\"\")","v":{"$error":"#VALUE!"}},{"$f":"IF($B141=VLOOKUP($B141,'受診者リスト(抽出用）'!$A:$F,1,0),VLOOKUP($B141,'受診者リスト(抽出用）'!$A:$F,3,0)&\"　（団体マスタ）\"&VLOOKUP($B141,'受診者リスト(抽出用）'!$A:$F,4,0)&\"　（枝番）\"&VLOOKUP(B141,'受診者リスト(抽出用）'!$A:$F,5,0),\"\")","v":{"$error":"#N/A"}}]
[141,{"$f":"IF(申込みフォーム!B151<>\"\",申込みフォーム!B151&\"　\"&申込みフォーム!C151,\"\")","v":""},{"$f":"IF(申込みフォーム!E151<>\"\",申込みフォーム!E151&\"　\"&申込みフォーム!F151,\"\")","v":""},{"$f":"IF(申込みフォーム!G151<>\"\",申込みフォーム!G151,\"\")","v":""},{"$f":"IF(申込みフォーム!H151<>\"\",申込みフォーム!H151,\"\")","v":""},{"$f":"IF(申込みフォーム!D151<>\"\",申込みフォーム!D151,\"\")","v":""},{"$f":"IF(申込みフォーム!I151<>\"\",REPLACE(申込みフォーム!I151,4,,\"-\"),\"\")","v":""},{"$f":"IF(申込みフォーム!J151<>\"\",申込みフォーム!J151,\"\")","v":""},{"$f":"IF(申込みフォーム!K151<>\"\",申込みフォーム!K151,\"\")","v":""},{"$f":"IF(申込みフォーム!L151<>\"\",MID(申込みフォーム!L151,1,3)&\"-\"&MID(申込みフォーム!L151,4,4)&\"-\"&MID(申込みフォーム!L151,8,4),\"\")","v":""},{"$f":"IF(申込みフォーム!M151<>\"\",申込みフォーム!M151,\"\")","v":""},{"$f":"IF(申込みフォーム!N151<>\"\",申込みフォーム!N151,\"\")","v":""},{"$f":"IF(申込みフォーム!O151<>\"\",申込みフォーム!O151,\"\")","v":""},{"$f":"IF(申込みフォーム!P151<>\"\",申込みフォーム!P151,\"\")","v":""},{"$f":"IF(申込みフォーム!Q151<>\"\",申込みフォーム!Q151,\"\")","v":""},{"$f":"IF(申込みフォーム!R151<>\"\",申込みフォーム!R151,\"\")","v":""},{"$f":"IF(申込みフォーム!S151<>\"\",申込みフォーム!S151,\"\")","v":""},{"$f":"IF(申込みフォーム!U151=\"細胞診のみ\",\"協会子宮　\",IF(申込みフォーム!U151=\"細胞診＋（自費）膣エコー\",\"協会子宮＋自費膣エコー　\",\"\"))&IF(申込みフォーム!W151<>\"\",\"協会ﾏﾝﾓ　\",\"\")&IF(申込みフォーム!Y151<>\"\",\"協会骨　\",\"\")&IF(申込みフォーム!AA151<>\"\",\"協会肝炎　\",\"\")","v":""},{"$f":"IF(申込みフォーム!AB151<>\"\",\"子宮　\",\"\")&IF(申込みフォーム!AC151<>\"\",\"ﾏﾝﾓ　\",\"\")&IF(申込みフォーム!AD151<>\"\",\"乳ｴｺｰ\",\"\")","v":""},{"$f":"IF(申込みフォーム!AE151<>\"\",\"ﾏｰｶｰ　\",\"\")&IF(申込みフォーム!AF151<>\"\",\"心機能　\",\"\")&IF(申込みフォーム!AG151<>\"\",\"ABC　\",\"\")&IF(申込みフォーム!AH151<>\"\",\"Lox　\",\"\")&IF(申込みフォーム!AI151<>\"\",\"甲状腺　\",\"\")&IF(申込みフォーム!AJ151<>\"\",\"肝炎\",\"\")","v":""},{"$f":"IF(申込みフォーム!AK151<>\"\",\"脳　\",\"\")&IF(申込みフォーム!AL151<>\"\",\"胸部CT　\",\"\")&IF(申込みフォーム!AM151<>\"\",\"肺機能　\",\"\")&IF(申込みフォーム!AN151<>\"\",\"腹ｴｺｰ　\",\"\")&IF(申込みフォーム!AO151<>\"\",\"心ｴｺｰ　\",\"\")&IF(申込みフォーム!AP151<>\"\",\"ﾌﾛｰﾗ　\",\"\")&IF(申込みフォーム!AQ151<>\"\",\"OCT　\",\"\")&IF(申込みフォーム!AR151<>\"\",\"検便　\",\"\")&IF(申込みフォーム!AS151<>\"\",\"骨　\",\"\")&IF(申込みフォーム!AT151<>\"\",\"骨＋ﾛｺﾓ\",\"\")","v":""},{"$f":"IF(申込みフォーム!AU151<>\"\",申込みフォーム!AU151&\"　　\",\"\")&IF(申込みフォーム!AV151<>\"\",申込みフォーム!AV151&\"　　\",\"\")&IF(申込みフォーム!AW151<>\"\",申込みフォーム!AW151&\"　　\",\"\")&IF(申込みフォーム!$AX151=\"〇\",\"4月　\",\"\")&IF(申込みフォーム!$AY151=\"〇\",\"5月　\",\"\")&IF(申込みフォーム!$AZ151=\"〇\",\"6月　\",\"\")&IF(申込みフォーム!$BA151=\"〇\",\"7月　\",\"\")&IF(申込みフォーム!$BB151=\"〇\",\"8月　\",\"\")&IF(申込みフォーム!$BC151=\"〇\",\"9月　\",\"\")&IF(申込みフォーム!$BD151=\"〇\",\"10月　\",\"\")&IF(申込みフォーム!$BE151=\"〇\",\"11月　\",\"\")&IF(申込みフォーム!$BF151=\"〇\",\"12月　\",\"\")&IF(申込みフォーム!$BG151=\"〇\",\"1月　\",\"\")&IF(申込みフォーム!$BH151=\"〇\",\"2月　\",\"\")&IF(申込みフォーム!$BI151=\"〇\",\"3月　\",\"\")","v":""},{"$f":"IF(申込みフォーム!BJ151<>\"\",申込みフォーム!BJ151,\"\")","v":""},{"$f":"IF(申込みフォーム!BK151<>\"\",申込みフォーム!BK151,\"\")","v":""},{"$f":"申込みフォーム!$Z151","v":""},{"$f":"IF(申込みフォーム!BL151<>\"\",申込みフォーム!BL151&\"　　\",\"\")&IF(申込みフォーム!BM151<>\"\",申込みフォーム!BM151&\"　　\",\"\")&IF(申込みフォーム!BN151<>\"\",申込みフォーム!BN151&\"　　\",\"\")","v":{"$error":"#VALUE!"}},{"$f":"IF($B142=VLOOKUP($B142,'受診者リスト(抽出用）'!$A:$F,1,0),VLOOKUP($B142,'受診者リスト(抽出用）'!$A:$F,3,0)&\"　（団体マスタ）\"&VLOOKUP($B142,'受診者リスト(抽出用）'!$A:$F,4,0)&\"　（枝番）\"&VLOOKUP(B142,'受診者リスト(抽出用）'!$A:$F,5,0),\"\")","v":{"$error":"#N/A"}}]
[142,{"$f":"IF(申込みフォーム!B152<>\"\",申込みフォーム!B152&\"　\"&申込みフォーム!C152,\"\")","v":""},{"$f":"IF(申込みフォーム!E152<>\"\",申込みフォーム!E152&\"　\"&申込みフォーム!F152,\"\")","v":""},{"$f":"IF(申込みフォーム!G152<>\"\",申込みフォーム!G152,\"\")","v":""},{"$f":"IF(申込みフォーム!H152<>\"\",申込みフォーム!H152,\"\")","v":""},{"$f":"IF(申込みフォーム!D152<>\"\",申込みフォーム!D152,\"\")","v":""},{"$f":"IF(申込みフォーム!I152<>\"\",REPLACE(申込みフォーム!I152,4,,\"-\"),\"\")","v":""},{"$f":"IF(申込みフォーム!J152<>\"\",申込みフォーム!J152,\"\")","v":""},{"$f":"IF(申込みフォーム!K152<>\"\",申込みフォーム!K152,\"\")","v":""},{"$f":"IF(申込みフォーム!L152<>\"\",MID(申込みフォーム!L152,1,3)&\"-\"&MID(申込みフォーム!L152,4,4)&\"-\"&MID(申込みフォーム!L152,8,4),\"\")","v":""},{"$f":"IF(申込みフォーム!M152<>\"\",申込みフォーム!M152,\"\")","v":""},{"$f":"IF(申込みフォーム!N152<>\"\",申込みフォーム!N152,\"\")","v":""},{"$f":"IF(申込みフォーム!O152<>\"\",申込みフォーム!O152,\"\")","v":""},{"$f":"IF(申込みフォーム!P152<>\"\",申込みフォーム!P152,\"\")","v":""},{"$f":"IF(申込みフォーム!Q152<>\"\",申込みフォーム!Q152,\"\")","v":""},{"$f":"IF(申込みフォーム!R152<>\"\",申込みフォーム!R152,\"\")","v":""},{"$f":"IF(申込みフォーム!S152<>\"\",申込みフォーム!S152,\"\")","v":""},{"$f":"IF(申込みフォーム!U152=\"細胞診のみ\",\"協会子宮　\",IF(申込みフォーム!U152=\"細胞診＋（自費）膣エコー\",\"協会子宮＋自費膣エコー　\",\"\"))&IF(申込みフォーム!W152<>\"\",\"協会ﾏﾝﾓ　\",\"\")&IF(申込みフォーム!Y152<>\"\",\"協会骨　\",\"\")&IF(申込みフォーム!AA152<>\"\",\"協会肝炎　\",\"\")","v":""},{"$f":"IF(申込みフォーム!AB152<>\"\",\"子宮　\",\"\")&IF(申込みフォーム!AC152<>\"\",\"ﾏﾝﾓ　\",\"\")&IF(申込みフォーム!AD152<>\"\",\"乳ｴｺｰ\",\"\")","v":""},{"$f":"IF(申込みフォーム!AE152<>\"\",\"ﾏｰｶｰ　\",\"\")&IF(申込みフォーム!AF152<>\"\",\"心機能　\",\"\")&IF(申込みフォーム!AG152<>\"\",\"ABC　\",\"\")&IF(申込みフォーム!AH152<>\"\",\"Lox　\",\"\")&IF(申込みフォーム!AI152<>\"\",\"甲状腺　\",\"\")&IF(申込みフォーム!AJ152<>\"\",\"肝炎\",\"\")","v":""},{"$f":"IF(申込みフォーム!AK152<>\"\",\"脳　\",\"\")&IF(申込みフォーム!AL152<>\"\",\"胸部CT　\",\"\")&IF(申込みフォーム!AM152<>\"\",\"肺機能　\",\"\")&IF(申込みフォーム!AN152<>\"\",\"腹ｴｺｰ　\",\"\")&IF(申込みフォーム!AO152<>\"\",\"心ｴｺｰ　\",\"\")&IF(申込みフォーム!AP152<>\"\",\"ﾌﾛｰﾗ　\",\"\")&IF(申込みフォーム!AQ152<>\"\",\"OCT　\",\"\")&IF(申込みフォーム!AR152<>\"\",\"検便　\",\"\")&IF(申込みフォーム!AS152<>\"\",\"骨　\",\"\")&IF(申込みフォーム!AT152<>\"\",\"骨＋ﾛｺﾓ\",\"\")","v":""},{"$f":"IF(申込みフォーム!AU152<>\"\",申込みフォーム!AU152&\"　　\",\"\")&IF(申込みフォーム!AV152<>\"\",申込みフォーム!AV152&\"　　\",\"\")&IF(申込みフォーム!AW152<>\"\",申込みフォーム!AW152&\"　　\",\"\")&IF(申込みフォーム!$AX152=\"〇\",\"4月　\",\"\")&IF(申込みフォーム!$AY152=\"〇\",\"5月　\",\"\")&IF(申込みフォーム!$AZ152=\"〇\",\"6月　\",\"\")&IF(申込みフォーム!$BA152=\"〇\",\"7月　\",\"\")&IF(申込みフォーム!$BB152=\"〇\",\"8月　\",\"\")&IF(申込みフォーム!$BC152=\"〇\",\"9月　\",\"\")&IF(申込みフォーム!$BD152=\"〇\",\"10月　\",\"\")&IF(申込みフォーム!$BE152=\"〇\",\"11月　\",\"\")&IF(申込みフォーム!$BF152=\"〇\",\"12月　\",\"\")&IF(申込みフォーム!$BG152=\"〇\",\"1月　\",\"\")&IF(申込みフォーム!$BH152=\"〇\",\"2月　\",\"\")&IF(申込みフォーム!$BI152=\"〇\",\"3月　\",\"\")","v":""},{"$f":"IF(申込みフォーム!BJ152<>\"\",申込みフォーム!BJ152,\"\")","v":""},{"$f":"IF(申込みフォーム!BK152<>\"\",申込みフォーム!BK152,\"\")","v":""},{"$f":"申込みフォーム!$Z152","v":""},{"$f":"IF(申込みフォーム!BL152<>\"\",申込みフォーム!BL152&\"　　\",\"\")&IF(申込みフォーム!BM152<>\"\",申込みフォーム!BM152&\"　　\",\"\")&IF(申込みフォーム!BN152<>\"\",申込みフォーム!BN152&\"　　\",\"\")","v":{"$error":"#VALUE!"}},{"$f":"IF($B143=VLOOKUP($B143,'受診者リスト(抽出用）'!$A:$F,1,0),VLOOKUP($B143,'受診者リスト(抽出用）'!$A:$F,3,0)&\"　（団体マスタ）\"&VLOOKUP($B143,'受診者リスト(抽出用）'!$A:$F,4,0)&\"　（枝番）\"&VLOOKUP(B143,'受診者リスト(抽出用）'!$A:$F,5,0),\"\")","v":{"$error":"#N/A"}}]
[143,{"$f":"IF(申込みフォーム!B153<>\"\",申込みフォーム!B153&\"　\"&申込みフォーム!C153,\"\")","v":""},{"$f":"IF(申込みフォーム!E153<>\"\",申込みフォーム!E153&\"　\"&申込みフォーム!F153,\"\")","v":""},{"$f":"IF(申込みフォーム!G153<>\"\",申込みフォーム!G153,\"\")","v":""},{"$f":"IF(申込みフォーム!H153<>\"\",申込みフォーム!H153,\"\")","v":""},{"$f":"IF(申込みフォーム!D153<>\"\",申込みフォーム!D153,\"\")","v":""},{"$f":"IF(申込みフォーム!I153<>\"\",REPLACE(申込みフォーム!I153,4,,\"-\"),\"\")","v":""},{"$f":"IF(申込みフォーム!J153<>\"\",申込みフォーム!J153,\"\")","v":""},{"$f":"IF(申込みフォーム!K153<>\"\",申込みフォーム!K153,\"\")","v":""},{"$f":"IF(申込みフォーム!L153<>\"\",MID(申込みフォーム!L153,1,3)&\"-\"&MID(申込みフォーム!L153,4,4)&\"-\"&MID(申込みフォーム!L153,8,4),\"\")","v":""},{"$f":"IF(申込みフォーム!M153<>\"\",申込みフォーム!M153,\"\")","v":""},{"$f":"IF(申込みフォーム!N153<>\"\",申込みフォーム!N153,\"\")","v":""},{"$f":"IF(申込みフォーム!O153<>\"\",申込みフォーム!O153,\"\")","v":""},{"$f":"IF(申込みフォーム!P153<>\"\",申込みフォーム!P153,\"\")","v":""},{"$f":"IF(申込みフォーム!Q153<>\"\",申込みフォーム!Q153,\"\")","v":""},{"$f":"IF(申込みフォーム!R153<>\"\",申込みフォーム!R153,\"\")","v":""},{"$f":"IF(申込みフォーム!S153<>\"\",申込みフォーム!S153,\"\")","v":""},{"$f":"IF(申込みフォーム!U153=\"細胞診のみ\",\"協会子宮　\",IF(申込みフォーム!U153=\"細胞診＋（自費）膣エコー\",\"協会子宮＋自費膣エコー　\",\"\"))&IF(申込みフォーム!W153<>\"\",\"協会ﾏﾝﾓ　\",\"\")&IF(申込みフォーム!Y153<>\"\",\"協会骨　\",\"\")&IF(申込みフォーム!AA153<>\"\",\"協会肝炎　\",\"\")","v":""},{"$f":"IF(申込みフォーム!AB153<>\"\",\"子宮　\",\"\")&IF(申込みフォーム!AC153<>\"\",\"ﾏﾝﾓ　\",\"\")&IF(申込みフォーム!AD153<>\"\",\"乳ｴｺｰ\",\"\")","v":""},{"$f":"IF(申込みフォーム!AE153<>\"\",\"ﾏｰｶｰ　\",\"\")&IF(申込みフォーム!AF153<>\"\",\"心機能　\",\"\")&IF(申込みフォーム!AG153<>\"\",\"ABC　\",\"\")&IF(申込みフォーム!AH153<>\"\",\"Lox　\",\"\")&IF(申込みフォーム!AI153<>\"\",\"甲状腺　\",\"\")&IF(申込みフォーム!AJ153<>\"\",\"肝炎\",\"\")","v":""},{"$f":"IF(申込みフォーム!AK153<>\"\",\"脳　\",\"\")&IF(申込みフォーム!AL153<>\"\",\"胸部CT　\",\"\")&IF(申込みフォーム!AM153<>\"\",\"肺機能　\",\"\")&IF(申込みフォーム!AN153<>\"\",\"腹ｴｺｰ　\",\"\")&IF(申込みフォーム!AO153<>\"\",\"心ｴｺｰ　\",\"\")&IF(申込みフォーム!AP153<>\"\",\"ﾌﾛｰﾗ　\",\"\")&IF(申込みフォーム!AQ153<>\"\",\"OCT　\",\"\")&IF(申込みフォーム!AR153<>\"\",\"検便　\",\"\")&IF(申込みフォーム!AS153<>\"\",\"骨　\",\"\")&IF(申込みフォーム!AT153<>\"\",\"骨＋ﾛｺﾓ\",\"\")","v":""},{"$f":"IF(申込みフォーム!AU153<>\"\",申込みフォーム!AU153&\"　　\",\"\")&IF(申込みフォーム!AV153<>\"\",申込みフォーム!AV153&\"　　\",\"\")&IF(申込みフォーム!AW153<>\"\",申込みフォーム!AW153&\"　　\",\"\")&IF(申込みフォーム!$AX153=\"〇\",\"4月　\",\"\")&IF(申込みフォーム!$AY153=\"〇\",\"5月　\",\"\")&IF(申込みフォーム!$AZ153=\"〇\",\"6月　\",\"\")&IF(申込みフォーム!$BA153=\"〇\",\"7月　\",\"\")&IF(申込みフォーム!$BB153=\"〇\",\"8月　\",\"\")&IF(申込みフォーム!$BC153=\"〇\",\"9月　\",\"\")&IF(申込みフォーム!$BD153=\"〇\",\"10月　\",\"\")&IF(申込みフォーム!$BE153=\"〇\",\"11月　\",\"\")&IF(申込みフォーム!$BF153=\"〇\",\"12月　\",\"\")&IF(申込みフォーム!$BG153=\"〇\",\"1月　\",\"\")&IF(申込みフォーム!$BH153=\"〇\",\"2月　\",\"\")&IF(申込みフォーム!$BI153=\"〇\",\"3月　\",\"\")","v":""},{"$f":"IF(申込みフォーム!BJ153<>\"\",申込みフォーム!BJ153,\"\")","v":""},{"$f":"IF(申込みフォーム!BK153<>\"\",申込みフォーム!BK153,\"\")","v":""},{"$f":"申込みフォーム!$Z153","v":""},{"$f":"IF(申込みフォーム!BL153<>\"\",申込みフォーム!BL153&\"　　\",\"\")&IF(申込みフォーム!BM153<>\"\",申込みフォーム!BM153&\"　　\",\"\")&IF(申込みフォーム!BN153<>\"\",申込みフォーム!BN153&\"　　\",\"\")","v":{"$error":"#VALUE!"}},{"$f":"IF($B144=VLOOKUP($B144,'受診者リスト(抽出用）'!$A:$F,1,0),VLOOKUP($B144,'受診者リスト(抽出用）'!$A:$F,3,0)&\"　（団体マスタ）\"&VLOOKUP($B144,'受診者リスト(抽出用）'!$A:$F,4,0)&\"　（枝番）\"&VLOOKUP(B144,'受診者リスト(抽出用）'!$A:$F,5,0),\"\")","v":{"$error":"#N/A"}}]
[144,{"$f":"IF(申込みフォーム!B154<>\"\",申込みフォーム!B154&\"　\"&申込みフォーム!C154,\"\")","v":""},{"$f":"IF(申込みフォーム!E154<>\"\",申込みフォーム!E154&\"　\"&申込みフォーム!F154,\"\")","v":""},{"$f":"IF(申込みフォーム!G154<>\"\",申込みフォーム!G154,\"\")","v":""},{"$f":"IF(申込みフォーム!H154<>\"\",申込みフォーム!H154,\"\")","v":""},{"$f":"IF(申込みフォーム!D154<>\"\",申込みフォーム!D154,\"\")","v":""},{"$f":"IF(申込みフォーム!I154<>\"\",REPLACE(申込みフォーム!I154,4,,\"-\"),\"\")","v":""},{"$f":"IF(申込みフォーム!J154<>\"\",申込みフォーム!J154,\"\")","v":""},{"$f":"IF(申込みフォーム!K154<>\"\",申込みフォーム!K154,\"\")","v":""},{"$f":"IF(申込みフォーム!L154<>\"\",MID(申込みフォーム!L154,1,3)&\"-\"&MID(申込みフォーム!L154,4,4)&\"-\"&MID(申込みフォーム!L154,8,4),\"\")","v":""},{"$f":"IF(申込みフォーム!M154<>\"\",申込みフォーム!M154,\"\")","v":""},{"$f":"IF(申込みフォーム!N154<>\"\",申込みフォーム!N154,\"\")","v":""},{"$f":"IF(申込みフォーム!O154<>\"\",申込みフォーム!O154,\"\")","v":""},{"$f":"IF(申込みフォーム!P154<>\"\",申込みフォーム!P154,\"\")","v":""},{"$f":"IF(申込みフォーム!Q154<>\"\",申込みフォーム!Q154,\"\")","v":""},{"$f":"IF(申込みフォーム!R154<>\"\",申込みフォーム!R154,\"\")","v":""},{"$f":"IF(申込みフォーム!S154<>\"\",申込みフォーム!S154,\"\")","v":""},{"$f":"IF(申込みフォーム!U154=\"細胞診のみ\",\"協会子宮　\",IF(申込みフォーム!U154=\"細胞診＋（自費）膣エコー\",\"協会子宮＋自費膣エコー　\",\"\"))&IF(申込みフォーム!W154<>\"\",\"協会ﾏﾝﾓ　\",\"\")&IF(申込みフォーム!Y154<>\"\",\"協会骨　\",\"\")&IF(申込みフォーム!AA154<>\"\",\"協会肝炎　\",\"\")","v":""},{"$f":"IF(申込みフォーム!AB154<>\"\",\"子宮　\",\"\")&IF(申込みフォーム!AC154<>\"\",\"ﾏﾝﾓ　\",\"\")&IF(申込みフォーム!AD154<>\"\",\"乳ｴｺｰ\",\"\")","v":""},{"$f":"IF(申込みフォーム!AE154<>\"\",\"ﾏｰｶｰ　\",\"\")&IF(申込みフォーム!AF154<>\"\",\"心機能　\",\"\")&IF(申込みフォーム!AG154<>\"\",\"ABC　\",\"\")&IF(申込みフォーム!AH154<>\"\",\"Lox　\",\"\")&IF(申込みフォーム!AI154<>\"\",\"甲状腺　\",\"\")&IF(申込みフォーム!AJ154<>\"\",\"肝炎\",\"\")","v":""},{"$f":"IF(申込みフォーム!AK154<>\"\",\"脳　\",\"\")&IF(申込みフォーム!AL154<>\"\",\"胸部CT　\",\"\")&IF(申込みフォーム!AM154<>\"\",\"肺機能　\",\"\")&IF(申込みフォーム!AN154<>\"\",\"腹ｴｺｰ　\",\"\")&IF(申込みフォーム!AO154<>\"\",\"心ｴｺｰ　\",\"\")&IF(申込みフォーム!AP154<>\"\",\"ﾌﾛｰﾗ　\",\"\")&IF(申込みフォーム!AQ154<>\"\",\"OCT　\",\"\")&IF(申込みフォーム!AR154<>\"\",\"検便　\",\"\")&IF(申込みフォーム!AS154<>\"\",\"骨　\",\"\")&IF(申込みフォーム!AT154<>\"\",\"骨＋ﾛｺﾓ\",\"\")","v":""},{"$f":"IF(申込みフォーム!AU154<>\"\",申込みフォーム!AU154&\"　　\",\"\")&IF(申込みフォーム!AV154<>\"\",申込みフォーム!AV154&\"　　\",\"\")&IF(申込みフォーム!AW154<>\"\",申込みフォーム!AW154&\"　　\",\"\")&IF(申込みフォーム!$AX154=\"〇\",\"4月　\",\"\")&IF(申込みフォーム!$AY154=\"〇\",\"5月　\",\"\")&IF(申込みフォーム!$AZ154=\"〇\",\"6月　\",\"\")&IF(申込みフォーム!$BA154=\"〇\",\"7月　\",\"\")&IF(申込みフォーム!$BB154=\"〇\",\"8月　\",\"\")&IF(申込みフォーム!$BC154=\"〇\",\"9月　\",\"\")&IF(申込みフォーム!$BD154=\"〇\",\"10月　\",\"\")&IF(申込みフォーム!$BE154=\"〇\",\"11月　\",\"\")&IF(申込みフォーム!$BF154=\"〇\",\"12月　\",\"\")&IF(申込みフォーム!$BG154=\"〇\",\"1月　\",\"\")&IF(申込みフォーム!$BH154=\"〇\",\"2月　\",\"\")&IF(申込みフォーム!$BI154=\"〇\",\"3月　\",\"\")","v":""},{"$f":"IF(申込みフォーム!BJ154<>\"\",申込みフォーム!BJ154,\"\")","v":""},{"$f":"IF(申込みフォーム!BK154<>\"\",申込みフォーム!BK154,\"\")","v":""},{"$f":"申込みフォーム!$Z154","v":""},{"$f":"IF(申込みフォーム!BL154<>\"\",申込みフォーム!BL154&\"　　\",\"\")&IF(申込みフォーム!BM154<>\"\",申込みフォーム!BM154&\"　　\",\"\")&IF(申込みフォーム!BN154<>\"\",申込みフォーム!BN154&\"　　\",\"\")","v":{"$error":"#VALUE!"}},{"$f":"IF($B145=VLOOKUP($B145,'受診者リスト(抽出用）'!$A:$F,1,0),VLOOKUP($B145,'受診者リスト(抽出用）'!$A:$F,3,0)&\"　（団体マスタ）\"&VLOOKUP($B145,'受診者リスト(抽出用）'!$A:$F,4,0)&\"　（枝番）\"&VLOOKUP(B145,'受診者リスト(抽出用）'!$A:$F,5,0),\"\")","v":{"$error":"#N/A"}}]
[145,{"$f":"IF(申込みフォーム!B155<>\"\",申込みフォーム!B155&\"　\"&申込みフォーム!C155,\"\")","v":""},{"$f":"IF(申込みフォーム!E155<>\"\",申込みフォーム!E155&\"　\"&申込みフォーム!F155,\"\")","v":""},{"$f":"IF(申込みフォーム!G155<>\"\",申込みフォーム!G155,\"\")","v":""},{"$f":"IF(申込みフォーム!H155<>\"\",申込みフォーム!H155,\"\")","v":""},{"$f":"IF(申込みフォーム!D155<>\"\",申込みフォーム!D155,\"\")","v":""},{"$f":"IF(申込みフォーム!I155<>\"\",REPLACE(申込みフォーム!I155,4,,\"-\"),\"\")","v":""},{"$f":"IF(申込みフォーム!J155<>\"\",申込みフォーム!J155,\"\")","v":""},{"$f":"IF(申込みフォーム!K155<>\"\",申込みフォーム!K155,\"\")","v":""},{"$f":"IF(申込みフォーム!L155<>\"\",MID(申込みフォーム!L155,1,3)&\"-\"&MID(申込みフォーム!L155,4,4)&\"-\"&MID(申込みフォーム!L155,8,4),\"\")","v":""},{"$f":"IF(申込みフォーム!M155<>\"\",申込みフォーム!M155,\"\")","v":""},{"$f":"IF(申込みフォーム!N155<>\"\",申込みフォーム!N155,\"\")","v":""},{"$f":"IF(申込みフォーム!O155<>\"\",申込みフォーム!O155,\"\")","v":""},{"$f":"IF(申込みフォーム!P155<>\"\",申込みフォーム!P155,\"\")","v":""},{"$f":"IF(申込みフォーム!Q155<>\"\",申込みフォーム!Q155,\"\")","v":""},{"$f":"IF(申込みフォーム!R155<>\"\",申込みフォーム!R155,\"\")","v":""},{"$f":"IF(申込みフォーム!S155<>\"\",申込みフォーム!S155,\"\")","v":""},{"$f":"IF(申込みフォーム!U155=\"細胞診のみ\",\"協会子宮　\",IF(申込みフォーム!U155=\"細胞診＋（自費）膣エコー\",\"協会子宮＋自費膣エコー　\",\"\"))&IF(申込みフォーム!W155<>\"\",\"協会ﾏﾝﾓ　\",\"\")&IF(申込みフォーム!Y155<>\"\",\"協会骨　\",\"\")&IF(申込みフォーム!AA155<>\"\",\"協会肝炎　\",\"\")","v":""},{"$f":"IF(申込みフォーム!AB155<>\"\",\"子宮　\",\"\")&IF(申込みフォーム!AC155<>\"\",\"ﾏﾝﾓ　\",\"\")&IF(申込みフォーム!AD155<>\"\",\"乳ｴｺｰ\",\"\")","v":""},{"$f":"IF(申込みフォーム!AE155<>\"\",\"ﾏｰｶｰ　\",\"\")&IF(申込みフォーム!AF155<>\"\",\"心機能　\",\"\")&IF(申込みフォーム!AG155<>\"\",\"ABC　\",\"\")&IF(申込みフォーム!AH155<>\"\",\"Lox　\",\"\")&IF(申込みフォーム!AI155<>\"\",\"甲状腺　\",\"\")&IF(申込みフォーム!AJ155<>\"\",\"肝炎\",\"\")","v":""},{"$f":"IF(申込みフォーム!AK155<>\"\",\"脳　\",\"\")&IF(申込みフォーム!AL155<>\"\",\"胸部CT　\",\"\")&IF(申込みフォーム!AM155<>\"\",\"肺機能　\",\"\")&IF(申込みフォーム!AN155<>\"\",\"腹ｴｺｰ　\",\"\")&IF(申込みフォーム!AO155<>\"\",\"心ｴｺｰ　\",\"\")&IF(申込みフォーム!AP155<>\"\",\"ﾌﾛｰﾗ　\",\"\")&IF(申込みフォーム!AQ155<>\"\",\"OCT　\",\"\")&IF(申込みフォーム!AR155<>\"\",\"検便　\",\"\")&IF(申込みフォーム!AS155<>\"\",\"骨　\",\"\")&IF(申込みフォーム!AT155<>\"\",\"骨＋ﾛｺﾓ\",\"\")","v":""},{"$f":"IF(申込みフォーム!AU155<>\"\",申込みフォーム!AU155&\"　　\",\"\")&IF(申込みフォーム!AV155<>\"\",申込みフォーム!AV155&\"　　\",\"\")&IF(申込みフォーム!AW155<>\"\",申込みフォーム!AW155&\"　　\",\"\")&IF(申込みフォーム!$AX155=\"〇\",\"4月　\",\"\")&IF(申込みフォーム!$AY155=\"〇\",\"5月　\",\"\")&IF(申込みフォーム!$AZ155=\"〇\",\"6月　\",\"\")&IF(申込みフォーム!$BA155=\"〇\",\"7月　\",\"\")&IF(申込みフォーム!$BB155=\"〇\",\"8月　\",\"\")&IF(申込みフォーム!$BC155=\"〇\",\"9月　\",\"\")&IF(申込みフォーム!$BD155=\"〇\",\"10月　\",\"\")&IF(申込みフォーム!$BE155=\"〇\",\"11月　\",\"\")&IF(申込みフォーム!$BF155=\"〇\",\"12月　\",\"\")&IF(申込みフォーム!$BG155=\"〇\",\"1月　\",\"\")&IF(申込みフォーム!$BH155=\"〇\",\"2月　\",\"\")&IF(申込みフォーム!$BI155=\"〇\",\"3月　\",\"\")","v":""},{"$f":"IF(申込みフォーム!BJ155<>\"\",申込みフォーム!BJ155,\"\")","v":""},{"$f":"IF(申込みフォーム!BK155<>\"\",申込みフォーム!BK155,\"\")","v":""},{"$f":"申込みフォーム!$Z155","v":""},{"$f":"IF(申込みフォーム!BL155<>\"\",申込みフォーム!BL155&\"　　\",\"\")&IF(申込みフォーム!BM155<>\"\",申込みフォーム!BM155&\"　　\",\"\")&IF(申込みフォーム!BN155<>\"\",申込みフォーム!BN155&\"　　\",\"\")","v":{"$error":"#VALUE!"}},{"$f":"IF($B146=VLOOKUP($B146,'受診者リスト(抽出用）'!$A:$F,1,0),VLOOKUP($B146,'受診者リスト(抽出用）'!$A:$F,3,0)&\"　（団体マスタ）\"&VLOOKUP($B146,'受診者リスト(抽出用）'!$A:$F,4,0)&\"　（枝番）\"&VLOOKUP(B146,'受診者リスト(抽出用）'!$A:$F,5,0),\"\")","v":{"$error":"#N/A"}}]
[146,{"$f":"IF(申込みフォーム!B156<>\"\",申込みフォーム!B156&\"　\"&申込みフォーム!C156,\"\")","v":""},{"$f":"IF(申込みフォーム!E156<>\"\",申込みフォーム!E156&\"　\"&申込みフォーム!F156,\"\")","v":""},{"$f":"IF(申込みフォーム!G156<>\"\",申込みフォーム!G156,\"\")","v":""},{"$f":"IF(申込みフォーム!H156<>\"\",申込みフォーム!H156,\"\")","v":""},{"$f":"IF(申込みフォーム!D156<>\"\",申込みフォーム!D156,\"\")","v":""},{"$f":"IF(申込みフォーム!I156<>\"\",REPLACE(申込みフォーム!I156,4,,\"-\"),\"\")","v":""},{"$f":"IF(申込みフォーム!J156<>\"\",申込みフォーム!J156,\"\")","v":""},{"$f":"IF(申込みフォーム!K156<>\"\",申込みフォーム!K156,\"\")","v":""},{"$f":"IF(申込みフォーム!L156<>\"\",MID(申込みフォーム!L156,1,3)&\"-\"&MID(申込みフォーム!L156,4,4)&\"-\"&MID(申込みフォーム!L156,8,4),\"\")","v":""},{"$f":"IF(申込みフォーム!M156<>\"\",申込みフォーム!M156,\"\")","v":""},{"$f":"IF(申込みフォーム!N156<>\"\",申込みフォーム!N156,\"\")","v":""},{"$f":"IF(申込みフォーム!O156<>\"\",申込みフォーム!O156,\"\")","v":""},{"$f":"IF(申込みフォーム!P156<>\"\",申込みフォーム!P156,\"\")","v":""},{"$f":"IF(申込みフォーム!Q156<>\"\",申込みフォーム!Q156,\"\")","v":""},{"$f":"IF(申込みフォーム!R156<>\"\",申込みフォーム!R156,\"\")","v":""},{"$f":"IF(申込みフォーム!S156<>\"\",申込みフォーム!S156,\"\")","v":""},{"$f":"IF(申込みフォーム!U156=\"細胞診のみ\",\"協会子宮　\",IF(申込みフォーム!U156=\"細胞診＋（自費）膣エコー\",\"協会子宮＋自費膣エコー　\",\"\"))&IF(申込みフォーム!W156<>\"\",\"協会ﾏﾝﾓ　\",\"\")&IF(申込みフォーム!Y156<>\"\",\"協会骨　\",\"\")&IF(申込みフォーム!AA156<>\"\",\"協会肝炎　\",\"\")","v":""},{"$f":"IF(申込みフォーム!AB156<>\"\",\"子宮　\",\"\")&IF(申込みフォーム!AC156<>\"\",\"ﾏﾝﾓ　\",\"\")&IF(申込みフォーム!AD156<>\"\",\"乳ｴｺｰ\",\"\")","v":""},{"$f":"IF(申込みフォーム!AE156<>\"\",\"ﾏｰｶｰ　\",\"\")&IF(申込みフォーム!AF156<>\"\",\"心機能　\",\"\")&IF(申込みフォーム!AG156<>\"\",\"ABC　\",\"\")&IF(申込みフォーム!AH156<>\"\",\"Lox　\",\"\")&IF(申込みフォーム!AI156<>\"\",\"甲状腺　\",\"\")&IF(申込みフォーム!AJ156<>\"\",\"肝炎\",\"\")","v":""},{"$f":"IF(申込みフォーム!AK156<>\"\",\"脳　\",\"\")&IF(申込みフォーム!AL156<>\"\",\"胸部CT　\",\"\")&IF(申込みフォーム!AM156<>\"\",\"肺機能　\",\"\")&IF(申込みフォーム!AN156<>\"\",\"腹ｴｺｰ　\",\"\")&IF(申込みフォーム!AO156<>\"\",\"心ｴｺｰ　\",\"\")&IF(申込みフォーム!AP156<>\"\",\"ﾌﾛｰﾗ　\",\"\")&IF(申込みフォーム!AQ156<>\"\",\"OCT　\",\"\")&IF(申込みフォーム!AR156<>\"\",\"検便　\",\"\")&IF(申込みフォーム!AS156<>\"\",\"骨　\",\"\")&IF(申込みフォーム!AT156<>\"\",\"骨＋ﾛｺﾓ\",\"\")","v":""},{"$f":"IF(申込みフォーム!AU156<>\"\",申込みフォーム!AU156&\"　　\",\"\")&IF(申込みフォーム!AV156<>\"\",申込みフォーム!AV156&\"　　\",\"\")&IF(申込みフォーム!AW156<>\"\",申込みフォーム!AW156&\"　　\",\"\")&IF(申込みフォーム!$AX156=\"〇\",\"4月　\",\"\")&IF(申込みフォーム!$AY156=\"〇\",\"5月　\",\"\")&IF(申込みフォーム!$AZ156=\"〇\",\"6月　\",\"\")&IF(申込みフォーム!$BA156=\"〇\",\"7月　\",\"\")&IF(申込みフォーム!$BB156=\"〇\",\"8月　\",\"\")&IF(申込みフォーム!$BC156=\"〇\",\"9月　\",\"\")&IF(申込みフォーム!$BD156=\"〇\",\"10月　\",\"\")&IF(申込みフォーム!$BE156=\"〇\",\"11月　\",\"\")&IF(申込みフォーム!$BF156=\"〇\",\"12月　\",\"\")&IF(申込みフォーム!$BG156=\"〇\",\"1月　\",\"\")&IF(申込みフォーム!$BH156=\"〇\",\"2月　\",\"\")&IF(申込みフォーム!$BI156=\"〇\",\"3月　\",\"\")","v":""},{"$f":"IF(申込みフォーム!BJ156<>\"\",申込みフォーム!BJ156,\"\")","v":""},{"$f":"IF(申込みフォーム!BK156<>\"\",申込みフォーム!BK156,\"\")","v":""},{"$f":"申込みフォーム!$Z156","v":""},{"$f":"IF(申込みフォーム!BL156<>\"\",申込みフォーム!BL156&\"　　\",\"\")&IF(申込みフォーム!BM156<>\"\",申込みフォーム!BM156&\"　　\",\"\")&IF(申込みフォーム!BN156<>\"\",申込みフォーム!BN156&\"　　\",\"\")","v":{"$error":"#VALUE!"}},{"$f":"IF($B147=VLOOKUP($B147,'受診者リスト(抽出用）'!$A:$F,1,0),VLOOKUP($B147,'受診者リスト(抽出用）'!$A:$F,3,0)&\"　（団体マスタ）\"&VLOOKUP($B147,'受診者リスト(抽出用）'!$A:$F,4,0)&\"　（枝番）\"&VLOOKUP(B147,'受診者リスト(抽出用）'!$A:$F,5,0),\"\")","v":{"$error":"#N/A"}}]
[147,{"$f":"IF(申込みフォーム!B157<>\"\",申込みフォーム!B157&\"　\"&申込みフォーム!C157,\"\")","v":""},{"$f":"IF(申込みフォーム!E157<>\"\",申込みフォーム!E157&\"　\"&申込みフォーム!F157,\"\")","v":""},{"$f":"IF(申込みフォーム!G157<>\"\",申込みフォーム!G157,\"\")","v":""},{"$f":"IF(申込みフォーム!H157<>\"\",申込みフォーム!H157,\"\")","v":""},{"$f":"IF(申込みフォーム!D157<>\"\",申込みフォーム!D157,\"\")","v":""},{"$f":"IF(申込みフォーム!I157<>\"\",REPLACE(申込みフォーム!I157,4,,\"-\"),\"\")","v":""},{"$f":"IF(申込みフォーム!J157<>\"\",申込みフォーム!J157,\"\")","v":""},{"$f":"IF(申込みフォーム!K157<>\"\",申込みフォーム!K157,\"\")","v":""},{"$f":"IF(申込みフォーム!L157<>\"\",MID(申込みフォーム!L157,1,3)&\"-\"&MID(申込みフォーム!L157,4,4)&\"-\"&MID(申込みフォーム!L157,8,4),\"\")","v":""},{"$f":"IF(申込みフォーム!M157<>\"\",申込みフォーム!M157,\"\")","v":""},{"$f":"IF(申込みフォーム!N157<>\"\",申込みフォーム!N157,\"\")","v":""},{"$f":"IF(申込みフォーム!O157<>\"\",申込みフォーム!O157,\"\")","v":""},{"$f":"IF(申込みフォーム!P157<>\"\",申込みフォーム!P157,\"\")","v":""},{"$f":"IF(申込みフォーム!Q157<>\"\",申込みフォーム!Q157,\"\")","v":""},{"$f":"IF(申込みフォーム!R157<>\"\",申込みフォーム!R157,\"\")","v":""},{"$f":"IF(申込みフォーム!S157<>\"\",申込みフォーム!S157,\"\")","v":""},{"$f":"IF(申込みフォーム!U157=\"細胞診のみ\",\"協会子宮　\",IF(申込みフォーム!U157=\"細胞診＋（自費）膣エコー\",\"協会子宮＋自費膣エコー　\",\"\"))&IF(申込みフォーム!W157<>\"\",\"協会ﾏﾝﾓ　\",\"\")&IF(申込みフォーム!Y157<>\"\",\"協会骨　\",\"\")&IF(申込みフォーム!AA157<>\"\",\"協会肝炎　\",\"\")","v":""},{"$f":"IF(申込みフォーム!AB157<>\"\",\"子宮　\",\"\")&IF(申込みフォーム!AC157<>\"\",\"ﾏﾝﾓ　\",\"\")&IF(申込みフォーム!AD157<>\"\",\"乳ｴｺｰ\",\"\")","v":""},{"$f":"IF(申込みフォーム!AE157<>\"\",\"ﾏｰｶｰ　\",\"\")&IF(申込みフォーム!AF157<>\"\",\"心機能　\",\"\")&IF(申込みフォーム!AG157<>\"\",\"ABC　\",\"\")&IF(申込みフォーム!AH157<>\"\",\"Lox　\",\"\")&IF(申込みフォーム!AI157<>\"\",\"甲状腺　\",\"\")&IF(申込みフォーム!AJ157<>\"\",\"肝炎\",\"\")","v":""},{"$f":"IF(申込みフォーム!AK157<>\"\",\"脳　\",\"\")&IF(申込みフォーム!AL157<>\"\",\"胸部CT　\",\"\")&IF(申込みフォーム!AM157<>\"\",\"肺機能　\",\"\")&IF(申込みフォーム!AN157<>\"\",\"腹ｴｺｰ　\",\"\")&IF(申込みフォーム!AO157<>\"\",\"心ｴｺｰ　\",\"\")&IF(申込みフォーム!AP157<>\"\",\"ﾌﾛｰﾗ　\",\"\")&IF(申込みフォーム!AQ157<>\"\",\"OCT　\",\"\")&IF(申込みフォーム!AR157<>\"\",\"検便　\",\"\")&IF(申込みフォーム!AS157<>\"\",\"骨　\",\"\")&IF(申込みフォーム!AT157<>\"\",\"骨＋ﾛｺﾓ\",\"\")","v":""},{"$f":"IF(申込みフォーム!AU157<>\"\",申込みフォーム!AU157&\"　　\",\"\")&IF(申込みフォーム!AV157<>\"\",申込みフォーム!AV157&\"　　\",\"\")&IF(申込みフォーム!AW157<>\"\",申込みフォーム!AW157&\"　　\",\"\")&IF(申込みフォーム!$AX157=\"〇\",\"4月　\",\"\")&IF(申込みフォーム!$AY157=\"〇\",\"5月　\",\"\")&IF(申込みフォーム!$AZ157=\"〇\",\"6月　\",\"\")&IF(申込みフォーム!$BA157=\"〇\",\"7月　\",\"\")&IF(申込みフォーム!$BB157=\"〇\",\"8月　\",\"\")&IF(申込みフォーム!$BC157=\"〇\",\"9月　\",\"\")&IF(申込みフォーム!$BD157=\"〇\",\"10月　\",\"\")&IF(申込みフォーム!$BE157=\"〇\",\"11月　\",\"\")&IF(申込みフォーム!$BF157=\"〇\",\"12月　\",\"\")&IF(申込みフォーム!$BG157=\"〇\",\"1月　\",\"\")&IF(申込みフォーム!$BH157=\"〇\",\"2月　\",\"\")&IF(申込みフォーム!$BI157=\"〇\",\"3月　\",\"\")","v":""},{"$f":"IF(申込みフォーム!BJ157<>\"\",申込みフォーム!BJ157,\"\")","v":""},{"$f":"IF(申込みフォーム!BK157<>\"\",申込みフォーム!BK157,\"\")","v":""},{"$f":"申込みフォーム!$Z157","v":""},{"$f":"IF(申込みフォーム!BL157<>\"\",申込みフォーム!BL157&\"　　\",\"\")&IF(申込みフォーム!BM157<>\"\",申込みフォーム!BM157&\"　　\",\"\")&IF(申込みフォーム!BN157<>\"\",申込みフォーム!BN157&\"　　\",\"\")","v":{"$error":"#VALUE!"}},{"$f":"IF($B148=VLOOKUP($B148,'受診者リスト(抽出用）'!$A:$F,1,0),VLOOKUP($B148,'受診者リスト(抽出用）'!$A:$F,3,0)&\"　（団体マスタ）\"&VLOOKUP($B148,'受診者リスト(抽出用）'!$A:$F,4,0)&\"　（枝番）\"&VLOOKUP(B148,'受診者リスト(抽出用）'!$A:$F,5,0),\"\")","v":{"$error":"#N/A"}}]
[148,{"$f":"IF(申込みフォーム!B158<>\"\",申込みフォーム!B158&\"　\"&申込みフォーム!C158,\"\")","v":""},{"$f":"IF(申込みフォーム!E158<>\"\",申込みフォーム!E158&\"　\"&申込みフォーム!F158,\"\")","v":""},{"$f":"IF(申込みフォーム!G158<>\"\",申込みフォーム!G158,\"\")","v":""},{"$f":"IF(申込みフォーム!H158<>\"\",申込みフォーム!H158,\"\")","v":""},{"$f":"IF(申込みフォーム!D158<>\"\",申込みフォーム!D158,\"\")","v":""},{"$f":"IF(申込みフォーム!I158<>\"\",REPLACE(申込みフォーム!I158,4,,\"-\"),\"\")","v":""},{"$f":"IF(申込みフォーム!J158<>\"\",申込みフォーム!J158,\"\")","v":""},{"$f":"IF(申込みフォーム!K158<>\"\",申込みフォーム!K158,\"\")","v":""},{"$f":"IF(申込みフォーム!L158<>\"\",MID(申込みフォーム!L158,1,3)&\"-\"&MID(申込みフォーム!L158,4,4)&\"-\"&MID(申込みフォーム!L158,8,4),\"\")","v":""},{"$f":"IF(申込みフォーム!M158<>\"\",申込みフォーム!M158,\"\")","v":""},{"$f":"IF(申込みフォーム!N158<>\"\",申込みフォーム!N158,\"\")","v":""},{"$f":"IF(申込みフォーム!O158<>\"\",申込みフォーム!O158,\"\")","v":""},{"$f":"IF(申込みフォーム!P158<>\"\",申込みフォーム!P158,\"\")","v":""},{"$f":"IF(申込みフォーム!Q158<>\"\",申込みフォーム!Q158,\"\")","v":""},{"$f":"IF(申込みフォーム!R158<>\"\",申込みフォーム!R158,\"\")","v":""},{"$f":"IF(申込みフォーム!S158<>\"\",申込みフォーム!S158,\"\")","v":""},{"$f":"IF(申込みフォーム!U158=\"細胞診のみ\",\"協会子宮　\",IF(申込みフォーム!U158=\"細胞診＋（自費）膣エコー\",\"協会子宮＋自費膣エコー　\",\"\"))&IF(申込みフォーム!W158<>\"\",\"協会ﾏﾝﾓ　\",\"\")&IF(申込みフォーム!Y158<>\"\",\"協会骨　\",\"\")&IF(申込みフォーム!AA158<>\"\",\"協会肝炎　\",\"\")","v":""},{"$f":"IF(申込みフォーム!AB158<>\"\",\"子宮　\",\"\")&IF(申込みフォーム!AC158<>\"\",\"ﾏﾝﾓ　\",\"\")&IF(申込みフォーム!AD158<>\"\",\"乳ｴｺｰ\",\"\")","v":""},{"$f":"IF(申込みフォーム!AE158<>\"\",\"ﾏｰｶｰ　\",\"\")&IF(申込みフォーム!AF158<>\"\",\"心機能　\",\"\")&IF(申込みフォーム!AG158<>\"\",\"ABC　\",\"\")&IF(申込みフォーム!AH158<>\"\",\"Lox　\",\"\")&IF(申込みフォーム!AI158<>\"\",\"甲状腺　\",\"\")&IF(申込みフォーム!AJ158<>\"\",\"肝炎\",\"\")","v":""},{"$f":"IF(申込みフォーム!AK158<>\"\",\"脳　\",\"\")&IF(申込みフォーム!AL158<>\"\",\"胸部CT　\",\"\")&IF(申込みフォーム!AM158<>\"\",\"肺機能　\",\"\")&IF(申込みフォーム!AN158<>\"\",\"腹ｴｺｰ　\",\"\")&IF(申込みフォーム!AO158<>\"\",\"心ｴｺｰ　\",\"\")&IF(申込みフォーム!AP158<>\"\",\"ﾌﾛｰﾗ　\",\"\")&IF(申込みフォーム!AQ158<>\"\",\"OCT　\",\"\")&IF(申込みフォーム!AR158<>\"\",\"検便　\",\"\")&IF(申込みフォーム!AS158<>\"\",\"骨　\",\"\")&IF(申込みフォーム!AT158<>\"\",\"骨＋ﾛｺﾓ\",\"\")","v":""},{"$f":"IF(申込みフォーム!AU158<>\"\",申込みフォーム!AU158&\"　　\",\"\")&IF(申込みフォーム!AV158<>\"\",申込みフォーム!AV158&\"　　\",\"\")&IF(申込みフォーム!AW158<>\"\",申込みフォーム!AW158&\"　　\",\"\")&IF(申込みフォーム!$AX158=\"〇\",\"4月　\",\"\")&IF(申込みフォーム!$AY158=\"〇\",\"5月　\",\"\")&IF(申込みフォーム!$AZ158=\"〇\",\"6月　\",\"\")&IF(申込みフォーム!$BA158=\"〇\",\"7月　\",\"\")&IF(申込みフォーム!$BB158=\"〇\",\"8月　\",\"\")&IF(申込みフォーム!$BC158=\"〇\",\"9月　\",\"\")&IF(申込みフォーム!$BD158=\"〇\",\"10月　\",\"\")&IF(申込みフォーム!$BE158=\"〇\",\"11月　\",\"\")&IF(申込みフォーム!$BF158=\"〇\",\"12月　\",\"\")&IF(申込みフォーム!$BG158=\"〇\",\"1月　\",\"\")&IF(申込みフォーム!$BH158=\"〇\",\"2月　\",\"\")&IF(申込みフォーム!$BI158=\"〇\",\"3月　\",\"\")","v":""},{"$f":"IF(申込みフォーム!BJ158<>\"\",申込みフォーム!BJ158,\"\")","v":""},{"$f":"IF(申込みフォーム!BK158<>\"\",申込みフォーム!BK158,\"\")","v":""},{"$f":"申込みフォーム!$Z158","v":""},{"$f":"IF(申込みフォーム!BL158<>\"\",申込みフォーム!BL158&\"　　\",\"\")&IF(申込みフォーム!BM158<>\"\",申込みフォーム!BM158&\"　　\",\"\")&IF(申込みフォーム!BN158<>\"\",申込みフォーム!BN158&\"　　\",\"\")","v":{"$error":"#VALUE!"}},{"$f":"IF($B149=VLOOKUP($B149,'受診者リスト(抽出用）'!$A:$F,1,0),VLOOKUP($B149,'受診者リスト(抽出用）'!$A:$F,3,0)&\"　（団体マスタ）\"&VLOOKUP($B149,'受診者リスト(抽出用）'!$A:$F,4,0)&\"　（枝番）\"&VLOOKUP(B149,'受診者リスト(抽出用）'!$A:$F,5,0),\"\")","v":{"$error":"#N/A"}}]
[149,{"$f":"IF(申込みフォーム!B159<>\"\",申込みフォーム!B159&\"　\"&申込みフォーム!C159,\"\")","v":""},{"$f":"IF(申込みフォーム!E159<>\"\",申込みフォーム!E159&\"　\"&申込みフォーム!F159,\"\")","v":""},{"$f":"IF(申込みフォーム!G159<>\"\",申込みフォーム!G159,\"\")","v":""},{"$f":"IF(申込みフォーム!H159<>\"\",申込みフォーム!H159,\"\")","v":""},{"$f":"IF(申込みフォーム!D159<>\"\",申込みフォーム!D159,\"\")","v":""},{"$f":"IF(申込みフォーム!I159<>\"\",REPLACE(申込みフォーム!I159,4,,\"-\"),\"\")","v":""},{"$f":"IF(申込みフォーム!J159<>\"\",申込みフォーム!J159,\"\")","v":""},{"$f":"IF(申込みフォーム!K159<>\"\",申込みフォーム!K159,\"\")","v":""},{"$f":"IF(申込みフォーム!L159<>\"\",MID(申込みフォーム!L159,1,3)&\"-\"&MID(申込みフォーム!L159,4,4)&\"-\"&MID(申込みフォーム!L159,8,4),\"\")","v":""},{"$f":"IF(申込みフォーム!M159<>\"\",申込みフォーム!M159,\"\")","v":""},{"$f":"IF(申込みフォーム!N159<>\"\",申込みフォーム!N159,\"\")","v":""},{"$f":"IF(申込みフォーム!O159<>\"\",申込みフォーム!O159,\"\")","v":""},{"$f":"IF(申込みフォーム!P159<>\"\",申込みフォーム!P159,\"\")","v":""},{"$f":"IF(申込みフォーム!Q159<>\"\",申込みフォーム!Q159,\"\")","v":""},{"$f":"IF(申込みフォーム!R159<>\"\",申込みフォーム!R159,\"\")","v":""},{"$f":"IF(申込みフォーム!S159<>\"\",申込みフォーム!S159,\"\")","v":""},{"$f":"IF(申込みフォーム!U159=\"細胞診のみ\",\"協会子宮　\",IF(申込みフォーム!U159=\"細胞診＋（自費）膣エコー\",\"協会子宮＋自費膣エコー　\",\"\"))&IF(申込みフォーム!W159<>\"\",\"協会ﾏﾝﾓ　\",\"\")&IF(申込みフォーム!Y159<>\"\",\"協会骨　\",\"\")&IF(申込みフォーム!AA159<>\"\",\"協会肝炎　\",\"\")","v":""},{"$f":"IF(申込みフォーム!AB159<>\"\",\"子宮　\",\"\")&IF(申込みフォーム!AC159<>\"\",\"ﾏﾝﾓ　\",\"\")&IF(申込みフォーム!AD159<>\"\",\"乳ｴｺｰ\",\"\")","v":""},{"$f":"IF(申込みフォーム!AE159<>\"\",\"ﾏｰｶｰ　\",\"\")&IF(申込みフォーム!AF159<>\"\",\"心機能　\",\"\")&IF(申込みフォーム!AG159<>\"\",\"ABC　\",\"\")&IF(申込みフォーム!AH159<>\"\",\"Lox　\",\"\")&IF(申込みフォーム!AI159<>\"\",\"甲状腺　\",\"\")&IF(申込みフォーム!AJ159<>\"\",\"肝炎\",\"\")","v":""},{"$f":"IF(申込みフォーム!AK159<>\"\",\"脳　\",\"\")&IF(申込みフォーム!AL159<>\"\",\"胸部CT　\",\"\")&IF(申込みフォーム!AM159<>\"\",\"肺機能　\",\"\")&IF(申込みフォーム!AN159<>\"\",\"腹ｴｺｰ　\",\"\")&IF(申込みフォーム!AO159<>\"\",\"心ｴｺｰ　\",\"\")&IF(申込みフォーム!AP159<>\"\",\"ﾌﾛｰﾗ　\",\"\")&IF(申込みフォーム!AQ159<>\"\",\"OCT　\",\"\")&IF(申込みフォーム!AR159<>\"\",\"検便　\",\"\")&IF(申込みフォーム!AS159<>\"\",\"骨　\",\"\")&IF(申込みフォーム!AT159<>\"\",\"骨＋ﾛｺﾓ\",\"\")","v":""},{"$f":"IF(申込みフォーム!AU159<>\"\",申込みフォーム!AU159&\"　　\",\"\")&IF(申込みフォーム!AV159<>\"\",申込みフォーム!AV159&\"　　\",\"\")&IF(申込みフォーム!AW159<>\"\",申込みフォーム!AW159&\"　　\",\"\")&IF(申込みフォーム!$AX159=\"〇\",\"4月　\",\"\")&IF(申込みフォーム!$AY159=\"〇\",\"5月　\",\"\")&IF(申込みフォーム!$AZ159=\"〇\",\"6月　\",\"\")&IF(申込みフォーム!$BA159=\"〇\",\"7月　\",\"\")&IF(申込みフォーム!$BB159=\"〇\",\"8月　\",\"\")&IF(申込みフォーム!$BC159=\"〇\",\"9月　\",\"\")&IF(申込みフォーム!$BD159=\"〇\",\"10月　\",\"\")&IF(申込みフォーム!$BE159=\"〇\",\"11月　\",\"\")&IF(申込みフォーム!$BF159=\"〇\",\"12月　\",\"\")&IF(申込みフォーム!$BG159=\"〇\",\"1月　\",\"\")&IF(申込みフォーム!$BH159=\"〇\",\"2月　\",\"\")&IF(申込みフォーム!$BI159=\"〇\",\"3月　\",\"\")","v":""},{"$f":"IF(申込みフォーム!BJ159<>\"\",申込みフォーム!BJ159,\"\")","v":""},{"$f":"IF(申込みフォーム!BK159<>\"\",申込みフォーム!BK159,\"\")","v":""},{"$f":"申込みフォーム!$Z159","v":""},{"$f":"IF(申込みフォーム!BL159<>\"\",申込みフォーム!BL159&\"　　\",\"\")&IF(申込みフォーム!BM159<>\"\",申込みフォーム!BM159&\"　　\",\"\")&IF(申込みフォーム!BN159<>\"\",申込みフォーム!BN159&\"　　\",\"\")","v":{"$error":"#VALUE!"}},{"$f":"IF($B150=VLOOKUP($B150,'受診者リスト(抽出用）'!$A:$F,1,0),VLOOKUP($B150,'受診者リスト(抽出用）'!$A:$F,3,0)&\"　（団体マスタ）\"&VLOOKUP($B150,'受診者リスト(抽出用）'!$A:$F,4,0)&\"　（枝番）\"&VLOOKUP(B150,'受診者リスト(抽出用）'!$A:$F,5,0),\"\")","v":{"$error":"#N/A"}}]
[150,{"$f":"IF(申込みフォーム!B160<>\"\",申込みフォーム!B160&\"　\"&申込みフォーム!C160,\"\")","v":""},{"$f":"IF(申込みフォーム!E160<>\"\",申込みフォーム!E160&\"　\"&申込みフォーム!F160,\"\")","v":""},{"$f":"IF(申込みフォーム!G160<>\"\",申込みフォーム!G160,\"\")","v":""},{"$f":"IF(申込みフォーム!H160<>\"\",申込みフォーム!H160,\"\")","v":""},{"$f":"IF(申込みフォーム!D160<>\"\",申込みフォーム!D160,\"\")","v":""},{"$f":"IF(申込みフォーム!I160<>\"\",REPLACE(申込みフォーム!I160,4,,\"-\"),\"\")","v":""},{"$f":"IF(申込みフォーム!J160<>\"\",申込みフォーム!J160,\"\")","v":""},{"$f":"IF(申込みフォーム!K160<>\"\",申込みフォーム!K160,\"\")","v":""},{"$f":"IF(申込みフォーム!L160<>\"\",MID(申込みフォーム!L160,1,3)&\"-\"&MID(申込みフォーム!L160,4,4)&\"-\"&MID(申込みフォーム!L160,8,4),\"\")","v":""},{"$f":"IF(申込みフォーム!M160<>\"\",申込みフォーム!M160,\"\")","v":""},{"$f":"IF(申込みフォーム!N160<>\"\",申込みフォーム!N160,\"\")","v":""},{"$f":"IF(申込みフォーム!O160<>\"\",申込みフォーム!O160,\"\")","v":""},{"$f":"IF(申込みフォーム!P160<>\"\",申込みフォーム!P160,\"\")","v":""},{"$f":"IF(申込みフォーム!Q160<>\"\",申込みフォーム!Q160,\"\")","v":""},{"$f":"IF(申込みフォーム!R160<>\"\",申込みフォーム!R160,\"\")","v":""},{"$f":"IF(申込みフォーム!S160<>\"\",申込みフォーム!S160,\"\")","v":""},{"$f":"IF(申込みフォーム!U160=\"細胞診のみ\",\"協会子宮　\",IF(申込みフォーム!U160=\"細胞診＋（自費）膣エコー\",\"協会子宮＋自費膣エコー　\",\"\"))&IF(申込みフォーム!W160<>\"\",\"協会ﾏﾝﾓ　\",\"\")&IF(申込みフォーム!Y160<>\"\",\"協会骨　\",\"\")&IF(申込みフォーム!AA160<>\"\",\"協会肝炎　\",\"\")","v":""},{"$f":"IF(申込みフォーム!AB160<>\"\",\"子宮　\",\"\")&IF(申込みフォーム!AC160<>\"\",\"ﾏﾝﾓ　\",\"\")&IF(申込みフォーム!AD160<>\"\",\"乳ｴｺｰ\",\"\")","v":""},{"$f":"IF(申込みフォーム!AE160<>\"\",\"ﾏｰｶｰ　\",\"\")&IF(申込みフォーム!AF160<>\"\",\"心機能　\",\"\")&IF(申込みフォーム!AG160<>\"\",\"ABC　\",\"\")&IF(申込みフォーム!AH160<>\"\",\"Lox　\",\"\")&IF(申込みフォーム!AI160<>\"\",\"甲状腺　\",\"\")&IF(申込みフォーム!AJ160<>\"\",\"肝炎\",\"\")","v":""},{"$f":"IF(申込みフォーム!AK160<>\"\",\"脳　\",\"\")&IF(申込みフォーム!AL160<>\"\",\"胸部CT　\",\"\")&IF(申込みフォーム!AM160<>\"\",\"肺機能　\",\"\")&IF(申込みフォーム!AN160<>\"\",\"腹ｴｺｰ　\",\"\")&IF(申込みフォーム!AO160<>\"\",\"心ｴｺｰ　\",\"\")&IF(申込みフォーム!AP160<>\"\",\"ﾌﾛｰﾗ　\",\"\")&IF(申込みフォーム!AQ160<>\"\",\"OCT　\",\"\")&IF(申込みフォーム!AR160<>\"\",\"検便　\",\"\")&IF(申込みフォーム!AS160<>\"\",\"骨　\",\"\")&IF(申込みフォーム!AT160<>\"\",\"骨＋ﾛｺﾓ\",\"\")","v":""},{"$f":"IF(申込みフォーム!AU160<>\"\",申込みフォーム!AU160&\"　　\",\"\")&IF(申込みフォーム!AV160<>\"\",申込みフォーム!AV160&\"　　\",\"\")&IF(申込みフォーム!AW160<>\"\",申込みフォーム!AW160&\"　　\",\"\")&IF(申込みフォーム!$AX160=\"〇\",\"4月　\",\"\")&IF(申込みフォーム!$AY160=\"〇\",\"5月　\",\"\")&IF(申込みフォーム!$AZ160=\"〇\",\"6月　\",\"\")&IF(申込みフォーム!$BA160=\"〇\",\"7月　\",\"\")&IF(申込みフォーム!$BB160=\"〇\",\"8月　\",\"\")&IF(申込みフォーム!$BC160=\"〇\",\"9月　\",\"\")&IF(申込みフォーム!$BD160=\"〇\",\"10月　\",\"\")&IF(申込みフォーム!$BE160=\"〇\",\"11月　\",\"\")&IF(申込みフォーム!$BF160=\"〇\",\"12月　\",\"\")&IF(申込みフォーム!$BG160=\"〇\",\"1月　\",\"\")&IF(申込みフォーム!$BH160=\"〇\",\"2月　\",\"\")&IF(申込みフォーム!$BI160=\"〇\",\"3月　\",\"\")","v":""},{"$f":"IF(申込みフォーム!BJ160<>\"\",申込みフォーム!BJ160,\"\")","v":""},{"$f":"IF(申込みフォーム!BK160<>\"\",申込みフォーム!BK160,\"\")","v":""},{"$f":"申込みフォーム!$Z160","v":""},{"$f":"IF(申込みフォーム!BL160<>\"\",申込みフォーム!BL160&\"　　\",\"\")&IF(申込みフォーム!BM160<>\"\",申込みフォーム!BM160&\"　　\",\"\")&IF(申込みフォーム!BN160<>\"\",申込みフォーム!BN160&\"　　\",\"\")","v":{"$error":"#VALUE!"}},{"$f":"IF($B151=VLOOKUP($B151,'受診者リスト(抽出用）'!$A:$F,1,0),VLOOKUP($B151,'受診者リスト(抽出用）'!$A:$F,3,0)&\"　（団体マスタ）\"&VLOOKUP($B151,'受診者リスト(抽出用）'!$A:$F,4,0)&\"　（枝番）\"&VLOOKUP(B151,'受診者リスト(抽出用）'!$A:$F,5,0),\"\")","v":{"$error":"#N/A"}}]

{"sheet":"→これより右側　健診センター作業シート","index":2,"n_rows":0,"n_cols":0,"rows_kept":0,"cut":false,"hidden":false,"merged":[]}

{"sheet":"【健診センター用】確認シート","index":3,"n_rows":186,"n_cols":6,"rows_kept":186,"cut":false,"hidden":false,"merged":[[2,3,2,4],[38,0,38,4],[41,3,41,4],[78,3,78,4],[115,3,115,4],[152,3,152,4]]}
[]
["名称",{"$f":"申込みフォーム!$B$5&IF(申込みフォーム!R5=\"\",\"\",\"(\"&(申込みフォーム!$R$5)&\")\")","v":""},null,"担当者",{"$f":"申込みフォーム!$E$5&\"(\"&(申込みフォーム!$H$5)&\")\"","v":"()"}]
["団体マスタ予測",null,null,{"$f":"IFERROR(INDEX(申込内容の確認!$AA:$AA,MATCH(TRUE,INDEX(申込内容の確認!$AA:$AA<>\"\",0),0)),\"\")","v":""}]
["郵便番号",{"$f":"IF(申込みフォーム!$I$5<>\"\",REPLACE(申込みフォーム!$I$5,4,,\"-\"),\"\")","v":""},null,"住所",{"$f":"申込みフォーム!$J$5&\"\"","v":""}]
["電話番号",{"$f":"IF(申込みフォーム!$K$5<>\"\",申込みフォーム!$K$5&\"　　\",\"\")&IF(申込みフォーム!$L$5<>\"\",MID(申込みフォーム!$L$5,1,3)&\"-\"&MID(申込みフォーム!$L$5,4,4)&\"-\"&MID(申込みフォーム!$L$5,8,4),\"\")","v":""},null,"FAX",{"$f":"IF(申込みフォーム!$M$5<>\"\",申込みフォーム!$M$5,IF(申込みフォーム!$M$5<>\"\",申込みフォーム!$M$5,\"\"))","v":""}]
["支払方法（受診コース）",{"$f":"申込みフォーム!$N$5&\"\"","v":""},null,"支払方法（オプション）",{"$f":"申込みフォーム!$P$5&\"\"","v":""}]
[]
[{"$f":"\"入力人数　\"&申込みフォーム!$BJ$6+申込みフォーム!$BK$6&\"人\"","v":"入力人数　0人"},{"$f":"\"健診申込準備完了人数　\"&申込みフォーム!BJ6&\"人\"","v":"健診申込準備完了人数　0人"}]
["申込No.",1,null,"申込No.",{"$f":"B9+1","v":2}]
[{"$f":"申込内容の確認!$B$1","v":"氏名"},{"$f":"VLOOKUP(B9,申込内容の確認!$A:$Z,作業用!$N$5)","v":""},null,{"$f":"申込内容の確認!$B$1","v":"氏名"},{"$f":"VLOOKUP(E9,申込内容の確認!$A:$Z,作業用!$N$5)","v":""}]
[{"$f":"申込内容の確認!$C$1","v":"氏名（カナ）"},{"$f":"VLOOKUP(B9,申込内容の確認!$A:$Z,作業用!$N$6)","v":""},null,{"$f":"申込内容の確認!$C$1","v":"氏名（カナ）"},{"$f":"VLOOKUP(E9,申込内容の確認!$A:$Z,作業用!$N$6)","v":""}]
[{"$f":"申込内容の確認!$D$1","v":"性別"},{"$f":"VLOOKUP(B9,申込内容の確認!$A:$Z,作業用!$N$7)","v":""},null,{"$f":"申込内容の確認!$D$1","v":"性別"},{"$f":"VLOOKUP(E9,申込内容の確認!$A:$Z,作業用!$N$7)","v":""}]
[{"$f":"申込内容の確認!$E$1","v":"生年月日"},{"$f":"VLOOKUP(B9,申込内容の確認!$A:$Z,作業用!$N$8)","v":""},null,{"$f":"申込内容の確認!$E$1","v":"生年月日"},{"$f":"VLOOKUP(E9,申込内容の確認!$A:$Z,作業用!$N$8)","v":""}]
[{"$f":"申込内容の確認!$F$1","v":"年度末\n年齢"},{"$f":"VLOOKUP(B9,申込内容の確認!$A:$Z,作業用!$N$9)","v":""},null,{"$f":"申込内容の確認!$F$1","v":"年度末\n年齢"},{"$f":"VLOOKUP(E9,申込内容の確認!$A:$Z,作業用!$N$9)","v":""}]
["患者番号",null,null,"患者番号"]
[{"$f":"申込内容の確認!$G$1","v":"郵便番号"},{"$f":"VLOOKUP(B9,申込内容の確認!$A:$Z,作業用!$N$10)","v":""},null,{"$f":"申込内容の確認!$G$1","v":"郵便番号"},{"$f":"VLOOKUP(E9,申込内容の確認!$A:$Z,作業用!$N$10)","v":""}]
[{"$f":"申込内容の確認!$H$1","v":"住所"},{"$f":"VLOOKUP(B9,申込内容の確認!$A:$Z,作業用!$N$11)","v":""},null,{"$f":"申込内容の確認!$H$1","v":"住所"},{"$f":"VLOOKUP(E9,申込内容の確認!$A:$Z,作業用!$N$11)","v":""}]
[{"$f":"申込内容の確認!$I$1","v":"固定電話"},{"$f":"VLOOKUP(B9,申込内容の確認!$A:$Z,作業用!$N$12)","v":""},null,{"$f":"申込内容の確認!$I$1","v":"固定電話"},{"$f":"VLOOKUP(E9,申込内容の確認!$A:$Z,作業用!$N$12)","v":""}]
[{"$f":"申込内容の確認!$J$1","v":"携帯電話"},{"$f":"VLOOKUP(B9,申込内容の確認!$A:$Z,作業用!$N$13)","v":""},null,{"$f":"申込内容の確認!$J$1","v":"携帯電話"},{"$f":"VLOOKUP(E9,申込内容の確認!$A:$Z,作業用!$N$13)","v":""}]
[{"$f":"申込内容の確認!$K$1","v":"保険種別"},{"$f":"VLOOKUP(B9,申込内容の確認!$A:$Z,作業用!$N$14)","v":""},{"$f":"IF(B20=\"その他\",\"★\",\"\")","v":""},{"$f":"申込内容の確認!$K$1","v":"保険種別"},{"$f":"VLOOKUP(E9,申込内容の確認!$A:$Z,作業用!$N$14)","v":""},{"$f":"IF(E20=\"その他\",\"★\",\"\")","v":""}]
[{"$f":"申込内容の確認!$L$1","v":"本人・家族区分"},{"$f":"VLOOKUP(B9,申込内容の確認!$A:$Z,作業用!$N$15)","v":""},{"$f":"IF(B21=\"家族\",\"★\",\"\")","v":""},{"$f":"申込内容の確認!$L$1","v":"本人・家族区分"},{"$f":"VLOOKUP(E9,申込内容の確認!$A:$Z,作業用!$N$15)","v":""},{"$f":"IF(E21=\"家族\",\"★\",\"\")","v":""}]
[{"$f":"申込内容の確認!$M$1","v":"保険者番号"},{"$f":"VLOOKUP(B9,申込内容の確認!$A:$Z,作業用!$N$16)","v":""},{"$f":"IF(AND(C36=\"★\",C37=\"★\"),\"★\",\"\")","v":""},{"$f":"申込内容の確認!$M$1","v":"保険者番号"},{"$f":"VLOOKUP(E9,申込内容の確認!$A:$Z,作業用!$N$16)","v":""},{"$f":"IF(AND(F36=\"★\",F37=\"★\"),\"★\",\"\")","v":""}]
[{"$f":"申込内容の確認!$N$1","v":"記号"},{"$f":"VLOOKUP(B9,申込内容の確認!$A:$Z,作業用!$N$17)","v":""},{"$f":"IF(OR(C20=\"★\",C21=\"★\",C22=\"★\"),\"☆\",\"\")","v":""},{"$f":"申込内容の確認!$N$1","v":"記号"},{"$f":"VLOOKUP(E9,申込内容の確認!$A:$Z,作業用!$N$17)","v":""},{"$f":"IF(OR(F20=\"★\",F21=\"★\",F22=\"★\"),\"☆\",\"\")","v":""}]
[{"$f":"申込内容の確認!$O$1","v":"番号"},{"$f":"VLOOKUP(B9,申込内容の確認!$A:$Z,作業用!$N$18)","v":""},null,{"$f":"申込内容の確認!$O$1","v":"番号"},{"$f":"VLOOKUP(E9,申込内容の確認!$A:$Z,作業用!$N$18)","v":""}]
[{"$f":"申込内容の確認!$P$1","v":"受診コース"},{"$f":"VLOOKUP(B9,申込内容の確認!$A:$Z,作業用!$N$19)","v":""},{"$f":"IFERROR(IF(AND(C23=\"☆\",B25=VLOOKUP(B25,作業用!$F$4:$F$10,1,0)),\"★\",\"\"),\"\")","v":""},{"$f":"申込内容の確認!$P$1","v":"受診コース"},{"$f":"VLOOKUP(E9,申込内容の確認!$A:$Z,作業用!$N$19)","v":""},{"$f":"IFERROR(IF(AND(F23=\"☆\",E25=VLOOKUP(E25,作業用!$F$4:$F$10,1,0)),\"★\",\"\"),\"\")","v":""}]
[{"$f":"申込内容の確認!$Q$1","v":"胃検査"},{"$f":"VLOOKUP(B9,申込内容の確認!$A:$Z,作業用!$N$20)","v":""},null,{"$f":"申込内容の確認!$Q$1","v":"胃検査"},{"$f":"VLOOKUP(E9,申込内容の確認!$A:$Z,作業用!$N$20)","v":""}]
[{"$f":"申込内容の確認!$R$1","v":"協会けんぽ補助対象（条件あり）オプション"},{"$f":"VLOOKUP(B9,申込内容の確認!$A:$Z,作業用!$N$21)","v":""},null,{"$f":"申込内容の確認!$R$1","v":"協会けんぽ補助対象（条件あり）オプション"},{"$f":"VLOOKUP(E9,申込内容の確認!$A:$Z,作業用!$N$21)","v":""}]
["対象外項目チェック",{"$f":"VLOOKUP(B9,申込内容の確認!$A:$Z,作業用!$N$29)","v":{"$error":"#VALUE!"}},null,"対象外項目チェック",{"$f":"VLOOKUP(E9,申込内容の確認!$A:$Z,作業用!$N$29)","v":{"$error":"#VALUE!"}}]
["対象外項目",{"$f":"VLOOKUP(B9,申込内容の確認!$A:$Z,作業用!$N$28)","v":""},null,"対象外項目",{"$f":"VLOOKUP(E9,申込内容の確認!$A:$Z,作業用!$N$28)","v":""}]
[{"$f":"申込内容の確認!$S$1","v":"婦人科オプション"},{"$f":"VLOOKUP(B9,申込内容の確認!$A:$Z,作業用!$N$22)","v":""},null,{"$f":"申込内容の確認!$S$1","v":"婦人科オプション"},{"$f":"VLOOKUP(E9,申込内容の確認!$A:$Z,作業用!$N$22)","v":""}]
[{"$f":"申込内容の確認!$T$1","v":"血液検査オプション"},{"$f":"VLOOKUP(B9,申込内容の確認!$A:$Z,作業用!$N$23)","v":""},null,{"$f":"申込内容の確認!$T$1","v":"血液検査オプション"},{"$f":"VLOOKUP(E9,申込内容の確認!$A:$Z,作業用!$N$23)","v":""}]
[{"$f":"申込内容の確認!$U$1","v":"その他オプション"},{"$f":"VLOOKUP(B9,申込内容の確認!$A:$Z,作業用!$N$24)","v":""},null,{"$f":"申込内容の確認!$U$1","v":"その他オプション"},{"$f":"VLOOKUP(E9,申込内容の確認!$A:$Z,作業用!$N$24)","v":""}]
[{"$f":"申込内容の確認!$V$1","v":"受診希望"},{"$f":"VLOOKUP(B9,申込内容の確認!$A:$Z,作業用!$N$25)","v":""},null,{"$f":"申込内容の確認!$V$1","v":"受診希望"},{"$f":"VLOOKUP(E9,申込内容の確認!$A:$Z,作業用!$N$25)","v":""}]
[{"$f":"申込内容の確認!$W$1","v":"備考"},{"$f":"VLOOKUP(B9,申込内容の確認!$A:$Z,作業用!$N$26)","v":""},null,{"$f":"申込内容の確認!$W$1","v":"備考"},{"$f":"VLOOKUP(E9,申込内容の確認!$A:$Z,作業用!$N$26)","v":""}]
[]
[{"$f":"申込内容の確認!$X$1","v":"（健診申込）　必須項目確認"},{"$f":"VLOOKUP(B9,申込内容の確認!$A:$Z,作業用!$N$27)","v":""},{"$f":"IFERROR(IF(B22=VLOOKUP(B22,作業用!$P$4:$P$51,1,0),\"　\",\"★\"),\"★\")","v":"★"},{"$f":"申込内容の確認!$X$1","v":"（健診申込）　必須項目確認"},{"$f":"VLOOKUP(E9,申込内容の確認!$A:$Z,作業用!$N$27)","v":""},{"$f":"IFERROR(IF(E22=VLOOKUP(E22,作業用!$P$4:$P$51,1,0),\"　\",\"★\"),\"★\")","v":"★"}]
["前年度情報",{"$f":"IFERROR(\"患者番号：\"&IF(B10=VLOOKUP(B10,'受診者リスト(抽出用）'!$A:$F,1,0),VLOOKUP(B10,'受診者リスト(抽出用）'!$A:$F,2,0)&\"　　\",\"検索なし\"&\"　　\")&\"団体：\"&IF(B10=VLOOKUP(B10,'受診者リスト(抽出用）'!$A:$F,1,0),VLOOKUP(B10,'受診者リスト(抽出用）'!$A:$F,3,0)&\"（\"&VLOOKUP(B10,'受診者リスト(抽出用）'!$A:$F,4,0)&\"－\"&VLOOKUP(B10,'受診者リスト(抽出用）'!$A:$F,5,0)&\"）\",\"検索なし\"&\"　　\"),\"患者番号、団体：検索なし\")","v":"患者番号、団体：検索なし"},{"$f":"IF(B22<>\"\",\"★\",\"\")","v":""},"前年度情報",{"$f":"IFERROR(\"患者番号：\"&IF(E10=VLOOKUP(E10,'受診者リスト(抽出用）'!$A:$F,1,0),VLOOKUP(E10,'受診者リスト(抽出用）'!$A:$F,2,0)&\"　　\",\"検索なし\"&\"　　\")&\"団体：\"&IF(E10=VLOOKUP(E10,'受診者リスト(抽出用）'!$A:$F,1,0),VLOOKUP(E10,'受診者リスト(抽出用）'!$A:$F,3,0)&\"（\"&VLOOKUP(E10,'受診者リスト(抽出用）'!$A:$F,4,0)&\"－\"&VLOOKUP(E10,'受診者リスト(抽出用）'!$A:$F,5,0)&\"）\",\"検索なし\"&\"　　\"),\"患者番号、団体：検索なし\")","v":"患者番号、団体：検索なし"},{"$f":"IF(E22<>\"\",\"★\",\"\")","v":""}]
[]
["　　（健診センター事務処理用）　　ノート：　　　/　　　　　　　PC：　　　/　　　　　　　TEL：　　　/　　　　　　　郵送：　　　/　　　　　　　備考　　　　"]
[]
["名称",{"$f":"申込みフォーム!$B$5&IF(申込みフォーム!R44=\"\",\"\",\"(\"&(申込みフォーム!$R$5)&\")\")","v":""},null,"担当者",{"$f":"申込みフォーム!$E$5&\"(\"&(申込みフォーム!$H$5)&\")\"","v":"()"}]
["団体マスタ予測",null,null,{"$f":"IFERROR(INDEX(申込内容の確認!$AA:$AA,MATCH(TRUE,INDEX(申込内容の確認!$AA:$AA<>\"\",0),0)),\"\")","v":""}]
["郵便番号",{"$f":"IF(申込みフォーム!$I$5<>\"\",REPLACE(申込みフォーム!$I$5,4,,\"-\"),\"\")","v":""},null,"住所",{"$f":"申込みフォーム!$J$5&\"\"","v":""}]
["電話番号",{"$f":"IF(申込みフォーム!$K$5<>\"\",申込みフォーム!$K$5&\"　　\",\"\")&IF(申込みフォーム!$L$5<>\"\",MID(申込みフォーム!$L$5,1,3)&\"-\"&MID(申込みフォーム!$L$5,4,4)&\"-\"&MID(申込みフォーム!$L$5,8,4),\"\")","v":""},null,"FAX",{"$f":"IF(申込みフォーム!$M$5<>\"\",申込みフォーム!$M$5,IF(申込みフォーム!$M$5<>\"\",申込みフォーム!$M$5,\"\"))","v":""}]
["支払方法（受診コース）",{"$f":"申込みフォーム!$N$5&\"\"","v":""},null,"支払方法（オプション）",{"$f":"申込みフォーム!$P$5&\"\"","v":""}]
[]
["申込No.",{"$f":"E9+1","v":3},null,"申込No.",{"$f":"B47+1","v":4}]
[{"$f":"申込内容の確認!$B$1","v":"氏名"},{"$f":"VLOOKUP(B47,申込内容の確認!$A:$Z,作業用!$N$5)","v":""},null,{"$f":"申込内容の確認!$B$1","v":"氏名"},{"$f":"VLOOKUP(E47,申込内容の確認!$A:$Z,作業用!$N$5)","v":""}]
[{"$f":"申込内容の確認!$C$1","v":"氏名（カナ）"},{"$f":"VLOOKUP(B47,申込内容の確認!$A:$Z,作業用!$N$6)","v":""},null,{"$f":"申込内容の確認!$C$1","v":"氏名（カナ）"},{"$f":"VLOOKUP(E47,申込内容の確認!$A:$Z,作業用!$N$6)","v":""}]
[{"$f":"申込内容の確認!$D$1","v":"性別"},{"$f":"VLOOKUP(B47,申込内容の確認!$A:$Z,作業用!$N$7)","v":""},null,{"$f":"申込内容の確認!$D$1","v":"性別"},{"$f":"VLOOKUP(E47,申込内容の確認!$A:$Z,作業用!$N$7)","v":""}]
[{"$f":"申込内容の確認!$E$1","v":"生年月日"},{"$f":"VLOOKUP(B47,申込内容の確認!$A:$Z,作業用!$N$8)","v":""},null,{"$f":"申込内容の確認!$E$1","v":"生年月日"},{"$f":"VLOOKUP(E47,申込内容の確認!$A:$Z,作業用!$N$8)","v":""}]
[{"$f":"申込内容の確認!$F$1","v":"年度末\n年齢"},{"$f":"VLOOKUP(B47,申込内容の確認!$A:$Z,作業用!$N$9)","v":""},null,{"$f":"申込内容の確認!$F$1","v":"年度末\n年齢"},{"$f":"VLOOKUP(E47,申込内容の確認!$A:$Z,作業用!$N$9)","v":""}]
["患者番号",null,null,"患者番号"]
[{"$f":"申込内容の確認!$G$1","v":"郵便番号"},{"$f":"VLOOKUP(B47,申込内容の確認!$A:$Z,作業用!$N$10)","v":""},null,{"$f":"申込内容の確認!$G$1","v":"郵便番号"},{"$f":"VLOOKUP(E47,申込内容の確認!$A:$Z,作業用!$N$10)","v":""}]
[{"$f":"申込内容の確認!$H$1","v":"住所"},{"$f":"VLOOKUP(B47,申込内容の確認!$A:$Z,作業用!$N$11)","v":""},null,{"$f":"申込内容の確認!$H$1","v":"住所"},{"$f":"VLOOKUP(E47,申込内容の確認!$A:$Z,作業用!$N$11)","v":""}]
[{"$f":"申込内容の確認!$I$1","v":"固定電話"},{"$f":"VLOOKUP(B47,申込内容の確認!$A:$Z,作業用!$N$12)","v":""},null,{"$f":"申込内容の確認!$I$1","v":"固定電話"},{"$f":"VLOOKUP(E47,申込内容の確認!$A:$Z,作業用!$N$12)","v":""}]
[{"$f":"申込内容の確認!$J$1","v":"携帯電話"},{"$f":"VLOOKUP(B47,申込内容の確認!$A:$Z,作業用!$N$13)","v":""},null,{"$f":"申込内容の確認!$J$1","v":"携帯電話"},{"$f":"VLOOKUP(E47,申込内容の確認!$A:$Z,作業用!$N$13)","v":""}]
[{"$f":"申込内容の確認!$K$1","v":"保険種別"},{"$f":"VLOOKUP(B47,申込内容の確認!$A:$Z,作業用!$N$14)","v":""},{"$f":"IF(B58=\"その他\",\"★\",\"\")","v":""},{"$f":"申込内容の確認!$K$1","v":"保険種別"},{"$f":"VLOOKUP(E47,申込内容の確認!$A:$Z,作業用!$N$14)","v":""},{"$f":"IF(E58=\"その他\",\"★\",\"\")","v":""}]
[{"$f":"申込内容の確認!$L$1","v":"本人・家族区分"},{"$f":"VLOOKUP(B47,申込内容の確認!$A:$Z,作業用!$N$15)","v":""},{"$f":"IF(B59=\"家族\",\"★\",\"\")","v":""},{"$f":"申込内容の確認!$L$1","v":"本人・家族区分"},{"$f":"VLOOKUP(E47,申込内容の確認!$A:$Z,作業用!$N$15)","v":""},{"$f":"IF(E59=\"家族\",\"★\",\"\")","v":""}]
[{"$f":"申込内容の確認!$M$1","v":"保険者番号"},{"$f":"VLOOKUP(B47,申込内容の確認!$A:$Z,作業用!$N$16)","v":""},{"$f":"IF(AND(C74=\"★\",C75=\"★\"),\"★\",\"\")","v":""},{"$f":"申込内容の確認!$M$1","v":"保険者番号"},{"$f":"VLOOKUP(E47,申込内容の確認!$A:$Z,作業用!$N$16)","v":""},{"$f":"IF(AND(F74=\"★\",F75=\"★\"),\"★\",\"\")","v":""}]
[{"$f":"申込内容の確認!$N$1","v":"記号"},{"$f":"VLOOKUP(B47,申込内容の確認!$A:$Z,作業用!$N$17)","v":""},{"$f":"IF(OR(C58=\"★\",C59=\"★\",C60=\"★\"),\"☆\",\"\")","v":""},{"$f":"申込内容の確認!$N$1","v":"記号"},{"$f":"VLOOKUP(E47,申込内容の確認!$A:$Z,作業用!$N$17)","v":""},{"$f":"IF(OR(F58=\"★\",F59=\"★\",F60=\"★\"),\"☆\",\"\")","v":""}]
[{"$f":"申込内容の確認!$O$1","v":"番号"},{"$f":"VLOOKUP(B47,申込内容の確認!$A:$Z,作業用!$N$18)","v":""},null,{"$f":"申込内容の確認!$O$1","v":"番号"},{"$f":"VLOOKUP(E47,申込内容の確認!$A:$Z,作業用!$N$18)","v":""}]
[{"$f":"申込内容の確認!$P$1","v":"受診コース"},{"$f":"VLOOKUP(B47,申込内容の確認!$A:$Z,作業用!$N$19)","v":""},{"$f":"IFERROR(IF(AND(C61=\"☆\",B63=VLOOKUP(B63,作業用!$F$4:$F$10,1,0)),\"★\",\"\"),\"\")","v":""},{"$f":"申込内容の確認!$P$1","v":"受診コース"},{"$f":"VLOOKUP(E47,申込内容の確認!$A:$Z,作業用!$N$19)","v":""},{"$f":"IFERROR(IF(AND(F61=\"☆\",E63=VLOOKUP(E63,作業用!$F$4:$F$10,1,0)),\"★\",\"\"),\"\")","v":""}]
[{"$f":"申込内容の確認!$Q$1","v":"胃検査"},{"$f":"VLOOKUP(B47,申込内容の確認!$A:$Z,作業用!$N$20)","v":""},null,{"$f":"申込内容の確認!$Q$1","v":"胃検査"},{"$f":"VLOOKUP(E47,申込内容の確認!$A:$Z,作業用!$N$20)","v":""}]
[{"$f":"申込内容の確認!$R$1","v":"協会けんぽ補助対象（条件あり）オプション"},{"$f":"VLOOKUP(B47,申込内容の確認!$A:$Z,作業用!$N$21)","v":""},null,{"$f":"申込内容の確認!$R$1","v":"協会けんぽ補助対象（条件あり）オプション"},{"$f":"VLOOKUP(E47,申込内容の確認!$A:$Z,作業用!$N$21)","v":""}]
["対象外項目チェック",{"$f":"VLOOKUP(B47,申込内容の確認!$A:$Z,作業用!$N$29)","v":{"$error":"#VALUE!"}},null,"対象外項目チェック",{"$f":"VLOOKUP(E47,申込内容の確認!$A:$Z,作業用!$N$29)","v":{"$error":"#VALUE!"}}]
["対象外項目",{"$f":"VLOOKUP(B47,申込内容の確認!$A:$Z,作業用!$N$28)","v":""},null,"対象外項目",{"$f":"VLOOKUP(E47,申込内容の確認!$A:$Z,作業用!$N$28)","v":""}]
[{"$f":"申込内容の確認!$S$1","v":"婦人科オプション"},{"$f":"VLOOKUP(B47,申込内容の確認!$A:$Z,作業用!$N$22)","v":""},null,{"$f":"申込内容の確認!$S$1","v":"婦人科オプション"},{"$f":"VLOOKUP(E47,申込内容の確認!$A:$Z,作業用!$N$22)","v":""}]
[{"$f":"申込内容の確認!$T$1","v":"血液検査オプション"},{"$f":"VLOOKUP(B47,申込内容の確認!$A:$Z,作業用!$N$23)","v":""},null,{"$f":"申込内容の確認!$T$1","v":"血液検査オプション"},{"$f":"VLOOKUP(E47,申込内容の確認!$A:$Z,作業用!$N$23)","v":""}]
[{"$f":"申込内容の確認!$U$1","v":"その他オプション"},{"$f":"VLOOKUP(B47,申込内容の確認!$A:$Z,作業用!$N$24)","v":""},null,{"$f":"申込内容の確認!$U$1","v":"その他オプション"},{"$f":"VLOOKUP(E47,申込内容の確認!$A:$Z,作業用!$N$24)","v":""}]
[{"$f":"申込内容の確認!$V$1","v":"受診希望"},{"$f":"VLOOKUP(B47,申込内容の確認!$A:$Z,作業用!$N$25)","v":""},null,{"$f":"申込内容の確認!$V$1","v":"受診希望"},{"$f":"VLOOKUP(E47,申込内容の確認!$A:$Z,作業用!$N$25)","v":""}]
[{"$f":"申込内容の確認!$W$1","v":"備考"},{"$f":"VLOOKUP(B47,申込内容の確認!$A:$Z,作業用!$N$26)","v":""},null,{"$f":"申込内容の確認!$W$1","v":"備考"},{"$f":"VLOOKUP(E47,申込内容の確認!$A:$Z,作業用!$N$26)","v":""}]
[]
[{"$f":"申込内容の確認!$X$1","v":"（健診申込）　必須項目確認"},{"$f":"VLOOKUP(B47,申込内容の確認!$A:$Z,作業用!$N$27)","v":""},{"$f":"IFERROR(IF(B60=VLOOKUP(B60,作業用!$P$4:$P$51,1,0),\"　\",\"★\"),\"★\")","v":"★"},{"$f":"申込内容の確認!$X$1","v":"（健診申込）　必須項目確認"},{"$f":"VLOOKUP(E47,申込内容の確認!$A:$Z,作業用!$N$27)","v":""},{"$f":"IFERROR(IF(E60=VLOOKUP(E60,作業用!$P$4:$P$51,1,0),\"　\",\"★\"),\"★\")","v":"★"}]
["前年度情報",{"$f":"IFERROR(\"患者番号：\"&IF(B48=VLOOKUP(B48,'受診者リスト(抽出用）'!$A:$F,1,0),VLOOKUP(B48,'受診者リスト(抽出用）'!$A:$F,2,0)&\"　　\",\"検索なし\"&\"　　\")&\"団体：\"&IF(B48=VLOOKUP(B48,'受診者リスト(抽出用）'!$A:$F,1,0),VLOOKUP(B48,'受診者リスト(抽出用）'!$A:$F,3,0)&\"（\"&VLOOKUP(B48,'受診者リスト(抽出用）'!$A:$F,4,0)&\"－\"&VLOOKUP(B48,'受診者リスト(抽出用）'!$A:$F,5,0)&\"）\",\"検索なし\"&\"　　\"),\"患者番号、団体：検索なし\")","v":"患者番号、団体：検索なし"},{"$f":"IF(B60<>\"\",\"★\",\"\")","v":""},"前年度情報",{"$f":"IFERROR(\"患者番号：\"&IF(E48=VLOOKUP(E48,'受診者リスト(抽出用）'!$A:$F,1,0),VLOOKUP(E48,'受診者リスト(抽出用）'!$A:$F,2,0)&\"　　\",\"検索なし\"&\"　　\")&\"団体：\"&IF(E48=VLOOKUP(E48,'受診者リスト(抽出用）'!$A:$F,1,0),VLOOKUP(E48,'受診者リスト(抽出用）'!$A:$F,3,0)&\"（\"&VLOOKUP(E48,'受診者リスト(抽出用）'!$A:$F,4,0)&\"－\"&VLOOKUP(E48,'受診者リスト(抽出用）'!$A:$F,5,0)&\"）\",\"検索なし\"&\"　　\"),\"患者番号、団体：検索なし\")","v":"患者番号、団体：検索なし"},{"$f":"IF(E60<>\"\",\"★\",\"\")","v":""}]
[]
[]
["名称",{"$f":"申込みフォーム!$B$5&IF(申込みフォーム!R81=\"\",\"\",\"(\"&(申込みフォーム!$R$5)&\")\")","v":""},null,"担当者",{"$f":"申込みフォーム!$E$5&\"(\"&(申込みフォーム!$H$5)&\")\"","v":"()"}]
["団体マスタ予測",null,null,{"$f":"IFERROR(INDEX(申込内容の確認!$AA:$AA,MATCH(TRUE,INDEX(申込内容の確認!$AA:$AA<>\"\",0),0)),\"\")","v":""}]
["郵便番号",{"$f":"IF(申込みフォーム!$I$5<>\"\",REPLACE(申込みフォーム!$I$5,4,,\"-\"),\"\")","v":""},null,"住所",{"$f":"申込みフォーム!$J$5&\"\"","v":""}]
["電話番号",{"$f":"IF(申込みフォーム!$K$5<>\"\",申込みフォーム!$K$5&\"　　\",\"\")&IF(申込みフォーム!$L$5<>\"\",MID(申込みフォーム!$L$5,1,3)&\"-\"&MID(申込みフォーム!$L$5,4,4)&\"-\"&MID(申込みフォーム!$L$5,8,4),\"\")","v":""},null,"FAX",{"$f":"IF(申込みフォーム!$M$5<>\"\",申込みフォーム!$M$5,IF(申込みフォーム!$M$5<>\"\",申込みフォーム!$M$5,\"\"))","v":""}]
["支払方法（受診コース）",{"$f":"申込みフォーム!$N$5&\"\"","v":""},null,"支払方法（オプション）",{"$f":"申込みフォーム!$P$5&\"\"","v":""}]
[]
["申込No.",{"$f":"E47+1","v":5},null,"申込No.",{"$f":"B84+1","v":6}]
[{"$f":"申込内容の確認!$B$1","v":"氏名"},{"$f":"VLOOKUP(B84,申込内容の確認!$A:$Z,作業用!$N$5)","v":""},null,{"$f":"申込内容の確認!$B$1","v":"氏名"},{"$f":"VLOOKUP(E84,申込内容の確認!$A:$Z,作業用!$N$5)","v":""}]
[{"$f":"申込内容の確認!$C$1","v":"氏名（カナ）"},{"$f":"VLOOKUP(B84,申込内容の確認!$A:$Z,作業用!$N$6)","v":""},null,{"$f":"申込内容の確認!$C$1","v":"氏名（カナ）"},{"$f":"VLOOKUP(E84,申込内容の確認!$A:$Z,作業用!$N$6)","v":""}]
[{"$f":"申込内容の確認!$D$1","v":"性別"},{"$f":"VLOOKUP(B84,申込内容の確認!$A:$Z,作業用!$N$7)","v":""},null,{"$f":"申込内容の確認!$D$1","v":"性別"},{"$f":"VLOOKUP(E84,申込内容の確認!$A:$Z,作業用!$N$7)","v":""}]
[{"$f":"申込内容の確認!$E$1","v":"生年月日"},{"$f":"VLOOKUP(B84,申込内容の確認!$A:$Z,作業用!$N$8)","v":""},null,{"$f":"申込内容の確認!$E$1","v":"生年月日"},{"$f":"VLOOKUP(E84,申込内容の確認!$A:$Z,作業用!$N$8)","v":""}]
[{"$f":"申込内容の確認!$F$1","v":"年度末\n年齢"},{"$f":"VLOOKUP(B84,申込内容の確認!$A:$Z,作業用!$N$9)","v":""},null,{"$f":"申込内容の確認!$F$1","v":"年度末\n年齢"},{"$f":"VLOOKUP(E84,申込内容の確認!$A:$Z,作業用!$N$9)","v":""}]
["患者番号",null,null,"患者番号"]
[{"$f":"申込内容の確認!$G$1","v":"郵便番号"},{"$f":"VLOOKUP(B84,申込内容の確認!$A:$Z,作業用!$N$10)","v":""},null,{"$f":"申込内容の確認!$G$1","v":"郵便番号"},{"$f":"VLOOKUP(E84,申込内容の確認!$A:$Z,作業用!$N$10)","v":""}]
[{"$f":"申込内容の確認!$H$1","v":"住所"},{"$f":"VLOOKUP(B84,申込内容の確認!$A:$Z,作業用!$N$11)","v":""},null,{"$f":"申込内容の確認!$H$1","v":"住所"},{"$f":"VLOOKUP(E84,申込内容の確認!$A:$Z,作業用!$N$11)","v":""}]
[{"$f":"申込内容の確認!$I$1","v":"固定電話"},{"$f":"VLOOKUP(B84,申込内容の確認!$A:$Z,作業用!$N$12)","v":""},null,{"$f":"申込内容の確認!$I$1","v":"固定電話"},{"$f":"VLOOKUP(E84,申込内容の確認!$A:$Z,作業用!$N$12)","v":""}]
[{"$f":"申込内容の確認!$J$1","v":"携帯電話"},{"$f":"VLOOKUP(B84,申込内容の確認!$A:$Z,作業用!$N$13)","v":""},null,{"$f":"申込内容の確認!$J$1","v":"携帯電話"},{"$f":"VLOOKUP(E84,申込内容の確認!$A:$Z,作業用!$N$13)","v":""}]
[{"$f":"申込内容の確認!$K$1","v":"保険種別"},{"$f":"VLOOKUP(B84,申込内容の確認!$A:$Z,作業用!$N$14)","v":""},{"$f":"IF(B95=\"その他\",\"★\",\"\")","v":""},{"$f":"申込内容の確認!$K$1","v":"保険種別"},{"$f":"VLOOKUP(E84,申込内容の確認!$A:$Z,作業用!$N$14)","v":""},{"$f":"IF(E95=\"その他\",\"★\",\"\")","v":""}]
[{"$f":"申込内容の確認!$L$1","v":"本人・家族区分"},{"$f":"VLOOKUP(B84,申込内容の確認!$A:$Z,作業用!$N$15)","v":""},{"$f":"IF(B96=\"家族\",\"★\",\"\")","v":""},{"$f":"申込内容の確認!$L$1","v":"本人・家族区分"},{"$f":"VLOOKUP(E84,申込内容の確認!$A:$Z,作業用!$N$15)","v":""},{"$f":"IF(E96=\"家族\",\"★\",\"\")","v":""}]
[{"$f":"申込内容の確認!$M$1","v":"保険者番号"},{"$f":"VLOOKUP(B84,申込内容の確認!$A:$Z,作業用!$N$16)","v":""},{"$f":"IF(AND(C111=\"★\",C112=\"★\"),\"★\",\"\")","v":""},{"$f":"申込内容の確認!$M$1","v":"保険者番号"},{"$f":"VLOOKUP(E84,申込内容の確認!$A:$Z,作業用!$N$16)","v":""},{"$f":"IF(AND(F111=\"★\",F112=\"★\"),\"★\",\"\")","v":""}]
[{"$f":"申込内容の確認!$N$1","v":"記号"},{"$f":"VLOOKUP(B84,申込内容の確認!$A:$Z,作業用!$N$17)","v":""},{"$f":"IF(OR(C95=\"★\",C96=\"★\",C97=\"★\"),\"☆\",\"\")","v":""},{"$f":"申込内容の確認!$N$1","v":"記号"},{"$f":"VLOOKUP(E84,申込内容の確認!$A:$Z,作業用!$N$17)","v":""},{"$f":"IF(OR(F95=\"★\",F96=\"★\",F97=\"★\"),\"☆\",\"\")","v":""}]
[{"$f":"申込内容の確認!$O$1","v":"番号"},{"$f":"VLOOKUP(B84,申込内容の確認!$A:$Z,作業用!$N$18)","v":""},null,{"$f":"申込内容の確認!$O$1","v":"番号"},{"$f":"VLOOKUP(E84,申込内容の確認!$A:$Z,作業用!$N$18)","v":""}]
[{"$f":"申込内容の確認!$P$1","v":"受診コース"},{"$f":"VLOOKUP(B84,申込内容の確認!$A:$Z,作業用!$N$19)","v":""},{"$f":"IFERROR(IF(AND(C98=\"☆\",B100=VLOOKUP(B100,作業用!$F$4:$F$10,1,0)),\"★\",\"\"),\"\")","v":""},{"$f":"申込内容の確認!$P$1","v":"受診コース"},{"$f":"VLOOKUP(E84,申込内容の確認!$A:$Z,作業用!$N$19)","v":""},{"$f":"IFERROR(IF(AND(F98=\"☆\",E100=VLOOKUP(E100,作業用!$F$4:$F$10,1,0)),\"★\",\"\"),\"\")","v":""}]
[{"$f":"申込内容の確認!$Q$1","v":"胃検査"},{"$f":"VLOOKUP(B84,申込内容の確認!$A:$Z,作業用!$N$20)","v":""},null,{"$f":"申込内容の確認!$Q$1","v":"胃検査"},{"$f":"VLOOKUP(E84,申込内容の確認!$A:$Z,作業用!$N$20)","v":""}]
[{"$f":"申込内容の確認!$R$1","v":"協会けんぽ補助対象（条件あり）オプション"},{"$f":"VLOOKUP(B84,申込内容の確認!$A:$Z,作業用!$N$21)","v":""},null,{"$f":"申込内容の確認!$R$1","v":"協会けんぽ補助対象（条件あり）オプション"},{"$f":"VLOOKUP(E84,申込内容の確認!$A:$Z,作業用!$N$21)","v":""}]
["対象外項目チェック",{"$f":"VLOOKUP(B84,申込内容の確認!$A:$Z,作業用!$N$29)","v":{"$error":"#VALUE!"}},null,"対象外項目チェック",{"$f":"VLOOKUP(E84,申込内容の確認!$A:$Z,作業用!$N$29)","v":{"$error":"#VALUE!"}}]
["対象外項目",{"$f":"VLOOKUP(B84,申込内容の確認!$A:$Z,作業用!$N$28)","v":""},null,"対象外項目",{"$f":"VLOOKUP(E84,申込内容の確認!$A:$Z,作業用!$N$28)","v":""}]
[{"$f":"申込内容の確認!$S$1","v":"婦人科オプション"},{"$f":"VLOOKUP(B84,申込内容の確認!$A:$Z,作業用!$N$22)","v":""},null,{"$f":"申込内容の確認!$S$1","v":"婦人科オプション"},{"$f":"VLOOKUP(E84,申込内容の確認!$A:$Z,作業用!$N$22)","v":""}]
[{"$f":"申込内容の確認!$T$1","v":"血液検査オプション"},{"$f":"VLOOKUP(B84,申込内容の確認!$A:$Z,作業用!$N$23)","v":""},null,{"$f":"申込内容の確認!$T$1","v":"血液検査オプション"},{"$f":"VLOOKUP(E84,申込内容の確認!$A:$Z,作業用!$N$23)","v":""}]
[{"$f":"申込内容の確認!$U$1","v":"その他オプション"},{"$f":"VLOOKUP(B84,申込内容の確認!$A:$Z,作業用!$N$24)","v":""},null,{"$f":"申込内容の確認!$U$1","v":"その他オプション"},{"$f":"VLOOKUP(E84,申込内容の確認!$A:$Z,作業用!$N$24)","v":""}]
[{"$f":"申込内容の確認!$V$1","v":"受診希望"},{"$f":"VLOOKUP(B84,申込内容の確認!$A:$Z,作業用!$N$25)","v":""},null,{"$f":"申込内容の確認!$V$1","v":"受診希望"},{"$f":"VLOOKUP(E84,申込内容の確認!$A:$Z,作業用!$N$25)","v":""}]
[{"$f":"申込内容の確認!$W$1","v":"備考"},{"$f":"VLOOKUP(B84,申込内容の確認!$A:$Z,作業用!$N$26)","v":""},null,{"$f":"申込内容の確認!$W$1","v":"備考"},{"$f":"VLOOKUP(E84,申込内容の確認!$A:$Z,作業用!$N$26)","v":""}]
[]
[{"$f":"申込内容の確認!$X$1","v":"（健診申込）　必須項目確認"},{"$f":"VLOOKUP(B84,申込内容の確認!$A:$Z,作業用!$N$27)","v":""},{"$f":"IFERROR(IF(B97=VLOOKUP(B97,作業用!$P$4:$P$51,1,0),\"　\",\"★\"),\"★\")","v":"★"},{"$f":"申込内容の確認!$X$1","v":"（健診申込）　必須項目確認"},{"$f":"VLOOKUP(E84,申込内容の確認!$A:$Z,作業用!$N$27)","v":""},{"$f":"IFERROR(IF(E97=VLOOKUP(E97,作業用!$P$4:$P$51,1,0),\"　\",\"★\"),\"★\")","v":"★"}]
["前年度情報",{"$f":"IFERROR(\"患者番号：\"&IF(B85=VLOOKUP(B85,'受診者リスト(抽出用）'!$A:$F,1,0),VLOOKUP(B85,'受診者リスト(抽出用）'!$A:$F,2,0)&\"　　\",\"検索なし\"&\"　　\")&\"団体：\"&IF(B85=VLOOKUP(B85,'受診者リスト(抽出用）'!$A:$F,1,0),VLOOKUP(B85,'受診者リスト(抽出用）'!$A:$F,3,0)&\"（\"&VLOOKUP(B85,'受診者リスト(抽出用）'!$A:$F,4,0)&\"－\"&VLOOKUP(B85,'受診者リスト(抽出用）'!$A:$F,5,0)&\"）\",\"検索なし\"&\"　　\"),\"患者番号、団体：検索なし\")","v":"患者番号、団体：検索なし"},{"$f":"IF(B97<>\"\",\"★\",\"\")","v":""},"前年度情報",{"$f":"IFERROR(\"患者番号：\"&IF(E85=VLOOKUP(E85,'受診者リスト(抽出用）'!$A:$F,1,0),VLOOKUP(E85,'受診者リスト(抽出用）'!$A:$F,2,0)&\"　　\",\"検索なし\"&\"　　\")&\"団体：\"&IF(E85=VLOOKUP(E85,'受診者リスト(抽出用）'!$A:$F,1,0),VLOOKUP(E85,'受診者リスト(抽出用）'!$A:$F,3,0)&\"（\"&VLOOKUP(E85,'受診者リスト(抽出用）'!$A:$F,4,0)&\"－\"&VLOOKUP(E85,'受診者リスト(抽出用）'!$A:$F,5,0)&\"）\",\"検索なし\"&\"　　\"),\"患者番号、団体：検索なし\")","v":"患者番号、団体：検索なし"},{"$f":"IF(E97<>\"\",\"★\",\"\")","v":""}]
[]
[]
["名称",{"$f":"申込みフォーム!$B$5&IF(申込みフォーム!R118=\"\",\"\",\"(\"&(申込みフォーム!$R$5)&\")\")","v":""},null,"担当者",{"$f":"申込みフォーム!$E$5&\"(\"&(申込みフォーム!$H$5)&\")\"","v":"()"}]
["団体マスタ予測",null,null,{"$f":"IFERROR(INDEX(申込内容の確認!$AA:$AA,MATCH(TRUE,INDEX(申込内容の確認!$AA:$AA<>\"\",0),0)),\"\")","v":""}]
["郵便番号",{"$f":"IF(申込みフォーム!$I$5<>\"\",REPLACE(申込みフォーム!$I$5,4,,\"-\"),\"\")","v":""},null,"住所",{"$f":"申込みフォーム!$J$5&\"\"","v":""}]
["電話番号",{"$f":"IF(申込みフォーム!$K$5<>\"\",申込みフォーム!$K$5&\"　　\",\"\")&IF(申込みフォーム!$L$5<>\"\",MID(申込みフォーム!$L$5,1,3)&\"-\"&MID(申込みフォーム!$L$5,4,4)&\"-\"&MID(申込みフォーム!$L$5,8,4),\"\")","v":""},null,"FAX",{"$f":"IF(申込みフォーム!$M$5<>\"\",申込みフォーム!$M$5,IF(申込みフォーム!$M$5<>\"\",申込みフォーム!$M$5,\"\"))","v":""}]
["支払方法（受診コース）",{"$f":"申込みフォーム!$N$5&\"\"","v":""},null,"支払方法（オプション）",{"$f":"申込みフォーム!$P$5&\"\"","v":""}]
[]
["申込No.",{"$f":"E84+1","v":7},null,"申込No.",{"$f":"B121+1","v":8}]
[{"$f":"申込内容の確認!$B$1","v":"氏名"},{"$f":"VLOOKUP(B121,申込内容の確認!$A:$Z,作業用!$N$5)","v":""},null,{"$f":"申込内容の確認!$B$1","v":"氏名"},{"$f":"VLOOKUP(E121,申込内容の確認!$A:$Z,作業用!$N$5)","v":""}]
[{"$f":"申込内容の確認!$C$1","v":"氏名（カナ）"},{"$f":"VLOOKUP(B121,申込内容の確認!$A:$Z,作業用!$N$6)","v":""},null,{"$f":"申込内容の確認!$C$1","v":"氏名（カナ）"},{"$f":"VLOOKUP(E121,申込内容の確認!$A:$Z,作業用!$N$6)","v":""}]
[{"$f":"申込内容の確認!$D$1","v":"性別"},{"$f":"VLOOKUP(B121,申込内容の確認!$A:$Z,作業用!$N$7)","v":""},null,{"$f":"申込内容の確認!$D$1","v":"性別"},{"$f":"VLOOKUP(E121,申込内容の確認!$A:$Z,作業用!$N$7)","v":""}]
[{"$f":"申込内容の確認!$E$1","v":"生年月日"},{"$f":"VLOOKUP(B121,申込内容の確認!$A:$Z,作業用!$N$8)","v":""},null,{"$f":"申込内容の確認!$E$1","v":"生年月日"},{"$f":"VLOOKUP(E121,申込内容の確認!$A:$Z,作業用!$N$8)","v":""}]
[{"$f":"申込内容の確認!$F$1","v":"年度末\n年齢"},{"$f":"VLOOKUP(B121,申込内容の確認!$A:$Z,作業用!$N$9)","v":""},null,{"$f":"申込内容の確認!$F$1","v":"年度末\n年齢"},{"$f":"VLOOKUP(E121,申込内容の確認!$A:$Z,作業用!$N$9)","v":""}]
["患者番号",null,null,"患者番号"]
[{"$f":"申込内容の確認!$G$1","v":"郵便番号"},{"$f":"VLOOKUP(B121,申込内容の確認!$A:$Z,作業用!$N$10)","v":""},null,{"$f":"申込内容の確認!$G$1","v":"郵便番号"},{"$f":"VLOOKUP(E121,申込内容の確認!$A:$Z,作業用!$N$10)","v":""}]
[{"$f":"申込内容の確認!$H$1","v":"住所"},{"$f":"VLOOKUP(B121,申込内容の確認!$A:$Z,作業用!$N$11)","v":""},null,{"$f":"申込内容の確認!$H$1","v":"住所"},{"$f":"VLOOKUP(E121,申込内容の確認!$A:$Z,作業用!$N$11)","v":""}]
[{"$f":"申込内容の確認!$I$1","v":"固定電話"},{"$f":"VLOOKUP(B121,申込内容の確認!$A:$Z,作業用!$N$12)","v":""},null,{"$f":"申込内容の確認!$I$1","v":"固定電話"},{"$f":"VLOOKUP(E121,申込内容の確認!$A:$Z,作業用!$N$12)","v":""}]
[{"$f":"申込内容の確認!$J$1","v":"携帯電話"},{"$f":"VLOOKUP(B121,申込内容の確認!$A:$Z,作業用!$N$13)","v":""},null,{"$f":"申込内容の確認!$J$1","v":"携帯電話"},{"$f":"VLOOKUP(E121,申込内容の確認!$A:$Z,作業用!$N$13)","v":""}]
[{"$f":"申込内容の確認!$K$1","v":"保険種別"},{"$f":"VLOOKUP(B121,申込内容の確認!$A:$Z,作業用!$N$14)","v":""},{"$f":"IF(B132=\"その他\",\"★\",\"\")","v":""},{"$f":"申込内容の確認!$K$1","v":"保険種別"},{"$f":"VLOOKUP(E121,申込内容の確認!$A:$Z,作業用!$N$14)","v":""},{"$f":"IF(E132=\"その他\",\"★\",\"\")","v":""}]
[{"$f":"申込内容の確認!$L$1","v":"本人・家族区分"},{"$f":"VLOOKUP(B121,申込内容の確認!$A:$Z,作業用!$N$15)","v":""},{"$f":"IF(B133=\"家族\",\"★\",\"\")","v":""},{"$f":"申込内容の確認!$L$1","v":"本人・家族区分"},{"$f":"VLOOKUP(E121,申込内容の確認!$A:$Z,作業用!$N$15)","v":""},{"$f":"IF(E133=\"家族\",\"★\",\"\")","v":""}]
[{"$f":"申込内容の確認!$M$1","v":"保険者番号"},{"$f":"VLOOKUP(B121,申込内容の確認!$A:$Z,作業用!$N$16)","v":""},{"$f":"IF(AND(C148=\"★\",C149=\"★\"),\"★\",\"\")","v":""},{"$f":"申込内容の確認!$M$1","v":"保険者番号"},{"$f":"VLOOKUP(E121,申込内容の確認!$A:$Z,作業用!$N$16)","v":""},{"$f":"IF(AND(F148=\"★\",F149=\"★\"),\"★\",\"\")","v":""}]
[{"$f":"申込内容の確認!$N$1","v":"記号"},{"$f":"VLOOKUP(B121,申込内容の確認!$A:$Z,作業用!$N$17)","v":""},{"$f":"IF(OR(C132=\"★\",C133=\"★\",C134=\"★\"),\"☆\",\"\")","v":""},{"$f":"申込内容の確認!$N$1","v":"記号"},{"$f":"VLOOKUP(E121,申込内容の確認!$A:$Z,作業用!$N$17)","v":""},{"$f":"IF(OR(F132=\"★\",F133=\"★\",F134=\"★\"),\"☆\",\"\")","v":""}]
[{"$f":"申込内容の確認!$O$1","v":"番号"},{"$f":"VLOOKUP(B121,申込内容の確認!$A:$Z,作業用!$N$18)","v":""},null,{"$f":"申込内容の確認!$O$1","v":"番号"},{"$f":"VLOOKUP(E121,申込内容の確認!$A:$Z,作業用!$N$18)","v":""}]
[{"$f":"申込内容の確認!$P$1","v":"受診コース"},{"$f":"VLOOKUP(B121,申込内容の確認!$A:$Z,作業用!$N$19)","v":""},{"$f":"IFERROR(IF(AND(C135=\"☆\",B137=VLOOKUP(B137,作業用!$F$4:$F$10,1,0)),\"★\",\"\"),\"\")","v":""},{"$f":"申込内容の確認!$P$1","v":"受診コース"},{"$f":"VLOOKUP(E121,申込内容の確認!$A:$Z,作業用!$N$19)","v":""},{"$f":"IFERROR(IF(AND(F135=\"☆\",E137=VLOOKUP(E137,作業用!$F$4:$F$10,1,0)),\"★\",\"\"),\"\")","v":""}]
[{"$f":"申込内容の確認!$Q$1","v":"胃検査"},{"$f":"VLOOKUP(B121,申込内容の確認!$A:$Z,作業用!$N$20)","v":""},null,{"$f":"申込内容の確認!$Q$1","v":"胃検査"},{"$f":"VLOOKUP(E121,申込内容の確認!$A:$Z,作業用!$N$20)","v":""}]
[{"$f":"申込内容の確認!$R$1","v":"協会けんぽ補助対象（条件あり）オプション"},{"$f":"VLOOKUP(B121,申込内容の確認!$A:$Z,作業用!$N$21)","v":""},null,{"$f":"申込内容の確認!$R$1","v":"協会けんぽ補助対象（条件あり）オプション"},{"$f":"VLOOKUP(E121,申込内容の確認!$A:$Z,作業用!$N$21)","v":""}]
["対象外項目チェック",{"$f":"VLOOKUP(B121,申込内容の確認!$A:$Z,作業用!$N$29)","v":{"$error":"#VALUE!"}},null,"対象外項目チェック",{"$f":"VLOOKUP(E121,申込内容の確認!$A:$Z,作業用!$N$29)","v":{"$error":"#VALUE!"}}]
["対象外項目",{"$f":"VLOOKUP(B121,申込内容の確認!$A:$Z,作業用!$N$28)","v":""},null,"対象外項目",{"$f":"VLOOKUP(E121,申込内容の確認!$A:$Z,作業用!$N$28)","v":""}]
[{"$f":"申込内容の確認!$S$1","v":"婦人科オプション"},{"$f":"VLOOKUP(B121,申込内容の確認!$A:$Z,作業用!$N$22)","v":""},null,{"$f":"申込内容の確認!$S$1","v":"婦人科オプション"},{"$f":"VLOOKUP(E121,申込内容の確認!$A:$Z,作業用!$N$22)","v":""}]
[{"$f":"申込内容の確認!$T$1","v":"血液検査オプション"},{"$f":"VLOOKUP(B121,申込内容の確認!$A:$Z,作業用!$N$23)","v":""},null,{"$f":"申込内容の確認!$T$1","v":"血液検査オプション"},{"$f":"VLOOKUP(E121,申込内容の確認!$A:$Z,作業用!$N$23)","v":""}]
[{"$f":"申込内容の確認!$U$1","v":"その他オプション"},{"$f":"VLOOKUP(B121,申込内容の確認!$A:$Z,作業用!$N$24)","v":""},null,{"$f":"申込内容の確認!$U$1","v":"その他オプション"},{"$f":"VLOOKUP(E121,申込内容の確認!$A:$Z,作業用!$N$24)","v":""}]
[{"$f":"申込内容の確認!$V$1","v":"受診希望"},{"$f":"VLOOKUP(B121,申込内容の確認!$A:$Z,作業用!$N$25)","v":""},null,{"$f":"申込内容の確認!$V$1","v":"受診希望"},{"$f":"VLOOKUP(E121,申込内容の確認!$A:$Z,作業用!$N$25)","v":""}]
[{"$f":"申込内容の確認!$W$1","v":"備考"},{"$f":"VLOOKUP(B121,申込内容の確認!$A:$Z,作業用!$N$26)","v":""},null,{"$f":"申込内容の確認!$W$1","v":"備考"},{"$f":"VLOOKUP(E121,申込内容の確認!$A:$Z,作業用!$N$26)","v":""}]
[]
[{"$f":"申込内容の確認!$X$1","v":"（健診申込）　必須項目確認"},{"$f":"VLOOKUP(B121,申込内容の確認!$A:$Z,作業用!$N$27)","v":""},{"$f":"IFERROR(IF(B134=VLOOKUP(B134,作業用!$P$4:$P$51,1,0),\"　\",\"★\"),\"★\")","v":"★"},{"$f":"申込内容の確認!$X$1","v":"（健診申込）　必須項目確認"},{"$f":"VLOOKUP(E121,申込内容の確認!$A:$Z,作業用!$N$27)","v":""},{"$f":"IFERROR(IF(E134=VLOOKUP(E134,作業用!$P$4:$P$51,1,0),\"　\",\"★\"),\"★\")","v":"★"}]
["前年度情報",{"$f":"IFERROR(\"患者番号：\"&IF(B122=VLOOKUP(B122,'受診者リスト(抽出用）'!$A:$F,1,0),VLOOKUP(B122,'受診者リスト(抽出用）'!$A:$F,2,0)&\"　　\",\"検索なし\"&\"　　\")&\"団体：\"&IF(B122=VLOOKUP(B122,'受診者リスト(抽出用）'!$A:$F,1,0),VLOOKUP(B122,'受診者リスト(抽出用）'!$A:$F,3,0)&\"（\"&VLOOKUP(B122,'受診者リスト(抽出用）'!$A:$F,4,0)&\"－\"&VLOOKUP(B122,'受診者リスト(抽出用）'!$A:$F,5,0)&\"）\",\"検索なし\"&\"　　\"),\"患者番号、団体：検索なし\")","v":"患者番号、団体：検索なし"},{"$f":"IF(B134<>\"\",\"★\",\"\")","v":""},"前年度情報",{"$f":"IFERROR(\"患者番号：\"&IF(E122=VLOOKUP(E122,'受診者リスト(抽出用）'!$A:$F,1,0),VLOOKUP(E122,'受診者リスト(抽出用）'!$A:$F,2,0)&\"　　\",\"検索なし\"&\"　　\")&\"団体：\"&IF(E122=VLOOKUP(E122,'受診者リスト(抽出用）'!$A:$F,1,0),VLOOKUP(E122,'受診者リスト(抽出用）'!$A:$F,3,0)&\"（\"&VLOOKUP(E122,'受診者リスト(抽出用）'!$A:$F,4,0)&\"－\"&VLOOKUP(E122,'受診者リスト(抽出用）'!$A:$F,5,0)&\"）\",\"検索なし\"&\"　　\"),\"患者番号、団体：検索なし\")","v":"患者番号、団体：検索なし"},{"$f":"IF(E134<>\"\",\"★\",\"\")","v":""}]
[]
[]
["名称",{"$f":"申込みフォーム!$B$5&IF(申込みフォーム!R155=\"\",\"\",\"(\"&(申込みフォーム!$R$5)&\")\")","v":""},null,"担当者",{"$f":"申込みフォーム!$E$5&\"(\"&(申込みフォーム!$H$5)&\")\"","v":"()"}]
["団体マスタ予測",null,null,{"$f":"IFERROR(INDEX(申込内容の確認!$AA:$AA,MATCH(TRUE,INDEX(申込内容の確認!$AA:$AA<>\"\",0),0)),\"\")","v":""}]
["郵便番号",{"$f":"IF(申込みフォーム!$I$5<>\"\",REPLACE(申込みフォーム!$I$5,4,,\"-\"),\"\")","v":""},null,"住所",{"$f":"申込みフォーム!$J$5&\"\"","v":""}]
["電話番号",{"$f":"IF(申込みフォーム!$K$5<>\"\",申込みフォーム!$K$5&\"　　\",\"\")&IF(申込みフォーム!$L$5<>\"\",MID(申込みフォーム!$L$5,1,3)&\"-\"&MID(申込みフォーム!$L$5,4,4)&\"-\"&MID(申込みフォーム!$L$5,8,4),\"\")","v":""},null,"FAX",{"$f":"IF(申込みフォーム!$M$5<>\"\",申込みフォーム!$M$5,IF(申込みフォーム!$M$5<>\"\",申込みフォーム!$M$5,\"\"))","v":""}]
["支払方法（受診コース）",{"$f":"申込みフォーム!$N$5&\"\"","v":""},null,"支払方法（オプション）",{"$f":"申込みフォーム!$P$5&\"\"","v":""}]
[]
["申込No.",{"$f":"E121+1","v":9},null,"申込No.",{"$f":"B158+1","v":10}]
[{"$f":"申込内容の確認!$B$1","v":"氏名"},{"$f":"VLOOKUP(B158,申込内容の確認!$A:$Z,作業用!$N$5)","v":""},null,{"$f":"申込内容の確認!$B$1","v":"氏名"},{"$f":"VLOOKUP(E158,申込内容の確認!$A:$Z,作業用!$N$5)","v":""}]
[{"$f":"申込内容の確認!$C$1","v":"氏名（カナ）"},{"$f":"VLOOKUP(B158,申込内容の確認!$A:$Z,作業用!$N$6)","v":""},null,{"$f":"申込内容の確認!$C$1","v":"氏名（カナ）"},{"$f":"VLOOKUP(E158,申込内容の確認!$A:$Z,作業用!$N$6)","v":""}]
[{"$f":"申込内容の確認!$D$1","v":"性別"},{"$f":"VLOOKUP(B158,申込内容の確認!$A:$Z,作業用!$N$7)","v":""},null,{"$f":"申込内容の確認!$D$1","v":"性別"},{"$f":"VLOOKUP(E158,申込内容の確認!$A:$Z,作業用!$N$7)","v":""}]
[{"$f":"申込内容の確認!$E$1","v":"生年月日"},{"$f":"VLOOKUP(B158,申込内容の確認!$A:$Z,作業用!$N$8)","v":""},null,{"$f":"申込内容の確認!$E$1","v":"生年月日"},{"$f":"VLOOKUP(E158,申込内容の確認!$A:$Z,作業用!$N$8)","v":""}]
[{"$f":"申込内容の確認!$F$1","v":"年度末\n年齢"},{"$f":"VLOOKUP(B158,申込内容の確認!$A:$Z,作業用!$N$9)","v":""},null,{"$f":"申込内容の確認!$F$1","v":"年度末\n年齢"},{"$f":"VLOOKUP(E158,申込内容の確認!$A:$Z,作業用!$N$9)","v":""}]
["患者番号",null,null,"患者番号"]
[{"$f":"申込内容の確認!$G$1","v":"郵便番号"},{"$f":"VLOOKUP(B158,申込内容の確認!$A:$Z,作業用!$N$10)","v":""},null,{"$f":"申込内容の確認!$G$1","v":"郵便番号"},{"$f":"VLOOKUP(E158,申込内容の確認!$A:$Z,作業用!$N$10)","v":""}]
[{"$f":"申込内容の確認!$H$1","v":"住所"},{"$f":"VLOOKUP(B158,申込内容の確認!$A:$Z,作業用!$N$11)","v":""},null,{"$f":"申込内容の確認!$H$1","v":"住所"},{"$f":"VLOOKUP(E158,申込内容の確認!$A:$Z,作業用!$N$11)","v":""}]
[{"$f":"申込内容の確認!$I$1","v":"固定電話"},{"$f":"VLOOKUP(B158,申込内容の確認!$A:$Z,作業用!$N$12)","v":""},null,{"$f":"申込内容の確認!$I$1","v":"固定電話"},{"$f":"VLOOKUP(E158,申込内容の確認!$A:$Z,作業用!$N$12)","v":""}]
[{"$f":"申込内容の確認!$J$1","v":"携帯電話"},{"$f":"VLOOKUP(B158,申込内容の確認!$A:$Z,作業用!$N$13)","v":""},null,{"$f":"申込内容の確認!$J$1","v":"携帯電話"},{"$f":"VLOOKUP(E158,申込内容の確認!$A:$Z,作業用!$N$13)","v":""}]
[{"$f":"申込内容の確認!$K$1","v":"保険種別"},{"$f":"VLOOKUP(B158,申込内容の確認!$A:$Z,作業用!$N$14)","v":""},{"$f":"IF(B169=\"その他\",\"★\",\"\")","v":""},{"$f":"申込内容の確認!$K$1","v":"保険種別"},{"$f":"VLOOKUP(E158,申込内容の確認!$A:$Z,作業用!$N$14)","v":""},{"$f":"IF(E169=\"その他\",\"★\",\"\")","v":""}]
[{"$f":"申込内容の確認!$L$1","v":"本人・家族区分"},{"$f":"VLOOKUP(B158,申込内容の確認!$A:$Z,作業用!$N$15)","v":""},{"$f":"IF(B170=\"家族\",\"★\",\"\")","v":""},{"$f":"申込内容の確認!$L$1","v":"本人・家族区分"},{"$f":"VLOOKUP(E158,申込内容の確認!$A:$Z,作業用!$N$15)","v":""},{"$f":"IF(E170=\"家族\",\"★\",\"\")","v":""}]
[{"$f":"申込内容の確認!$M$1","v":"保険者番号"},{"$f":"VLOOKUP(B158,申込内容の確認!$A:$Z,作業用!$N$16)","v":""},{"$f":"IF(AND(C185=\"★\",C186=\"★\"),\"★\",\"\")","v":""},{"$f":"申込内容の確認!$M$1","v":"保険者番号"},{"$f":"VLOOKUP(E158,申込内容の確認!$A:$Z,作業用!$N$16)","v":""},{"$f":"IF(AND(F185=\"★\",F186=\"★\"),\"★\",\"\")","v":""}]
[{"$f":"申込内容の確認!$N$1","v":"記号"},{"$f":"VLOOKUP(B158,申込内容の確認!$A:$Z,作業用!$N$17)","v":""},{"$f":"IF(OR(C169=\"★\",C170=\"★\",C171=\"★\"),\"☆\",\"\")","v":""},{"$f":"申込内容の確認!$N$1","v":"記号"},{"$f":"VLOOKUP(E158,申込内容の確認!$A:$Z,作業用!$N$17)","v":""},{"$f":"IF(OR(F169=\"★\",F170=\"★\",F171=\"★\"),\"☆\",\"\")","v":""}]
[{"$f":"申込内容の確認!$O$1","v":"番号"},{"$f":"VLOOKUP(B158,申込内容の確認!$A:$Z,作業用!$N$18)","v":""},null,{"$f":"申込内容の確認!$O$1","v":"番号"},{"$f":"VLOOKUP(E158,申込内容の確認!$A:$Z,作業用!$N$18)","v":""}]
[{"$f":"申込内容の確認!$P$1","v":"受診コース"},{"$f":"VLOOKUP(B158,申込内容の確認!$A:$Z,作業用!$N$19)","v":""},{"$f":"IFERROR(IF(AND(C172=\"☆\",B174=VLOOKUP(B174,作業用!$F$4:$F$10,1,0)),\"★\",\"\"),\"\")","v":""},{"$f":"申込内容の確認!$P$1","v":"受診コース"},{"$f":"VLOOKUP(E158,申込内容の確認!$A:$Z,作業用!$N$19)","v":""},{"$f":"IFERROR(IF(AND(F172=\"☆\",E174=VLOOKUP(E174,作業用!$F$4:$F$10,1,0)),\"★\",\"\"),\"\")","v":""}]
[{"$f":"申込内容の確認!$Q$1","v":"胃検査"},{"$f":"VLOOKUP(B158,申込内容の確認!$A:$Z,作業用!$N$20)","v":""},null,{"$f":"申込内容の確認!$Q$1","v":"胃検査"},{"$f":"VLOOKUP(E158,申込内容の確認!$A:$Z,作業用!$N$20)","v":""}]
[{"$f":"申込内容の確認!$R$1","v":"協会けんぽ補助対象（条件あり）オプション"},{"$f":"VLOOKUP(B158,申込内容の確認!$A:$Z,作業用!$N$21)","v":""},null,{"$f":"申込内容の確認!$R$1","v":"協会けんぽ補助対象（条件あり）オプション"},{"$f":"VLOOKUP(E158,申込内容の確認!$A:$Z,作業用!$N$21)","v":""}]
["対象外項目チェック",{"$f":"VLOOKUP(B158,申込内容の確認!$A:$Z,作業用!$N$29)","v":{"$error":"#VALUE!"}},null,"対象外項目チェック",{"$f":"VLOOKUP(E158,申込内容の確認!$A:$Z,作業用!$N$29)","v":{"$error":"#VALUE!"}}]
["対象外項目",{"$f":"VLOOKUP(B158,申込内容の確認!$A:$Z,作業用!$N$28)","v":""},null,"対象外項目",{"$f":"VLOOKUP(E158,申込内容の確認!$A:$Z,作業用!$N$28)","v":""}]
[{"$f":"申込内容の確認!$S$1","v":"婦人科オプション"},{"$f":"VLOOKUP(B158,申込内容の確認!$A:$Z,作業用!$N$22)","v":""},null,{"$f":"申込内容の確認!$S$1","v":"婦人科オプション"},{"$f":"VLOOKUP(E158,申込内容の確認!$A:$Z,作業用!$N$22)","v":""}]
[{"$f":"申込内容の確認!$T$1","v":"血液検査オプション"},{"$f":"VLOOKUP(B158,申込内容の確認!$A:$Z,作業用!$N$23)","v":""},null,{"$f":"申込内容の確認!$T$1","v":"血液検査オプション"},{"$f":"VLOOKUP(E158,申込内容の確認!$A:$Z,作業用!$N$23)","v":""}]
[{"$f":"申込内容の確認!$U$1","v":"その他オプション"},{"$f":"VLOOKUP(B158,申込内容の確認!$A:$Z,作業用!$N$24)","v":""},null,{"$f":"申込内容の確認!$U$1","v":"その他オプション"},{"$f":"VLOOKUP(E158,申込内容の確認!$A:$Z,作業用!$N$24)","v":""}]
[{"$f":"申込内容の確認!$V$1","v":"受診希望"},{"$f":"VLOOKUP(B158,申込内容の確認!$A:$Z,作業用!$N$25)","v":""},null,{"$f":"申込内容の確認!$V$1","v":"受診希望"},{"$f":"VLOOKUP(E158,申込内容の確認!$A:$Z,作業用!$N$25)","v":""}]
[{"$f":"申込内容の確認!$W$1","v":"備考"},{"$f":"VLOOKUP(B158,申込内容の確認!$A:$Z,作業用!$N$26)","v":""},null,{"$f":"申込内容の確認!$W$1","v":"備考"},{"$f":"VLOOKUP(E158,申込内容の確認!$A:$Z,作業用!$N$26)","v":""}]
[]
[{"$f":"申込内容の確認!$X$1","v":"（健診申込）　必須項目確認"},{"$f":"VLOOKUP(B158,申込内容の確認!$A:$Z,作業用!$N$27)","v":""},{"$f":"IFERROR(IF(B171=VLOOKUP(B171,作業用!$P$4:$P$51,1,0),\"　\",\"★\"),\"★\")","v":"★"},{"$f":"申込内容の確認!$X$1","v":"（健診申込）　必須項目確認"},{"$f":"VLOOKUP(E158,申込内容の確認!$A:$Z,作業用!$N$27)","v":""},{"$f":"IFERROR(IF(E171=VLOOKUP(E171,作業用!$P$4:$P$51,1,0),\"　\",\"★\"),\"★\")","v":"★"}]
["前年度情報",{"$f":"IFERROR(\"患者番号：\"&IF(B159=VLOOKUP(B159,'受診者リスト(抽出用）'!$A:$F,1,0),VLOOKUP(B159,'受診者リスト(抽出用）'!$A:$F,2,0)&\"　　\",\"検索なし\"&\"　　\")&\"団体：\"&IF(B159=VLOOKUP(B159,'受診者リスト(抽出用）'!$A:$F,1,0),VLOOKUP(B159,'受診者リスト(抽出用）'!$A:$F,3,0)&\"（\"&VLOOKUP(B159,'受診者リスト(抽出用）'!$A:$F,4,0)&\"－\"&VLOOKUP(B159,'受診者リスト(抽出用）'!$A:$F,5,0)&\"）\",\"検索なし\"&\"　　\"),\"患者番号、団体：検索なし\")","v":"患者番号、団体：検索なし"},{"$f":"IF(B171<>\"\",\"★\",\"\")","v":""},"前年度情報",{"$f":"IFERROR(\"患者番号：\"&IF(E159=VLOOKUP(E159,'受診者リスト(抽出用）'!$A:$F,1,0),VLOOKUP(E159,'受診者リスト(抽出用）'!$A:$F,2,0)&\"　　\",\"検索なし\"&\"　　\")&\"団体：\"&IF(E159=VLOOKUP(E159,'受診者リスト(抽出用）'!$A:$F,1,0),VLOOKUP(E159,'受診者リスト(抽出用）'!$A:$F,3,0)&\"（\"&VLOOKUP(E159,'受診者リスト(抽出用）'!$A:$F,4,0)&\"－\"&VLOOKUP(E159,'受診者リスト(抽出用）'!$A:$F,5,0)&\"）\",\"検索なし\"&\"　　\"),\"患者番号、団体：検索なし\")","v":"患者番号、団体：検索なし"},{"$f":"IF(E171<>\"\",\"★\",\"\")","v":""}]

{"sheet":"【健診センター用】受診日決定シート","index":4,"n_rows":152,"n_cols":30,"rows_kept":152,"cut":false,"hidden":false,"merged":[[0,0,0,24],[1,1,1,2],[1,3,1,4]]}
[{"$f":"IF(申込みフォーム!$B$5<>\"\",申込みフォーム!$B$5&\"　御中\",\"\")","v":""}]
["NO.","受診日決定",null,"受診日決定（後日分）",null,"氏名","氏名（カナ）",{"$f":"申込みフォーム!G8","v":"性別"},{"$f":"申込みフォーム!H8","v":"生年月日"},"年度末\n年齢","郵便番号",{"$f":"申込みフォーム!J8","v":"住所"},"固定電話","携帯電話",{"$f":"申込みフォーム!M8","v":"保険種別"},{"$f":"申込みフォーム!N8","v":"本人・家族区分"},{"$f":"申込みフォーム!O8","v":"保険者番号"},{"$f":"申込みフォーム!P8","v":"記号"},{"$f":"申込みフォーム!Q8","v":"番号"},{"$f":"申込みフォーム!R8","v":"受診コース"},{"$f":"申込みフォーム!S8","v":"胃検査"},{"$f":"申込みフォーム!T7","v":"協会けんぽ補助対象（条件あり）オプション"},{"$f":"申込みフォーム!AB7","v":"婦人科オプション"},{"$f":"申込みフォーム!AE7","v":"血液検査オプション"},{"$f":"申込みフォーム!AK7","v":"その他オプション"},{"$f":"申込みフォーム!AU7","v":"受診希望"},{"$f":"申込みフォーム!BJ7","v":"備考"},{"$f":"申込みフォーム!BK7","v":"（健診申込）　必須項目確認"},"協会けんぽ補助対象（条件あり）オプション　対象外項目","協会けんぽ補助対象（条件あり）オプション　対象外チェック"]
[1,null,null,null,null,{"$f":"IF(申込みフォーム!B11<>\"\",申込みフォーム!B11&\"　\"&申込みフォーム!C11,\"\")","v":""},{"$f":"IF(申込みフォーム!E11<>\"\",申込みフォーム!E11&\"　\"&申込みフォーム!F11,\"\")","v":""},{"$f":"IF(申込みフォーム!G11<>\"\",申込みフォーム!G11,\"\")","v":""},{"$f":"IF(申込みフォーム!H11<>\"\",申込みフォーム!H11,\"\")","v":""},{"$f":"IF(申込みフォーム!D11<>\"\",申込みフォーム!D11,\"\")","v":""},{"$f":"IF(申込みフォーム!I11<>\"\",REPLACE(申込みフォーム!I11,4,,\"-\"),\"\")","v":""},{"$f":"IF(申込みフォーム!J11<>\"\",申込みフォーム!J11,\"\")","v":""},{"$f":"IF(申込みフォーム!K11<>\"\",申込みフォーム!K11,\"\")","v":""},{"$f":"IF(申込みフォーム!L11<>\"\",MID(申込みフォーム!L11,1,3)&\"-\"&MID(申込みフォーム!L11,4,4)&\"-\"&MID(申込みフォーム!L11,8,4),\"\")","v":""},{"$f":"IF(申込みフォーム!M11<>\"\",申込みフォーム!M11,\"\")","v":""},{"$f":"IF(申込みフォーム!N11<>\"\",申込みフォーム!N11,\"\")","v":""},{"$f":"IF(申込みフォーム!O11<>\"\",申込みフォーム!O11,\"\")","v":""},{"$f":"IF(申込みフォーム!P11<>\"\",申込みフォーム!P11,\"\")","v":""},{"$f":"IF(申込みフォーム!Q11<>\"\",申込みフォーム!Q11,\"\")","v":""},{"$f":"IF(申込みフォーム!R11<>\"\",申込みフォーム!R11,\"\")","v":""},{"$f":"IF(申込みフォーム!S11<>\"\",申込みフォーム!S11,\"\")","v":""},{"$f":"IF(申込みフォーム!U11=\"細胞診のみ\",\"協会子宮　\",IF(申込みフォーム!U11=\"細胞診＋（自費）膣エコー\",\"協会子宮＋自費膣エコー　\",\"\"))&IF(申込みフォーム!W11<>\"\",\"協会ﾏﾝﾓ　\",\"\")&IF(申込みフォーム!Y11<>\"\",\"協会骨　\",\"\")&IF(申込みフォーム!AA11<>\"\",\"協会肝炎　\",\"\")","v":""},{"$f":"IF(申込みフォーム!AB11<>\"\",\"子宮　\",\"\")&IF(申込みフォーム!AC11<>\"\",\"ﾏﾝﾓ　\",\"\")&IF(申込みフォーム!AD11<>\"\",\"乳ｴｺｰ\",\"\")","v":""},{"$f":"IF(申込みフォーム!AE11<>\"\",\"ﾏｰｶｰ　\",\"\")&IF(申込みフォーム!AF11<>\"\",\"心機能　\",\"\")&IF(申込みフォーム!AG11<>\"\",\"ABC　\",\"\")&IF(申込みフォーム!AH11<>\"\",\"Lox　\",\"\")&IF(申込みフォーム!AI11<>\"\",\"甲状腺　\",\"\")&IF(申込みフォーム!AJ11<>\"\",\"肝炎\",\"\")","v":""},{"$f":"IF(申込みフォーム!AK11<>\"\",\"脳　\",\"\")&IF(申込みフォーム!AL11<>\"\",\"胸部CT　\",\"\")&IF(申込みフォーム!AM11<>\"\",\"肺機能　\",\"\")&IF(申込みフォーム!AN11<>\"\",\"腹ｴｺｰ　\",\"\")&IF(申込みフォーム!AO11<>\"\",\"心ｴｺｰ　\",\"\")&IF(申込みフォーム!AP11<>\"\",\"ﾌﾛｰﾗ　\",\"\")&IF(申込みフォーム!AQ11<>\"\",\"OCT　\",\"\")&IF(申込みフォーム!AR11<>\"\",\"検便　\",\"\")&IF(申込みフォーム!AS11<>\"\",\"骨　\",\"\")&IF(申込みフォーム!AT11<>\"\",\"骨＋ﾛｺﾓ\",\"\")","v":""},{"$f":"IF(申込みフォーム!AU11<>\"\",申込みフォーム!AU11&\"　　\",\"\")&IF(申込みフォーム!AV11<>\"\",申込みフォーム!AV11&\"　　\",\"\")&IF(申込みフォーム!AW11<>\"\",申込みフォーム!AW11&\"　　\",\"\")","v":""},{"$f":"IF(申込みフォーム!BJ11<>\"\",申込みフォーム!BJ11,\"\")","v":""},{"$f":"IF(申込みフォーム!BK11<>\"\",申込みフォーム!BK11,\"\")","v":""},{"$f":"IF(申込みフォーム!BL11<>\"\",申込みフォーム!BL11&\"　　\",\"\")&IF(申込みフォーム!BM11<>\"\",申込みフォーム!BM11&\"　　\",\"\")&IF(申込みフォーム!BN11<>\"\",申込みフォーム!BN11&\"　　\",\"\")","v":{"$error":"#VALUE!"}},{"$f":"申込みフォーム!$Z11","v":""}]
[2,null,null,null,null,{"$f":"IF(申込みフォーム!B12<>\"\",申込みフォーム!B12&\"　\"&申込みフォーム!C12,\"\")","v":""},{"$f":"IF(申込みフォーム!E12<>\"\",申込みフォーム!E12&\"　\"&申込みフォーム!F12,\"\")","v":""},{"$f":"IF(申込みフォーム!G12<>\"\",申込みフォーム!G12,\"\")","v":""},{"$f":"IF(申込みフォーム!H12<>\"\",申込みフォーム!H12,\"\")","v":""},{"$f":"IF(申込みフォーム!D12<>\"\",申込みフォーム!D12,\"\")","v":""},{"$f":"IF(申込みフォーム!I12<>\"\",REPLACE(申込みフォーム!I12,4,,\"-\"),\"\")","v":""},{"$f":"IF(申込みフォーム!J12<>\"\",申込みフォーム!J12,\"\")","v":""},{"$f":"IF(申込みフォーム!K12<>\"\",申込みフォーム!K12,\"\")","v":""},{"$f":"IF(申込みフォーム!L12<>\"\",MID(申込みフォーム!L12,1,3)&\"-\"&MID(申込みフォーム!L12,4,4)&\"-\"&MID(申込みフォーム!L12,8,4),\"\")","v":""},{"$f":"IF(申込みフォーム!M12<>\"\",申込みフォーム!M12,\"\")","v":""},{"$f":"IF(申込みフォーム!N12<>\"\",申込みフォーム!N12,\"\")","v":""},{"$f":"IF(申込みフォーム!O12<>\"\",申込みフォーム!O12,\"\")","v":""},{"$f":"IF(申込みフォーム!P12<>\"\",申込みフォーム!P12,\"\")","v":""},{"$f":"IF(申込みフォーム!Q12<>\"\",申込みフォーム!Q12,\"\")","v":""},{"$f":"IF(申込みフォーム!R12<>\"\",申込みフォーム!R12,\"\")","v":""},{"$f":"IF(申込みフォーム!S12<>\"\",申込みフォーム!S12,\"\")","v":""},{"$f":"IF(申込みフォーム!U12=\"細胞診のみ\",\"協会子宮　\",IF(申込みフォーム!U12=\"細胞診＋（自費）膣エコー\",\"協会子宮＋自費膣エコー　\",\"\"))&IF(申込みフォーム!W12<>\"\",\"協会ﾏﾝﾓ　\",\"\")&IF(申込みフォーム!Y12<>\"\",\"協会骨　\",\"\")&IF(申込みフォーム!AA12<>\"\",\"協会肝炎　\",\"\")","v":""},{"$f":"IF(申込みフォーム!AB12<>\"\",\"子宮　\",\"\")&IF(申込みフォーム!AC12<>\"\",\"ﾏﾝﾓ　\",\"\")&IF(申込みフォーム!AD12<>\"\",\"乳ｴｺｰ\",\"\")","v":""},{"$f":"IF(申込みフォーム!AE12<>\"\",\"ﾏｰｶｰ　\",\"\")&IF(申込みフォーム!AF12<>\"\",\"心機能　\",\"\")&IF(申込みフォーム!AG12<>\"\",\"ABC　\",\"\")&IF(申込みフォーム!AH12<>\"\",\"Lox　\",\"\")&IF(申込みフォーム!AI12<>\"\",\"甲状腺　\",\"\")&IF(申込みフォーム!AJ12<>\"\",\"肝炎\",\"\")","v":""},{"$f":"IF(申込みフォーム!AK12<>\"\",\"脳　\",\"\")&IF(申込みフォーム!AL12<>\"\",\"胸部CT　\",\"\")&IF(申込みフォーム!AM12<>\"\",\"肺機能　\",\"\")&IF(申込みフォーム!AN12<>\"\",\"腹ｴｺｰ　\",\"\")&IF(申込みフォーム!AO12<>\"\",\"心ｴｺｰ　\",\"\")&IF(申込みフォーム!AP12<>\"\",\"ﾌﾛｰﾗ　\",\"\")&IF(申込みフォーム!AQ12<>\"\",\"OCT　\",\"\")&IF(申込みフォーム!AR12<>\"\",\"検便　\",\"\")&IF(申込みフォーム!AS12<>\"\",\"骨　\",\"\")&IF(申込みフォーム!AT12<>\"\",\"骨＋ﾛｺﾓ\",\"\")","v":""},{"$f":"IF(申込みフォーム!AU12<>\"\",申込みフォーム!AU12&\"　　\",\"\")&IF(申込みフォーム!AV12<>\"\",申込みフォーム!AV12&\"　　\",\"\")&IF(申込みフォーム!AW12<>\"\",申込みフォーム!AW12&\"　　\",\"\")","v":""},{"$f":"IF(申込みフォーム!BJ12<>\"\",申込みフォーム!BJ12,\"\")","v":""},{"$f":"IF(申込みフォーム!BK12<>\"\",申込みフォーム!BK12,\"\")","v":""},{"$f":"IF(申込みフォーム!BL12<>\"\",申込みフォーム!BL12&\"　　\",\"\")&IF(申込みフォーム!BM12<>\"\",申込みフォーム!BM12&\"　　\",\"\")&IF(申込みフォーム!BN12<>\"\",申込みフォーム!BN12&\"　　\",\"\")","v":{"$error":"#VALUE!"}},{"$f":"申込みフォーム!$Z12","v":""}]
[3,null,null,null,null,{"$f":"IF(申込みフォーム!B13<>\"\",申込みフォーム!B13&\"　\"&申込みフォーム!C13,\"\")","v":""},{"$f":"IF(申込みフォーム!E13<>\"\",申込みフォーム!E13&\"　\"&申込みフォーム!F13,\"\")","v":""},{"$f":"IF(申込みフォーム!G13<>\"\",申込みフォーム!G13,\"\")","v":""},{"$f":"IF(申込みフォーム!H13<>\"\",申込みフォーム!H13,\"\")","v":""},{"$f":"IF(申込みフォーム!D13<>\"\",申込みフォーム!D13,\"\")","v":""},{"$f":"IF(申込みフォーム!I13<>\"\",REPLACE(申込みフォーム!I13,4,,\"-\"),\"\")","v":""},{"$f":"IF(申込みフォーム!J13<>\"\",申込みフォーム!J13,\"\")","v":""},{"$f":"IF(申込みフォーム!K13<>\"\",申込みフォーム!K13,\"\")","v":""},{"$f":"IF(申込みフォーム!L13<>\"\",MID(申込みフォーム!L13,1,3)&\"-\"&MID(申込みフォーム!L13,4,4)&\"-\"&MID(申込みフォーム!L13,8,4),\"\")","v":""},{"$f":"IF(申込みフォーム!M13<>\"\",申込みフォーム!M13,\"\")","v":""},{"$f":"IF(申込みフォーム!N13<>\"\",申込みフォーム!N13,\"\")","v":""},{"$f":"IF(申込みフォーム!O13<>\"\",申込みフォーム!O13,\"\")","v":""},{"$f":"IF(申込みフォーム!P13<>\"\",申込みフォーム!P13,\"\")","v":""},{"$f":"IF(申込みフォーム!Q13<>\"\",申込みフォーム!Q13,\"\")","v":""},{"$f":"IF(申込みフォーム!R13<>\"\",申込みフォーム!R13,\"\")","v":""},{"$f":"IF(申込みフォーム!S13<>\"\",申込みフォーム!S13,\"\")","v":""},{"$f":"IF(申込みフォーム!U13=\"細胞診のみ\",\"協会子宮　\",IF(申込みフォーム!U13=\"細胞診＋（自費）膣エコー\",\"協会子宮＋自費膣エコー　\",\"\"))&IF(申込みフォーム!W13<>\"\",\"協会ﾏﾝﾓ　\",\"\")&IF(申込みフォーム!Y13<>\"\",\"協会骨　\",\"\")&IF(申込みフォーム!AA13<>\"\",\"協会肝炎　\",\"\")","v":""},{"$f":"IF(申込みフォーム!AB13<>\"\",\"子宮　\",\"\")&IF(申込みフォーム!AC13<>\"\",\"ﾏﾝﾓ　\",\"\")&IF(申込みフォーム!AD13<>\"\",\"乳ｴｺｰ\",\"\")","v":""},{"$f":"IF(申込みフォーム!AE13<>\"\",\"ﾏｰｶｰ　\",\"\")&IF(申込みフォーム!AF13<>\"\",\"心機能　\",\"\")&IF(申込みフォーム!AG13<>\"\",\"ABC　\",\"\")&IF(申込みフォーム!AH13<>\"\",\"Lox　\",\"\")&IF(申込みフォーム!AI13<>\"\",\"甲状腺　\",\"\")&IF(申込みフォーム!AJ13<>\"\",\"肝炎\",\"\")","v":""},{"$f":"IF(申込みフォーム!AK13<>\"\",\"脳　\",\"\")&IF(申込みフォーム!AL13<>\"\",\"胸部CT　\",\"\")&IF(申込みフォーム!AM13<>\"\",\"肺機能　\",\"\")&IF(申込みフォーム!AN13<>\"\",\"腹ｴｺｰ　\",\"\")&IF(申込みフォーム!AO13<>\"\",\"心ｴｺｰ　\",\"\")&IF(申込みフォーム!AP13<>\"\",\"ﾌﾛｰﾗ　\",\"\")&IF(申込みフォーム!AQ13<>\"\",\"OCT　\",\"\")&IF(申込みフォーム!AR13<>\"\",\"検便　\",\"\")&IF(申込みフォーム!AS13<>\"\",\"骨　\",\"\")&IF(申込みフォーム!AT13<>\"\",\"骨＋ﾛｺﾓ\",\"\")","v":""},{"$f":"IF(申込みフォーム!AU13<>\"\",申込みフォーム!AU13&\"　　\",\"\")&IF(申込みフォーム!AV13<>\"\",申込みフォーム!AV13&\"　　\",\"\")&IF(申込みフォーム!AW13<>\"\",申込みフォーム!AW13&\"　　\",\"\")","v":""},{"$f":"IF(申込みフォーム!BJ13<>\"\",申込みフォーム!BJ13,\"\")","v":""},{"$f":"IF(申込みフォーム!BK13<>\"\",申込みフォーム!BK13,\"\")","v":""},{"$f":"IF(申込みフォーム!BL13<>\"\",申込みフォーム!BL13&\"　　\",\"\")&IF(申込みフォーム!BM13<>\"\",申込みフォーム!BM13&\"　　\",\"\")&IF(申込みフォーム!BN13<>\"\",申込みフォーム!BN13&\"　　\",\"\")","v":{"$error":"#VALUE!"}},{"$f":"申込みフォーム!$Z13","v":""}]
[4,null,null,null,null,{"$f":"IF(申込みフォーム!B14<>\"\",申込みフォーム!B14&\"　\"&申込みフォーム!C14,\"\")","v":""},{"$f":"IF(申込みフォーム!E14<>\"\",申込みフォーム!E14&\"　\"&申込みフォーム!F14,\"\")","v":""},{"$f":"IF(申込みフォーム!G14<>\"\",申込みフォーム!G14,\"\")","v":""},{"$f":"IF(申込みフォーム!H14<>\"\",申込みフォーム!H14,\"\")","v":""},{"$f":"IF(申込みフォーム!D14<>\"\",申込みフォーム!D14,\"\")","v":""},{"$f":"IF(申込みフォーム!I14<>\"\",REPLACE(申込みフォーム!I14,4,,\"-\"),\"\")","v":""},{"$f":"IF(申込みフォーム!J14<>\"\",申込みフォーム!J14,\"\")","v":""},{"$f":"IF(申込みフォーム!K14<>\"\",申込みフォーム!K14,\"\")","v":""},{"$f":"IF(申込みフォーム!L14<>\"\",MID(申込みフォーム!L14,1,3)&\"-\"&MID(申込みフォーム!L14,4,4)&\"-\"&MID(申込みフォーム!L14,8,4),\"\")","v":""},{"$f":"IF(申込みフォーム!M14<>\"\",申込みフォーム!M14,\"\")","v":""},{"$f":"IF(申込みフォーム!N14<>\"\",申込みフォーム!N14,\"\")","v":""},{"$f":"IF(申込みフォーム!O14<>\"\",申込みフォーム!O14,\"\")","v":""},{"$f":"IF(申込みフォーム!P14<>\"\",申込みフォーム!P14,\"\")","v":""},{"$f":"IF(申込みフォーム!Q14<>\"\",申込みフォーム!Q14,\"\")","v":""},{"$f":"IF(申込みフォーム!R14<>\"\",申込みフォーム!R14,\"\")","v":""},{"$f":"IF(申込みフォーム!S14<>\"\",申込みフォーム!S14,\"\")","v":""},{"$f":"IF(申込みフォーム!U14=\"細胞診のみ\",\"協会子宮　\",IF(申込みフォーム!U14=\"細胞診＋（自費）膣エコー\",\"協会子宮＋自費膣エコー　\",\"\"))&IF(申込みフォーム!W14<>\"\",\"協会ﾏﾝﾓ　\",\"\")&IF(申込みフォーム!Y14<>\"\",\"協会骨　\",\"\")&IF(申込みフォーム!AA14<>\"\",\"協会肝炎　\",\"\")","v":""},{"$f":"IF(申込みフォーム!AB14<>\"\",\"子宮　\",\"\")&IF(申込みフォーム!AC14<>\"\",\"ﾏﾝﾓ　\",\"\")&IF(申込みフォーム!AD14<>\"\",\"乳ｴｺｰ\",\"\")","v":""},{"$f":"IF(申込みフォーム!AE14<>\"\",\"ﾏｰｶｰ　\",\"\")&IF(申込みフォーム!AF14<>\"\",\"心機能　\",\"\")&IF(申込みフォーム!AG14<>\"\",\"ABC　\",\"\")&IF(申込みフォーム!AH14<>\"\",\"Lox　\",\"\")&IF(申込みフォーム!AI14<>\"\",\"甲状腺　\",\"\")&IF(申込みフォーム!AJ14<>\"\",\"肝炎\",\"\")","v":""},{"$f":"IF(申込みフォーム!AK14<>\"\",\"脳　\",\"\")&IF(申込みフォーム!AL14<>\"\",\"胸部CT　\",\"\")&IF(申込みフォーム!AM14<>\"\",\"肺機能　\",\"\")&IF(申込みフォーム!AN14<>\"\",\"腹ｴｺｰ　\",\"\")&IF(申込みフォーム!AO14<>\"\",\"心ｴｺｰ　\",\"\")&IF(申込みフォーム!AP14<>\"\",\"ﾌﾛｰﾗ　\",\"\")&IF(申込みフォーム!AQ14<>\"\",\"OCT　\",\"\")&IF(申込みフォーム!AR14<>\"\",\"検便　\",\"\")&IF(申込みフォーム!AS14<>\"\",\"骨　\",\"\")&IF(申込みフォーム!AT14<>\"\",\"骨＋ﾛｺﾓ\",\"\")","v":""},{"$f":"IF(申込みフォーム!AU14<>\"\",申込みフォーム!AU14&\"　　\",\"\")&IF(申込みフォーム!AV14<>\"\",申込みフォーム!AV14&\"　　\",\"\")&IF(申込みフォーム!AW14<>\"\",申込みフォーム!AW14&\"　　\",\"\")","v":""},{"$f":"IF(申込みフォーム!BJ14<>\"\",申込みフォーム!BJ14,\"\")","v":""},{"$f":"IF(申込みフォーム!BK14<>\"\",申込みフォーム!BK14,\"\")","v":""},{"$f":"IF(申込みフォーム!BL14<>\"\",申込みフォーム!BL14&\"　　\",\"\")&IF(申込みフォーム!BM14<>\"\",申込みフォーム!BM14&\"　　\",\"\")&IF(申込みフォーム!BN14<>\"\",申込みフォーム!BN14&\"　　\",\"\")","v":{"$error":"#VALUE!"}},{"$f":"申込みフォーム!$Z14","v":""}]
[5,null,null,null,null,{"$f":"IF(申込みフォーム!B15<>\"\",申込みフォーム!B15&\"　\"&申込みフォーム!C15,\"\")","v":""},{"$f":"IF(申込みフォーム!E15<>\"\",申込みフォーム!E15&\"　\"&申込みフォーム!F15,\"\")","v":""},{"$f":"IF(申込みフォーム!G15<>\"\",申込みフォーム!G15,\"\")","v":""},{"$f":"IF(申込みフォーム!H15<>\"\",申込みフォーム!H15,\"\")","v":""},{"$f":"IF(申込みフォーム!D15<>\"\",申込みフォーム!D15,\"\")","v":""},{"$f":"IF(申込みフォーム!I15<>\"\",REPLACE(申込みフォーム!I15,4,,\"-\"),\"\")","v":""},{"$f":"IF(申込みフォーム!J15<>\"\",申込みフォーム!J15,\"\")","v":""},{"$f":"IF(申込みフォーム!K15<>\"\",申込みフォーム!K15,\"\")","v":""},{"$f":"IF(申込みフォーム!L15<>\"\",MID(申込みフォーム!L15,1,3)&\"-\"&MID(申込みフォーム!L15,4,4)&\"-\"&MID(申込みフォーム!L15,8,4),\"\")","v":""},{"$f":"IF(申込みフォーム!M15<>\"\",申込みフォーム!M15,\"\")","v":""},{"$f":"IF(申込みフォーム!N15<>\"\",申込みフォーム!N15,\"\")","v":""},{"$f":"IF(申込みフォーム!O15<>\"\",申込みフォーム!O15,\"\")","v":""},{"$f":"IF(申込みフォーム!P15<>\"\",申込みフォーム!P15,\"\")","v":""},{"$f":"IF(申込みフォーム!Q15<>\"\",申込みフォーム!Q15,\"\")","v":""},{"$f":"IF(申込みフォーム!R15<>\"\",申込みフォーム!R15,\"\")","v":""},{"$f":"IF(申込みフォーム!S15<>\"\",申込みフォーム!S15,\"\")","v":""},{"$f":"IF(申込みフォーム!U15=\"細胞診のみ\",\"協会子宮　\",IF(申込みフォーム!U15=\"細胞診＋（自費）膣エコー\",\"協会子宮＋自費膣エコー　\",\"\"))&IF(申込みフォーム!W15<>\"\",\"協会ﾏﾝﾓ　\",\"\")&IF(申込みフォーム!Y15<>\"\",\"協会骨　\",\"\")&IF(申込みフォーム!AA15<>\"\",\"協会肝炎　\",\"\")","v":""},{"$f":"IF(申込みフォーム!AB15<>\"\",\"子宮　\",\"\")&IF(申込みフォーム!AC15<>\"\",\"ﾏﾝﾓ　\",\"\")&IF(申込みフォーム!AD15<>\"\",\"乳ｴｺｰ\",\"\")","v":""},{"$f":"IF(申込みフォーム!AE15<>\"\",\"ﾏｰｶｰ　\",\"\")&IF(申込みフォーム!AF15<>\"\",\"心機能　\",\"\")&IF(申込みフォーム!AG15<>\"\",\"ABC　\",\"\")&IF(申込みフォーム!AH15<>\"\",\"Lox　\",\"\")&IF(申込みフォーム!AI15<>\"\",\"甲状腺　\",\"\")&IF(申込みフォーム!AJ15<>\"\",\"肝炎\",\"\")","v":""},{"$f":"IF(申込みフォーム!AK15<>\"\",\"脳　\",\"\")&IF(申込みフォーム!AL15<>\"\",\"胸部CT　\",\"\")&IF(申込みフォーム!AM15<>\"\",\"肺機能　\",\"\")&IF(申込みフォーム!AN15<>\"\",\"腹ｴｺｰ　\",\"\")&IF(申込みフォーム!AO15<>\"\",\"心ｴｺｰ　\",\"\")&IF(申込みフォーム!AP15<>\"\",\"ﾌﾛｰﾗ　\",\"\")&IF(申込みフォーム!AQ15<>\"\",\"OCT　\",\"\")&IF(申込みフォーム!AR15<>\"\",\"検便　\",\"\")&IF(申込みフォーム!AS15<>\"\",\"骨　\",\"\")&IF(申込みフォーム!AT15<>\"\",\"骨＋ﾛｺﾓ\",\"\")","v":""},{"$f":"IF(申込みフォーム!AU15<>\"\",申込みフォーム!AU15&\"　　\",\"\")&IF(申込みフォーム!AV15<>\"\",申込みフォーム!AV15&\"　　\",\"\")&IF(申込みフォーム!AW15<>\"\",申込みフォーム!AW15&\"　　\",\"\")","v":""},{"$f":"IF(申込みフォーム!BJ15<>\"\",申込みフォーム!BJ15,\"\")","v":""},{"$f":"IF(申込みフォーム!BK15<>\"\",申込みフォーム!BK15,\"\")","v":""},{"$f":"IF(申込みフォーム!BL15<>\"\",申込みフォーム!BL15&\"　　\",\"\")&IF(申込みフォーム!BM15<>\"\",申込みフォーム!BM15&\"　　\",\"\")&IF(申込みフォーム!BN15<>\"\",申込みフォーム!BN15&\"　　\",\"\")","v":{"$error":"#VALUE!"}},{"$f":"申込みフォーム!$Z15","v":""}]
[6,null,null,null,null,{"$f":"IF(申込みフォーム!B16<>\"\",申込みフォーム!B16&\"　\"&申込みフォーム!C16,\"\")","v":""},{"$f":"IF(申込みフォーム!E16<>\"\",申込みフォーム!E16&\"　\"&申込みフォーム!F16,\"\")","v":""},{"$f":"IF(申込みフォーム!G16<>\"\",申込みフォーム!G16,\"\")","v":""},{"$f":"IF(申込みフォーム!H16<>\"\",申込みフォーム!H16,\"\")","v":""},{"$f":"IF(申込みフォーム!D16<>\"\",申込みフォーム!D16,\"\")","v":""},{"$f":"IF(申込みフォーム!I16<>\"\",REPLACE(申込みフォーム!I16,4,,\"-\"),\"\")","v":""},{"$f":"IF(申込みフォーム!J16<>\"\",申込みフォーム!J16,\"\")","v":""},{"$f":"IF(申込みフォーム!K16<>\"\",申込みフォーム!K16,\"\")","v":""},{"$f":"IF(申込みフォーム!L16<>\"\",MID(申込みフォーム!L16,1,3)&\"-\"&MID(申込みフォーム!L16,4,4)&\"-\"&MID(申込みフォーム!L16,8,4),\"\")","v":""},{"$f":"IF(申込みフォーム!M16<>\"\",申込みフォーム!M16,\"\")","v":""},{"$f":"IF(申込みフォーム!N16<>\"\",申込みフォーム!N16,\"\")","v":""},{"$f":"IF(申込みフォーム!O16<>\"\",申込みフォーム!O16,\"\")","v":""},{"$f":"IF(申込みフォーム!P16<>\"\",申込みフォーム!P16,\"\")","v":""},{"$f":"IF(申込みフォーム!Q16<>\"\",申込みフォーム!Q16,\"\")","v":""},{"$f":"IF(申込みフォーム!R16<>\"\",申込みフォーム!R16,\"\")","v":""},{"$f":"IF(申込みフォーム!S16<>\"\",申込みフォーム!S16,\"\")","v":""},{"$f":"IF(申込みフォーム!U16=\"細胞診のみ\",\"協会子宮　\",IF(申込みフォーム!U16=\"細胞診＋（自費）膣エコー\",\"協会子宮＋自費膣エコー　\",\"\"))&IF(申込みフォーム!W16<>\"\",\"協会ﾏﾝﾓ　\",\"\")&IF(申込みフォーム!Y16<>\"\",\"協会骨　\",\"\")&IF(申込みフォーム!AA16<>\"\",\"協会肝炎　\",\"\")","v":""},{"$f":"IF(申込みフォーム!AB16<>\"\",\"子宮　\",\"\")&IF(申込みフォーム!AC16<>\"\",\"ﾏﾝﾓ　\",\"\")&IF(申込みフォーム!AD16<>\"\",\"乳ｴｺｰ\",\"\")","v":""},{"$f":"IF(申込みフォーム!AE16<>\"\",\"ﾏｰｶｰ　\",\"\")&IF(申込みフォーム!AF16<>\"\",\"心機能　\",\"\")&IF(申込みフォーム!AG16<>\"\",\"ABC　\",\"\")&IF(申込みフォーム!AH16<>\"\",\"Lox　\",\"\")&IF(申込みフォーム!AI16<>\"\",\"甲状腺　\",\"\")&IF(申込みフォーム!AJ16<>\"\",\"肝炎\",\"\")","v":""},{"$f":"IF(申込みフォーム!AK16<>\"\",\"脳　\",\"\")&IF(申込みフォーム!AL16<>\"\",\"胸部CT　\",\"\")&IF(申込みフォーム!AM16<>\"\",\"肺機能　\",\"\")&IF(申込みフォーム!AN16<>\"\",\"腹ｴｺｰ　\",\"\")&IF(申込みフォーム!AO16<>\"\",\"心ｴｺｰ　\",\"\")&IF(申込みフォーム!AP16<>\"\",\"ﾌﾛｰﾗ　\",\"\")&IF(申込みフォーム!AQ16<>\"\",\"OCT　\",\"\")&IF(申込みフォーム!AR16<>\"\",\"検便　\",\"\")&IF(申込みフォーム!AS16<>\"\",\"骨　\",\"\")&IF(申込みフォーム!AT16<>\"\",\"骨＋ﾛｺﾓ\",\"\")","v":""},{"$f":"IF(申込みフォーム!AU16<>\"\",申込みフォーム!AU16&\"　　\",\"\")&IF(申込みフォーム!AV16<>\"\",申込みフォーム!AV16&\"　　\",\"\")&IF(申込みフォーム!AW16<>\"\",申込みフォーム!AW16&\"　　\",\"\")","v":""},{"$f":"IF(申込みフォーム!BJ16<>\"\",申込みフォーム!BJ16,\"\")","v":""},{"$f":"IF(申込みフォーム!BK16<>\"\",申込みフォーム!BK16,\"\")","v":""},{"$f":"IF(申込みフォーム!BL16<>\"\",申込みフォーム!BL16&\"　　\",\"\")&IF(申込みフォーム!BM16<>\"\",申込みフォーム!BM16&\"　　\",\"\")&IF(申込みフォーム!BN16<>\"\",申込みフォーム!BN16&\"　　\",\"\")","v":{"$error":"#VALUE!"}},{"$f":"申込みフォーム!$Z16","v":""}]
[7,null,null,null,null,{"$f":"IF(申込みフォーム!B17<>\"\",申込みフォーム!B17&\"　\"&申込みフォーム!C17,\"\")","v":""},{"$f":"IF(申込みフォーム!E17<>\"\",申込みフォーム!E17&\"　\"&申込みフォーム!F17,\"\")","v":""},{"$f":"IF(申込みフォーム!G17<>\"\",申込みフォーム!G17,\"\")","v":""},{"$f":"IF(申込みフォーム!H17<>\"\",申込みフォーム!H17,\"\")","v":""},{"$f":"IF(申込みフォーム!D17<>\"\",申込みフォーム!D17,\"\")","v":""},{"$f":"IF(申込みフォーム!I17<>\"\",REPLACE(申込みフォーム!I17,4,,\"-\"),\"\")","v":""},{"$f":"IF(申込みフォーム!J17<>\"\",申込みフォーム!J17,\"\")","v":""},{"$f":"IF(申込みフォーム!K17<>\"\",申込みフォーム!K17,\"\")","v":""},{"$f":"IF(申込みフォーム!L17<>\"\",MID(申込みフォーム!L17,1,3)&\"-\"&MID(申込みフォーム!L17,4,4)&\"-\"&MID(申込みフォーム!L17,8,4),\"\")","v":""},{"$f":"IF(申込みフォーム!M17<>\"\",申込みフォーム!M17,\"\")","v":""},{"$f":"IF(申込みフォーム!N17<>\"\",申込みフォーム!N17,\"\")","v":""},{"$f":"IF(申込みフォーム!O17<>\"\",申込みフォーム!O17,\"\")","v":""},{"$f":"IF(申込みフォーム!P17<>\"\",申込みフォーム!P17,\"\")","v":""},{"$f":"IF(申込みフォーム!Q17<>\"\",申込みフォーム!Q17,\"\")","v":""},{"$f":"IF(申込みフォーム!R17<>\"\",申込みフォーム!R17,\"\")","v":""},{"$f":"IF(申込みフォーム!S17<>\"\",申込みフォーム!S17,\"\")","v":""},{"$f":"IF(申込みフォーム!U17=\"細胞診のみ\",\"協会子宮　\",IF(申込みフォーム!U17=\"細胞診＋（自費）膣エコー\",\"協会子宮＋自費膣エコー　\",\"\"))&IF(申込みフォーム!W17<>\"\",\"協会ﾏﾝﾓ　\",\"\")&IF(申込みフォーム!Y17<>\"\",\"協会骨　\",\"\")&IF(申込みフォーム!AA17<>\"\",\"協会肝炎　\",\"\")","v":""},{"$f":"IF(申込みフォーム!AB17<>\"\",\"子宮　\",\"\")&IF(申込みフォーム!AC17<>\"\",\"ﾏﾝﾓ　\",\"\")&IF(申込みフォーム!AD17<>\"\",\"乳ｴｺｰ\",\"\")","v":""},{"$f":"IF(申込みフォーム!AE17<>\"\",\"ﾏｰｶｰ　\",\"\")&IF(申込みフォーム!AF17<>\"\",\"心機能　\",\"\")&IF(申込みフォーム!AG17<>\"\",\"ABC　\",\"\")&IF(申込みフォーム!AH17<>\"\",\"Lox　\",\"\")&IF(申込みフォーム!AI17<>\"\",\"甲状腺　\",\"\")&IF(申込みフォーム!AJ17<>\"\",\"肝炎\",\"\")","v":""},{"$f":"IF(申込みフォーム!AK17<>\"\",\"脳　\",\"\")&IF(申込みフォーム!AL17<>\"\",\"胸部CT　\",\"\")&IF(申込みフォーム!AM17<>\"\",\"肺機能　\",\"\")&IF(申込みフォーム!AN17<>\"\",\"腹ｴｺｰ　\",\"\")&IF(申込みフォーム!AO17<>\"\",\"心ｴｺｰ　\",\"\")&IF(申込みフォーム!AP17<>\"\",\"ﾌﾛｰﾗ　\",\"\")&IF(申込みフォーム!AQ17<>\"\",\"OCT　\",\"\")&IF(申込みフォーム!AR17<>\"\",\"検便　\",\"\")&IF(申込みフォーム!AS17<>\"\",\"骨　\",\"\")&IF(申込みフォーム!AT17<>\"\",\"骨＋ﾛｺﾓ\",\"\")","v":""},{"$f":"IF(申込みフォーム!AU17<>\"\",申込みフォーム!AU17&\"　　\",\"\")&IF(申込みフォーム!AV17<>\"\",申込みフォーム!AV17&\"　　\",\"\")&IF(申込みフォーム!AW17<>\"\",申込みフォーム!AW17&\"　　\",\"\")","v":""},{"$f":"IF(申込みフォーム!BJ17<>\"\",申込みフォーム!BJ17,\"\")","v":""},{"$f":"IF(申込みフォーム!BK17<>\"\",申込みフォーム!BK17,\"\")","v":""},{"$f":"IF(申込みフォーム!BL17<>\"\",申込みフォーム!BL17&\"　　\",\"\")&IF(申込みフォーム!BM17<>\"\",申込みフォーム!BM17&\"　　\",\"\")&IF(申込みフォーム!BN17<>\"\",申込みフォーム!BN17&\"　　\",\"\")","v":{"$error":"#VALUE!"}},{"$f":"申込みフォーム!$Z17","v":""}]
[8,null,null,null,null,{"$f":"IF(申込みフォーム!B18<>\"\",申込みフォーム!B18&\"　\"&申込みフォーム!C18,\"\")","v":""},{"$f":"IF(申込みフォーム!E18<>\"\",申込みフォーム!E18&\"　\"&申込みフォーム!F18,\"\")","v":""},{"$f":"IF(申込みフォーム!G18<>\"\",申込みフォーム!G18,\"\")","v":""},{"$f":"IF(申込みフォーム!H18<>\"\",申込みフォーム!H18,\"\")","v":""},{"$f":"IF(申込みフォーム!D18<>\"\",申込みフォーム!D18,\"\")","v":""},{"$f":"IF(申込みフォーム!I18<>\"\",REPLACE(申込みフォーム!I18,4,,\"-\"),\"\")","v":""},{"$f":"IF(申込みフォーム!J18<>\"\",申込みフォーム!J18,\"\")","v":""},{"$f":"IF(申込みフォーム!K18<>\"\",申込みフォーム!K18,\"\")","v":""},{"$f":"IF(申込みフォーム!L18<>\"\",MID(申込みフォーム!L18,1,3)&\"-\"&MID(申込みフォーム!L18,4,4)&\"-\"&MID(申込みフォーム!L18,8,4),\"\")","v":""},{"$f":"IF(申込みフォーム!M18<>\"\",申込みフォーム!M18,\"\")","v":""},{"$f":"IF(申込みフォーム!N18<>\"\",申込みフォーム!N18,\"\")","v":""},{"$f":"IF(申込みフォーム!O18<>\"\",申込みフォーム!O18,\"\")","v":""},{"$f":"IF(申込みフォーム!P18<>\"\",申込みフォーム!P18,\"\")","v":""},{"$f":"IF(申込みフォーム!Q18<>\"\",申込みフォーム!Q18,\"\")","v":""},{"$f":"IF(申込みフォーム!R18<>\"\",申込みフォーム!R18,\"\")","v":""},{"$f":"IF(申込みフォーム!S18<>\"\",申込みフォーム!S18,\"\")","v":""},{"$f":"IF(申込みフォーム!U18=\"細胞診のみ\",\"協会子宮　\",IF(申込みフォーム!U18=\"細胞診＋（自費）膣エコー\",\"協会子宮＋自費膣エコー　\",\"\"))&IF(申込みフォーム!W18<>\"\",\"協会ﾏﾝﾓ　\",\"\")&IF(申込みフォーム!Y18<>\"\",\"協会骨　\",\"\")&IF(申込みフォーム!AA18<>\"\",\"協会肝炎　\",\"\")","v":""},{"$f":"IF(申込みフォーム!AB18<>\"\",\"子宮　\",\"\")&IF(申込みフォーム!AC18<>\"\",\"ﾏﾝﾓ　\",\"\")&IF(申込みフォーム!AD18<>\"\",\"乳ｴｺｰ\",\"\")","v":""},{"$f":"IF(申込みフォーム!AE18<>\"\",\"ﾏｰｶｰ　\",\"\")&IF(申込みフォーム!AF18<>\"\",\"心機能　\",\"\")&IF(申込みフォーム!AG18<>\"\",\"ABC　\",\"\")&IF(申込みフォーム!AH18<>\"\",\"Lox　\",\"\")&IF(申込みフォーム!AI18<>\"\",\"甲状腺　\",\"\")&IF(申込みフォーム!AJ18<>\"\",\"肝炎\",\"\")","v":""},{"$f":"IF(申込みフォーム!AK18<>\"\",\"脳　\",\"\")&IF(申込みフォーム!AL18<>\"\",\"胸部CT　\",\"\")&IF(申込みフォーム!AM18<>\"\",\"肺機能　\",\"\")&IF(申込みフォーム!AN18<>\"\",\"腹ｴｺｰ　\",\"\")&IF(申込みフォーム!AO18<>\"\",\"心ｴｺｰ　\",\"\")&IF(申込みフォーム!AP18<>\"\",\"ﾌﾛｰﾗ　\",\"\")&IF(申込みフォーム!AQ18<>\"\",\"OCT　\",\"\")&IF(申込みフォーム!AR18<>\"\",\"検便　\",\"\")&IF(申込みフォーム!AS18<>\"\",\"骨　\",\"\")&IF(申込みフォーム!AT18<>\"\",\"骨＋ﾛｺﾓ\",\"\")","v":""},{"$f":"IF(申込みフォーム!AU18<>\"\",申込みフォーム!AU18&\"　　\",\"\")&IF(申込みフォーム!AV18<>\"\",申込みフォーム!AV18&\"　　\",\"\")&IF(申込みフォーム!AW18<>\"\",申込みフォーム!AW18&\"　　\",\"\")","v":""},{"$f":"IF(申込みフォーム!BJ18<>\"\",申込みフォーム!BJ18,\"\")","v":""},{"$f":"IF(申込みフォーム!BK18<>\"\",申込みフォーム!BK18,\"\")","v":""},{"$f":"IF(申込みフォーム!BL18<>\"\",申込みフォーム!BL18&\"　　\",\"\")&IF(申込みフォーム!BM18<>\"\",申込みフォーム!BM18&\"　　\",\"\")&IF(申込みフォーム!BN18<>\"\",申込みフォーム!BN18&\"　　\",\"\")","v":{"$error":"#VALUE!"}},{"$f":"申込みフォーム!$Z18","v":""}]
[9,null,null,null,null,{"$f":"IF(申込みフォーム!B19<>\"\",申込みフォーム!B19&\"　\"&申込みフォーム!C19,\"\")","v":""},{"$f":"IF(申込みフォーム!E19<>\"\",申込みフォーム!E19&\"　\"&申込みフォーム!F19,\"\")","v":""},{"$f":"IF(申込みフォーム!G19<>\"\",申込みフォーム!G19,\"\")","v":""},{"$f":"IF(申込みフォーム!H19<>\"\",申込みフォーム!H19,\"\")","v":""},{"$f":"IF(申込みフォーム!D19<>\"\",申込みフォーム!D19,\"\")","v":""},{"$f":"IF(申込みフォーム!I19<>\"\",REPLACE(申込みフォーム!I19,4,,\"-\"),\"\")","v":""},{"$f":"IF(申込みフォーム!J19<>\"\",申込みフォーム!J19,\"\")","v":""},{"$f":"IF(申込みフォーム!K19<>\"\",申込みフォーム!K19,\"\")","v":""},{"$f":"IF(申込みフォーム!L19<>\"\",MID(申込みフォーム!L19,1,3)&\"-\"&MID(申込みフォーム!L19,4,4)&\"-\"&MID(申込みフォーム!L19,8,4),\"\")","v":""},{"$f":"IF(申込みフォーム!M19<>\"\",申込みフォーム!M19,\"\")","v":""},{"$f":"IF(申込みフォーム!N19<>\"\",申込みフォーム!N19,\"\")","v":""},{"$f":"IF(申込みフォーム!O19<>\"\",申込みフォーム!O19,\"\")","v":""},{"$f":"IF(申込みフォーム!P19<>\"\",申込みフォーム!P19,\"\")","v":""},{"$f":"IF(申込みフォーム!Q19<>\"\",申込みフォーム!Q19,\"\")","v":""},{"$f":"IF(申込みフォーム!R19<>\"\",申込みフォーム!R19,\"\")","v":""},{"$f":"IF(申込みフォーム!S19<>\"\",申込みフォーム!S19,\"\")","v":""},{"$f":"IF(申込みフォーム!U19=\"細胞診のみ\",\"協会子宮　\",IF(申込みフォーム!U19=\"細胞診＋（自費）膣エコー\",\"協会子宮＋自費膣エコー　\",\"\"))&IF(申込みフォーム!W19<>\"\",\"協会ﾏﾝﾓ　\",\"\")&IF(申込みフォーム!Y19<>\"\",\"協会骨　\",\"\")&IF(申込みフォーム!AA19<>\"\",\"協会肝炎　\",\"\")","v":""},{"$f":"IF(申込みフォーム!AB19<>\"\",\"子宮　\",\"\")&IF(申込みフォーム!AC19<>\"\",\"ﾏﾝﾓ　\",\"\")&IF(申込みフォーム!AD19<>\"\",\"乳ｴｺｰ\",\"\")","v":""},{"$f":"IF(申込みフォーム!AE19<>\"\",\"ﾏｰｶｰ　\",\"\")&IF(申込みフォーム!AF19<>\"\",\"心機能　\",\"\")&IF(申込みフォーム!AG19<>\"\",\"ABC　\",\"\")&IF(申込みフォーム!AH19<>\"\",\"Lox　\",\"\")&IF(申込みフォーム!AI19<>\"\",\"甲状腺　\",\"\")&IF(申込みフォーム!AJ19<>\"\",\"肝炎\",\"\")","v":""},{"$f":"IF(申込みフォーム!AK19<>\"\",\"脳　\",\"\")&IF(申込みフォーム!AL19<>\"\",\"胸部CT　\",\"\")&IF(申込みフォーム!AM19<>\"\",\"肺機能　\",\"\")&IF(申込みフォーム!AN19<>\"\",\"腹ｴｺｰ　\",\"\")&IF(申込みフォーム!AO19<>\"\",\"心ｴｺｰ　\",\"\")&IF(申込みフォーム!AP19<>\"\",\"ﾌﾛｰﾗ　\",\"\")&IF(申込みフォーム!AQ19<>\"\",\"OCT　\",\"\")&IF(申込みフォーム!AR19<>\"\",\"検便　\",\"\")&IF(申込みフォーム!AS19<>\"\",\"骨　\",\"\")&IF(申込みフォーム!AT19<>\"\",\"骨＋ﾛｺﾓ\",\"\")","v":""},{"$f":"IF(申込みフォーム!AU19<>\"\",申込みフォーム!AU19&\"　　\",\"\")&IF(申込みフォーム!AV19<>\"\",申込みフォーム!AV19&\"　　\",\"\")&IF(申込みフォーム!AW19<>\"\",申込みフォーム!AW19&\"　　\",\"\")","v":""},{"$f":"IF(申込みフォーム!BJ19<>\"\",申込みフォーム!BJ19,\"\")","v":""},{"$f":"IF(申込みフォーム!BK19<>\"\",申込みフォーム!BK19,\"\")","v":""},{"$f":"IF(申込みフォーム!BL19<>\"\",申込みフォーム!BL19&\"　　\",\"\")&IF(申込みフォーム!BM19<>\"\",申込みフォーム!BM19&\"　　\",\"\")&IF(申込みフォーム!BN19<>\"\",申込みフォーム!BN19&\"　　\",\"\")","v":{"$error":"#VALUE!"}},{"$f":"申込みフォーム!$Z19","v":""}]
[10,null,null,null,null,{"$f":"IF(申込みフォーム!B20<>\"\",申込みフォーム!B20&\"　\"&申込みフォーム!C20,\"\")","v":""},{"$f":"IF(申込みフォーム!E20<>\"\",申込みフォーム!E20&\"　\"&申込みフォーム!F20,\"\")","v":""},{"$f":"IF(申込みフォーム!G20<>\"\",申込みフォーム!G20,\"\")","v":""},{"$f":"IF(申込みフォーム!H20<>\"\",申込みフォーム!H20,\"\")","v":""},{"$f":"IF(申込みフォーム!D20<>\"\",申込みフォーム!D20,\"\")","v":""},{"$f":"IF(申込みフォーム!I20<>\"\",REPLACE(申込みフォーム!I20,4,,\"-\"),\"\")","v":""},{"$f":"IF(申込みフォーム!J20<>\"\",申込みフォーム!J20,\"\")","v":""},{"$f":"IF(申込みフォーム!K20<>\"\",申込みフォーム!K20,\"\")","v":""},{"$f":"IF(申込みフォーム!L20<>\"\",MID(申込みフォーム!L20,1,3)&\"-\"&MID(申込みフォーム!L20,4,4)&\"-\"&MID(申込みフォーム!L20,8,4),\"\")","v":""},{"$f":"IF(申込みフォーム!M20<>\"\",申込みフォーム!M20,\"\")","v":""},{"$f":"IF(申込みフォーム!N20<>\"\",申込みフォーム!N20,\"\")","v":""},{"$f":"IF(申込みフォーム!O20<>\"\",申込みフォーム!O20,\"\")","v":""},{"$f":"IF(申込みフォーム!P20<>\"\",申込みフォーム!P20,\"\")","v":""},{"$f":"IF(申込みフォーム!Q20<>\"\",申込みフォーム!Q20,\"\")","v":""},{"$f":"IF(申込みフォーム!R20<>\"\",申込みフォーム!R20,\"\")","v":""},{"$f":"IF(申込みフォーム!S20<>\"\",申込みフォーム!S20,\"\")","v":""},{"$f":"IF(申込みフォーム!U20=\"細胞診のみ\",\"協会子宮　\",IF(申込みフォーム!U20=\"細胞診＋（自費）膣エコー\",\"協会子宮＋自費膣エコー　\",\"\"))&IF(申込みフォーム!W20<>\"\",\"協会ﾏﾝﾓ　\",\"\")&IF(申込みフォーム!Y20<>\"\",\"協会骨　\",\"\")&IF(申込みフォーム!AA20<>\"\",\"協会肝炎　\",\"\")","v":""},{"$f":"IF(申込みフォーム!AB20<>\"\",\"子宮　\",\"\")&IF(申込みフォーム!AC20<>\"\",\"ﾏﾝﾓ　\",\"\")&IF(申込みフォーム!AD20<>\"\",\"乳ｴｺｰ\",\"\")","v":""},{"$f":"IF(申込みフォーム!AE20<>\"\",\"ﾏｰｶｰ　\",\"\")&IF(申込みフォーム!AF20<>\"\",\"心機能　\",\"\")&IF(申込みフォーム!AG20<>\"\",\"ABC　\",\"\")&IF(申込みフォーム!AH20<>\"\",\"Lox　\",\"\")&IF(申込みフォーム!AI20<>\"\",\"甲状腺　\",\"\")&IF(申込みフォーム!AJ20<>\"\",\"肝炎\",\"\")","v":""},{"$f":"IF(申込みフォーム!AK20<>\"\",\"脳　\",\"\")&IF(申込みフォーム!AL20<>\"\",\"胸部CT　\",\"\")&IF(申込みフォーム!AM20<>\"\",\"肺機能　\",\"\")&IF(申込みフォーム!AN20<>\"\",\"腹ｴｺｰ　\",\"\")&IF(申込みフォーム!AO20<>\"\",\"心ｴｺｰ　\",\"\")&IF(申込みフォーム!AP20<>\"\",\"ﾌﾛｰﾗ　\",\"\")&IF(申込みフォーム!AQ20<>\"\",\"OCT　\",\"\")&IF(申込みフォーム!AR20<>\"\",\"検便　\",\"\")&IF(申込みフォーム!AS20<>\"\",\"骨　\",\"\")&IF(申込みフォーム!AT20<>\"\",\"骨＋ﾛｺﾓ\",\"\")","v":""},{"$f":"IF(申込みフォーム!AU20<>\"\",申込みフォーム!AU20&\"　　\",\"\")&IF(申込みフォーム!AV20<>\"\",申込みフォーム!AV20&\"　　\",\"\")&IF(申込みフォーム!AW20<>\"\",申込みフォーム!AW20&\"　　\",\"\")","v":""},{"$f":"IF(申込みフォーム!BJ20<>\"\",申込みフォーム!BJ20,\"\")","v":""},{"$f":"IF(申込みフォーム!BK20<>\"\",申込みフォーム!BK20,\"\")","v":""},{"$f":"IF(申込みフォーム!BL20<>\"\",申込みフォーム!BL20&\"　　\",\"\")&IF(申込みフォーム!BM20<>\"\",申込みフォーム!BM20&\"　　\",\"\")&IF(申込みフォーム!BN20<>\"\",申込みフォーム!BN20&\"　　\",\"\")","v":{"$error":"#VALUE!"}},{"$f":"申込みフォーム!$Z20","v":""}]
[11,null,null,null,null,{"$f":"IF(申込みフォーム!B21<>\"\",申込みフォーム!B21&\"　\"&申込みフォーム!C21,\"\")","v":""},{"$f":"IF(申込みフォーム!E21<>\"\",申込みフォーム!E21&\"　\"&申込みフォーム!F21,\"\")","v":""},{"$f":"IF(申込みフォーム!G21<>\"\",申込みフォーム!G21,\"\")","v":""},{"$f":"IF(申込みフォーム!H21<>\"\",申込みフォーム!H21,\"\")","v":""},{"$f":"IF(申込みフォーム!D21<>\"\",申込みフォーム!D21,\"\")","v":""},{"$f":"IF(申込みフォーム!I21<>\"\",REPLACE(申込みフォーム!I21,4,,\"-\"),\"\")","v":""},{"$f":"IF(申込みフォーム!J21<>\"\",申込みフォーム!J21,\"\")","v":""},{"$f":"IF(申込みフォーム!K21<>\"\",申込みフォーム!K21,\"\")","v":""},{"$f":"IF(申込みフォーム!L21<>\"\",MID(申込みフォーム!L21,1,3)&\"-\"&MID(申込みフォーム!L21,4,4)&\"-\"&MID(申込みフォーム!L21,8,4),\"\")","v":""},{"$f":"IF(申込みフォーム!M21<>\"\",申込みフォーム!M21,\"\")","v":""},{"$f":"IF(申込みフォーム!N21<>\"\",申込みフォーム!N21,\"\")","v":""},{"$f":"IF(申込みフォーム!O21<>\"\",申込みフォーム!O21,\"\")","v":""},{"$f":"IF(申込みフォーム!P21<>\"\",申込みフォーム!P21,\"\")","v":""},{"$f":"IF(申込みフォーム!Q21<>\"\",申込みフォーム!Q21,\"\")","v":""},{"$f":"IF(申込みフォーム!R21<>\"\",申込みフォーム!R21,\"\")","v":""},{"$f":"IF(申込みフォーム!S21<>\"\",申込みフォーム!S21,\"\")","v":""},{"$f":"IF(申込みフォーム!U21=\"細胞診のみ\",\"協会子宮　\",IF(申込みフォーム!U21=\"細胞診＋（自費）膣エコー\",\"協会子宮＋自費膣エコー　\",\"\"))&IF(申込みフォーム!W21<>\"\",\"協会ﾏﾝﾓ　\",\"\")&IF(申込みフォーム!Y21<>\"\",\"協会骨　\",\"\")&IF(申込みフォーム!AA21<>\"\",\"協会肝炎　\",\"\")","v":""},{"$f":"IF(申込みフォーム!AB21<>\"\",\"子宮　\",\"\")&IF(申込みフォーム!AC21<>\"\",\"ﾏﾝﾓ　\",\"\")&IF(申込みフォーム!AD21<>\"\",\"乳ｴｺｰ\",\"\")","v":""},{"$f":"IF(申込みフォーム!AE21<>\"\",\"ﾏｰｶｰ　\",\"\")&IF(申込みフォーム!AF21<>\"\",\"心機能　\",\"\")&IF(申込みフォーム!AG21<>\"\",\"ABC　\",\"\")&IF(申込みフォーム!AH21<>\"\",\"Lox　\",\"\")&IF(申込みフォーム!AI21<>\"\",\"甲状腺　\",\"\")&IF(申込みフォーム!AJ21<>\"\",\"肝炎\",\"\")","v":""},{"$f":"IF(申込みフォーム!AK21<>\"\",\"脳　\",\"\")&IF(申込みフォーム!AL21<>\"\",\"胸部CT　\",\"\")&IF(申込みフォーム!AM21<>\"\",\"肺機能　\",\"\")&IF(申込みフォーム!AN21<>\"\",\"腹ｴｺｰ　\",\"\")&IF(申込みフォーム!AO21<>\"\",\"心ｴｺｰ　\",\"\")&IF(申込みフォーム!AP21<>\"\",\"ﾌﾛｰﾗ　\",\"\")&IF(申込みフォーム!AQ21<>\"\",\"OCT　\",\"\")&IF(申込みフォーム!AR21<>\"\",\"検便　\",\"\")&IF(申込みフォーム!AS21<>\"\",\"骨　\",\"\")&IF(申込みフォーム!AT21<>\"\",\"骨＋ﾛｺﾓ\",\"\")","v":""},{"$f":"IF(申込みフォーム!AU21<>\"\",申込みフォーム!AU21&\"　　\",\"\")&IF(申込みフォーム!AV21<>\"\",申込みフォーム!AV21&\"　　\",\"\")&IF(申込みフォーム!AW21<>\"\",申込みフォーム!AW21&\"　　\",\"\")","v":""},{"$f":"IF(申込みフォーム!BJ21<>\"\",申込みフォーム!BJ21,\"\")","v":""},{"$f":"IF(申込みフォーム!BK21<>\"\",申込みフォーム!BK21,\"\")","v":""},{"$f":"IF(申込みフォーム!BL21<>\"\",申込みフォーム!BL21&\"　　\",\"\")&IF(申込みフォーム!BM21<>\"\",申込みフォーム!BM21&\"　　\",\"\")&IF(申込みフォーム!BN21<>\"\",申込みフォーム!BN21&\"　　\",\"\")","v":{"$error":"#VALUE!"}},{"$f":"申込みフォーム!$Z21","v":""}]
[12,null,null,null,null,{"$f":"IF(申込みフォーム!B22<>\"\",申込みフォーム!B22&\"　\"&申込みフォーム!C22,\"\")","v":""},{"$f":"IF(申込みフォーム!E22<>\"\",申込みフォーム!E22&\"　\"&申込みフォーム!F22,\"\")","v":""},{"$f":"IF(申込みフォーム!G22<>\"\",申込みフォーム!G22,\"\")","v":""},{"$f":"IF(申込みフォーム!H22<>\"\",申込みフォーム!H22,\"\")","v":""},{"$f":"IF(申込みフォーム!D22<>\"\",申込みフォーム!D22,\"\")","v":""},{"$f":"IF(申込みフォーム!I22<>\"\",REPLACE(申込みフォーム!I22,4,,\"-\"),\"\")","v":""},{"$f":"IF(申込みフォーム!J22<>\"\",申込みフォーム!J22,\"\")","v":""},{"$f":"IF(申込みフォーム!K22<>\"\",申込みフォーム!K22,\"\")","v":""},{"$f":"IF(申込みフォーム!L22<>\"\",MID(申込みフォーム!L22,1,3)&\"-\"&MID(申込みフォーム!L22,4,4)&\"-\"&MID(申込みフォーム!L22,8,4),\"\")","v":""},{"$f":"IF(申込みフォーム!M22<>\"\",申込みフォーム!M22,\"\")","v":""},{"$f":"IF(申込みフォーム!N22<>\"\",申込みフォーム!N22,\"\")","v":""},{"$f":"IF(申込みフォーム!O22<>\"\",申込みフォーム!O22,\"\")","v":""},{"$f":"IF(申込みフォーム!P22<>\"\",申込みフォーム!P22,\"\")","v":""},{"$f":"IF(申込みフォーム!Q22<>\"\",申込みフォーム!Q22,\"\")","v":""},{"$f":"IF(申込みフォーム!R22<>\"\",申込みフォーム!R22,\"\")","v":""},{"$f":"IF(申込みフォーム!S22<>\"\",申込みフォーム!S22,\"\")","v":""},{"$f":"IF(申込みフォーム!U22=\"細胞診のみ\",\"協会子宮　\",IF(申込みフォーム!U22=\"細胞診＋（自費）膣エコー\",\"協会子宮＋自費膣エコー　\",\"\"))&IF(申込みフォーム!W22<>\"\",\"協会ﾏﾝﾓ　\",\"\")&IF(申込みフォーム!Y22<>\"\",\"協会骨　\",\"\")&IF(申込みフォーム!AA22<>\"\",\"協会肝炎　\",\"\")","v":""},{"$f":"IF(申込みフォーム!AB22<>\"\",\"子宮　\",\"\")&IF(申込みフォーム!AC22<>\"\",\"ﾏﾝﾓ　\",\"\")&IF(申込みフォーム!AD22<>\"\",\"乳ｴｺｰ\",\"\")","v":""},{"$f":"IF(申込みフォーム!AE22<>\"\",\"ﾏｰｶｰ　\",\"\")&IF(申込みフォーム!AF22<>\"\",\"心機能　\",\"\")&IF(申込みフォーム!AG22<>\"\",\"ABC　\",\"\")&IF(申込みフォーム!AH22<>\"\",\"Lox　\",\"\")&IF(申込みフォーム!AI22<>\"\",\"甲状腺　\",\"\")&IF(申込みフォーム!AJ22<>\"\",\"肝炎\",\"\")","v":""},{"$f":"IF(申込みフォーム!AK22<>\"\",\"脳　\",\"\")&IF(申込みフォーム!AL22<>\"\",\"胸部CT　\",\"\")&IF(申込みフォーム!AM22<>\"\",\"肺機能　\",\"\")&IF(申込みフォーム!AN22<>\"\",\"腹ｴｺｰ　\",\"\")&IF(申込みフォーム!AO22<>\"\",\"心ｴｺｰ　\",\"\")&IF(申込みフォーム!AP22<>\"\",\"ﾌﾛｰﾗ　\",\"\")&IF(申込みフォーム!AQ22<>\"\",\"OCT　\",\"\")&IF(申込みフォーム!AR22<>\"\",\"検便　\",\"\")&IF(申込みフォーム!AS22<>\"\",\"骨　\",\"\")&IF(申込みフォーム!AT22<>\"\",\"骨＋ﾛｺﾓ\",\"\")","v":""},{"$f":"IF(申込みフォーム!AU22<>\"\",申込みフォーム!AU22&\"　　\",\"\")&IF(申込みフォーム!AV22<>\"\",申込みフォーム!AV22&\"　　\",\"\")&IF(申込みフォーム!AW22<>\"\",申込みフォーム!AW22&\"　　\",\"\")","v":""},{"$f":"IF(申込みフォーム!BJ22<>\"\",申込みフォーム!BJ22,\"\")","v":""},{"$f":"IF(申込みフォーム!BK22<>\"\",申込みフォーム!BK22,\"\")","v":""},{"$f":"IF(申込みフォーム!BL22<>\"\",申込みフォーム!BL22&\"　　\",\"\")&IF(申込みフォーム!BM22<>\"\",申込みフォーム!BM22&\"　　\",\"\")&IF(申込みフォーム!BN22<>\"\",申込みフォーム!BN22&\"　　\",\"\")","v":{"$error":"#VALUE!"}},{"$f":"申込みフォーム!$Z22","v":""}]
[13,null,null,null,null,{"$f":"IF(申込みフォーム!B23<>\"\",申込みフォーム!B23&\"　\"&申込みフォーム!C23,\"\")","v":""},{"$f":"IF(申込みフォーム!E23<>\"\",申込みフォーム!E23&\"　\"&申込みフォーム!F23,\"\")","v":""},{"$f":"IF(申込みフォーム!G23<>\"\",申込みフォーム!G23,\"\")","v":""},{"$f":"IF(申込みフォーム!H23<>\"\",申込みフォーム!H23,\"\")","v":""},{"$f":"IF(申込みフォーム!D23<>\"\",申込みフォーム!D23,\"\")","v":""},{"$f":"IF(申込みフォーム!I23<>\"\",REPLACE(申込みフォーム!I23,4,,\"-\"),\"\")","v":""},{"$f":"IF(申込みフォーム!J23<>\"\",申込みフォーム!J23,\"\")","v":""},{"$f":"IF(申込みフォーム!K23<>\"\",申込みフォーム!K23,\"\")","v":""},{"$f":"IF(申込みフォーム!L23<>\"\",MID(申込みフォーム!L23,1,3)&\"-\"&MID(申込みフォーム!L23,4,4)&\"-\"&MID(申込みフォーム!L23,8,4),\"\")","v":""},{"$f":"IF(申込みフォーム!M23<>\"\",申込みフォーム!M23,\"\")","v":""},{"$f":"IF(申込みフォーム!N23<>\"\",申込みフォーム!N23,\"\")","v":""},{"$f":"IF(申込みフォーム!O23<>\"\",申込みフォーム!O23,\"\")","v":""},{"$f":"IF(申込みフォーム!P23<>\"\",申込みフォーム!P23,\"\")","v":""},{"$f":"IF(申込みフォーム!Q23<>\"\",申込みフォーム!Q23,\"\")","v":""},{"$f":"IF(申込みフォーム!R23<>\"\",申込みフォーム!R23,\"\")","v":""},{"$f":"IF(申込みフォーム!S23<>\"\",申込みフォーム!S23,\"\")","v":""},{"$f":"IF(申込みフォーム!U23=\"細胞診のみ\",\"協会子宮　\",IF(申込みフォーム!U23=\"細胞診＋（自費）膣エコー\",\"協会子宮＋自費膣エコー　\",\"\"))&IF(申込みフォーム!W23<>\"\",\"協会ﾏﾝﾓ　\",\"\")&IF(申込みフォーム!Y23<>\"\",\"協会骨　\",\"\")&IF(申込みフォーム!AA23<>\"\",\"協会肝炎　\",\"\")","v":""},{"$f":"IF(申込みフォーム!AB23<>\"\",\"子宮　\",\"\")&IF(申込みフォーム!AC23<>\"\",\"ﾏﾝﾓ　\",\"\")&IF(申込みフォーム!AD23<>\"\",\"乳ｴｺｰ\",\"\")","v":""},{"$f":"IF(申込みフォーム!AE23<>\"\",\"ﾏｰｶｰ　\",\"\")&IF(申込みフォーム!AF23<>\"\",\"心機能　\",\"\")&IF(申込みフォーム!AG23<>\"\",\"ABC　\",\"\")&IF(申込みフォーム!AH23<>\"\",\"Lox　\",\"\")&IF(申込みフォーム!AI23<>\"\",\"甲状腺　\",\"\")&IF(申込みフォーム!AJ23<>\"\",\"肝炎\",\"\")","v":""},{"$f":"IF(申込みフォーム!AK23<>\"\",\"脳　\",\"\")&IF(申込みフォーム!AL23<>\"\",\"胸部CT　\",\"\")&IF(申込みフォーム!AM23<>\"\",\"肺機能　\",\"\")&IF(申込みフォーム!AN23<>\"\",\"腹ｴｺｰ　\",\"\")&IF(申込みフォーム!AO23<>\"\",\"心ｴｺｰ　\",\"\")&IF(申込みフォーム!AP23<>\"\",\"ﾌﾛｰﾗ　\",\"\")&IF(申込みフォーム!AQ23<>\"\",\"OCT　\",\"\")&IF(申込みフォーム!AR23<>\"\",\"検便　\",\"\")&IF(申込みフォーム!AS23<>\"\",\"骨　\",\"\")&IF(申込みフォーム!AT23<>\"\",\"骨＋ﾛｺﾓ\",\"\")","v":""},{"$f":"IF(申込みフォーム!AU23<>\"\",申込みフォーム!AU23&\"　　\",\"\")&IF(申込みフォーム!AV23<>\"\",申込みフォーム!AV23&\"　　\",\"\")&IF(申込みフォーム!AW23<>\"\",申込みフォーム!AW23&\"　　\",\"\")","v":""},{"$f":"IF(申込みフォーム!BJ23<>\"\",申込みフォーム!BJ23,\"\")","v":""},{"$f":"IF(申込みフォーム!BK23<>\"\",申込みフォーム!BK23,\"\")","v":""},{"$f":"IF(申込みフォーム!BL23<>\"\",申込みフォーム!BL23&\"　　\",\"\")&IF(申込みフォーム!BM23<>\"\",申込みフォーム!BM23&\"　　\",\"\")&IF(申込みフォーム!BN23<>\"\",申込みフォーム!BN23&\"　　\",\"\")","v":{"$error":"#VALUE!"}},{"$f":"申込みフォーム!$Z23","v":""}]
[14,null,null,null,null,{"$f":"IF(申込みフォーム!B24<>\"\",申込みフォーム!B24&\"　\"&申込みフォーム!C24,\"\")","v":""},{"$f":"IF(申込みフォーム!E24<>\"\",申込みフォーム!E24&\"　\"&申込みフォーム!F24,\"\")","v":""},{"$f":"IF(申込みフォーム!G24<>\"\",申込みフォーム!G24,\"\")","v":""},{"$f":"IF(申込みフォーム!H24<>\"\",申込みフォーム!H24,\"\")","v":""},{"$f":"IF(申込みフォーム!D24<>\"\",申込みフォーム!D24,\"\")","v":""},{"$f":"IF(申込みフォーム!I24<>\"\",REPLACE(申込みフォーム!I24,4,,\"-\"),\"\")","v":""},{"$f":"IF(申込みフォーム!J24<>\"\",申込みフォーム!J24,\"\")","v":""},{"$f":"IF(申込みフォーム!K24<>\"\",申込みフォーム!K24,\"\")","v":""},{"$f":"IF(申込みフォーム!L24<>\"\",MID(申込みフォーム!L24,1,3)&\"-\"&MID(申込みフォーム!L24,4,4)&\"-\"&MID(申込みフォーム!L24,8,4),\"\")","v":""},{"$f":"IF(申込みフォーム!M24<>\"\",申込みフォーム!M24,\"\")","v":""},{"$f":"IF(申込みフォーム!N24<>\"\",申込みフォーム!N24,\"\")","v":""},{"$f":"IF(申込みフォーム!O24<>\"\",申込みフォーム!O24,\"\")","v":""},{"$f":"IF(申込みフォーム!P24<>\"\",申込みフォーム!P24,\"\")","v":""},{"$f":"IF(申込みフォーム!Q24<>\"\",申込みフォーム!Q24,\"\")","v":""},{"$f":"IF(申込みフォーム!R24<>\"\",申込みフォーム!R24,\"\")","v":""},{"$f":"IF(申込みフォーム!S24<>\"\",申込みフォーム!S24,\"\")","v":""},{"$f":"IF(申込みフォーム!U24=\"細胞診のみ\",\"協会子宮　\",IF(申込みフォーム!U24=\"細胞診＋（自費）膣エコー\",\"協会子宮＋自費膣エコー　\",\"\"))&IF(申込みフォーム!W24<>\"\",\"協会ﾏﾝﾓ　\",\"\")&IF(申込みフォーム!Y24<>\"\",\"協会骨　\",\"\")&IF(申込みフォーム!AA24<>\"\",\"協会肝炎　\",\"\")","v":""},{"$f":"IF(申込みフォーム!AB24<>\"\",\"子宮　\",\"\")&IF(申込みフォーム!AC24<>\"\",\"ﾏﾝﾓ　\",\"\")&IF(申込みフォーム!AD24<>\"\",\"乳ｴｺｰ\",\"\")","v":""},{"$f":"IF(申込みフォーム!AE24<>\"\",\"ﾏｰｶｰ　\",\"\")&IF(申込みフォーム!AF24<>\"\",\"心機能　\",\"\")&IF(申込みフォーム!AG24<>\"\",\"ABC　\",\"\")&IF(申込みフォーム!AH24<>\"\",\"Lox　\",\"\")&IF(申込みフォーム!AI24<>\"\",\"甲状腺　\",\"\")&IF(申込みフォーム!AJ24<>\"\",\"肝炎\",\"\")","v":""},{"$f":"IF(申込みフォーム!AK24<>\"\",\"脳　\",\"\")&IF(申込みフォーム!AL24<>\"\",\"胸部CT　\",\"\")&IF(申込みフォーム!AM24<>\"\",\"肺機能　\",\"\")&IF(申込みフォーム!AN24<>\"\",\"腹ｴｺｰ　\",\"\")&IF(申込みフォーム!AO24<>\"\",\"心ｴｺｰ　\",\"\")&IF(申込みフォーム!AP24<>\"\",\"ﾌﾛｰﾗ　\",\"\")&IF(申込みフォーム!AQ24<>\"\",\"OCT　\",\"\")&IF(申込みフォーム!AR24<>\"\",\"検便　\",\"\")&IF(申込みフォーム!AS24<>\"\",\"骨　\",\"\")&IF(申込みフォーム!AT24<>\"\",\"骨＋ﾛｺﾓ\",\"\")","v":""},{"$f":"IF(申込みフォーム!AU24<>\"\",申込みフォーム!AU24&\"　　\",\"\")&IF(申込みフォーム!AV24<>\"\",申込みフォーム!AV24&\"　　\",\"\")&IF(申込みフォーム!AW24<>\"\",申込みフォーム!AW24&\"　　\",\"\")","v":""},{"$f":"IF(申込みフォーム!BJ24<>\"\",申込みフォーム!BJ24,\"\")","v":""},{"$f":"IF(申込みフォーム!BK24<>\"\",申込みフォーム!BK24,\"\")","v":""},{"$f":"IF(申込みフォーム!BL24<>\"\",申込みフォーム!BL24&\"　　\",\"\")&IF(申込みフォーム!BM24<>\"\",申込みフォーム!BM24&\"　　\",\"\")&IF(申込みフォーム!BN24<>\"\",申込みフォーム!BN24&\"　　\",\"\")","v":{"$error":"#VALUE!"}},{"$f":"申込みフォーム!$Z24","v":""}]
[15,null,null,null,null,{"$f":"IF(申込みフォーム!B25<>\"\",申込みフォーム!B25&\"　\"&申込みフォーム!C25,\"\")","v":""},{"$f":"IF(申込みフォーム!E25<>\"\",申込みフォーム!E25&\"　\"&申込みフォーム!F25,\"\")","v":""},{"$f":"IF(申込みフォーム!G25<>\"\",申込みフォーム!G25,\"\")","v":""},{"$f":"IF(申込みフォーム!H25<>\"\",申込みフォーム!H25,\"\")","v":""},{"$f":"IF(申込みフォーム!D25<>\"\",申込みフォーム!D25,\"\")","v":""},{"$f":"IF(申込みフォーム!I25<>\"\",REPLACE(申込みフォーム!I25,4,,\"-\"),\"\")","v":""},{"$f":"IF(申込みフォーム!J25<>\"\",申込みフォーム!J25,\"\")","v":""},{"$f":"IF(申込みフォーム!K25<>\"\",申込みフォーム!K25,\"\")","v":""},{"$f":"IF(申込みフォーム!L25<>\"\",MID(申込みフォーム!L25,1,3)&\"-\"&MID(申込みフォーム!L25,4,4)&\"-\"&MID(申込みフォーム!L25,8,4),\"\")","v":""},{"$f":"IF(申込みフォーム!M25<>\"\",申込みフォーム!M25,\"\")","v":""},{"$f":"IF(申込みフォーム!N25<>\"\",申込みフォーム!N25,\"\")","v":""},{"$f":"IF(申込みフォーム!O25<>\"\",申込みフォーム!O25,\"\")","v":""},{"$f":"IF(申込みフォーム!P25<>\"\",申込みフォーム!P25,\"\")","v":""},{"$f":"IF(申込みフォーム!Q25<>\"\",申込みフォーム!Q25,\"\")","v":""},{"$f":"IF(申込みフォーム!R25<>\"\",申込みフォーム!R25,\"\")","v":""},{"$f":"IF(申込みフォーム!S25<>\"\",申込みフォーム!S25,\"\")","v":""},{"$f":"IF(申込みフォーム!U25=\"細胞診のみ\",\"協会子宮　\",IF(申込みフォーム!U25=\"細胞診＋（自費）膣エコー\",\"協会子宮＋自費膣エコー　\",\"\"))&IF(申込みフォーム!W25<>\"\",\"協会ﾏﾝﾓ　\",\"\")&IF(申込みフォーム!Y25<>\"\",\"協会骨　\",\"\")&IF(申込みフォーム!AA25<>\"\",\"協会肝炎　\",\"\")","v":""},{"$f":"IF(申込みフォーム!AB25<>\"\",\"子宮　\",\"\")&IF(申込みフォーム!AC25<>\"\",\"ﾏﾝﾓ　\",\"\")&IF(申込みフォーム!AD25<>\"\",\"乳ｴｺｰ\",\"\")","v":""},{"$f":"IF(申込みフォーム!AE25<>\"\",\"ﾏｰｶｰ　\",\"\")&IF(申込みフォーム!AF25<>\"\",\"心機能　\",\"\")&IF(申込みフォーム!AG25<>\"\",\"ABC　\",\"\")&IF(申込みフォーム!AH25<>\"\",\"Lox　\",\"\")&IF(申込みフォーム!AI25<>\"\",\"甲状腺　\",\"\")&IF(申込みフォーム!AJ25<>\"\",\"肝炎\",\"\")","v":""},{"$f":"IF(申込みフォーム!AK25<>\"\",\"脳　\",\"\")&IF(申込みフォーム!AL25<>\"\",\"胸部CT　\",\"\")&IF(申込みフォーム!AM25<>\"\",\"肺機能　\",\"\")&IF(申込みフォーム!AN25<>\"\",\"腹ｴｺｰ　\",\"\")&IF(申込みフォーム!AO25<>\"\",\"心ｴｺｰ　\",\"\")&IF(申込みフォーム!AP25<>\"\",\"ﾌﾛｰﾗ　\",\"\")&IF(申込みフォーム!AQ25<>\"\",\"OCT　\",\"\")&IF(申込みフォーム!AR25<>\"\",\"検便　\",\"\")&IF(申込みフォーム!AS25<>\"\",\"骨　\",\"\")&IF(申込みフォーム!AT25<>\"\",\"骨＋ﾛｺﾓ\",\"\")","v":""},{"$f":"IF(申込みフォーム!AU25<>\"\",申込みフォーム!AU25&\"　　\",\"\")&IF(申込みフォーム!AV25<>\"\",申込みフォーム!AV25&\"　　\",\"\")&IF(申込みフォーム!AW25<>\"\",申込みフォーム!AW25&\"　　\",\"\")","v":""},{"$f":"IF(申込みフォーム!BJ25<>\"\",申込みフォーム!BJ25,\"\")","v":""},{"$f":"IF(申込みフォーム!BK25<>\"\",申込みフォーム!BK25,\"\")","v":""},{"$f":"IF(申込みフォーム!BL25<>\"\",申込みフォーム!BL25&\"　　\",\"\")&IF(申込みフォーム!BM25<>\"\",申込みフォーム!BM25&\"　　\",\"\")&IF(申込みフォーム!BN25<>\"\",申込みフォーム!BN25&\"　　\",\"\")","v":{"$error":"#VALUE!"}},{"$f":"申込みフォーム!$Z25","v":""}]
[16,null,null,null,null,{"$f":"IF(申込みフォーム!B26<>\"\",申込みフォーム!B26&\"　\"&申込みフォーム!C26,\"\")","v":""},{"$f":"IF(申込みフォーム!E26<>\"\",申込みフォーム!E26&\"　\"&申込みフォーム!F26,\"\")","v":""},{"$f":"IF(申込みフォーム!G26<>\"\",申込みフォーム!G26,\"\")","v":""},{"$f":"IF(申込みフォーム!H26<>\"\",申込みフォーム!H26,\"\")","v":""},{"$f":"IF(申込みフォーム!D26<>\"\",申込みフォーム!D26,\"\")","v":""},{"$f":"IF(申込みフォーム!I26<>\"\",REPLACE(申込みフォーム!I26,4,,\"-\"),\"\")","v":""},{"$f":"IF(申込みフォーム!J26<>\"\",申込みフォーム!J26,\"\")","v":""},{"$f":"IF(申込みフォーム!K26<>\"\",申込みフォーム!K26,\"\")","v":""},{"$f":"IF(申込みフォーム!L26<>\"\",MID(申込みフォーム!L26,1,3)&\"-\"&MID(申込みフォーム!L26,4,4)&\"-\"&MID(申込みフォーム!L26,8,4),\"\")","v":""},{"$f":"IF(申込みフォーム!M26<>\"\",申込みフォーム!M26,\"\")","v":""},{"$f":"IF(申込みフォーム!N26<>\"\",申込みフォーム!N26,\"\")","v":""},{"$f":"IF(申込みフォーム!O26<>\"\",申込みフォーム!O26,\"\")","v":""},{"$f":"IF(申込みフォーム!P26<>\"\",申込みフォーム!P26,\"\")","v":""},{"$f":"IF(申込みフォーム!Q26<>\"\",申込みフォーム!Q26,\"\")","v":""},{"$f":"IF(申込みフォーム!R26<>\"\",申込みフォーム!R26,\"\")","v":""},{"$f":"IF(申込みフォーム!S26<>\"\",申込みフォーム!S26,\"\")","v":""},{"$f":"IF(申込みフォーム!U26=\"細胞診のみ\",\"協会子宮　\",IF(申込みフォーム!U26=\"細胞診＋（自費）膣エコー\",\"協会子宮＋自費膣エコー　\",\"\"))&IF(申込みフォーム!W26<>\"\",\"協会ﾏﾝﾓ　\",\"\")&IF(申込みフォーム!Y26<>\"\",\"協会骨　\",\"\")&IF(申込みフォーム!AA26<>\"\",\"協会肝炎　\",\"\")","v":""},{"$f":"IF(申込みフォーム!AB26<>\"\",\"子宮　\",\"\")&IF(申込みフォーム!AC26<>\"\",\"ﾏﾝﾓ　\",\"\")&IF(申込みフォーム!AD26<>\"\",\"乳ｴｺｰ\",\"\")","v":""},{"$f":"IF(申込みフォーム!AE26<>\"\",\"ﾏｰｶｰ　\",\"\")&IF(申込みフォーム!AF26<>\"\",\"心機能　\",\"\")&IF(申込みフォーム!AG26<>\"\",\"ABC　\",\"\")&IF(申込みフォーム!AH26<>\"\",\"Lox　\",\"\")&IF(申込みフォーム!AI26<>\"\",\"甲状腺　\",\"\")&IF(申込みフォーム!AJ26<>\"\",\"肝炎\",\"\")","v":""},{"$f":"IF(申込みフォーム!AK26<>\"\",\"脳　\",\"\")&IF(申込みフォーム!AL26<>\"\",\"胸部CT　\",\"\")&IF(申込みフォーム!AM26<>\"\",\"肺機能　\",\"\")&IF(申込みフォーム!AN26<>\"\",\"腹ｴｺｰ　\",\"\")&IF(申込みフォーム!AO26<>\"\",\"心ｴｺｰ　\",\"\")&IF(申込みフォーム!AP26<>\"\",\"ﾌﾛｰﾗ　\",\"\")&IF(申込みフォーム!AQ26<>\"\",\"OCT　\",\"\")&IF(申込みフォーム!AR26<>\"\",\"検便　\",\"\")&IF(申込みフォーム!AS26<>\"\",\"骨　\",\"\")&IF(申込みフォーム!AT26<>\"\",\"骨＋ﾛｺﾓ\",\"\")","v":""},{"$f":"IF(申込みフォーム!AU26<>\"\",申込みフォーム!AU26&\"　　\",\"\")&IF(申込みフォーム!AV26<>\"\",申込みフォーム!AV26&\"　　\",\"\")&IF(申込みフォーム!AW26<>\"\",申込みフォーム!AW26&\"　　\",\"\")","v":""},{"$f":"IF(申込みフォーム!BJ26<>\"\",申込みフォーム!BJ26,\"\")","v":""},{"$f":"IF(申込みフォーム!BK26<>\"\",申込みフォーム!BK26,\"\")","v":""},{"$f":"IF(申込みフォーム!BL26<>\"\",申込みフォーム!BL26&\"　　\",\"\")&IF(申込みフォーム!BM26<>\"\",申込みフォーム!BM26&\"　　\",\"\")&IF(申込みフォーム!BN26<>\"\",申込みフォーム!BN26&\"　　\",\"\")","v":{"$error":"#VALUE!"}},{"$f":"申込みフォーム!$Z26","v":""}]
[17,null,null,null,null,{"$f":"IF(申込みフォーム!B27<>\"\",申込みフォーム!B27&\"　\"&申込みフォーム!C27,\"\")","v":""},{"$f":"IF(申込みフォーム!E27<>\"\",申込みフォーム!E27&\"　\"&申込みフォーム!F27,\"\")","v":""},{"$f":"IF(申込みフォーム!G27<>\"\",申込みフォーム!G27,\"\")","v":""},{"$f":"IF(申込みフォーム!H27<>\"\",申込みフォーム!H27,\"\")","v":""},{"$f":"IF(申込みフォーム!D27<>\"\",申込みフォーム!D27,\"\")","v":""},{"$f":"IF(申込みフォーム!I27<>\"\",REPLACE(申込みフォーム!I27,4,,\"-\"),\"\")","v":""},{"$f":"IF(申込みフォーム!J27<>\"\",申込みフォーム!J27,\"\")","v":""},{"$f":"IF(申込みフォーム!K27<>\"\",申込みフォーム!K27,\"\")","v":""},{"$f":"IF(申込みフォーム!L27<>\"\",MID(申込みフォーム!L27,1,3)&\"-\"&MID(申込みフォーム!L27,4,4)&\"-\"&MID(申込みフォーム!L27,8,4),\"\")","v":""},{"$f":"IF(申込みフォーム!M27<>\"\",申込みフォーム!M27,\"\")","v":""},{"$f":"IF(申込みフォーム!N27<>\"\",申込みフォーム!N27,\"\")","v":""},{"$f":"IF(申込みフォーム!O27<>\"\",申込みフォーム!O27,\"\")","v":""},{"$f":"IF(申込みフォーム!P27<>\"\",申込みフォーム!P27,\"\")","v":""},{"$f":"IF(申込みフォーム!Q27<>\"\",申込みフォーム!Q27,\"\")","v":""},{"$f":"IF(申込みフォーム!R27<>\"\",申込みフォーム!R27,\"\")","v":""},{"$f":"IF(申込みフォーム!S27<>\"\",申込みフォーム!S27,\"\")","v":""},{"$f":"IF(申込みフォーム!U27=\"細胞診のみ\",\"協会子宮　\",IF(申込みフォーム!U27=\"細胞診＋（自費）膣エコー\",\"協会子宮＋自費膣エコー　\",\"\"))&IF(申込みフォーム!W27<>\"\",\"協会ﾏﾝﾓ　\",\"\")&IF(申込みフォーム!Y27<>\"\",\"協会骨　\",\"\")&IF(申込みフォーム!AA27<>\"\",\"協会肝炎　\",\"\")","v":""},{"$f":"IF(申込みフォーム!AB27<>\"\",\"子宮　\",\"\")&IF(申込みフォーム!AC27<>\"\",\"ﾏﾝﾓ　\",\"\")&IF(申込みフォーム!AD27<>\"\",\"乳ｴｺｰ\",\"\")","v":""},{"$f":"IF(申込みフォーム!AE27<>\"\",\"ﾏｰｶｰ　\",\"\")&IF(申込みフォーム!AF27<>\"\",\"心機能　\",\"\")&IF(申込みフォーム!AG27<>\"\",\"ABC　\",\"\")&IF(申込みフォーム!AH27<>\"\",\"Lox　\",\"\")&IF(申込みフォーム!AI27<>\"\",\"甲状腺　\",\"\")&IF(申込みフォーム!AJ27<>\"\",\"肝炎\",\"\")","v":""},{"$f":"IF(申込みフォーム!AK27<>\"\",\"脳　\",\"\")&IF(申込みフォーム!AL27<>\"\",\"胸部CT　\",\"\")&IF(申込みフォーム!AM27<>\"\",\"肺機能　\",\"\")&IF(申込みフォーム!AN27<>\"\",\"腹ｴｺｰ　\",\"\")&IF(申込みフォーム!AO27<>\"\",\"心ｴｺｰ　\",\"\")&IF(申込みフォーム!AP27<>\"\",\"ﾌﾛｰﾗ　\",\"\")&IF(申込みフォーム!AQ27<>\"\",\"OCT　\",\"\")&IF(申込みフォーム!AR27<>\"\",\"検便　\",\"\")&IF(申込みフォーム!AS27<>\"\",\"骨　\",\"\")&IF(申込みフォーム!AT27<>\"\",\"骨＋ﾛｺﾓ\",\"\")","v":""},{"$f":"IF(申込みフォーム!AU27<>\"\",申込みフォーム!AU27&\"　　\",\"\")&IF(申込みフォーム!AV27<>\"\",申込みフォーム!AV27&\"　　\",\"\")&IF(申込みフォーム!AW27<>\"\",申込みフォーム!AW27&\"　　\",\"\")","v":""},{"$f":"IF(申込みフォーム!BJ27<>\"\",申込みフォーム!BJ27,\"\")","v":""},{"$f":"IF(申込みフォーム!BK27<>\"\",申込みフォーム!BK27,\"\")","v":""},{"$f":"IF(申込みフォーム!BL27<>\"\",申込みフォーム!BL27&\"　　\",\"\")&IF(申込みフォーム!BM27<>\"\",申込みフォーム!BM27&\"　　\",\"\")&IF(申込みフォーム!BN27<>\"\",申込みフォーム!BN27&\"　　\",\"\")","v":{"$error":"#VALUE!"}},{"$f":"申込みフォーム!$Z27","v":""}]
[18,null,null,null,null,{"$f":"IF(申込みフォーム!B28<>\"\",申込みフォーム!B28&\"　\"&申込みフォーム!C28,\"\")","v":""},{"$f":"IF(申込みフォーム!E28<>\"\",申込みフォーム!E28&\"　\"&申込みフォーム!F28,\"\")","v":""},{"$f":"IF(申込みフォーム!G28<>\"\",申込みフォーム!G28,\"\")","v":""},{"$f":"IF(申込みフォーム!H28<>\"\",申込みフォーム!H28,\"\")","v":""},{"$f":"IF(申込みフォーム!D28<>\"\",申込みフォーム!D28,\"\")","v":""},{"$f":"IF(申込みフォーム!I28<>\"\",REPLACE(申込みフォーム!I28,4,,\"-\"),\"\")","v":""},{"$f":"IF(申込みフォーム!J28<>\"\",申込みフォーム!J28,\"\")","v":""},{"$f":"IF(申込みフォーム!K28<>\"\",申込みフォーム!K28,\"\")","v":""},{"$f":"IF(申込みフォーム!L28<>\"\",MID(申込みフォーム!L28,1,3)&\"-\"&MID(申込みフォーム!L28,4,4)&\"-\"&MID(申込みフォーム!L28,8,4),\"\")","v":""},{"$f":"IF(申込みフォーム!M28<>\"\",申込みフォーム!M28,\"\")","v":""},{"$f":"IF(申込みフォーム!N28<>\"\",申込みフォーム!N28,\"\")","v":""},{"$f":"IF(申込みフォーム!O28<>\"\",申込みフォーム!O28,\"\")","v":""},{"$f":"IF(申込みフォーム!P28<>\"\",申込みフォーム!P28,\"\")","v":""},{"$f":"IF(申込みフォーム!Q28<>\"\",申込みフォーム!Q28,\"\")","v":""},{"$f":"IF(申込みフォーム!R28<>\"\",申込みフォーム!R28,\"\")","v":""},{"$f":"IF(申込みフォーム!S28<>\"\",申込みフォーム!S28,\"\")","v":""},{"$f":"IF(申込みフォーム!U28=\"細胞診のみ\",\"協会子宮　\",IF(申込みフォーム!U28=\"細胞診＋（自費）膣エコー\",\"協会子宮＋自費膣エコー　\",\"\"))&IF(申込みフォーム!W28<>\"\",\"協会ﾏﾝﾓ　\",\"\")&IF(申込みフォーム!Y28<>\"\",\"協会骨　\",\"\")&IF(申込みフォーム!AA28<>\"\",\"協会肝炎　\",\"\")","v":""},{"$f":"IF(申込みフォーム!AB28<>\"\",\"子宮　\",\"\")&IF(申込みフォーム!AC28<>\"\",\"ﾏﾝﾓ　\",\"\")&IF(申込みフォーム!AD28<>\"\",\"乳ｴｺｰ\",\"\")","v":""},{"$f":"IF(申込みフォーム!AE28<>\"\",\"ﾏｰｶｰ　\",\"\")&IF(申込みフォーム!AF28<>\"\",\"心機能　\",\"\")&IF(申込みフォーム!AG28<>\"\",\"ABC　\",\"\")&IF(申込みフォーム!AH28<>\"\",\"Lox　\",\"\")&IF(申込みフォーム!AI28<>\"\",\"甲状腺　\",\"\")&IF(申込みフォーム!AJ28<>\"\",\"肝炎\",\"\")","v":""},{"$f":"IF(申込みフォーム!AK28<>\"\",\"脳　\",\"\")&IF(申込みフォーム!AL28<>\"\",\"胸部CT　\",\"\")&IF(申込みフォーム!AM28<>\"\",\"肺機能　\",\"\")&IF(申込みフォーム!AN28<>\"\",\"腹ｴｺｰ　\",\"\")&IF(申込みフォーム!AO28<>\"\",\"心ｴｺｰ　\",\"\")&IF(申込みフォーム!AP28<>\"\",\"ﾌﾛｰﾗ　\",\"\")&IF(申込みフォーム!AQ28<>\"\",\"OCT　\",\"\")&IF(申込みフォーム!AR28<>\"\",\"検便　\",\"\")&IF(申込みフォーム!AS28<>\"\",\"骨　\",\"\")&IF(申込みフォーム!AT28<>\"\",\"骨＋ﾛｺﾓ\",\"\")","v":""},{"$f":"IF(申込みフォーム!AU28<>\"\",申込みフォーム!AU28&\"　　\",\"\")&IF(申込みフォーム!AV28<>\"\",申込みフォーム!AV28&\"　　\",\"\")&IF(申込みフォーム!AW28<>\"\",申込みフォーム!AW28&\"　　\",\"\")","v":""},{"$f":"IF(申込みフォーム!BJ28<>\"\",申込みフォーム!BJ28,\"\")","v":""},{"$f":"IF(申込みフォーム!BK28<>\"\",申込みフォーム!BK28,\"\")","v":""},{"$f":"IF(申込みフォーム!BL28<>\"\",申込みフォーム!BL28&\"　　\",\"\")&IF(申込みフォーム!BM28<>\"\",申込みフォーム!BM28&\"　　\",\"\")&IF(申込みフォーム!BN28<>\"\",申込みフォーム!BN28&\"　　\",\"\")","v":{"$error":"#VALUE!"}},{"$f":"申込みフォーム!$Z28","v":""}]
[19,null,null,null,null,{"$f":"IF(申込みフォーム!B29<>\"\",申込みフォーム!B29&\"　\"&申込みフォーム!C29,\"\")","v":""},{"$f":"IF(申込みフォーム!E29<>\"\",申込みフォーム!E29&\"　\"&申込みフォーム!F29,\"\")","v":""},{"$f":"IF(申込みフォーム!G29<>\"\",申込みフォーム!G29,\"\")","v":""},{"$f":"IF(申込みフォーム!H29<>\"\",申込みフォーム!H29,\"\")","v":""},{"$f":"IF(申込みフォーム!D29<>\"\",申込みフォーム!D29,\"\")","v":""},{"$f":"IF(申込みフォーム!I29<>\"\",REPLACE(申込みフォーム!I29,4,,\"-\"),\"\")","v":""},{"$f":"IF(申込みフォーム!J29<>\"\",申込みフォーム!J29,\"\")","v":""},{"$f":"IF(申込みフォーム!K29<>\"\",申込みフォーム!K29,\"\")","v":""},{"$f":"IF(申込みフォーム!L29<>\"\",MID(申込みフォーム!L29,1,3)&\"-\"&MID(申込みフォーム!L29,4,4)&\"-\"&MID(申込みフォーム!L29,8,4),\"\")","v":""},{"$f":"IF(申込みフォーム!M29<>\"\",申込みフォーム!M29,\"\")","v":""},{"$f":"IF(申込みフォーム!N29<>\"\",申込みフォーム!N29,\"\")","v":""},{"$f":"IF(申込みフォーム!O29<>\"\",申込みフォーム!O29,\"\")","v":""},{"$f":"IF(申込みフォーム!P29<>\"\",申込みフォーム!P29,\"\")","v":""},{"$f":"IF(申込みフォーム!Q29<>\"\",申込みフォーム!Q29,\"\")","v":""},{"$f":"IF(申込みフォーム!R29<>\"\",申込みフォーム!R29,\"\")","v":""},{"$f":"IF(申込みフォーム!S29<>\"\",申込みフォーム!S29,\"\")","v":""},{"$f":"IF(申込みフォーム!U29=\"細胞診のみ\",\"協会子宮　\",IF(申込みフォーム!U29=\"細胞診＋（自費）膣エコー\",\"協会子宮＋自費膣エコー　\",\"\"))&IF(申込みフォーム!W29<>\"\",\"協会ﾏﾝﾓ　\",\"\")&IF(申込みフォーム!Y29<>\"\",\"協会骨　\",\"\")&IF(申込みフォーム!AA29<>\"\",\"協会肝炎　\",\"\")","v":""},{"$f":"IF(申込みフォーム!AB29<>\"\",\"子宮　\",\"\")&IF(申込みフォーム!AC29<>\"\",\"ﾏﾝﾓ　\",\"\")&IF(申込みフォーム!AD29<>\"\",\"乳ｴｺｰ\",\"\")","v":""},{"$f":"IF(申込みフォーム!AE29<>\"\",\"ﾏｰｶｰ　\",\"\")&IF(申込みフォーム!AF29<>\"\",\"心機能　\",\"\")&IF(申込みフォーム!AG29<>\"\",\"ABC　\",\"\")&IF(申込みフォーム!AH29<>\"\",\"Lox　\",\"\")&IF(申込みフォーム!AI29<>\"\",\"甲状腺　\",\"\")&IF(申込みフォーム!AJ29<>\"\",\"肝炎\",\"\")","v":""},{"$f":"IF(申込みフォーム!AK29<>\"\",\"脳　\",\"\")&IF(申込みフォーム!AL29<>\"\",\"胸部CT　\",\"\")&IF(申込みフォーム!AM29<>\"\",\"肺機能　\",\"\")&IF(申込みフォーム!AN29<>\"\",\"腹ｴｺｰ　\",\"\")&IF(申込みフォーム!AO29<>\"\",\"心ｴｺｰ　\",\"\")&IF(申込みフォーム!AP29<>\"\",\"ﾌﾛｰﾗ　\",\"\")&IF(申込みフォーム!AQ29<>\"\",\"OCT　\",\"\")&IF(申込みフォーム!AR29<>\"\",\"検便　\",\"\")&IF(申込みフォーム!AS29<>\"\",\"骨　\",\"\")&IF(申込みフォーム!AT29<>\"\",\"骨＋ﾛｺﾓ\",\"\")","v":""},{"$f":"IF(申込みフォーム!AU29<>\"\",申込みフォーム!AU29&\"　　\",\"\")&IF(申込みフォーム!AV29<>\"\",申込みフォーム!AV29&\"　　\",\"\")&IF(申込みフォーム!AW29<>\"\",申込みフォーム!AW29&\"　　\",\"\")","v":""},{"$f":"IF(申込みフォーム!BJ29<>\"\",申込みフォーム!BJ29,\"\")","v":""},{"$f":"IF(申込みフォーム!BK29<>\"\",申込みフォーム!BK29,\"\")","v":""},{"$f":"IF(申込みフォーム!BL29<>\"\",申込みフォーム!BL29&\"　　\",\"\")&IF(申込みフォーム!BM29<>\"\",申込みフォーム!BM29&\"　　\",\"\")&IF(申込みフォーム!BN29<>\"\",申込みフォーム!BN29&\"　　\",\"\")","v":{"$error":"#VALUE!"}},{"$f":"申込みフォーム!$Z29","v":""}]
[20,null,null,null,null,{"$f":"IF(申込みフォーム!B30<>\"\",申込みフォーム!B30&\"　\"&申込みフォーム!C30,\"\")","v":""},{"$f":"IF(申込みフォーム!E30<>\"\",申込みフォーム!E30&\"　\"&申込みフォーム!F30,\"\")","v":""},{"$f":"IF(申込みフォーム!G30<>\"\",申込みフォーム!G30,\"\")","v":""},{"$f":"IF(申込みフォーム!H30<>\"\",申込みフォーム!H30,\"\")","v":""},{"$f":"IF(申込みフォーム!D30<>\"\",申込みフォーム!D30,\"\")","v":""},{"$f":"IF(申込みフォーム!I30<>\"\",REPLACE(申込みフォーム!I30,4,,\"-\"),\"\")","v":""},{"$f":"IF(申込みフォーム!J30<>\"\",申込みフォーム!J30,\"\")","v":""},{"$f":"IF(申込みフォーム!K30<>\"\",申込みフォーム!K30,\"\")","v":""},{"$f":"IF(申込みフォーム!L30<>\"\",MID(申込みフォーム!L30,1,3)&\"-\"&MID(申込みフォーム!L30,4,4)&\"-\"&MID(申込みフォーム!L30,8,4),\"\")","v":""},{"$f":"IF(申込みフォーム!M30<>\"\",申込みフォーム!M30,\"\")","v":""},{"$f":"IF(申込みフォーム!N30<>\"\",申込みフォーム!N30,\"\")","v":""},{"$f":"IF(申込みフォーム!O30<>\"\",申込みフォーム!O30,\"\")","v":""},{"$f":"IF(申込みフォーム!P30<>\"\",申込みフォーム!P30,\"\")","v":""},{"$f":"IF(申込みフォーム!Q30<>\"\",申込みフォーム!Q30,\"\")","v":""},{"$f":"IF(申込みフォーム!R30<>\"\",申込みフォーム!R30,\"\")","v":""},{"$f":"IF(申込みフォーム!S30<>\"\",申込みフォーム!S30,\"\")","v":""},{"$f":"IF(申込みフォーム!U30=\"細胞診のみ\",\"協会子宮　\",IF(申込みフォーム!U30=\"細胞診＋（自費）膣エコー\",\"協会子宮＋自費膣エコー　\",\"\"))&IF(申込みフォーム!W30<>\"\",\"協会ﾏﾝﾓ　\",\"\")&IF(申込みフォーム!Y30<>\"\",\"協会骨　\",\"\")&IF(申込みフォーム!AA30<>\"\",\"協会肝炎　\",\"\")","v":""},{"$f":"IF(申込みフォーム!AB30<>\"\",\"子宮　\",\"\")&IF(申込みフォーム!AC30<>\"\",\"ﾏﾝﾓ　\",\"\")&IF(申込みフォーム!AD30<>\"\",\"乳ｴｺｰ\",\"\")","v":""},{"$f":"IF(申込みフォーム!AE30<>\"\",\"ﾏｰｶｰ　\",\"\")&IF(申込みフォーム!AF30<>\"\",\"心機能　\",\"\")&IF(申込みフォーム!AG30<>\"\",\"ABC　\",\"\")&IF(申込みフォーム!AH30<>\"\",\"Lox　\",\"\")&IF(申込みフォーム!AI30<>\"\",\"甲状腺　\",\"\")&IF(申込みフォーム!AJ30<>\"\",\"肝炎\",\"\")","v":""},{"$f":"IF(申込みフォーム!AK30<>\"\",\"脳　\",\"\")&IF(申込みフォーム!AL30<>\"\",\"胸部CT　\",\"\")&IF(申込みフォーム!AM30<>\"\",\"肺機能　\",\"\")&IF(申込みフォーム!AN30<>\"\",\"腹ｴｺｰ　\",\"\")&IF(申込みフォーム!AO30<>\"\",\"心ｴｺｰ　\",\"\")&IF(申込みフォーム!AP30<>\"\",\"ﾌﾛｰﾗ　\",\"\")&IF(申込みフォーム!AQ30<>\"\",\"OCT　\",\"\")&IF(申込みフォーム!AR30<>\"\",\"検便　\",\"\")&IF(申込みフォーム!AS30<>\"\",\"骨　\",\"\")&IF(申込みフォーム!AT30<>\"\",\"骨＋ﾛｺﾓ\",\"\")","v":""},{"$f":"IF(申込みフォーム!AU30<>\"\",申込みフォーム!AU30&\"　　\",\"\")&IF(申込みフォーム!AV30<>\"\",申込みフォーム!AV30&\"　　\",\"\")&IF(申込みフォーム!AW30<>\"\",申込みフォーム!AW30&\"　　\",\"\")","v":""},{"$f":"IF(申込みフォーム!BJ30<>\"\",申込みフォーム!BJ30,\"\")","v":""},{"$f":"IF(申込みフォーム!BK30<>\"\",申込みフォーム!BK30,\"\")","v":""},{"$f":"IF(申込みフォーム!BL30<>\"\",申込みフォーム!BL30&\"　　\",\"\")&IF(申込みフォーム!BM30<>\"\",申込みフォーム!BM30&\"　　\",\"\")&IF(申込みフォーム!BN30<>\"\",申込みフォーム!BN30&\"　　\",\"\")","v":{"$error":"#VALUE!"}},{"$f":"申込みフォーム!$Z30","v":""}]
[21,null,null,null,null,{"$f":"IF(申込みフォーム!B31<>\"\",申込みフォーム!B31&\"　\"&申込みフォーム!C31,\"\")","v":""},{"$f":"IF(申込みフォーム!E31<>\"\",申込みフォーム!E31&\"　\"&申込みフォーム!F31,\"\")","v":""},{"$f":"IF(申込みフォーム!G31<>\"\",申込みフォーム!G31,\"\")","v":""},{"$f":"IF(申込みフォーム!H31<>\"\",申込みフォーム!H31,\"\")","v":""},{"$f":"IF(申込みフォーム!D31<>\"\",申込みフォーム!D31,\"\")","v":""},{"$f":"IF(申込みフォーム!I31<>\"\",REPLACE(申込みフォーム!I31,4,,\"-\"),\"\")","v":""},{"$f":"IF(申込みフォーム!J31<>\"\",申込みフォーム!J31,\"\")","v":""},{"$f":"IF(申込みフォーム!K31<>\"\",申込みフォーム!K31,\"\")","v":""},{"$f":"IF(申込みフォーム!L31<>\"\",MID(申込みフォーム!L31,1,3)&\"-\"&MID(申込みフォーム!L31,4,4)&\"-\"&MID(申込みフォーム!L31,8,4),\"\")","v":""},{"$f":"IF(申込みフォーム!M31<>\"\",申込みフォーム!M31,\"\")","v":""},{"$f":"IF(申込みフォーム!N31<>\"\",申込みフォーム!N31,\"\")","v":""},{"$f":"IF(申込みフォーム!O31<>\"\",申込みフォーム!O31,\"\")","v":""},{"$f":"IF(申込みフォーム!P31<>\"\",申込みフォーム!P31,\"\")","v":""},{"$f":"IF(申込みフォーム!Q31<>\"\",申込みフォーム!Q31,\"\")","v":""},{"$f":"IF(申込みフォーム!R31<>\"\",申込みフォーム!R31,\"\")","v":""},{"$f":"IF(申込みフォーム!S31<>\"\",申込みフォーム!S31,\"\")","v":""},{"$f":"IF(申込みフォーム!U31=\"細胞診のみ\",\"協会子宮　\",IF(申込みフォーム!U31=\"細胞診＋（自費）膣エコー\",\"協会子宮＋自費膣エコー　\",\"\"))&IF(申込みフォーム!W31<>\"\",\"協会ﾏﾝﾓ　\",\"\")&IF(申込みフォーム!Y31<>\"\",\"協会骨　\",\"\")&IF(申込みフォーム!AA31<>\"\",\"協会肝炎　\",\"\")","v":""},{"$f":"IF(申込みフォーム!AB31<>\"\",\"子宮　\",\"\")&IF(申込みフォーム!AC31<>\"\",\"ﾏﾝﾓ　\",\"\")&IF(申込みフォーム!AD31<>\"\",\"乳ｴｺｰ\",\"\")","v":""},{"$f":"IF(申込みフォーム!AE31<>\"\",\"ﾏｰｶｰ　\",\"\")&IF(申込みフォーム!AF31<>\"\",\"心機能　\",\"\")&IF(申込みフォーム!AG31<>\"\",\"ABC　\",\"\")&IF(申込みフォーム!AH31<>\"\",\"Lox　\",\"\")&IF(申込みフォーム!AI31<>\"\",\"甲状腺　\",\"\")&IF(申込みフォーム!AJ31<>\"\",\"肝炎\",\"\")","v":""},{"$f":"IF(申込みフォーム!AK31<>\"\",\"脳　\",\"\")&IF(申込みフォーム!AL31<>\"\",\"胸部CT　\",\"\")&IF(申込みフォーム!AM31<>\"\",\"肺機能　\",\"\")&IF(申込みフォーム!AN31<>\"\",\"腹ｴｺｰ　\",\"\")&IF(申込みフォーム!AO31<>\"\",\"心ｴｺｰ　\",\"\")&IF(申込みフォーム!AP31<>\"\",\"ﾌﾛｰﾗ　\",\"\")&IF(申込みフォーム!AQ31<>\"\",\"OCT　\",\"\")&IF(申込みフォーム!AR31<>\"\",\"検便　\",\"\")&IF(申込みフォーム!AS31<>\"\",\"骨　\",\"\")&IF(申込みフォーム!AT31<>\"\",\"骨＋ﾛｺﾓ\",\"\")","v":""},{"$f":"IF(申込みフォーム!AU31<>\"\",申込みフォーム!AU31&\"　　\",\"\")&IF(申込みフォーム!AV31<>\"\",申込みフォーム!AV31&\"　　\",\"\")&IF(申込みフォーム!AW31<>\"\",申込みフォーム!AW31&\"　　\",\"\")","v":""},{"$f":"IF(申込みフォーム!BJ31<>\"\",申込みフォーム!BJ31,\"\")","v":""},{"$f":"IF(申込みフォーム!BK31<>\"\",申込みフォーム!BK31,\"\")","v":""},{"$f":"IF(申込みフォーム!BL31<>\"\",申込みフォーム!BL31&\"　　\",\"\")&IF(申込みフォーム!BM31<>\"\",申込みフォーム!BM31&\"　　\",\"\")&IF(申込みフォーム!BN31<>\"\",申込みフォーム!BN31&\"　　\",\"\")","v":{"$error":"#VALUE!"}},{"$f":"申込みフォーム!$Z31","v":""}]
[22,null,null,null,null,{"$f":"IF(申込みフォーム!B32<>\"\",申込みフォーム!B32&\"　\"&申込みフォーム!C32,\"\")","v":""},{"$f":"IF(申込みフォーム!E32<>\"\",申込みフォーム!E32&\"　\"&申込みフォーム!F32,\"\")","v":""},{"$f":"IF(申込みフォーム!G32<>\"\",申込みフォーム!G32,\"\")","v":""},{"$f":"IF(申込みフォーム!H32<>\"\",申込みフォーム!H32,\"\")","v":""},{"$f":"IF(申込みフォーム!D32<>\"\",申込みフォーム!D32,\"\")","v":""},{"$f":"IF(申込みフォーム!I32<>\"\",REPLACE(申込みフォーム!I32,4,,\"-\"),\"\")","v":""},{"$f":"IF(申込みフォーム!J32<>\"\",申込みフォーム!J32,\"\")","v":""},{"$f":"IF(申込みフォーム!K32<>\"\",申込みフォーム!K32,\"\")","v":""},{"$f":"IF(申込みフォーム!L32<>\"\",MID(申込みフォーム!L32,1,3)&\"-\"&MID(申込みフォーム!L32,4,4)&\"-\"&MID(申込みフォーム!L32,8,4),\"\")","v":""},{"$f":"IF(申込みフォーム!M32<>\"\",申込みフォーム!M32,\"\")","v":""},{"$f":"IF(申込みフォーム!N32<>\"\",申込みフォーム!N32,\"\")","v":""},{"$f":"IF(申込みフォーム!O32<>\"\",申込みフォーム!O32,\"\")","v":""},{"$f":"IF(申込みフォーム!P32<>\"\",申込みフォーム!P32,\"\")","v":""},{"$f":"IF(申込みフォーム!Q32<>\"\",申込みフォーム!Q32,\"\")","v":""},{"$f":"IF(申込みフォーム!R32<>\"\",申込みフォーム!R32,\"\")","v":""},{"$f":"IF(申込みフォーム!S32<>\"\",申込みフォーム!S32,\"\")","v":""},{"$f":"IF(申込みフォーム!U32=\"細胞診のみ\",\"協会子宮　\",IF(申込みフォーム!U32=\"細胞診＋（自費）膣エコー\",\"協会子宮＋自費膣エコー　\",\"\"))&IF(申込みフォーム!W32<>\"\",\"協会ﾏﾝﾓ　\",\"\")&IF(申込みフォーム!Y32<>\"\",\"協会骨　\",\"\")&IF(申込みフォーム!AA32<>\"\",\"協会肝炎　\",\"\")","v":""},{"$f":"IF(申込みフォーム!AB32<>\"\",\"子宮　\",\"\")&IF(申込みフォーム!AC32<>\"\",\"ﾏﾝﾓ　\",\"\")&IF(申込みフォーム!AD32<>\"\",\"乳ｴｺｰ\",\"\")","v":""},{"$f":"IF(申込みフォーム!AE32<>\"\",\"ﾏｰｶｰ　\",\"\")&IF(申込みフォーム!AF32<>\"\",\"心機能　\",\"\")&IF(申込みフォーム!AG32<>\"\",\"ABC　\",\"\")&IF(申込みフォーム!AH32<>\"\",\"Lox　\",\"\")&IF(申込みフォーム!AI32<>\"\",\"甲状腺　\",\"\")&IF(申込みフォーム!AJ32<>\"\",\"肝炎\",\"\")","v":""},{"$f":"IF(申込みフォーム!AK32<>\"\",\"脳　\",\"\")&IF(申込みフォーム!AL32<>\"\",\"胸部CT　\",\"\")&IF(申込みフォーム!AM32<>\"\",\"肺機能　\",\"\")&IF(申込みフォーム!AN32<>\"\",\"腹ｴｺｰ　\",\"\")&IF(申込みフォーム!AO32<>\"\",\"心ｴｺｰ　\",\"\")&IF(申込みフォーム!AP32<>\"\",\"ﾌﾛｰﾗ　\",\"\")&IF(申込みフォーム!AQ32<>\"\",\"OCT　\",\"\")&IF(申込みフォーム!AR32<>\"\",\"検便　\",\"\")&IF(申込みフォーム!AS32<>\"\",\"骨　\",\"\")&IF(申込みフォーム!AT32<>\"\",\"骨＋ﾛｺﾓ\",\"\")","v":""},{"$f":"IF(申込みフォーム!AU32<>\"\",申込みフォーム!AU32&\"　　\",\"\")&IF(申込みフォーム!AV32<>\"\",申込みフォーム!AV32&\"　　\",\"\")&IF(申込みフォーム!AW32<>\"\",申込みフォーム!AW32&\"　　\",\"\")","v":""},{"$f":"IF(申込みフォーム!BJ32<>\"\",申込みフォーム!BJ32,\"\")","v":""},{"$f":"IF(申込みフォーム!BK32<>\"\",申込みフォーム!BK32,\"\")","v":""},{"$f":"IF(申込みフォーム!BL32<>\"\",申込みフォーム!BL32&\"　　\",\"\")&IF(申込みフォーム!BM32<>\"\",申込みフォーム!BM32&\"　　\",\"\")&IF(申込みフォーム!BN32<>\"\",申込みフォーム!BN32&\"　　\",\"\")","v":{"$error":"#VALUE!"}},{"$f":"申込みフォーム!$Z32","v":""}]
[23,null,null,null,null,{"$f":"IF(申込みフォーム!B33<>\"\",申込みフォーム!B33&\"　\"&申込みフォーム!C33,\"\")","v":""},{"$f":"IF(申込みフォーム!E33<>\"\",申込みフォーム!E33&\"　\"&申込みフォーム!F33,\"\")","v":""},{"$f":"IF(申込みフォーム!G33<>\"\",申込みフォーム!G33,\"\")","v":""},{"$f":"IF(申込みフォーム!H33<>\"\",申込みフォーム!H33,\"\")","v":""},{"$f":"IF(申込みフォーム!D33<>\"\",申込みフォーム!D33,\"\")","v":""},{"$f":"IF(申込みフォーム!I33<>\"\",REPLACE(申込みフォーム!I33,4,,\"-\"),\"\")","v":""},{"$f":"IF(申込みフォーム!J33<>\"\",申込みフォーム!J33,\"\")","v":""},{"$f":"IF(申込みフォーム!K33<>\"\",申込みフォーム!K33,\"\")","v":""},{"$f":"IF(申込みフォーム!L33<>\"\",MID(申込みフォーム!L33,1,3)&\"-\"&MID(申込みフォーム!L33,4,4)&\"-\"&MID(申込みフォーム!L33,8,4),\"\")","v":""},{"$f":"IF(申込みフォーム!M33<>\"\",申込みフォーム!M33,\"\")","v":""},{"$f":"IF(申込みフォーム!N33<>\"\",申込みフォーム!N33,\"\")","v":""},{"$f":"IF(申込みフォーム!O33<>\"\",申込みフォーム!O33,\"\")","v":""},{"$f":"IF(申込みフォーム!P33<>\"\",申込みフォーム!P33,\"\")","v":""},{"$f":"IF(申込みフォーム!Q33<>\"\",申込みフォーム!Q33,\"\")","v":""},{"$f":"IF(申込みフォーム!R33<>\"\",申込みフォーム!R33,\"\")","v":""},{"$f":"IF(申込みフォーム!S33<>\"\",申込みフォーム!S33,\"\")","v":""},{"$f":"IF(申込みフォーム!U33=\"細胞診のみ\",\"協会子宮　\",IF(申込みフォーム!U33=\"細胞診＋（自費）膣エコー\",\"協会子宮＋自費膣エコー　\",\"\"))&IF(申込みフォーム!W33<>\"\",\"協会ﾏﾝﾓ　\",\"\")&IF(申込みフォーム!Y33<>\"\",\"協会骨　\",\"\")&IF(申込みフォーム!AA33<>\"\",\"協会肝炎　\",\"\")","v":""},{"$f":"IF(申込みフォーム!AB33<>\"\",\"子宮　\",\"\")&IF(申込みフォーム!AC33<>\"\",\"ﾏﾝﾓ　\",\"\")&IF(申込みフォーム!AD33<>\"\",\"乳ｴｺｰ\",\"\")","v":""},{"$f":"IF(申込みフォーム!AE33<>\"\",\"ﾏｰｶｰ　\",\"\")&IF(申込みフォーム!AF33<>\"\",\"心機能　\",\"\")&IF(申込みフォーム!AG33<>\"\",\"ABC　\",\"\")&IF(申込みフォーム!AH33<>\"\",\"Lox　\",\"\")&IF(申込みフォーム!AI33<>\"\",\"甲状腺　\",\"\")&IF(申込みフォーム!AJ33<>\"\",\"肝炎\",\"\")","v":""},{"$f":"IF(申込みフォーム!AK33<>\"\",\"脳　\",\"\")&IF(申込みフォーム!AL33<>\"\",\"胸部CT　\",\"\")&IF(申込みフォーム!AM33<>\"\",\"肺機能　\",\"\")&IF(申込みフォーム!AN33<>\"\",\"腹ｴｺｰ　\",\"\")&IF(申込みフォーム!AO33<>\"\",\"心ｴｺｰ　\",\"\")&IF(申込みフォーム!AP33<>\"\",\"ﾌﾛｰﾗ　\",\"\")&IF(申込みフォーム!AQ33<>\"\",\"OCT　\",\"\")&IF(申込みフォーム!AR33<>\"\",\"検便　\",\"\")&IF(申込みフォーム!AS33<>\"\",\"骨　\",\"\")&IF(申込みフォーム!AT33<>\"\",\"骨＋ﾛｺﾓ\",\"\")","v":""},{"$f":"IF(申込みフォーム!AU33<>\"\",申込みフォーム!AU33&\"　　\",\"\")&IF(申込みフォーム!AV33<>\"\",申込みフォーム!AV33&\"　　\",\"\")&IF(申込みフォーム!AW33<>\"\",申込みフォーム!AW33&\"　　\",\"\")","v":""},{"$f":"IF(申込みフォーム!BJ33<>\"\",申込みフォーム!BJ33,\"\")","v":""},{"$f":"IF(申込みフォーム!BK33<>\"\",申込みフォーム!BK33,\"\")","v":""},{"$f":"IF(申込みフォーム!BL33<>\"\",申込みフォーム!BL33&\"　　\",\"\")&IF(申込みフォーム!BM33<>\"\",申込みフォーム!BM33&\"　　\",\"\")&IF(申込みフォーム!BN33<>\"\",申込みフォーム!BN33&\"　　\",\"\")","v":{"$error":"#VALUE!"}},{"$f":"申込みフォーム!$Z33","v":""}]
[24,null,null,null,null,{"$f":"IF(申込みフォーム!B34<>\"\",申込みフォーム!B34&\"　\"&申込みフォーム!C34,\"\")","v":""},{"$f":"IF(申込みフォーム!E34<>\"\",申込みフォーム!E34&\"　\"&申込みフォーム!F34,\"\")","v":""},{"$f":"IF(申込みフォーム!G34<>\"\",申込みフォーム!G34,\"\")","v":""},{"$f":"IF(申込みフォーム!H34<>\"\",申込みフォーム!H34,\"\")","v":""},{"$f":"IF(申込みフォーム!D34<>\"\",申込みフォーム!D34,\"\")","v":""},{"$f":"IF(申込みフォーム!I34<>\"\",REPLACE(申込みフォーム!I34,4,,\"-\"),\"\")","v":""},{"$f":"IF(申込みフォーム!J34<>\"\",申込みフォーム!J34,\"\")","v":""},{"$f":"IF(申込みフォーム!K34<>\"\",申込みフォーム!K34,\"\")","v":""},{"$f":"IF(申込みフォーム!L34<>\"\",MID(申込みフォーム!L34,1,3)&\"-\"&MID(申込みフォーム!L34,4,4)&\"-\"&MID(申込みフォーム!L34,8,4),\"\")","v":""},{"$f":"IF(申込みフォーム!M34<>\"\",申込みフォーム!M34,\"\")","v":""},{"$f":"IF(申込みフォーム!N34<>\"\",申込みフォーム!N34,\"\")","v":""},{"$f":"IF(申込みフォーム!O34<>\"\",申込みフォーム!O34,\"\")","v":""},{"$f":"IF(申込みフォーム!P34<>\"\",申込みフォーム!P34,\"\")","v":""},{"$f":"IF(申込みフォーム!Q34<>\"\",申込みフォーム!Q34,\"\")","v":""},{"$f":"IF(申込みフォーム!R34<>\"\",申込みフォーム!R34,\"\")","v":""},{"$f":"IF(申込みフォーム!S34<>\"\",申込みフォーム!S34,\"\")","v":""},{"$f":"IF(申込みフォーム!U34=\"細胞診のみ\",\"協会子宮　\",IF(申込みフォーム!U34=\"細胞診＋（自費）膣エコー\",\"協会子宮＋自費膣エコー　\",\"\"))&IF(申込みフォーム!W34<>\"\",\"協会ﾏﾝﾓ　\",\"\")&IF(申込みフォーム!Y34<>\"\",\"協会骨　\",\"\")&IF(申込みフォーム!AA34<>\"\",\"協会肝炎　\",\"\")","v":""},{"$f":"IF(申込みフォーム!AB34<>\"\",\"子宮　\",\"\")&IF(申込みフォーム!AC34<>\"\",\"ﾏﾝﾓ　\",\"\")&IF(申込みフォーム!AD34<>\"\",\"乳ｴｺｰ\",\"\")","v":""},{"$f":"IF(申込みフォーム!AE34<>\"\",\"ﾏｰｶｰ　\",\"\")&IF(申込みフォーム!AF34<>\"\",\"心機能　\",\"\")&IF(申込みフォーム!AG34<>\"\",\"ABC　\",\"\")&IF(申込みフォーム!AH34<>\"\",\"Lox　\",\"\")&IF(申込みフォーム!AI34<>\"\",\"甲状腺　\",\"\")&IF(申込みフォーム!AJ34<>\"\",\"肝炎\",\"\")","v":""},{"$f":"IF(申込みフォーム!AK34<>\"\",\"脳　\",\"\")&IF(申込みフォーム!AL34<>\"\",\"胸部CT　\",\"\")&IF(申込みフォーム!AM34<>\"\",\"肺機能　\",\"\")&IF(申込みフォーム!AN34<>\"\",\"腹ｴｺｰ　\",\"\")&IF(申込みフォーム!AO34<>\"\",\"心ｴｺｰ　\",\"\")&IF(申込みフォーム!AP34<>\"\",\"ﾌﾛｰﾗ　\",\"\")&IF(申込みフォーム!AQ34<>\"\",\"OCT　\",\"\")&IF(申込みフォーム!AR34<>\"\",\"検便　\",\"\")&IF(申込みフォーム!AS34<>\"\",\"骨　\",\"\")&IF(申込みフォーム!AT34<>\"\",\"骨＋ﾛｺﾓ\",\"\")","v":""},{"$f":"IF(申込みフォーム!AU34<>\"\",申込みフォーム!AU34&\"　　\",\"\")&IF(申込みフォーム!AV34<>\"\",申込みフォーム!AV34&\"　　\",\"\")&IF(申込みフォーム!AW34<>\"\",申込みフォーム!AW34&\"　　\",\"\")","v":""},{"$f":"IF(申込みフォーム!BJ34<>\"\",申込みフォーム!BJ34,\"\")","v":""},{"$f":"IF(申込みフォーム!BK34<>\"\",申込みフォーム!BK34,\"\")","v":""},{"$f":"IF(申込みフォーム!BL34<>\"\",申込みフォーム!BL34&\"　　\",\"\")&IF(申込みフォーム!BM34<>\"\",申込みフォーム!BM34&\"　　\",\"\")&IF(申込みフォーム!BN34<>\"\",申込みフォーム!BN34&\"　　\",\"\")","v":{"$error":"#VALUE!"}},{"$f":"申込みフォーム!$Z34","v":""}]
[25,null,null,null,null,{"$f":"IF(申込みフォーム!B35<>\"\",申込みフォーム!B35&\"　\"&申込みフォーム!C35,\"\")","v":""},{"$f":"IF(申込みフォーム!E35<>\"\",申込みフォーム!E35&\"　\"&申込みフォーム!F35,\"\")","v":""},{"$f":"IF(申込みフォーム!G35<>\"\",申込みフォーム!G35,\"\")","v":""},{"$f":"IF(申込みフォーム!H35<>\"\",申込みフォーム!H35,\"\")","v":""},{"$f":"IF(申込みフォーム!D35<>\"\",申込みフォーム!D35,\"\")","v":""},{"$f":"IF(申込みフォーム!I35<>\"\",REPLACE(申込みフォーム!I35,4,,\"-\"),\"\")","v":""},{"$f":"IF(申込みフォーム!J35<>\"\",申込みフォーム!J35,\"\")","v":""},{"$f":"IF(申込みフォーム!K35<>\"\",申込みフォーム!K35,\"\")","v":""},{"$f":"IF(申込みフォーム!L35<>\"\",MID(申込みフォーム!L35,1,3)&\"-\"&MID(申込みフォーム!L35,4,4)&\"-\"&MID(申込みフォーム!L35,8,4),\"\")","v":""},{"$f":"IF(申込みフォーム!M35<>\"\",申込みフォーム!M35,\"\")","v":""},{"$f":"IF(申込みフォーム!N35<>\"\",申込みフォーム!N35,\"\")","v":""},{"$f":"IF(申込みフォーム!O35<>\"\",申込みフォーム!O35,\"\")","v":""},{"$f":"IF(申込みフォーム!P35<>\"\",申込みフォーム!P35,\"\")","v":""},{"$f":"IF(申込みフォーム!Q35<>\"\",申込みフォーム!Q35,\"\")","v":""},{"$f":"IF(申込みフォーム!R35<>\"\",申込みフォーム!R35,\"\")","v":""},{"$f":"IF(申込みフォーム!S35<>\"\",申込みフォーム!S35,\"\")","v":""},{"$f":"IF(申込みフォーム!U35=\"細胞診のみ\",\"協会子宮　\",IF(申込みフォーム!U35=\"細胞診＋（自費）膣エコー\",\"協会子宮＋自費膣エコー　\",\"\"))&IF(申込みフォーム!W35<>\"\",\"協会ﾏﾝﾓ　\",\"\")&IF(申込みフォーム!Y35<>\"\",\"協会骨　\",\"\")&IF(申込みフォーム!AA35<>\"\",\"協会肝炎　\",\"\")","v":""},{"$f":"IF(申込みフォーム!AB35<>\"\",\"子宮　\",\"\")&IF(申込みフォーム!AC35<>\"\",\"ﾏﾝﾓ　\",\"\")&IF(申込みフォーム!AD35<>\"\",\"乳ｴｺｰ\",\"\")","v":""},{"$f":"IF(申込みフォーム!AE35<>\"\",\"ﾏｰｶｰ　\",\"\")&IF(申込みフォーム!AF35<>\"\",\"心機能　\",\"\")&IF(申込みフォーム!AG35<>\"\",\"ABC　\",\"\")&IF(申込みフォーム!AH35<>\"\",\"Lox　\",\"\")&IF(申込みフォーム!AI35<>\"\",\"甲状腺　\",\"\")&IF(申込みフォーム!AJ35<>\"\",\"肝炎\",\"\")","v":""},{"$f":"IF(申込みフォーム!AK35<>\"\",\"脳　\",\"\")&IF(申込みフォーム!AL35<>\"\",\"胸部CT　\",\"\")&IF(申込みフォーム!AM35<>\"\",\"肺機能　\",\"\")&IF(申込みフォーム!AN35<>\"\",\"腹ｴｺｰ　\",\"\")&IF(申込みフォーム!AO35<>\"\",\"心ｴｺｰ　\",\"\")&IF(申込みフォーム!AP35<>\"\",\"ﾌﾛｰﾗ　\",\"\")&IF(申込みフォーム!AQ35<>\"\",\"OCT　\",\"\")&IF(申込みフォーム!AR35<>\"\",\"検便　\",\"\")&IF(申込みフォーム!AS35<>\"\",\"骨　\",\"\")&IF(申込みフォーム!AT35<>\"\",\"骨＋ﾛｺﾓ\",\"\")","v":""},{"$f":"IF(申込みフォーム!AU35<>\"\",申込みフォーム!AU35&\"　　\",\"\")&IF(申込みフォーム!AV35<>\"\",申込みフォーム!AV35&\"　　\",\"\")&IF(申込みフォーム!AW35<>\"\",申込みフォーム!AW35&\"　　\",\"\")","v":""},{"$f":"IF(申込みフォーム!BJ35<>\"\",申込みフォーム!BJ35,\"\")","v":""},{"$f":"IF(申込みフォーム!BK35<>\"\",申込みフォーム!BK35,\"\")","v":""},{"$f":"IF(申込みフォーム!BL35<>\"\",申込みフォーム!BL35&\"　　\",\"\")&IF(申込みフォーム!BM35<>\"\",申込みフォーム!BM35&\"　　\",\"\")&IF(申込みフォーム!BN35<>\"\",申込みフォーム!BN35&\"　　\",\"\")","v":{"$error":"#VALUE!"}},{"$f":"申込みフォーム!$Z35","v":""}]
[26,null,null,null,null,{"$f":"IF(申込みフォーム!B36<>\"\",申込みフォーム!B36&\"　\"&申込みフォーム!C36,\"\")","v":""},{"$f":"IF(申込みフォーム!E36<>\"\",申込みフォーム!E36&\"　\"&申込みフォーム!F36,\"\")","v":""},{"$f":"IF(申込みフォーム!G36<>\"\",申込みフォーム!G36,\"\")","v":""},{"$f":"IF(申込みフォーム!H36<>\"\",申込みフォーム!H36,\"\")","v":""},{"$f":"IF(申込みフォーム!D36<>\"\",申込みフォーム!D36,\"\")","v":""},{"$f":"IF(申込みフォーム!I36<>\"\",REPLACE(申込みフォーム!I36,4,,\"-\"),\"\")","v":""},{"$f":"IF(申込みフォーム!J36<>\"\",申込みフォーム!J36,\"\")","v":""},{"$f":"IF(申込みフォーム!K36<>\"\",申込みフォーム!K36,\"\")","v":""},{"$f":"IF(申込みフォーム!L36<>\"\",MID(申込みフォーム!L36,1,3)&\"-\"&MID(申込みフォーム!L36,4,4)&\"-\"&MID(申込みフォーム!L36,8,4),\"\")","v":""},{"$f":"IF(申込みフォーム!M36<>\"\",申込みフォーム!M36,\"\")","v":""},{"$f":"IF(申込みフォーム!N36<>\"\",申込みフォーム!N36,\"\")","v":""},{"$f":"IF(申込みフォーム!O36<>\"\",申込みフォーム!O36,\"\")","v":""},{"$f":"IF(申込みフォーム!P36<>\"\",申込みフォーム!P36,\"\")","v":""},{"$f":"IF(申込みフォーム!Q36<>\"\",申込みフォーム!Q36,\"\")","v":""},{"$f":"IF(申込みフォーム!R36<>\"\",申込みフォーム!R36,\"\")","v":""},{"$f":"IF(申込みフォーム!S36<>\"\",申込みフォーム!S36,\"\")","v":""},{"$f":"IF(申込みフォーム!U36=\"細胞診のみ\",\"協会子宮　\",IF(申込みフォーム!U36=\"細胞診＋（自費）膣エコー\",\"協会子宮＋自費膣エコー　\",\"\"))&IF(申込みフォーム!W36<>\"\",\"協会ﾏﾝﾓ　\",\"\")&IF(申込みフォーム!Y36<>\"\",\"協会骨　\",\"\")&IF(申込みフォーム!AA36<>\"\",\"協会肝炎　\",\"\")","v":""},{"$f":"IF(申込みフォーム!AB36<>\"\",\"子宮　\",\"\")&IF(申込みフォーム!AC36<>\"\",\"ﾏﾝﾓ　\",\"\")&IF(申込みフォーム!AD36<>\"\",\"乳ｴｺｰ\",\"\")","v":""},{"$f":"IF(申込みフォーム!AE36<>\"\",\"ﾏｰｶｰ　\",\"\")&IF(申込みフォーム!AF36<>\"\",\"心機能　\",\"\")&IF(申込みフォーム!AG36<>\"\",\"ABC　\",\"\")&IF(申込みフォーム!AH36<>\"\",\"Lox　\",\"\")&IF(申込みフォーム!AI36<>\"\",\"甲状腺　\",\"\")&IF(申込みフォーム!AJ36<>\"\",\"肝炎\",\"\")","v":""},{"$f":"IF(申込みフォーム!AK36<>\"\",\"脳　\",\"\")&IF(申込みフォーム!AL36<>\"\",\"胸部CT　\",\"\")&IF(申込みフォーム!AM36<>\"\",\"肺機能　\",\"\")&IF(申込みフォーム!AN36<>\"\",\"腹ｴｺｰ　\",\"\")&IF(申込みフォーム!AO36<>\"\",\"心ｴｺｰ　\",\"\")&IF(申込みフォーム!AP36<>\"\",\"ﾌﾛｰﾗ　\",\"\")&IF(申込みフォーム!AQ36<>\"\",\"OCT　\",\"\")&IF(申込みフォーム!AR36<>\"\",\"検便　\",\"\")&IF(申込みフォーム!AS36<>\"\",\"骨　\",\"\")&IF(申込みフォーム!AT36<>\"\",\"骨＋ﾛｺﾓ\",\"\")","v":""},{"$f":"IF(申込みフォーム!AU36<>\"\",申込みフォーム!AU36&\"　　\",\"\")&IF(申込みフォーム!AV36<>\"\",申込みフォーム!AV36&\"　　\",\"\")&IF(申込みフォーム!AW36<>\"\",申込みフォーム!AW36&\"　　\",\"\")","v":""},{"$f":"IF(申込みフォーム!BJ36<>\"\",申込みフォーム!BJ36,\"\")","v":""},{"$f":"IF(申込みフォーム!BK36<>\"\",申込みフォーム!BK36,\"\")","v":""},{"$f":"IF(申込みフォーム!BL36<>\"\",申込みフォーム!BL36&\"　　\",\"\")&IF(申込みフォーム!BM36<>\"\",申込みフォーム!BM36&\"　　\",\"\")&IF(申込みフォーム!BN36<>\"\",申込みフォーム!BN36&\"　　\",\"\")","v":{"$error":"#VALUE!"}},{"$f":"申込みフォーム!$Z36","v":""}]
[27,null,null,null,null,{"$f":"IF(申込みフォーム!B37<>\"\",申込みフォーム!B37&\"　\"&申込みフォーム!C37,\"\")","v":""},{"$f":"IF(申込みフォーム!E37<>\"\",申込みフォーム!E37&\"　\"&申込みフォーム!F37,\"\")","v":""},{"$f":"IF(申込みフォーム!G37<>\"\",申込みフォーム!G37,\"\")","v":""},{"$f":"IF(申込みフォーム!H37<>\"\",申込みフォーム!H37,\"\")","v":""},{"$f":"IF(申込みフォーム!D37<>\"\",申込みフォーム!D37,\"\")","v":""},{"$f":"IF(申込みフォーム!I37<>\"\",REPLACE(申込みフォーム!I37,4,,\"-\"),\"\")","v":""},{"$f":"IF(申込みフォーム!J37<>\"\",申込みフォーム!J37,\"\")","v":""},{"$f":"IF(申込みフォーム!K37<>\"\",申込みフォーム!K37,\"\")","v":""},{"$f":"IF(申込みフォーム!L37<>\"\",MID(申込みフォーム!L37,1,3)&\"-\"&MID(申込みフォーム!L37,4,4)&\"-\"&MID(申込みフォーム!L37,8,4),\"\")","v":""},{"$f":"IF(申込みフォーム!M37<>\"\",申込みフォーム!M37,\"\")","v":""},{"$f":"IF(申込みフォーム!N37<>\"\",申込みフォーム!N37,\"\")","v":""},{"$f":"IF(申込みフォーム!O37<>\"\",申込みフォーム!O37,\"\")","v":""},{"$f":"IF(申込みフォーム!P37<>\"\",申込みフォーム!P37,\"\")","v":""},{"$f":"IF(申込みフォーム!Q37<>\"\",申込みフォーム!Q37,\"\")","v":""},{"$f":"IF(申込みフォーム!R37<>\"\",申込みフォーム!R37,\"\")","v":""},{"$f":"IF(申込みフォーム!S37<>\"\",申込みフォーム!S37,\"\")","v":""},{"$f":"IF(申込みフォーム!U37=\"細胞診のみ\",\"協会子宮　\",IF(申込みフォーム!U37=\"細胞診＋（自費）膣エコー\",\"協会子宮＋自費膣エコー　\",\"\"))&IF(申込みフォーム!W37<>\"\",\"協会ﾏﾝﾓ　\",\"\")&IF(申込みフォーム!Y37<>\"\",\"協会骨　\",\"\")&IF(申込みフォーム!AA37<>\"\",\"協会肝炎　\",\"\")","v":""},{"$f":"IF(申込みフォーム!AB37<>\"\",\"子宮　\",\"\")&IF(申込みフォーム!AC37<>\"\",\"ﾏﾝﾓ　\",\"\")&IF(申込みフォーム!AD37<>\"\",\"乳ｴｺｰ\",\"\")","v":""},{"$f":"IF(申込みフォーム!AE37<>\"\",\"ﾏｰｶｰ　\",\"\")&IF(申込みフォーム!AF37<>\"\",\"心機能　\",\"\")&IF(申込みフォーム!AG37<>\"\",\"ABC　\",\"\")&IF(申込みフォーム!AH37<>\"\",\"Lox　\",\"\")&IF(申込みフォーム!AI37<>\"\",\"甲状腺　\",\"\")&IF(申込みフォーム!AJ37<>\"\",\"肝炎\",\"\")","v":""},{"$f":"IF(申込みフォーム!AK37<>\"\",\"脳　\",\"\")&IF(申込みフォーム!AL37<>\"\",\"胸部CT　\",\"\")&IF(申込みフォーム!AM37<>\"\",\"肺機能　\",\"\")&IF(申込みフォーム!AN37<>\"\",\"腹ｴｺｰ　\",\"\")&IF(申込みフォーム!AO37<>\"\",\"心ｴｺｰ　\",\"\")&IF(申込みフォーム!AP37<>\"\",\"ﾌﾛｰﾗ　\",\"\")&IF(申込みフォーム!AQ37<>\"\",\"OCT　\",\"\")&IF(申込みフォーム!AR37<>\"\",\"検便　\",\"\")&IF(申込みフォーム!AS37<>\"\",\"骨　\",\"\")&IF(申込みフォーム!AT37<>\"\",\"骨＋ﾛｺﾓ\",\"\")","v":""},{"$f":"IF(申込みフォーム!AU37<>\"\",申込みフォーム!AU37&\"　　\",\"\")&IF(申込みフォーム!AV37<>\"\",申込みフォーム!AV37&\"　　\",\"\")&IF(申込みフォーム!AW37<>\"\",申込みフォーム!AW37&\"　　\",\"\")","v":""},{"$f":"IF(申込みフォーム!BJ37<>\"\",申込みフォーム!BJ37,\"\")","v":""},{"$f":"IF(申込みフォーム!BK37<>\"\",申込みフォーム!BK37,\"\")","v":""},{"$f":"IF(申込みフォーム!BL37<>\"\",申込みフォーム!BL37&\"　　\",\"\")&IF(申込みフォーム!BM37<>\"\",申込みフォーム!BM37&\"　　\",\"\")&IF(申込みフォーム!BN37<>\"\",申込みフォーム!BN37&\"　　\",\"\")","v":{"$error":"#VALUE!"}},{"$f":"申込みフォーム!$Z37","v":""}]
[28,null,null,null,null,{"$f":"IF(申込みフォーム!B38<>\"\",申込みフォーム!B38&\"　\"&申込みフォーム!C38,\"\")","v":""},{"$f":"IF(申込みフォーム!E38<>\"\",申込みフォーム!E38&\"　\"&申込みフォーム!F38,\"\")","v":""},{"$f":"IF(申込みフォーム!G38<>\"\",申込みフォーム!G38,\"\")","v":""},{"$f":"IF(申込みフォーム!H38<>\"\",申込みフォーム!H38,\"\")","v":""},{"$f":"IF(申込みフォーム!D38<>\"\",申込みフォーム!D38,\"\")","v":""},{"$f":"IF(申込みフォーム!I38<>\"\",REPLACE(申込みフォーム!I38,4,,\"-\"),\"\")","v":""},{"$f":"IF(申込みフォーム!J38<>\"\",申込みフォーム!J38,\"\")","v":""},{"$f":"IF(申込みフォーム!K38<>\"\",申込みフォーム!K38,\"\")","v":""},{"$f":"IF(申込みフォーム!L38<>\"\",MID(申込みフォーム!L38,1,3)&\"-\"&MID(申込みフォーム!L38,4,4)&\"-\"&MID(申込みフォーム!L38,8,4),\"\")","v":""},{"$f":"IF(申込みフォーム!M38<>\"\",申込みフォーム!M38,\"\")","v":""},{"$f":"IF(申込みフォーム!N38<>\"\",申込みフォーム!N38,\"\")","v":""},{"$f":"IF(申込みフォーム!O38<>\"\",申込みフォーム!O38,\"\")","v":""},{"$f":"IF(申込みフォーム!P38<>\"\",申込みフォーム!P38,\"\")","v":""},{"$f":"IF(申込みフォーム!Q38<>\"\",申込みフォーム!Q38,\"\")","v":""},{"$f":"IF(申込みフォーム!R38<>\"\",申込みフォーム!R38,\"\")","v":""},{"$f":"IF(申込みフォーム!S38<>\"\",申込みフォーム!S38,\"\")","v":""},{"$f":"IF(申込みフォーム!U38=\"細胞診のみ\",\"協会子宮　\",IF(申込みフォーム!U38=\"細胞診＋（自費）膣エコー\",\"協会子宮＋自費膣エコー　\",\"\"))&IF(申込みフォーム!W38<>\"\",\"協会ﾏﾝﾓ　\",\"\")&IF(申込みフォーム!Y38<>\"\",\"協会骨　\",\"\")&IF(申込みフォーム!AA38<>\"\",\"協会肝炎　\",\"\")","v":""},{"$f":"IF(申込みフォーム!AB38<>\"\",\"子宮　\",\"\")&IF(申込みフォーム!AC38<>\"\",\"ﾏﾝﾓ　\",\"\")&IF(申込みフォーム!AD38<>\"\",\"乳ｴｺｰ\",\"\")","v":""},{"$f":"IF(申込みフォーム!AE38<>\"\",\"ﾏｰｶｰ　\",\"\")&IF(申込みフォーム!AF38<>\"\",\"心機能　\",\"\")&IF(申込みフォーム!AG38<>\"\",\"ABC　\",\"\")&IF(申込みフォーム!AH38<>\"\",\"Lox　\",\"\")&IF(申込みフォーム!AI38<>\"\",\"甲状腺　\",\"\")&IF(申込みフォーム!AJ38<>\"\",\"肝炎\",\"\")","v":""},{"$f":"IF(申込みフォーム!AK38<>\"\",\"脳　\",\"\")&IF(申込みフォーム!AL38<>\"\",\"胸部CT　\",\"\")&IF(申込みフォーム!AM38<>\"\",\"肺機能　\",\"\")&IF(申込みフォーム!AN38<>\"\",\"腹ｴｺｰ　\",\"\")&IF(申込みフォーム!AO38<>\"\",\"心ｴｺｰ　\",\"\")&IF(申込みフォーム!AP38<>\"\",\"ﾌﾛｰﾗ　\",\"\")&IF(申込みフォーム!AQ38<>\"\",\"OCT　\",\"\")&IF(申込みフォーム!AR38<>\"\",\"検便　\",\"\")&IF(申込みフォーム!AS38<>\"\",\"骨　\",\"\")&IF(申込みフォーム!AT38<>\"\",\"骨＋ﾛｺﾓ\",\"\")","v":""},{"$f":"IF(申込みフォーム!AU38<>\"\",申込みフォーム!AU38&\"　　\",\"\")&IF(申込みフォーム!AV38<>\"\",申込みフォーム!AV38&\"　　\",\"\")&IF(申込みフォーム!AW38<>\"\",申込みフォーム!AW38&\"　　\",\"\")","v":""},{"$f":"IF(申込みフォーム!BJ38<>\"\",申込みフォーム!BJ38,\"\")","v":""},{"$f":"IF(申込みフォーム!BK38<>\"\",申込みフォーム!BK38,\"\")","v":""},{"$f":"IF(申込みフォーム!BL38<>\"\",申込みフォーム!BL38&\"　　\",\"\")&IF(申込みフォーム!BM38<>\"\",申込みフォーム!BM38&\"　　\",\"\")&IF(申込みフォーム!BN38<>\"\",申込みフォーム!BN38&\"　　\",\"\")","v":{"$error":"#VALUE!"}},{"$f":"申込みフォーム!$Z38","v":""}]
[29,null,null,null,null,{"$f":"IF(申込みフォーム!B39<>\"\",申込みフォーム!B39&\"　\"&申込みフォーム!C39,\"\")","v":""},{"$f":"IF(申込みフォーム!E39<>\"\",申込みフォーム!E39&\"　\"&申込みフォーム!F39,\"\")","v":""},{"$f":"IF(申込みフォーム!G39<>\"\",申込みフォーム!G39,\"\")","v":""},{"$f":"IF(申込みフォーム!H39<>\"\",申込みフォーム!H39,\"\")","v":""},{"$f":"IF(申込みフォーム!D39<>\"\",申込みフォーム!D39,\"\")","v":""},{"$f":"IF(申込みフォーム!I39<>\"\",REPLACE(申込みフォーム!I39,4,,\"-\"),\"\")","v":""},{"$f":"IF(申込みフォーム!J39<>\"\",申込みフォーム!J39,\"\")","v":""},{"$f":"IF(申込みフォーム!K39<>\"\",申込みフォーム!K39,\"\")","v":""},{"$f":"IF(申込みフォーム!L39<>\"\",MID(申込みフォーム!L39,1,3)&\"-\"&MID(申込みフォーム!L39,4,4)&\"-\"&MID(申込みフォーム!L39,8,4),\"\")","v":""},{"$f":"IF(申込みフォーム!M39<>\"\",申込みフォーム!M39,\"\")","v":""},{"$f":"IF(申込みフォーム!N39<>\"\",申込みフォーム!N39,\"\")","v":""},{"$f":"IF(申込みフォーム!O39<>\"\",申込みフォーム!O39,\"\")","v":""},{"$f":"IF(申込みフォーム!P39<>\"\",申込みフォーム!P39,\"\")","v":""},{"$f":"IF(申込みフォーム!Q39<>\"\",申込みフォーム!Q39,\"\")","v":""},{"$f":"IF(申込みフォーム!R39<>\"\",申込みフォーム!R39,\"\")","v":""},{"$f":"IF(申込みフォーム!S39<>\"\",申込みフォーム!S39,\"\")","v":""},{"$f":"IF(申込みフォーム!U39=\"細胞診のみ\",\"協会子宮　\",IF(申込みフォーム!U39=\"細胞診＋（自費）膣エコー\",\"協会子宮＋自費膣エコー　\",\"\"))&IF(申込みフォーム!W39<>\"\",\"協会ﾏﾝﾓ　\",\"\")&IF(申込みフォーム!Y39<>\"\",\"協会骨　\",\"\")&IF(申込みフォーム!AA39<>\"\",\"協会肝炎　\",\"\")","v":""},{"$f":"IF(申込みフォーム!AB39<>\"\",\"子宮　\",\"\")&IF(申込みフォーム!AC39<>\"\",\"ﾏﾝﾓ　\",\"\")&IF(申込みフォーム!AD39<>\"\",\"乳ｴｺｰ\",\"\")","v":""},{"$f":"IF(申込みフォーム!AE39<>\"\",\"ﾏｰｶｰ　\",\"\")&IF(申込みフォーム!AF39<>\"\",\"心機能　\",\"\")&IF(申込みフォーム!AG39<>\"\",\"ABC　\",\"\")&IF(申込みフォーム!AH39<>\"\",\"Lox　\",\"\")&IF(申込みフォーム!AI39<>\"\",\"甲状腺　\",\"\")&IF(申込みフォーム!AJ39<>\"\",\"肝炎\",\"\")","v":""},{"$f":"IF(申込みフォーム!AK39<>\"\",\"脳　\",\"\")&IF(申込みフォーム!AL39<>\"\",\"胸部CT　\",\"\")&IF(申込みフォーム!AM39<>\"\",\"肺機能　\",\"\")&IF(申込みフォーム!AN39<>\"\",\"腹ｴｺｰ　\",\"\")&IF(申込みフォーム!AO39<>\"\",\"心ｴｺｰ　\",\"\")&IF(申込みフォーム!AP39<>\"\",\"ﾌﾛｰﾗ　\",\"\")&IF(申込みフォーム!AQ39<>\"\",\"OCT　\",\"\")&IF(申込みフォーム!AR39<>\"\",\"検便　\",\"\")&IF(申込みフォーム!AS39<>\"\",\"骨　\",\"\")&IF(申込みフォーム!AT39<>\"\",\"骨＋ﾛｺﾓ\",\"\")","v":""},{"$f":"IF(申込みフォーム!AU39<>\"\",申込みフォーム!AU39&\"　　\",\"\")&IF(申込みフォーム!AV39<>\"\",申込みフォーム!AV39&\"　　\",\"\")&IF(申込みフォーム!AW39<>\"\",申込みフォーム!AW39&\"　　\",\"\")","v":""},{"$f":"IF(申込みフォーム!BJ39<>\"\",申込みフォーム!BJ39,\"\")","v":""},{"$f":"IF(申込みフォーム!BK39<>\"\",申込みフォーム!BK39,\"\")","v":""},{"$f":"IF(申込みフォーム!BL39<>\"\",申込みフォーム!BL39&\"　　\",\"\")&IF(申込みフォーム!BM39<>\"\",申込みフォーム!BM39&\"　　\",\"\")&IF(申込みフォーム!BN39<>\"\",申込みフォーム!BN39&\"　　\",\"\")","v":{"$error":"#VALUE!"}},{"$f":"申込みフォーム!$Z39","v":""}]
[30,null,null,null,null,{"$f":"IF(申込みフォーム!B40<>\"\",申込みフォーム!B40&\"　\"&申込みフォーム!C40,\"\")","v":""},{"$f":"IF(申込みフォーム!E40<>\"\",申込みフォーム!E40&\"　\"&申込みフォーム!F40,\"\")","v":""},{"$f":"IF(申込みフォーム!G40<>\"\",申込みフォーム!G40,\"\")","v":""},{"$f":"IF(申込みフォーム!H40<>\"\",申込みフォーム!H40,\"\")","v":""},{"$f":"IF(申込みフォーム!D40<>\"\",申込みフォーム!D40,\"\")","v":""},{"$f":"IF(申込みフォーム!I40<>\"\",REPLACE(申込みフォーム!I40,4,,\"-\"),\"\")","v":""},{"$f":"IF(申込みフォーム!J40<>\"\",申込みフォーム!J40,\"\")","v":""},{"$f":"IF(申込みフォーム!K40<>\"\",申込みフォーム!K40,\"\")","v":""},{"$f":"IF(申込みフォーム!L40<>\"\",MID(申込みフォーム!L40,1,3)&\"-\"&MID(申込みフォーム!L40,4,4)&\"-\"&MID(申込みフォーム!L40,8,4),\"\")","v":""},{"$f":"IF(申込みフォーム!M40<>\"\",申込みフォーム!M40,\"\")","v":""},{"$f":"IF(申込みフォーム!N40<>\"\",申込みフォーム!N40,\"\")","v":""},{"$f":"IF(申込みフォーム!O40<>\"\",申込みフォーム!O40,\"\")","v":""},{"$f":"IF(申込みフォーム!P40<>\"\",申込みフォーム!P40,\"\")","v":""},{"$f":"IF(申込みフォーム!Q40<>\"\",申込みフォーム!Q40,\"\")","v":""},{"$f":"IF(申込みフォーム!R40<>\"\",申込みフォーム!R40,\"\")","v":""},{"$f":"IF(申込みフォーム!S40<>\"\",申込みフォーム!S40,\"\")","v":""},{"$f":"IF(申込みフォーム!U40=\"細胞診のみ\",\"協会子宮　\",IF(申込みフォーム!U40=\"細胞診＋（自費）膣エコー\",\"協会子宮＋自費膣エコー　\",\"\"))&IF(申込みフォーム!W40<>\"\",\"協会ﾏﾝﾓ　\",\"\")&IF(申込みフォーム!Y40<>\"\",\"協会骨　\",\"\")&IF(申込みフォーム!AA40<>\"\",\"協会肝炎　\",\"\")","v":""},{"$f":"IF(申込みフォーム!AB40<>\"\",\"子宮　\",\"\")&IF(申込みフォーム!AC40<>\"\",\"ﾏﾝﾓ　\",\"\")&IF(申込みフォーム!AD40<>\"\",\"乳ｴｺｰ\",\"\")","v":""},{"$f":"IF(申込みフォーム!AE40<>\"\",\"ﾏｰｶｰ　\",\"\")&IF(申込みフォーム!AF40<>\"\",\"心機能　\",\"\")&IF(申込みフォーム!AG40<>\"\",\"ABC　\",\"\")&IF(申込みフォーム!AH40<>\"\",\"Lox　\",\"\")&IF(申込みフォーム!AI40<>\"\",\"甲状腺　\",\"\")&IF(申込みフォーム!AJ40<>\"\",\"肝炎\",\"\")","v":""},{"$f":"IF(申込みフォーム!AK40<>\"\",\"脳　\",\"\")&IF(申込みフォーム!AL40<>\"\",\"胸部CT　\",\"\")&IF(申込みフォーム!AM40<>\"\",\"肺機能　\",\"\")&IF(申込みフォーム!AN40<>\"\",\"腹ｴｺｰ　\",\"\")&IF(申込みフォーム!AO40<>\"\",\"心ｴｺｰ　\",\"\")&IF(申込みフォーム!AP40<>\"\",\"ﾌﾛｰﾗ　\",\"\")&IF(申込みフォーム!AQ40<>\"\",\"OCT　\",\"\")&IF(申込みフォーム!AR40<>\"\",\"検便　\",\"\")&IF(申込みフォーム!AS40<>\"\",\"骨　\",\"\")&IF(申込みフォーム!AT40<>\"\",\"骨＋ﾛｺﾓ\",\"\")","v":""},{"$f":"IF(申込みフォーム!AU40<>\"\",申込みフォーム!AU40&\"　　\",\"\")&IF(申込みフォーム!AV40<>\"\",申込みフォーム!AV40&\"　　\",\"\")&IF(申込みフォーム!AW40<>\"\",申込みフォーム!AW40&\"　　\",\"\")","v":""},{"$f":"IF(申込みフォーム!BJ40<>\"\",申込みフォーム!BJ40,\"\")","v":""},{"$f":"IF(申込みフォーム!BK40<>\"\",申込みフォーム!BK40,\"\")","v":""},{"$f":"IF(申込みフォーム!BL40<>\"\",申込みフォーム!BL40&\"　　\",\"\")&IF(申込みフォーム!BM40<>\"\",申込みフォーム!BM40&\"　　\",\"\")&IF(申込みフォーム!BN40<>\"\",申込みフォーム!BN40&\"　　\",\"\")","v":{"$error":"#VALUE!"}},{"$f":"申込みフォーム!$Z40","v":""}]
[31,null,null,null,null,{"$f":"IF(申込みフォーム!B41<>\"\",申込みフォーム!B41&\"　\"&申込みフォーム!C41,\"\")","v":""},{"$f":"IF(申込みフォーム!E41<>\"\",申込みフォーム!E41&\"　\"&申込みフォーム!F41,\"\")","v":""},{"$f":"IF(申込みフォーム!G41<>\"\",申込みフォーム!G41,\"\")","v":""},{"$f":"IF(申込みフォーム!H41<>\"\",申込みフォーム!H41,\"\")","v":""},{"$f":"IF(申込みフォーム!D41<>\"\",申込みフォーム!D41,\"\")","v":""},{"$f":"IF(申込みフォーム!I41<>\"\",REPLACE(申込みフォーム!I41,4,,\"-\"),\"\")","v":""},{"$f":"IF(申込みフォーム!J41<>\"\",申込みフォーム!J41,\"\")","v":""},{"$f":"IF(申込みフォーム!K41<>\"\",申込みフォーム!K41,\"\")","v":""},{"$f":"IF(申込みフォーム!L41<>\"\",MID(申込みフォーム!L41,1,3)&\"-\"&MID(申込みフォーム!L41,4,4)&\"-\"&MID(申込みフォーム!L41,8,4),\"\")","v":""},{"$f":"IF(申込みフォーム!M41<>\"\",申込みフォーム!M41,\"\")","v":""},{"$f":"IF(申込みフォーム!N41<>\"\",申込みフォーム!N41,\"\")","v":""},{"$f":"IF(申込みフォーム!O41<>\"\",申込みフォーム!O41,\"\")","v":""},{"$f":"IF(申込みフォーム!P41<>\"\",申込みフォーム!P41,\"\")","v":""},{"$f":"IF(申込みフォーム!Q41<>\"\",申込みフォーム!Q41,\"\")","v":""},{"$f":"IF(申込みフォーム!R41<>\"\",申込みフォーム!R41,\"\")","v":""},{"$f":"IF(申込みフォーム!S41<>\"\",申込みフォーム!S41,\"\")","v":""},{"$f":"IF(申込みフォーム!U41=\"細胞診のみ\",\"協会子宮　\",IF(申込みフォーム!U41=\"細胞診＋（自費）膣エコー\",\"協会子宮＋自費膣エコー　\",\"\"))&IF(申込みフォーム!W41<>\"\",\"協会ﾏﾝﾓ　\",\"\")&IF(申込みフォーム!Y41<>\"\",\"協会骨　\",\"\")&IF(申込みフォーム!AA41<>\"\",\"協会肝炎　\",\"\")","v":""},{"$f":"IF(申込みフォーム!AB41<>\"\",\"子宮　\",\"\")&IF(申込みフォーム!AC41<>\"\",\"ﾏﾝﾓ　\",\"\")&IF(申込みフォーム!AD41<>\"\",\"乳ｴｺｰ\",\"\")","v":""},{"$f":"IF(申込みフォーム!AE41<>\"\",\"ﾏｰｶｰ　\",\"\")&IF(申込みフォーム!AF41<>\"\",\"心機能　\",\"\")&IF(申込みフォーム!AG41<>\"\",\"ABC　\",\"\")&IF(申込みフォーム!AH41<>\"\",\"Lox　\",\"\")&IF(申込みフォーム!AI41<>\"\",\"甲状腺　\",\"\")&IF(申込みフォーム!AJ41<>\"\",\"肝炎\",\"\")","v":""},{"$f":"IF(申込みフォーム!AK41<>\"\",\"脳　\",\"\")&IF(申込みフォーム!AL41<>\"\",\"胸部CT　\",\"\")&IF(申込みフォーム!AM41<>\"\",\"肺機能　\",\"\")&IF(申込みフォーム!AN41<>\"\",\"腹ｴｺｰ　\",\"\")&IF(申込みフォーム!AO41<>\"\",\"心ｴｺｰ　\",\"\")&IF(申込みフォーム!AP41<>\"\",\"ﾌﾛｰﾗ　\",\"\")&IF(申込みフォーム!AQ41<>\"\",\"OCT　\",\"\")&IF(申込みフォーム!AR41<>\"\",\"検便　\",\"\")&IF(申込みフォーム!AS41<>\"\",\"骨　\",\"\")&IF(申込みフォーム!AT41<>\"\",\"骨＋ﾛｺﾓ\",\"\")","v":""},{"$f":"IF(申込みフォーム!AU41<>\"\",申込みフォーム!AU41&\"　　\",\"\")&IF(申込みフォーム!AV41<>\"\",申込みフォーム!AV41&\"　　\",\"\")&IF(申込みフォーム!AW41<>\"\",申込みフォーム!AW41&\"　　\",\"\")","v":""},{"$f":"IF(申込みフォーム!BJ41<>\"\",申込みフォーム!BJ41,\"\")","v":""},{"$f":"IF(申込みフォーム!BK41<>\"\",申込みフォーム!BK41,\"\")","v":""},{"$f":"IF(申込みフォーム!BL41<>\"\",申込みフォーム!BL41&\"　　\",\"\")&IF(申込みフォーム!BM41<>\"\",申込みフォーム!BM41&\"　　\",\"\")&IF(申込みフォーム!BN41<>\"\",申込みフォーム!BN41&\"　　\",\"\")","v":{"$error":"#VALUE!"}},{"$f":"申込みフォーム!$Z41","v":""}]
[32,null,null,null,null,{"$f":"IF(申込みフォーム!B42<>\"\",申込みフォーム!B42&\"　\"&申込みフォーム!C42,\"\")","v":""},{"$f":"IF(申込みフォーム!E42<>\"\",申込みフォーム!E42&\"　\"&申込みフォーム!F42,\"\")","v":""},{"$f":"IF(申込みフォーム!G42<>\"\",申込みフォーム!G42,\"\")","v":""},{"$f":"IF(申込みフォーム!H42<>\"\",申込みフォーム!H42,\"\")","v":""},{"$f":"IF(申込みフォーム!D42<>\"\",申込みフォーム!D42,\"\")","v":""},{"$f":"IF(申込みフォーム!I42<>\"\",REPLACE(申込みフォーム!I42,4,,\"-\"),\"\")","v":""},{"$f":"IF(申込みフォーム!J42<>\"\",申込みフォーム!J42,\"\")","v":""},{"$f":"IF(申込みフォーム!K42<>\"\",申込みフォーム!K42,\"\")","v":""},{"$f":"IF(申込みフォーム!L42<>\"\",MID(申込みフォーム!L42,1,3)&\"-\"&MID(申込みフォーム!L42,4,4)&\"-\"&MID(申込みフォーム!L42,8,4),\"\")","v":""},{"$f":"IF(申込みフォーム!M42<>\"\",申込みフォーム!M42,\"\")","v":""},{"$f":"IF(申込みフォーム!N42<>\"\",申込みフォーム!N42,\"\")","v":""},{"$f":"IF(申込みフォーム!O42<>\"\",申込みフォーム!O42,\"\")","v":""},{"$f":"IF(申込みフォーム!P42<>\"\",申込みフォーム!P42,\"\")","v":""},{"$f":"IF(申込みフォーム!Q42<>\"\",申込みフォーム!Q42,\"\")","v":""},{"$f":"IF(申込みフォーム!R42<>\"\",申込みフォーム!R42,\"\")","v":""},{"$f":"IF(申込みフォーム!S42<>\"\",申込みフォーム!S42,\"\")","v":""},{"$f":"IF(申込みフォーム!U42=\"細胞診のみ\",\"協会子宮　\",IF(申込みフォーム!U42=\"細胞診＋（自費）膣エコー\",\"協会子宮＋自費膣エコー　\",\"\"))&IF(申込みフォーム!W42<>\"\",\"協会ﾏﾝﾓ　\",\"\")&IF(申込みフォーム!Y42<>\"\",\"協会骨　\",\"\")&IF(申込みフォーム!AA42<>\"\",\"協会肝炎　\",\"\")","v":""},{"$f":"IF(申込みフォーム!AB42<>\"\",\"子宮　\",\"\")&IF(申込みフォーム!AC42<>\"\",\"ﾏﾝﾓ　\",\"\")&IF(申込みフォーム!AD42<>\"\",\"乳ｴｺｰ\",\"\")","v":""},{"$f":"IF(申込みフォーム!AE42<>\"\",\"ﾏｰｶｰ　\",\"\")&IF(申込みフォーム!AF42<>\"\",\"心機能　\",\"\")&IF(申込みフォーム!AG42<>\"\",\"ABC　\",\"\")&IF(申込みフォーム!AH42<>\"\",\"Lox　\",\"\")&IF(申込みフォーム!AI42<>\"\",\"甲状腺　\",\"\")&IF(申込みフォーム!AJ42<>\"\",\"肝炎\",\"\")","v":""},{"$f":"IF(申込みフォーム!AK42<>\"\",\"脳　\",\"\")&IF(申込みフォーム!AL42<>\"\",\"胸部CT　\",\"\")&IF(申込みフォーム!AM42<>\"\",\"肺機能　\",\"\")&IF(申込みフォーム!AN42<>\"\",\"腹ｴｺｰ　\",\"\")&IF(申込みフォーム!AO42<>\"\",\"心ｴｺｰ　\",\"\")&IF(申込みフォーム!AP42<>\"\",\"ﾌﾛｰﾗ　\",\"\")&IF(申込みフォーム!AQ42<>\"\",\"OCT　\",\"\")&IF(申込みフォーム!AR42<>\"\",\"検便　\",\"\")&IF(申込みフォーム!AS42<>\"\",\"骨　\",\"\")&IF(申込みフォーム!AT42<>\"\",\"骨＋ﾛｺﾓ\",\"\")","v":""},{"$f":"IF(申込みフォーム!AU42<>\"\",申込みフォーム!AU42&\"　　\",\"\")&IF(申込みフォーム!AV42<>\"\",申込みフォーム!AV42&\"　　\",\"\")&IF(申込みフォーム!AW42<>\"\",申込みフォーム!AW42&\"　　\",\"\")","v":""},{"$f":"IF(申込みフォーム!BJ42<>\"\",申込みフォーム!BJ42,\"\")","v":""},{"$f":"IF(申込みフォーム!BK42<>\"\",申込みフォーム!BK42,\"\")","v":""},{"$f":"IF(申込みフォーム!BL42<>\"\",申込みフォーム!BL42&\"　　\",\"\")&IF(申込みフォーム!BM42<>\"\",申込みフォーム!BM42&\"　　\",\"\")&IF(申込みフォーム!BN42<>\"\",申込みフォーム!BN42&\"　　\",\"\")","v":{"$error":"#VALUE!"}},{"$f":"申込みフォーム!$Z42","v":""}]
[33,null,null,null,null,{"$f":"IF(申込みフォーム!B43<>\"\",申込みフォーム!B43&\"　\"&申込みフォーム!C43,\"\")","v":""},{"$f":"IF(申込みフォーム!E43<>\"\",申込みフォーム!E43&\"　\"&申込みフォーム!F43,\"\")","v":""},{"$f":"IF(申込みフォーム!G43<>\"\",申込みフォーム!G43,\"\")","v":""},{"$f":"IF(申込みフォーム!H43<>\"\",申込みフォーム!H43,\"\")","v":""},{"$f":"IF(申込みフォーム!D43<>\"\",申込みフォーム!D43,\"\")","v":""},{"$f":"IF(申込みフォーム!I43<>\"\",REPLACE(申込みフォーム!I43,4,,\"-\"),\"\")","v":""},{"$f":"IF(申込みフォーム!J43<>\"\",申込みフォーム!J43,\"\")","v":""},{"$f":"IF(申込みフォーム!K43<>\"\",申込みフォーム!K43,\"\")","v":""},{"$f":"IF(申込みフォーム!L43<>\"\",MID(申込みフォーム!L43,1,3)&\"-\"&MID(申込みフォーム!L43,4,4)&\"-\"&MID(申込みフォーム!L43,8,4),\"\")","v":""},{"$f":"IF(申込みフォーム!M43<>\"\",申込みフォーム!M43,\"\")","v":""},{"$f":"IF(申込みフォーム!N43<>\"\",申込みフォーム!N43,\"\")","v":""},{"$f":"IF(申込みフォーム!O43<>\"\",申込みフォーム!O43,\"\")","v":""},{"$f":"IF(申込みフォーム!P43<>\"\",申込みフォーム!P43,\"\")","v":""},{"$f":"IF(申込みフォーム!Q43<>\"\",申込みフォーム!Q43,\"\")","v":""},{"$f":"IF(申込みフォーム!R43<>\"\",申込みフォーム!R43,\"\")","v":""},{"$f":"IF(申込みフォーム!S43<>\"\",申込みフォーム!S43,\"\")","v":""},{"$f":"IF(申込みフォーム!U43=\"細胞診のみ\",\"協会子宮　\",IF(申込みフォーム!U43=\"細胞診＋（自費）膣エコー\",\"協会子宮＋自費膣エコー　\",\"\"))&IF(申込みフォーム!W43<>\"\",\"協会ﾏﾝﾓ　\",\"\")&IF(申込みフォーム!Y43<>\"\",\"協会骨　\",\"\")&IF(申込みフォーム!AA43<>\"\",\"協会肝炎　\",\"\")","v":""},{"$f":"IF(申込みフォーム!AB43<>\"\",\"子宮　\",\"\")&IF(申込みフォーム!AC43<>\"\",\"ﾏﾝﾓ　\",\"\")&IF(申込みフォーム!AD43<>\"\",\"乳ｴｺｰ\",\"\")","v":""},{"$f":"IF(申込みフォーム!AE43<>\"\",\"ﾏｰｶｰ　\",\"\")&IF(申込みフォーム!AF43<>\"\",\"心機能　\",\"\")&IF(申込みフォーム!AG43<>\"\",\"ABC　\",\"\")&IF(申込みフォーム!AH43<>\"\",\"Lox　\",\"\")&IF(申込みフォーム!AI43<>\"\",\"甲状腺　\",\"\")&IF(申込みフォーム!AJ43<>\"\",\"肝炎\",\"\")","v":""},{"$f":"IF(申込みフォーム!AK43<>\"\",\"脳　\",\"\")&IF(申込みフォーム!AL43<>\"\",\"胸部CT　\",\"\")&IF(申込みフォーム!AM43<>\"\",\"肺機能　\",\"\")&IF(申込みフォーム!AN43<>\"\",\"腹ｴｺｰ　\",\"\")&IF(申込みフォーム!AO43<>\"\",\"心ｴｺｰ　\",\"\")&IF(申込みフォーム!AP43<>\"\",\"ﾌﾛｰﾗ　\",\"\")&IF(申込みフォーム!AQ43<>\"\",\"OCT　\",\"\")&IF(申込みフォーム!AR43<>\"\",\"検便　\",\"\")&IF(申込みフォーム!AS43<>\"\",\"骨　\",\"\")&IF(申込みフォーム!AT43<>\"\",\"骨＋ﾛｺﾓ\",\"\")","v":""},{"$f":"IF(申込みフォーム!AU43<>\"\",申込みフォーム!AU43&\"　　\",\"\")&IF(申込みフォーム!AV43<>\"\",申込みフォーム!AV43&\"　　\",\"\")&IF(申込みフォーム!AW43<>\"\",申込みフォーム!AW43&\"　　\",\"\")","v":""},{"$f":"IF(申込みフォーム!BJ43<>\"\",申込みフォーム!BJ43,\"\")","v":""},{"$f":"IF(申込みフォーム!BK43<>\"\",申込みフォーム!BK43,\"\")","v":""},{"$f":"IF(申込みフォーム!BL43<>\"\",申込みフォーム!BL43&\"　　\",\"\")&IF(申込みフォーム!BM43<>\"\",申込みフォーム!BM43&\"　　\",\"\")&IF(申込みフォーム!BN43<>\"\",申込みフォーム!BN43&\"　　\",\"\")","v":{"$error":"#VALUE!"}},{"$f":"申込みフォーム!$Z43","v":""}]
[34,null,null,null,null,{"$f":"IF(申込みフォーム!B44<>\"\",申込みフォーム!B44&\"　\"&申込みフォーム!C44,\"\")","v":""},{"$f":"IF(申込みフォーム!E44<>\"\",申込みフォーム!E44&\"　\"&申込みフォーム!F44,\"\")","v":""},{"$f":"IF(申込みフォーム!G44<>\"\",申込みフォーム!G44,\"\")","v":""},{"$f":"IF(申込みフォーム!H44<>\"\",申込みフォーム!H44,\"\")","v":""},{"$f":"IF(申込みフォーム!D44<>\"\",申込みフォーム!D44,\"\")","v":""},{"$f":"IF(申込みフォーム!I44<>\"\",REPLACE(申込みフォーム!I44,4,,\"-\"),\"\")","v":""},{"$f":"IF(申込みフォーム!J44<>\"\",申込みフォーム!J44,\"\")","v":""},{"$f":"IF(申込みフォーム!K44<>\"\",申込みフォーム!K44,\"\")","v":""},{"$f":"IF(申込みフォーム!L44<>\"\",MID(申込みフォーム!L44,1,3)&\"-\"&MID(申込みフォーム!L44,4,4)&\"-\"&MID(申込みフォーム!L44,8,4),\"\")","v":""},{"$f":"IF(申込みフォーム!M44<>\"\",申込みフォーム!M44,\"\")","v":""},{"$f":"IF(申込みフォーム!N44<>\"\",申込みフォーム!N44,\"\")","v":""},{"$f":"IF(申込みフォーム!O44<>\"\",申込みフォーム!O44,\"\")","v":""},{"$f":"IF(申込みフォーム!P44<>\"\",申込みフォーム!P44,\"\")","v":""},{"$f":"IF(申込みフォーム!Q44<>\"\",申込みフォーム!Q44,\"\")","v":""},{"$f":"IF(申込みフォーム!R44<>\"\",申込みフォーム!R44,\"\")","v":""},{"$f":"IF(申込みフォーム!S44<>\"\",申込みフォーム!S44,\"\")","v":""},{"$f":"IF(申込みフォーム!U44=\"細胞診のみ\",\"協会子宮　\",IF(申込みフォーム!U44=\"細胞診＋（自費）膣エコー\",\"協会子宮＋自費膣エコー　\",\"\"))&IF(申込みフォーム!W44<>\"\",\"協会ﾏﾝﾓ　\",\"\")&IF(申込みフォーム!Y44<>\"\",\"協会骨　\",\"\")&IF(申込みフォーム!AA44<>\"\",\"協会肝炎　\",\"\")","v":""},{"$f":"IF(申込みフォーム!AB44<>\"\",\"子宮　\",\"\")&IF(申込みフォーム!AC44<>\"\",\"ﾏﾝﾓ　\",\"\")&IF(申込みフォーム!AD44<>\"\",\"乳ｴｺｰ\",\"\")","v":""},{"$f":"IF(申込みフォーム!AE44<>\"\",\"ﾏｰｶｰ　\",\"\")&IF(申込みフォーム!AF44<>\"\",\"心機能　\",\"\")&IF(申込みフォーム!AG44<>\"\",\"ABC　\",\"\")&IF(申込みフォーム!AH44<>\"\",\"Lox　\",\"\")&IF(申込みフォーム!AI44<>\"\",\"甲状腺　\",\"\")&IF(申込みフォーム!AJ44<>\"\",\"肝炎\",\"\")","v":""},{"$f":"IF(申込みフォーム!AK44<>\"\",\"脳　\",\"\")&IF(申込みフォーム!AL44<>\"\",\"胸部CT　\",\"\")&IF(申込みフォーム!AM44<>\"\",\"肺機能　\",\"\")&IF(申込みフォーム!AN44<>\"\",\"腹ｴｺｰ　\",\"\")&IF(申込みフォーム!AO44<>\"\",\"心ｴｺｰ　\",\"\")&IF(申込みフォーム!AP44<>\"\",\"ﾌﾛｰﾗ　\",\"\")&IF(申込みフォーム!AQ44<>\"\",\"OCT　\",\"\")&IF(申込みフォーム!AR44<>\"\",\"検便　\",\"\")&IF(申込みフォーム!AS44<>\"\",\"骨　\",\"\")&IF(申込みフォーム!AT44<>\"\",\"骨＋ﾛｺﾓ\",\"\")","v":""},{"$f":"IF(申込みフォーム!AU44<>\"\",申込みフォーム!AU44&\"　　\",\"\")&IF(申込みフォーム!AV44<>\"\",申込みフォーム!AV44&\"　　\",\"\")&IF(申込みフォーム!AW44<>\"\",申込みフォーム!AW44&\"　　\",\"\")","v":""},{"$f":"IF(申込みフォーム!BJ44<>\"\",申込みフォーム!BJ44,\"\")","v":""},{"$f":"IF(申込みフォーム!BK44<>\"\",申込みフォーム!BK44,\"\")","v":""},{"$f":"IF(申込みフォーム!BL44<>\"\",申込みフォーム!BL44&\"　　\",\"\")&IF(申込みフォーム!BM44<>\"\",申込みフォーム!BM44&\"　　\",\"\")&IF(申込みフォーム!BN44<>\"\",申込みフォーム!BN44&\"　　\",\"\")","v":{"$error":"#VALUE!"}},{"$f":"申込みフォーム!$Z44","v":""}]
[35,null,null,null,null,{"$f":"IF(申込みフォーム!B45<>\"\",申込みフォーム!B45&\"　\"&申込みフォーム!C45,\"\")","v":""},{"$f":"IF(申込みフォーム!E45<>\"\",申込みフォーム!E45&\"　\"&申込みフォーム!F45,\"\")","v":""},{"$f":"IF(申込みフォーム!G45<>\"\",申込みフォーム!G45,\"\")","v":""},{"$f":"IF(申込みフォーム!H45<>\"\",申込みフォーム!H45,\"\")","v":""},{"$f":"IF(申込みフォーム!D45<>\"\",申込みフォーム!D45,\"\")","v":""},{"$f":"IF(申込みフォーム!I45<>\"\",REPLACE(申込みフォーム!I45,4,,\"-\"),\"\")","v":""},{"$f":"IF(申込みフォーム!J45<>\"\",申込みフォーム!J45,\"\")","v":""},{"$f":"IF(申込みフォーム!K45<>\"\",申込みフォーム!K45,\"\")","v":""},{"$f":"IF(申込みフォーム!L45<>\"\",MID(申込みフォーム!L45,1,3)&\"-\"&MID(申込みフォーム!L45,4,4)&\"-\"&MID(申込みフォーム!L45,8,4),\"\")","v":""},{"$f":"IF(申込みフォーム!M45<>\"\",申込みフォーム!M45,\"\")","v":""},{"$f":"IF(申込みフォーム!N45<>\"\",申込みフォーム!N45,\"\")","v":""},{"$f":"IF(申込みフォーム!O45<>\"\",申込みフォーム!O45,\"\")","v":""},{"$f":"IF(申込みフォーム!P45<>\"\",申込みフォーム!P45,\"\")","v":""},{"$f":"IF(申込みフォーム!Q45<>\"\",申込みフォーム!Q45,\"\")","v":""},{"$f":"IF(申込みフォーム!R45<>\"\",申込みフォーム!R45,\"\")","v":""},{"$f":"IF(申込みフォーム!S45<>\"\",申込みフォーム!S45,\"\")","v":""},{"$f":"IF(申込みフォーム!U45=\"細胞診のみ\",\"協会子宮　\",IF(申込みフォーム!U45=\"細胞診＋（自費）膣エコー\",\"協会子宮＋自費膣エコー　\",\"\"))&IF(申込みフォーム!W45<>\"\",\"協会ﾏﾝﾓ　\",\"\")&IF(申込みフォーム!Y45<>\"\",\"協会骨　\",\"\")&IF(申込みフォーム!AA45<>\"\",\"協会肝炎　\",\"\")","v":""},{"$f":"IF(申込みフォーム!AB45<>\"\",\"子宮　\",\"\")&IF(申込みフォーム!AC45<>\"\",\"ﾏﾝﾓ　\",\"\")&IF(申込みフォーム!AD45<>\"\",\"乳ｴｺｰ\",\"\")","v":""},{"$f":"IF(申込みフォーム!AE45<>\"\",\"ﾏｰｶｰ　\",\"\")&IF(申込みフォーム!AF45<>\"\",\"心機能　\",\"\")&IF(申込みフォーム!AG45<>\"\",\"ABC　\",\"\")&IF(申込みフォーム!AH45<>\"\",\"Lox　\",\"\")&IF(申込みフォーム!AI45<>\"\",\"甲状腺　\",\"\")&IF(申込みフォーム!AJ45<>\"\",\"肝炎\",\"\")","v":""},{"$f":"IF(申込みフォーム!AK45<>\"\",\"脳　\",\"\")&IF(申込みフォーム!AL45<>\"\",\"胸部CT　\",\"\")&IF(申込みフォーム!AM45<>\"\",\"肺機能　\",\"\")&IF(申込みフォーム!AN45<>\"\",\"腹ｴｺｰ　\",\"\")&IF(申込みフォーム!AO45<>\"\",\"心ｴｺｰ　\",\"\")&IF(申込みフォーム!AP45<>\"\",\"ﾌﾛｰﾗ　\",\"\")&IF(申込みフォーム!AQ45<>\"\",\"OCT　\",\"\")&IF(申込みフォーム!AR45<>\"\",\"検便　\",\"\")&IF(申込みフォーム!AS45<>\"\",\"骨　\",\"\")&IF(申込みフォーム!AT45<>\"\",\"骨＋ﾛｺﾓ\",\"\")","v":""},{"$f":"IF(申込みフォーム!AU45<>\"\",申込みフォーム!AU45&\"　　\",\"\")&IF(申込みフォーム!AV45<>\"\",申込みフォーム!AV45&\"　　\",\"\")&IF(申込みフォーム!AW45<>\"\",申込みフォーム!AW45&\"　　\",\"\")","v":""},{"$f":"IF(申込みフォーム!BJ45<>\"\",申込みフォーム!BJ45,\"\")","v":""},{"$f":"IF(申込みフォーム!BK45<>\"\",申込みフォーム!BK45,\"\")","v":""},{"$f":"IF(申込みフォーム!BL45<>\"\",申込みフォーム!BL45&\"　　\",\"\")&IF(申込みフォーム!BM45<>\"\",申込みフォーム!BM45&\"　　\",\"\")&IF(申込みフォーム!BN45<>\"\",申込みフォーム!BN45&\"　　\",\"\")","v":{"$error":"#VALUE!"}},{"$f":"申込みフォーム!$Z45","v":""}]
[36,null,null,null,null,{"$f":"IF(申込みフォーム!B46<>\"\",申込みフォーム!B46&\"　\"&申込みフォーム!C46,\"\")","v":""},{"$f":"IF(申込みフォーム!E46<>\"\",申込みフォーム!E46&\"　\"&申込みフォーム!F46,\"\")","v":""},{"$f":"IF(申込みフォーム!G46<>\"\",申込みフォーム!G46,\"\")","v":""},{"$f":"IF(申込みフォーム!H46<>\"\",申込みフォーム!H46,\"\")","v":""},{"$f":"IF(申込みフォーム!D46<>\"\",申込みフォーム!D46,\"\")","v":""},{"$f":"IF(申込みフォーム!I46<>\"\",REPLACE(申込みフォーム!I46,4,,\"-\"),\"\")","v":""},{"$f":"IF(申込みフォーム!J46<>\"\",申込みフォーム!J46,\"\")","v":""},{"$f":"IF(申込みフォーム!K46<>\"\",申込みフォーム!K46,\"\")","v":""},{"$f":"IF(申込みフォーム!L46<>\"\",MID(申込みフォーム!L46,1,3)&\"-\"&MID(申込みフォーム!L46,4,4)&\"-\"&MID(申込みフォーム!L46,8,4),\"\")","v":""},{"$f":"IF(申込みフォーム!M46<>\"\",申込みフォーム!M46,\"\")","v":""},{"$f":"IF(申込みフォーム!N46<>\"\",申込みフォーム!N46,\"\")","v":""},{"$f":"IF(申込みフォーム!O46<>\"\",申込みフォーム!O46,\"\")","v":""},{"$f":"IF(申込みフォーム!P46<>\"\",申込みフォーム!P46,\"\")","v":""},{"$f":"IF(申込みフォーム!Q46<>\"\",申込みフォーム!Q46,\"\")","v":""},{"$f":"IF(申込みフォーム!R46<>\"\",申込みフォーム!R46,\"\")","v":""},{"$f":"IF(申込みフォーム!S46<>\"\",申込みフォーム!S46,\"\")","v":""},{"$f":"IF(申込みフォーム!U46=\"細胞診のみ\",\"協会子宮　\",IF(申込みフォーム!U46=\"細胞診＋（自費）膣エコー\",\"協会子宮＋自費膣エコー　\",\"\"))&IF(申込みフォーム!W46<>\"\",\"協会ﾏﾝﾓ　\",\"\")&IF(申込みフォーム!Y46<>\"\",\"協会骨　\",\"\")&IF(申込みフォーム!AA46<>\"\",\"協会肝炎　\",\"\")","v":""},{"$f":"IF(申込みフォーム!AB46<>\"\",\"子宮　\",\"\")&IF(申込みフォーム!AC46<>\"\",\"ﾏﾝﾓ　\",\"\")&IF(申込みフォーム!AD46<>\"\",\"乳ｴｺｰ\",\"\")","v":""},{"$f":"IF(申込みフォーム!AE46<>\"\",\"ﾏｰｶｰ　\",\"\")&IF(申込みフォーム!AF46<>\"\",\"心機能　\",\"\")&IF(申込みフォーム!AG46<>\"\",\"ABC　\",\"\")&IF(申込みフォーム!AH46<>\"\",\"Lox　\",\"\")&IF(申込みフォーム!AI46<>\"\",\"甲状腺　\",\"\")&IF(申込みフォーム!AJ46<>\"\",\"肝炎\",\"\")","v":""},{"$f":"IF(申込みフォーム!AK46<>\"\",\"脳　\",\"\")&IF(申込みフォーム!AL46<>\"\",\"胸部CT　\",\"\")&IF(申込みフォーム!AM46<>\"\",\"肺機能　\",\"\")&IF(申込みフォーム!AN46<>\"\",\"腹ｴｺｰ　\",\"\")&IF(申込みフォーム!AO46<>\"\",\"心ｴｺｰ　\",\"\")&IF(申込みフォーム!AP46<>\"\",\"ﾌﾛｰﾗ　\",\"\")&IF(申込みフォーム!AQ46<>\"\",\"OCT　\",\"\")&IF(申込みフォーム!AR46<>\"\",\"検便　\",\"\")&IF(申込みフォーム!AS46<>\"\",\"骨　\",\"\")&IF(申込みフォーム!AT46<>\"\",\"骨＋ﾛｺﾓ\",\"\")","v":""},{"$f":"IF(申込みフォーム!AU46<>\"\",申込みフォーム!AU46&\"　　\",\"\")&IF(申込みフォーム!AV46<>\"\",申込みフォーム!AV46&\"　　\",\"\")&IF(申込みフォーム!AW46<>\"\",申込みフォーム!AW46&\"　　\",\"\")","v":""},{"$f":"IF(申込みフォーム!BJ46<>\"\",申込みフォーム!BJ46,\"\")","v":""},{"$f":"IF(申込みフォーム!BK46<>\"\",申込みフォーム!BK46,\"\")","v":""},{"$f":"IF(申込みフォーム!BL46<>\"\",申込みフォーム!BL46&\"　　\",\"\")&IF(申込みフォーム!BM46<>\"\",申込みフォーム!BM46&\"　　\",\"\")&IF(申込みフォーム!BN46<>\"\",申込みフォーム!BN46&\"　　\",\"\")","v":{"$error":"#VALUE!"}},{"$f":"申込みフォーム!$Z46","v":""}]
[37,null,null,null,null,{"$f":"IF(申込みフォーム!B47<>\"\",申込みフォーム!B47&\"　\"&申込みフォーム!C47,\"\")","v":""},{"$f":"IF(申込みフォーム!E47<>\"\",申込みフォーム!E47&\"　\"&申込みフォーム!F47,\"\")","v":""},{"$f":"IF(申込みフォーム!G47<>\"\",申込みフォーム!G47,\"\")","v":""},{"$f":"IF(申込みフォーム!H47<>\"\",申込みフォーム!H47,\"\")","v":""},{"$f":"IF(申込みフォーム!D47<>\"\",申込みフォーム!D47,\"\")","v":""},{"$f":"IF(申込みフォーム!I47<>\"\",REPLACE(申込みフォーム!I47,4,,\"-\"),\"\")","v":""},{"$f":"IF(申込みフォーム!J47<>\"\",申込みフォーム!J47,\"\")","v":""},{"$f":"IF(申込みフォーム!K47<>\"\",申込みフォーム!K47,\"\")","v":""},{"$f":"IF(申込みフォーム!L47<>\"\",MID(申込みフォーム!L47,1,3)&\"-\"&MID(申込みフォーム!L47,4,4)&\"-\"&MID(申込みフォーム!L47,8,4),\"\")","v":""},{"$f":"IF(申込みフォーム!M47<>\"\",申込みフォーム!M47,\"\")","v":""},{"$f":"IF(申込みフォーム!N47<>\"\",申込みフォーム!N47,\"\")","v":""},{"$f":"IF(申込みフォーム!O47<>\"\",申込みフォーム!O47,\"\")","v":""},{"$f":"IF(申込みフォーム!P47<>\"\",申込みフォーム!P47,\"\")","v":""},{"$f":"IF(申込みフォーム!Q47<>\"\",申込みフォーム!Q47,\"\")","v":""},{"$f":"IF(申込みフォーム!R47<>\"\",申込みフォーム!R47,\"\")","v":""},{"$f":"IF(申込みフォーム!S47<>\"\",申込みフォーム!S47,\"\")","v":""},{"$f":"IF(申込みフォーム!U47=\"細胞診のみ\",\"協会子宮　\",IF(申込みフォーム!U47=\"細胞診＋（自費）膣エコー\",\"協会子宮＋自費膣エコー　\",\"\"))&IF(申込みフォーム!W47<>\"\",\"協会ﾏﾝﾓ　\",\"\")&IF(申込みフォーム!Y47<>\"\",\"協会骨　\",\"\")&IF(申込みフォーム!AA47<>\"\",\"協会肝炎　\",\"\")","v":""},{"$f":"IF(申込みフォーム!AB47<>\"\",\"子宮　\",\"\")&IF(申込みフォーム!AC47<>\"\",\"ﾏﾝﾓ　\",\"\")&IF(申込みフォーム!AD47<>\"\",\"乳ｴｺｰ\",\"\")","v":""},{"$f":"IF(申込みフォーム!AE47<>\"\",\"ﾏｰｶｰ　\",\"\")&IF(申込みフォーム!AF47<>\"\",\"心機能　\",\"\")&IF(申込みフォーム!AG47<>\"\",\"ABC　\",\"\")&IF(申込みフォーム!AH47<>\"\",\"Lox　\",\"\")&IF(申込みフォーム!AI47<>\"\",\"甲状腺　\",\"\")&IF(申込みフォーム!AJ47<>\"\",\"肝炎\",\"\")","v":""},{"$f":"IF(申込みフォーム!AK47<>\"\",\"脳　\",\"\")&IF(申込みフォーム!AL47<>\"\",\"胸部CT　\",\"\")&IF(申込みフォーム!AM47<>\"\",\"肺機能　\",\"\")&IF(申込みフォーム!AN47<>\"\",\"腹ｴｺｰ　\",\"\")&IF(申込みフォーム!AO47<>\"\",\"心ｴｺｰ　\",\"\")&IF(申込みフォーム!AP47<>\"\",\"ﾌﾛｰﾗ　\",\"\")&IF(申込みフォーム!AQ47<>\"\",\"OCT　\",\"\")&IF(申込みフォーム!AR47<>\"\",\"検便　\",\"\")&IF(申込みフォーム!AS47<>\"\",\"骨　\",\"\")&IF(申込みフォーム!AT47<>\"\",\"骨＋ﾛｺﾓ\",\"\")","v":""},{"$f":"IF(申込みフォーム!AU47<>\"\",申込みフォーム!AU47&\"　　\",\"\")&IF(申込みフォーム!AV47<>\"\",申込みフォーム!AV47&\"　　\",\"\")&IF(申込みフォーム!AW47<>\"\",申込みフォーム!AW47&\"　　\",\"\")","v":""},{"$f":"IF(申込みフォーム!BJ47<>\"\",申込みフォーム!BJ47,\"\")","v":""},{"$f":"IF(申込みフォーム!BK47<>\"\",申込みフォーム!BK47,\"\")","v":""},{"$f":"IF(申込みフォーム!BL47<>\"\",申込みフォーム!BL47&\"　　\",\"\")&IF(申込みフォーム!BM47<>\"\",申込みフォーム!BM47&\"　　\",\"\")&IF(申込みフォーム!BN47<>\"\",申込みフォーム!BN47&\"　　\",\"\")","v":{"$error":"#VALUE!"}},{"$f":"申込みフォーム!$Z47","v":""}]
[38,null,null,null,null,{"$f":"IF(申込みフォーム!B48<>\"\",申込みフォーム!B48&\"　\"&申込みフォーム!C48,\"\")","v":""},{"$f":"IF(申込みフォーム!E48<>\"\",申込みフォーム!E48&\"　\"&申込みフォーム!F48,\"\")","v":""},{"$f":"IF(申込みフォーム!G48<>\"\",申込みフォーム!G48,\"\")","v":""},{"$f":"IF(申込みフォーム!H48<>\"\",申込みフォーム!H48,\"\")","v":""},{"$f":"IF(申込みフォーム!D48<>\"\",申込みフォーム!D48,\"\")","v":""},{"$f":"IF(申込みフォーム!I48<>\"\",REPLACE(申込みフォーム!I48,4,,\"-\"),\"\")","v":""},{"$f":"IF(申込みフォーム!J48<>\"\",申込みフォーム!J48,\"\")","v":""},{"$f":"IF(申込みフォーム!K48<>\"\",申込みフォーム!K48,\"\")","v":""},{"$f":"IF(申込みフォーム!L48<>\"\",MID(申込みフォーム!L48,1,3)&\"-\"&MID(申込みフォーム!L48,4,4)&\"-\"&MID(申込みフォーム!L48,8,4),\"\")","v":""},{"$f":"IF(申込みフォーム!M48<>\"\",申込みフォーム!M48,\"\")","v":""},{"$f":"IF(申込みフォーム!N48<>\"\",申込みフォーム!N48,\"\")","v":""},{"$f":"IF(申込みフォーム!O48<>\"\",申込みフォーム!O48,\"\")","v":""},{"$f":"IF(申込みフォーム!P48<>\"\",申込みフォーム!P48,\"\")","v":""},{"$f":"IF(申込みフォーム!Q48<>\"\",申込みフォーム!Q48,\"\")","v":""},{"$f":"IF(申込みフォーム!R48<>\"\",申込みフォーム!R48,\"\")","v":""},{"$f":"IF(申込みフォーム!S48<>\"\",申込みフォーム!S48,\"\")","v":""},{"$f":"IF(申込みフォーム!U48=\"細胞診のみ\",\"協会子宮　\",IF(申込みフォーム!U48=\"細胞診＋（自費）膣エコー\",\"協会子宮＋自費膣エコー　\",\"\"))&IF(申込みフォーム!W48<>\"\",\"協会ﾏﾝﾓ　\",\"\")&IF(申込みフォーム!Y48<>\"\",\"協会骨　\",\"\")&IF(申込みフォーム!AA48<>\"\",\"協会肝炎　\",\"\")","v":""},{"$f":"IF(申込みフォーム!AB48<>\"\",\"子宮　\",\"\")&IF(申込みフォーム!AC48<>\"\",\"ﾏﾝﾓ　\",\"\")&IF(申込みフォーム!AD48<>\"\",\"乳ｴｺｰ\",\"\")","v":""},{"$f":"IF(申込みフォーム!AE48<>\"\",\"ﾏｰｶｰ　\",\"\")&IF(申込みフォーム!AF48<>\"\",\"心機能　\",\"\")&IF(申込みフォーム!AG48<>\"\",\"ABC　\",\"\")&IF(申込みフォーム!AH48<>\"\",\"Lox　\",\"\")&IF(申込みフォーム!AI48<>\"\",\"甲状腺　\",\"\")&IF(申込みフォーム!AJ48<>\"\",\"肝炎\",\"\")","v":""},{"$f":"IF(申込みフォーム!AK48<>\"\",\"脳　\",\"\")&IF(申込みフォーム!AL48<>\"\",\"胸部CT　\",\"\")&IF(申込みフォーム!AM48<>\"\",\"肺機能　\",\"\")&IF(申込みフォーム!AN48<>\"\",\"腹ｴｺｰ　\",\"\")&IF(申込みフォーム!AO48<>\"\",\"心ｴｺｰ　\",\"\")&IF(申込みフォーム!AP48<>\"\",\"ﾌﾛｰﾗ　\",\"\")&IF(申込みフォーム!AQ48<>\"\",\"OCT　\",\"\")&IF(申込みフォーム!AR48<>\"\",\"検便　\",\"\")&IF(申込みフォーム!AS48<>\"\",\"骨　\",\"\")&IF(申込みフォーム!AT48<>\"\",\"骨＋ﾛｺﾓ\",\"\")","v":""},{"$f":"IF(申込みフォーム!AU48<>\"\",申込みフォーム!AU48&\"　　\",\"\")&IF(申込みフォーム!AV48<>\"\",申込みフォーム!AV48&\"　　\",\"\")&IF(申込みフォーム!AW48<>\"\",申込みフォーム!AW48&\"　　\",\"\")","v":""},{"$f":"IF(申込みフォーム!BJ48<>\"\",申込みフォーム!BJ48,\"\")","v":""},{"$f":"IF(申込みフォーム!BK48<>\"\",申込みフォーム!BK48,\"\")","v":""},{"$f":"IF(申込みフォーム!BL48<>\"\",申込みフォーム!BL48&\"　　\",\"\")&IF(申込みフォーム!BM48<>\"\",申込みフォーム!BM48&\"　　\",\"\")&IF(申込みフォーム!BN48<>\"\",申込みフォーム!BN48&\"　　\",\"\")","v":{"$error":"#VALUE!"}},{"$f":"申込みフォーム!$Z48","v":""}]
[39,null,null,null,null,{"$f":"IF(申込みフォーム!B49<>\"\",申込みフォーム!B49&\"　\"&申込みフォーム!C49,\"\")","v":""},{"$f":"IF(申込みフォーム!E49<>\"\",申込みフォーム!E49&\"　\"&申込みフォーム!F49,\"\")","v":""},{"$f":"IF(申込みフォーム!G49<>\"\",申込みフォーム!G49,\"\")","v":""},{"$f":"IF(申込みフォーム!H49<>\"\",申込みフォーム!H49,\"\")","v":""},{"$f":"IF(申込みフォーム!D49<>\"\",申込みフォーム!D49,\"\")","v":""},{"$f":"IF(申込みフォーム!I49<>\"\",REPLACE(申込みフォーム!I49,4,,\"-\"),\"\")","v":""},{"$f":"IF(申込みフォーム!J49<>\"\",申込みフォーム!J49,\"\")","v":""},{"$f":"IF(申込みフォーム!K49<>\"\",申込みフォーム!K49,\"\")","v":""},{"$f":"IF(申込みフォーム!L49<>\"\",MID(申込みフォーム!L49,1,3)&\"-\"&MID(申込みフォーム!L49,4,4)&\"-\"&MID(申込みフォーム!L49,8,4),\"\")","v":""},{"$f":"IF(申込みフォーム!M49<>\"\",申込みフォーム!M49,\"\")","v":""},{"$f":"IF(申込みフォーム!N49<>\"\",申込みフォーム!N49,\"\")","v":""},{"$f":"IF(申込みフォーム!O49<>\"\",申込みフォーム!O49,\"\")","v":""},{"$f":"IF(申込みフォーム!P49<>\"\",申込みフォーム!P49,\"\")","v":""},{"$f":"IF(申込みフォーム!Q49<>\"\",申込みフォーム!Q49,\"\")","v":""},{"$f":"IF(申込みフォーム!R49<>\"\",申込みフォーム!R49,\"\")","v":""},{"$f":"IF(申込みフォーム!S49<>\"\",申込みフォーム!S49,\"\")","v":""},{"$f":"IF(申込みフォーム!U49=\"細胞診のみ\",\"協会子宮　\",IF(申込みフォーム!U49=\"細胞診＋（自費）膣エコー\",\"協会子宮＋自費膣エコー　\",\"\"))&IF(申込みフォーム!W49<>\"\",\"協会ﾏﾝﾓ　\",\"\")&IF(申込みフォーム!Y49<>\"\",\"協会骨　\",\"\")&IF(申込みフォーム!AA49<>\"\",\"協会肝炎　\",\"\")","v":""},{"$f":"IF(申込みフォーム!AB49<>\"\",\"子宮　\",\"\")&IF(申込みフォーム!AC49<>\"\",\"ﾏﾝﾓ　\",\"\")&IF(申込みフォーム!AD49<>\"\",\"乳ｴｺｰ\",\"\")","v":""},{"$f":"IF(申込みフォーム!AE49<>\"\",\"ﾏｰｶｰ　\",\"\")&IF(申込みフォーム!AF49<>\"\",\"心機能　\",\"\")&IF(申込みフォーム!AG49<>\"\",\"ABC　\",\"\")&IF(申込みフォーム!AH49<>\"\",\"Lox　\",\"\")&IF(申込みフォーム!AI49<>\"\",\"甲状腺　\",\"\")&IF(申込みフォーム!AJ49<>\"\",\"肝炎\",\"\")","v":""},{"$f":"IF(申込みフォーム!AK49<>\"\",\"脳　\",\"\")&IF(申込みフォーム!AL49<>\"\",\"胸部CT　\",\"\")&IF(申込みフォーム!AM49<>\"\",\"肺機能　\",\"\")&IF(申込みフォーム!AN49<>\"\",\"腹ｴｺｰ　\",\"\")&IF(申込みフォーム!AO49<>\"\",\"心ｴｺｰ　\",\"\")&IF(申込みフォーム!AP49<>\"\",\"ﾌﾛｰﾗ　\",\"\")&IF(申込みフォーム!AQ49<>\"\",\"OCT　\",\"\")&IF(申込みフォーム!AR49<>\"\",\"検便　\",\"\")&IF(申込みフォーム!AS49<>\"\",\"骨　\",\"\")&IF(申込みフォーム!AT49<>\"\",\"骨＋ﾛｺﾓ\",\"\")","v":""},{"$f":"IF(申込みフォーム!AU49<>\"\",申込みフォーム!AU49&\"　　\",\"\")&IF(申込みフォーム!AV49<>\"\",申込みフォーム!AV49&\"　　\",\"\")&IF(申込みフォーム!AW49<>\"\",申込みフォーム!AW49&\"　　\",\"\")","v":""},{"$f":"IF(申込みフォーム!BJ49<>\"\",申込みフォーム!BJ49,\"\")","v":""},{"$f":"IF(申込みフォーム!BK49<>\"\",申込みフォーム!BK49,\"\")","v":""},{"$f":"IF(申込みフォーム!BL49<>\"\",申込みフォーム!BL49&\"　　\",\"\")&IF(申込みフォーム!BM49<>\"\",申込みフォーム!BM49&\"　　\",\"\")&IF(申込みフォーム!BN49<>\"\",申込みフォーム!BN49&\"　　\",\"\")","v":{"$error":"#VALUE!"}},{"$f":"申込みフォーム!$Z49","v":""}]
[40,null,null,null,null,{"$f":"IF(申込みフォーム!B50<>\"\",申込みフォーム!B50&\"　\"&申込みフォーム!C50,\"\")","v":""},{"$f":"IF(申込みフォーム!E50<>\"\",申込みフォーム!E50&\"　\"&申込みフォーム!F50,\"\")","v":""},{"$f":"IF(申込みフォーム!G50<>\"\",申込みフォーム!G50,\"\")","v":""},{"$f":"IF(申込みフォーム!H50<>\"\",申込みフォーム!H50,\"\")","v":""},{"$f":"IF(申込みフォーム!D50<>\"\",申込みフォーム!D50,\"\")","v":""},{"$f":"IF(申込みフォーム!I50<>\"\",REPLACE(申込みフォーム!I50,4,,\"-\"),\"\")","v":""},{"$f":"IF(申込みフォーム!J50<>\"\",申込みフォーム!J50,\"\")","v":""},{"$f":"IF(申込みフォーム!K50<>\"\",申込みフォーム!K50,\"\")","v":""},{"$f":"IF(申込みフォーム!L50<>\"\",MID(申込みフォーム!L50,1,3)&\"-\"&MID(申込みフォーム!L50,4,4)&\"-\"&MID(申込みフォーム!L50,8,4),\"\")","v":""},{"$f":"IF(申込みフォーム!M50<>\"\",申込みフォーム!M50,\"\")","v":""},{"$f":"IF(申込みフォーム!N50<>\"\",申込みフォーム!N50,\"\")","v":""},{"$f":"IF(申込みフォーム!O50<>\"\",申込みフォーム!O50,\"\")","v":""},{"$f":"IF(申込みフォーム!P50<>\"\",申込みフォーム!P50,\"\")","v":""},{"$f":"IF(申込みフォーム!Q50<>\"\",申込みフォーム!Q50,\"\")","v":""},{"$f":"IF(申込みフォーム!R50<>\"\",申込みフォーム!R50,\"\")","v":""},{"$f":"IF(申込みフォーム!S50<>\"\",申込みフォーム!S50,\"\")","v":""},{"$f":"IF(申込みフォーム!U50=\"細胞診のみ\",\"協会子宮　\",IF(申込みフォーム!U50=\"細胞診＋（自費）膣エコー\",\"協会子宮＋自費膣エコー　\",\"\"))&IF(申込みフォーム!W50<>\"\",\"協会ﾏﾝﾓ　\",\"\")&IF(申込みフォーム!Y50<>\"\",\"協会骨　\",\"\")&IF(申込みフォーム!AA50<>\"\",\"協会肝炎　\",\"\")","v":""},{"$f":"IF(申込みフォーム!AB50<>\"\",\"子宮　\",\"\")&IF(申込みフォーム!AC50<>\"\",\"ﾏﾝﾓ　\",\"\")&IF(申込みフォーム!AD50<>\"\",\"乳ｴｺｰ\",\"\")","v":""},{"$f":"IF(申込みフォーム!AE50<>\"\",\"ﾏｰｶｰ　\",\"\")&IF(申込みフォーム!AF50<>\"\",\"心機能　\",\"\")&IF(申込みフォーム!AG50<>\"\",\"ABC　\",\"\")&IF(申込みフォーム!AH50<>\"\",\"Lox　\",\"\")&IF(申込みフォーム!AI50<>\"\",\"甲状腺　\",\"\")&IF(申込みフォーム!AJ50<>\"\",\"肝炎\",\"\")","v":""},{"$f":"IF(申込みフォーム!AK50<>\"\",\"脳　\",\"\")&IF(申込みフォーム!AL50<>\"\",\"胸部CT　\",\"\")&IF(申込みフォーム!AM50<>\"\",\"肺機能　\",\"\")&IF(申込みフォーム!AN50<>\"\",\"腹ｴｺｰ　\",\"\")&IF(申込みフォーム!AO50<>\"\",\"心ｴｺｰ　\",\"\")&IF(申込みフォーム!AP50<>\"\",\"ﾌﾛｰﾗ　\",\"\")&IF(申込みフォーム!AQ50<>\"\",\"OCT　\",\"\")&IF(申込みフォーム!AR50<>\"\",\"検便　\",\"\")&IF(申込みフォーム!AS50<>\"\",\"骨　\",\"\")&IF(申込みフォーム!AT50<>\"\",\"骨＋ﾛｺﾓ\",\"\")","v":""},{"$f":"IF(申込みフォーム!AU50<>\"\",申込みフォーム!AU50&\"　　\",\"\")&IF(申込みフォーム!AV50<>\"\",申込みフォーム!AV50&\"　　\",\"\")&IF(申込みフォーム!AW50<>\"\",申込みフォーム!AW50&\"　　\",\"\")","v":""},{"$f":"IF(申込みフォーム!BJ50<>\"\",申込みフォーム!BJ50,\"\")","v":""},{"$f":"IF(申込みフォーム!BK50<>\"\",申込みフォーム!BK50,\"\")","v":""},{"$f":"IF(申込みフォーム!BL50<>\"\",申込みフォーム!BL50&\"　　\",\"\")&IF(申込みフォーム!BM50<>\"\",申込みフォーム!BM50&\"　　\",\"\")&IF(申込みフォーム!BN50<>\"\",申込みフォーム!BN50&\"　　\",\"\")","v":{"$error":"#VALUE!"}},{"$f":"申込みフォーム!$Z50","v":""}]
[41,null,null,null,null,{"$f":"IF(申込みフォーム!B51<>\"\",申込みフォーム!B51&\"　\"&申込みフォーム!C51,\"\")","v":""},{"$f":"IF(申込みフォーム!E51<>\"\",申込みフォーム!E51&\"　\"&申込みフォーム!F51,\"\")","v":""},{"$f":"IF(申込みフォーム!G51<>\"\",申込みフォーム!G51,\"\")","v":""},{"$f":"IF(申込みフォーム!H51<>\"\",申込みフォーム!H51,\"\")","v":""},{"$f":"IF(申込みフォーム!D51<>\"\",申込みフォーム!D51,\"\")","v":""},{"$f":"IF(申込みフォーム!I51<>\"\",REPLACE(申込みフォーム!I51,4,,\"-\"),\"\")","v":""},{"$f":"IF(申込みフォーム!J51<>\"\",申込みフォーム!J51,\"\")","v":""},{"$f":"IF(申込みフォーム!K51<>\"\",申込みフォーム!K51,\"\")","v":""},{"$f":"IF(申込みフォーム!L51<>\"\",MID(申込みフォーム!L51,1,3)&\"-\"&MID(申込みフォーム!L51,4,4)&\"-\"&MID(申込みフォーム!L51,8,4),\"\")","v":""},{"$f":"IF(申込みフォーム!M51<>\"\",申込みフォーム!M51,\"\")","v":""},{"$f":"IF(申込みフォーム!N51<>\"\",申込みフォーム!N51,\"\")","v":""},{"$f":"IF(申込みフォーム!O51<>\"\",申込みフォーム!O51,\"\")","v":""},{"$f":"IF(申込みフォーム!P51<>\"\",申込みフォーム!P51,\"\")","v":""},{"$f":"IF(申込みフォーム!Q51<>\"\",申込みフォーム!Q51,\"\")","v":""},{"$f":"IF(申込みフォーム!R51<>\"\",申込みフォーム!R51,\"\")","v":""},{"$f":"IF(申込みフォーム!S51<>\"\",申込みフォーム!S51,\"\")","v":""},{"$f":"IF(申込みフォーム!U51=\"細胞診のみ\",\"協会子宮　\",IF(申込みフォーム!U51=\"細胞診＋（自費）膣エコー\",\"協会子宮＋自費膣エコー　\",\"\"))&IF(申込みフォーム!W51<>\"\",\"協会ﾏﾝﾓ　\",\"\")&IF(申込みフォーム!Y51<>\"\",\"協会骨　\",\"\")&IF(申込みフォーム!AA51<>\"\",\"協会肝炎　\",\"\")","v":""},{"$f":"IF(申込みフォーム!AB51<>\"\",\"子宮　\",\"\")&IF(申込みフォーム!AC51<>\"\",\"ﾏﾝﾓ　\",\"\")&IF(申込みフォーム!AD51<>\"\",\"乳ｴｺｰ\",\"\")","v":""},{"$f":"IF(申込みフォーム!AE51<>\"\",\"ﾏｰｶｰ　\",\"\")&IF(申込みフォーム!AF51<>\"\",\"心機能　\",\"\")&IF(申込みフォーム!AG51<>\"\",\"ABC　\",\"\")&IF(申込みフォーム!AH51<>\"\",\"Lox　\",\"\")&IF(申込みフォーム!AI51<>\"\",\"甲状腺　\",\"\")&IF(申込みフォーム!AJ51<>\"\",\"肝炎\",\"\")","v":""},{"$f":"IF(申込みフォーム!AK51<>\"\",\"脳　\",\"\")&IF(申込みフォーム!AL51<>\"\",\"胸部CT　\",\"\")&IF(申込みフォーム!AM51<>\"\",\"肺機能　\",\"\")&IF(申込みフォーム!AN51<>\"\",\"腹ｴｺｰ　\",\"\")&IF(申込みフォーム!AO51<>\"\",\"心ｴｺｰ　\",\"\")&IF(申込みフォーム!AP51<>\"\",\"ﾌﾛｰﾗ　\",\"\")&IF(申込みフォーム!AQ51<>\"\",\"OCT　\",\"\")&IF(申込みフォーム!AR51<>\"\",\"検便　\",\"\")&IF(申込みフォーム!AS51<>\"\",\"骨　\",\"\")&IF(申込みフォーム!AT51<>\"\",\"骨＋ﾛｺﾓ\",\"\")","v":""},{"$f":"IF(申込みフォーム!AU51<>\"\",申込みフォーム!AU51&\"　　\",\"\")&IF(申込みフォーム!AV51<>\"\",申込みフォーム!AV51&\"　　\",\"\")&IF(申込みフォーム!AW51<>\"\",申込みフォーム!AW51&\"　　\",\"\")","v":""},{"$f":"IF(申込みフォーム!BJ51<>\"\",申込みフォーム!BJ51,\"\")","v":""},{"$f":"IF(申込みフォーム!BK51<>\"\",申込みフォーム!BK51,\"\")","v":""},{"$f":"IF(申込みフォーム!BL51<>\"\",申込みフォーム!BL51&\"　　\",\"\")&IF(申込みフォーム!BM51<>\"\",申込みフォーム!BM51&\"　　\",\"\")&IF(申込みフォーム!BN51<>\"\",申込みフォーム!BN51&\"　　\",\"\")","v":{"$error":"#VALUE!"}},{"$f":"申込みフォーム!$Z51","v":""}]
[42,null,null,null,null,{"$f":"IF(申込みフォーム!B52<>\"\",申込みフォーム!B52&\"　\"&申込みフォーム!C52,\"\")","v":""},{"$f":"IF(申込みフォーム!E52<>\"\",申込みフォーム!E52&\"　\"&申込みフォーム!F52,\"\")","v":""},{"$f":"IF(申込みフォーム!G52<>\"\",申込みフォーム!G52,\"\")","v":""},{"$f":"IF(申込みフォーム!H52<>\"\",申込みフォーム!H52,\"\")","v":""},{"$f":"IF(申込みフォーム!D52<>\"\",申込みフォーム!D52,\"\")","v":""},{"$f":"IF(申込みフォーム!I52<>\"\",REPLACE(申込みフォーム!I52,4,,\"-\"),\"\")","v":""},{"$f":"IF(申込みフォーム!J52<>\"\",申込みフォーム!J52,\"\")","v":""},{"$f":"IF(申込みフォーム!K52<>\"\",申込みフォーム!K52,\"\")","v":""},{"$f":"IF(申込みフォーム!L52<>\"\",MID(申込みフォーム!L52,1,3)&\"-\"&MID(申込みフォーム!L52,4,4)&\"-\"&MID(申込みフォーム!L52,8,4),\"\")","v":""},{"$f":"IF(申込みフォーム!M52<>\"\",申込みフォーム!M52,\"\")","v":""},{"$f":"IF(申込みフォーム!N52<>\"\",申込みフォーム!N52,\"\")","v":""},{"$f":"IF(申込みフォーム!O52<>\"\",申込みフォーム!O52,\"\")","v":""},{"$f":"IF(申込みフォーム!P52<>\"\",申込みフォーム!P52,\"\")","v":""},{"$f":"IF(申込みフォーム!Q52<>\"\",申込みフォーム!Q52,\"\")","v":""},{"$f":"IF(申込みフォーム!R52<>\"\",申込みフォーム!R52,\"\")","v":""},{"$f":"IF(申込みフォーム!S52<>\"\",申込みフォーム!S52,\"\")","v":""},{"$f":"IF(申込みフォーム!U52=\"細胞診のみ\",\"協会子宮　\",IF(申込みフォーム!U52=\"細胞診＋（自費）膣エコー\",\"協会子宮＋自費膣エコー　\",\"\"))&IF(申込みフォーム!W52<>\"\",\"協会ﾏﾝﾓ　\",\"\")&IF(申込みフォーム!Y52<>\"\",\"協会骨　\",\"\")&IF(申込みフォーム!AA52<>\"\",\"協会肝炎　\",\"\")","v":""},{"$f":"IF(申込みフォーム!AB52<>\"\",\"子宮　\",\"\")&IF(申込みフォーム!AC52<>\"\",\"ﾏﾝﾓ　\",\"\")&IF(申込みフォーム!AD52<>\"\",\"乳ｴｺｰ\",\"\")","v":""},{"$f":"IF(申込みフォーム!AE52<>\"\",\"ﾏｰｶｰ　\",\"\")&IF(申込みフォーム!AF52<>\"\",\"心機能　\",\"\")&IF(申込みフォーム!AG52<>\"\",\"ABC　\",\"\")&IF(申込みフォーム!AH52<>\"\",\"Lox　\",\"\")&IF(申込みフォーム!AI52<>\"\",\"甲状腺　\",\"\")&IF(申込みフォーム!AJ52<>\"\",\"肝炎\",\"\")","v":""},{"$f":"IF(申込みフォーム!AK52<>\"\",\"脳　\",\"\")&IF(申込みフォーム!AL52<>\"\",\"胸部CT　\",\"\")&IF(申込みフォーム!AM52<>\"\",\"肺機能　\",\"\")&IF(申込みフォーム!AN52<>\"\",\"腹ｴｺｰ　\",\"\")&IF(申込みフォーム!AO52<>\"\",\"心ｴｺｰ　\",\"\")&IF(申込みフォーム!AP52<>\"\",\"ﾌﾛｰﾗ　\",\"\")&IF(申込みフォーム!AQ52<>\"\",\"OCT　\",\"\")&IF(申込みフォーム!AR52<>\"\",\"検便　\",\"\")&IF(申込みフォーム!AS52<>\"\",\"骨　\",\"\")&IF(申込みフォーム!AT52<>\"\",\"骨＋ﾛｺﾓ\",\"\")","v":""},{"$f":"IF(申込みフォーム!AU52<>\"\",申込みフォーム!AU52&\"　　\",\"\")&IF(申込みフォーム!AV52<>\"\",申込みフォーム!AV52&\"　　\",\"\")&IF(申込みフォーム!AW52<>\"\",申込みフォーム!AW52&\"　　\",\"\")","v":""},{"$f":"IF(申込みフォーム!BJ52<>\"\",申込みフォーム!BJ52,\"\")","v":""},{"$f":"IF(申込みフォーム!BK52<>\"\",申込みフォーム!BK52,\"\")","v":""},{"$f":"IF(申込みフォーム!BL52<>\"\",申込みフォーム!BL52&\"　　\",\"\")&IF(申込みフォーム!BM52<>\"\",申込みフォーム!BM52&\"　　\",\"\")&IF(申込みフォーム!BN52<>\"\",申込みフォーム!BN52&\"　　\",\"\")","v":{"$error":"#VALUE!"}},{"$f":"申込みフォーム!$Z52","v":""}]
[43,null,null,null,null,{"$f":"IF(申込みフォーム!B53<>\"\",申込みフォーム!B53&\"　\"&申込みフォーム!C53,\"\")","v":""},{"$f":"IF(申込みフォーム!E53<>\"\",申込みフォーム!E53&\"　\"&申込みフォーム!F53,\"\")","v":""},{"$f":"IF(申込みフォーム!G53<>\"\",申込みフォーム!G53,\"\")","v":""},{"$f":"IF(申込みフォーム!H53<>\"\",申込みフォーム!H53,\"\")","v":""},{"$f":"IF(申込みフォーム!D53<>\"\",申込みフォーム!D53,\"\")","v":""},{"$f":"IF(申込みフォーム!I53<>\"\",REPLACE(申込みフォーム!I53,4,,\"-\"),\"\")","v":""},{"$f":"IF(申込みフォーム!J53<>\"\",申込みフォーム!J53,\"\")","v":""},{"$f":"IF(申込みフォーム!K53<>\"\",申込みフォーム!K53,\"\")","v":""},{"$f":"IF(申込みフォーム!L53<>\"\",MID(申込みフォーム!L53,1,3)&\"-\"&MID(申込みフォーム!L53,4,4)&\"-\"&MID(申込みフォーム!L53,8,4),\"\")","v":""},{"$f":"IF(申込みフォーム!M53<>\"\",申込みフォーム!M53,\"\")","v":""},{"$f":"IF(申込みフォーム!N53<>\"\",申込みフォーム!N53,\"\")","v":""},{"$f":"IF(申込みフォーム!O53<>\"\",申込みフォーム!O53,\"\")","v":""},{"$f":"IF(申込みフォーム!P53<>\"\",申込みフォーム!P53,\"\")","v":""},{"$f":"IF(申込みフォーム!Q53<>\"\",申込みフォーム!Q53,\"\")","v":""},{"$f":"IF(申込みフォーム!R53<>\"\",申込みフォーム!R53,\"\")","v":""},{"$f":"IF(申込みフォーム!S53<>\"\",申込みフォーム!S53,\"\")","v":""},{"$f":"IF(申込みフォーム!U53=\"細胞診のみ\",\"協会子宮　\",IF(申込みフォーム!U53=\"細胞診＋（自費）膣エコー\",\"協会子宮＋自費膣エコー　\",\"\"))&IF(申込みフォーム!W53<>\"\",\"協会ﾏﾝﾓ　\",\"\")&IF(申込みフォーム!Y53<>\"\",\"協会骨　\",\"\")&IF(申込みフォーム!AA53<>\"\",\"協会肝炎　\",\"\")","v":""},{"$f":"IF(申込みフォーム!AB53<>\"\",\"子宮　\",\"\")&IF(申込みフォーム!AC53<>\"\",\"ﾏﾝﾓ　\",\"\")&IF(申込みフォーム!AD53<>\"\",\"乳ｴｺｰ\",\"\")","v":""},{"$f":"IF(申込みフォーム!AE53<>\"\",\"ﾏｰｶｰ　\",\"\")&IF(申込みフォーム!AF53<>\"\",\"心機能　\",\"\")&IF(申込みフォーム!AG53<>\"\",\"ABC　\",\"\")&IF(申込みフォーム!AH53<>\"\",\"Lox　\",\"\")&IF(申込みフォーム!AI53<>\"\",\"甲状腺　\",\"\")&IF(申込みフォーム!AJ53<>\"\",\"肝炎\",\"\")","v":""},{"$f":"IF(申込みフォーム!AK53<>\"\",\"脳　\",\"\")&IF(申込みフォーム!AL53<>\"\",\"胸部CT　\",\"\")&IF(申込みフォーム!AM53<>\"\",\"肺機能　\",\"\")&IF(申込みフォーム!AN53<>\"\",\"腹ｴｺｰ　\",\"\")&IF(申込みフォーム!AO53<>\"\",\"心ｴｺｰ　\",\"\")&IF(申込みフォーム!AP53<>\"\",\"ﾌﾛｰﾗ　\",\"\")&IF(申込みフォーム!AQ53<>\"\",\"OCT　\",\"\")&IF(申込みフォーム!AR53<>\"\",\"検便　\",\"\")&IF(申込みフォーム!AS53<>\"\",\"骨　\",\"\")&IF(申込みフォーム!AT53<>\"\",\"骨＋ﾛｺﾓ\",\"\")","v":""},{"$f":"IF(申込みフォーム!AU53<>\"\",申込みフォーム!AU53&\"　　\",\"\")&IF(申込みフォーム!AV53<>\"\",申込みフォーム!AV53&\"　　\",\"\")&IF(申込みフォーム!AW53<>\"\",申込みフォーム!AW53&\"　　\",\"\")","v":""},{"$f":"IF(申込みフォーム!BJ53<>\"\",申込みフォーム!BJ53,\"\")","v":""},{"$f":"IF(申込みフォーム!BK53<>\"\",申込みフォーム!BK53,\"\")","v":""},{"$f":"IF(申込みフォーム!BL53<>\"\",申込みフォーム!BL53&\"　　\",\"\")&IF(申込みフォーム!BM53<>\"\",申込みフォーム!BM53&\"　　\",\"\")&IF(申込みフォーム!BN53<>\"\",申込みフォーム!BN53&\"　　\",\"\")","v":{"$error":"#VALUE!"}},{"$f":"申込みフォーム!$Z53","v":""}]
[44,null,null,null,null,{"$f":"IF(申込みフォーム!B54<>\"\",申込みフォーム!B54&\"　\"&申込みフォーム!C54,\"\")","v":""},{"$f":"IF(申込みフォーム!E54<>\"\",申込みフォーム!E54&\"　\"&申込みフォーム!F54,\"\")","v":""},{"$f":"IF(申込みフォーム!G54<>\"\",申込みフォーム!G54,\"\")","v":""},{"$f":"IF(申込みフォーム!H54<>\"\",申込みフォーム!H54,\"\")","v":""},{"$f":"IF(申込みフォーム!D54<>\"\",申込みフォーム!D54,\"\")","v":""},{"$f":"IF(申込みフォーム!I54<>\"\",REPLACE(申込みフォーム!I54,4,,\"-\"),\"\")","v":""},{"$f":"IF(申込みフォーム!J54<>\"\",申込みフォーム!J54,\"\")","v":""},{"$f":"IF(申込みフォーム!K54<>\"\",申込みフォーム!K54,\"\")","v":""},{"$f":"IF(申込みフォーム!L54<>\"\",MID(申込みフォーム!L54,1,3)&\"-\"&MID(申込みフォーム!L54,4,4)&\"-\"&MID(申込みフォーム!L54,8,4),\"\")","v":""},{"$f":"IF(申込みフォーム!M54<>\"\",申込みフォーム!M54,\"\")","v":""},{"$f":"IF(申込みフォーム!N54<>\"\",申込みフォーム!N54,\"\")","v":""},{"$f":"IF(申込みフォーム!O54<>\"\",申込みフォーム!O54,\"\")","v":""},{"$f":"IF(申込みフォーム!P54<>\"\",申込みフォーム!P54,\"\")","v":""},{"$f":"IF(申込みフォーム!Q54<>\"\",申込みフォーム!Q54,\"\")","v":""},{"$f":"IF(申込みフォーム!R54<>\"\",申込みフォーム!R54,\"\")","v":""},{"$f":"IF(申込みフォーム!S54<>\"\",申込みフォーム!S54,\"\")","v":""},{"$f":"IF(申込みフォーム!U54=\"細胞診のみ\",\"協会子宮　\",IF(申込みフォーム!U54=\"細胞診＋（自費）膣エコー\",\"協会子宮＋自費膣エコー　\",\"\"))&IF(申込みフォーム!W54<>\"\",\"協会ﾏﾝﾓ　\",\"\")&IF(申込みフォーム!Y54<>\"\",\"協会骨　\",\"\")&IF(申込みフォーム!AA54<>\"\",\"協会肝炎　\",\"\")","v":""},{"$f":"IF(申込みフォーム!AB54<>\"\",\"子宮　\",\"\")&IF(申込みフォーム!AC54<>\"\",\"ﾏﾝﾓ　\",\"\")&IF(申込みフォーム!AD54<>\"\",\"乳ｴｺｰ\",\"\")","v":""},{"$f":"IF(申込みフォーム!AE54<>\"\",\"ﾏｰｶｰ　\",\"\")&IF(申込みフォーム!AF54<>\"\",\"心機能　\",\"\")&IF(申込みフォーム!AG54<>\"\",\"ABC　\",\"\")&IF(申込みフォーム!AH54<>\"\",\"Lox　\",\"\")&IF(申込みフォーム!AI54<>\"\",\"甲状腺　\",\"\")&IF(申込みフォーム!AJ54<>\"\",\"肝炎\",\"\")","v":""},{"$f":"IF(申込みフォーム!AK54<>\"\",\"脳　\",\"\")&IF(申込みフォーム!AL54<>\"\",\"胸部CT　\",\"\")&IF(申込みフォーム!AM54<>\"\",\"肺機能　\",\"\")&IF(申込みフォーム!AN54<>\"\",\"腹ｴｺｰ　\",\"\")&IF(申込みフォーム!AO54<>\"\",\"心ｴｺｰ　\",\"\")&IF(申込みフォーム!AP54<>\"\",\"ﾌﾛｰﾗ　\",\"\")&IF(申込みフォーム!AQ54<>\"\",\"OCT　\",\"\")&IF(申込みフォーム!AR54<>\"\",\"検便　\",\"\")&IF(申込みフォーム!AS54<>\"\",\"骨　\",\"\")&IF(申込みフォーム!AT54<>\"\",\"骨＋ﾛｺﾓ\",\"\")","v":""},{"$f":"IF(申込みフォーム!AU54<>\"\",申込みフォーム!AU54&\"　　\",\"\")&IF(申込みフォーム!AV54<>\"\",申込みフォーム!AV54&\"　　\",\"\")&IF(申込みフォーム!AW54<>\"\",申込みフォーム!AW54&\"　　\",\"\")","v":""},{"$f":"IF(申込みフォーム!BJ54<>\"\",申込みフォーム!BJ54,\"\")","v":""},{"$f":"IF(申込みフォーム!BK54<>\"\",申込みフォーム!BK54,\"\")","v":""},{"$f":"IF(申込みフォーム!BL54<>\"\",申込みフォーム!BL54&\"　　\",\"\")&IF(申込みフォーム!BM54<>\"\",申込みフォーム!BM54&\"　　\",\"\")&IF(申込みフォーム!BN54<>\"\",申込みフォーム!BN54&\"　　\",\"\")","v":{"$error":"#VALUE!"}},{"$f":"申込みフォーム!$Z54","v":""}]
[45,null,null,null,null,{"$f":"IF(申込みフォーム!B55<>\"\",申込みフォーム!B55&\"　\"&申込みフォーム!C55,\"\")","v":""},{"$f":"IF(申込みフォーム!E55<>\"\",申込みフォーム!E55&\"　\"&申込みフォーム!F55,\"\")","v":""},{"$f":"IF(申込みフォーム!G55<>\"\",申込みフォーム!G55,\"\")","v":""},{"$f":"IF(申込みフォーム!H55<>\"\",申込みフォーム!H55,\"\")","v":""},{"$f":"IF(申込みフォーム!D55<>\"\",申込みフォーム!D55,\"\")","v":""},{"$f":"IF(申込みフォーム!I55<>\"\",REPLACE(申込みフォーム!I55,4,,\"-\"),\"\")","v":""},{"$f":"IF(申込みフォーム!J55<>\"\",申込みフォーム!J55,\"\")","v":""},{"$f":"IF(申込みフォーム!K55<>\"\",申込みフォーム!K55,\"\")","v":""},{"$f":"IF(申込みフォーム!L55<>\"\",MID(申込みフォーム!L55,1,3)&\"-\"&MID(申込みフォーム!L55,4,4)&\"-\"&MID(申込みフォーム!L55,8,4),\"\")","v":""},{"$f":"IF(申込みフォーム!M55<>\"\",申込みフォーム!M55,\"\")","v":""},{"$f":"IF(申込みフォーム!N55<>\"\",申込みフォーム!N55,\"\")","v":""},{"$f":"IF(申込みフォーム!O55<>\"\",申込みフォーム!O55,\"\")","v":""},{"$f":"IF(申込みフォーム!P55<>\"\",申込みフォーム!P55,\"\")","v":""},{"$f":"IF(申込みフォーム!Q55<>\"\",申込みフォーム!Q55,\"\")","v":""},{"$f":"IF(申込みフォーム!R55<>\"\",申込みフォーム!R55,\"\")","v":""},{"$f":"IF(申込みフォーム!S55<>\"\",申込みフォーム!S55,\"\")","v":""},{"$f":"IF(申込みフォーム!U55=\"細胞診のみ\",\"協会子宮　\",IF(申込みフォーム!U55=\"細胞診＋（自費）膣エコー\",\"協会子宮＋自費膣エコー　\",\"\"))&IF(申込みフォーム!W55<>\"\",\"協会ﾏﾝﾓ　\",\"\")&IF(申込みフォーム!Y55<>\"\",\"協会骨　\",\"\")&IF(申込みフォーム!AA55<>\"\",\"協会肝炎　\",\"\")","v":""},{"$f":"IF(申込みフォーム!AB55<>\"\",\"子宮　\",\"\")&IF(申込みフォーム!AC55<>\"\",\"ﾏﾝﾓ　\",\"\")&IF(申込みフォーム!AD55<>\"\",\"乳ｴｺｰ\",\"\")","v":""},{"$f":"IF(申込みフォーム!AE55<>\"\",\"ﾏｰｶｰ　\",\"\")&IF(申込みフォーム!AF55<>\"\",\"心機能　\",\"\")&IF(申込みフォーム!AG55<>\"\",\"ABC　\",\"\")&IF(申込みフォーム!AH55<>\"\",\"Lox　\",\"\")&IF(申込みフォーム!AI55<>\"\",\"甲状腺　\",\"\")&IF(申込みフォーム!AJ55<>\"\",\"肝炎\",\"\")","v":""},{"$f":"IF(申込みフォーム!AK55<>\"\",\"脳　\",\"\")&IF(申込みフォーム!AL55<>\"\",\"胸部CT　\",\"\")&IF(申込みフォーム!AM55<>\"\",\"肺機能　\",\"\")&IF(申込みフォーム!AN55<>\"\",\"腹ｴｺｰ　\",\"\")&IF(申込みフォーム!AO55<>\"\",\"心ｴｺｰ　\",\"\")&IF(申込みフォーム!AP55<>\"\",\"ﾌﾛｰﾗ　\",\"\")&IF(申込みフォーム!AQ55<>\"\",\"OCT　\",\"\")&IF(申込みフォーム!AR55<>\"\",\"検便　\",\"\")&IF(申込みフォーム!AS55<>\"\",\"骨　\",\"\")&IF(申込みフォーム!AT55<>\"\",\"骨＋ﾛｺﾓ\",\"\")","v":""},{"$f":"IF(申込みフォーム!AU55<>\"\",申込みフォーム!AU55&\"　　\",\"\")&IF(申込みフォーム!AV55<>\"\",申込みフォーム!AV55&\"　　\",\"\")&IF(申込みフォーム!AW55<>\"\",申込みフォーム!AW55&\"　　\",\"\")","v":""},{"$f":"IF(申込みフォーム!BJ55<>\"\",申込みフォーム!BJ55,\"\")","v":""},{"$f":"IF(申込みフォーム!BK55<>\"\",申込みフォーム!BK55,\"\")","v":""},{"$f":"IF(申込みフォーム!BL55<>\"\",申込みフォーム!BL55&\"　　\",\"\")&IF(申込みフォーム!BM55<>\"\",申込みフォーム!BM55&\"　　\",\"\")&IF(申込みフォーム!BN55<>\"\",申込みフォーム!BN55&\"　　\",\"\")","v":{"$error":"#VALUE!"}},{"$f":"申込みフォーム!$Z55","v":""}]
[46,null,null,null,null,{"$f":"IF(申込みフォーム!B56<>\"\",申込みフォーム!B56&\"　\"&申込みフォーム!C56,\"\")","v":""},{"$f":"IF(申込みフォーム!E56<>\"\",申込みフォーム!E56&\"　\"&申込みフォーム!F56,\"\")","v":""},{"$f":"IF(申込みフォーム!G56<>\"\",申込みフォーム!G56,\"\")","v":""},{"$f":"IF(申込みフォーム!H56<>\"\",申込みフォーム!H56,\"\")","v":""},{"$f":"IF(申込みフォーム!D56<>\"\",申込みフォーム!D56,\"\")","v":""},{"$f":"IF(申込みフォーム!I56<>\"\",REPLACE(申込みフォーム!I56,4,,\"-\"),\"\")","v":""},{"$f":"IF(申込みフォーム!J56<>\"\",申込みフォーム!J56,\"\")","v":""},{"$f":"IF(申込みフォーム!K56<>\"\",申込みフォーム!K56,\"\")","v":""},{"$f":"IF(申込みフォーム!L56<>\"\",MID(申込みフォーム!L56,1,3)&\"-\"&MID(申込みフォーム!L56,4,4)&\"-\"&MID(申込みフォーム!L56,8,4),\"\")","v":""},{"$f":"IF(申込みフォーム!M56<>\"\",申込みフォーム!M56,\"\")","v":""},{"$f":"IF(申込みフォーム!N56<>\"\",申込みフォーム!N56,\"\")","v":""},{"$f":"IF(申込みフォーム!O56<>\"\",申込みフォーム!O56,\"\")","v":""},{"$f":"IF(申込みフォーム!P56<>\"\",申込みフォーム!P56,\"\")","v":""},{"$f":"IF(申込みフォーム!Q56<>\"\",申込みフォーム!Q56,\"\")","v":""},{"$f":"IF(申込みフォーム!R56<>\"\",申込みフォーム!R56,\"\")","v":""},{"$f":"IF(申込みフォーム!S56<>\"\",申込みフォーム!S56,\"\")","v":""},{"$f":"IF(申込みフォーム!U56=\"細胞診のみ\",\"協会子宮　\",IF(申込みフォーム!U56=\"細胞診＋（自費）膣エコー\",\"協会子宮＋自費膣エコー　\",\"\"))&IF(申込みフォーム!W56<>\"\",\"協会ﾏﾝﾓ　\",\"\")&IF(申込みフォーム!Y56<>\"\",\"協会骨　\",\"\")&IF(申込みフォーム!AA56<>\"\",\"協会肝炎　\",\"\")","v":""},{"$f":"IF(申込みフォーム!AB56<>\"\",\"子宮　\",\"\")&IF(申込みフォーム!AC56<>\"\",\"ﾏﾝﾓ　\",\"\")&IF(申込みフォーム!AD56<>\"\",\"乳ｴｺｰ\",\"\")","v":""},{"$f":"IF(申込みフォーム!AE56<>\"\",\"ﾏｰｶｰ　\",\"\")&IF(申込みフォーム!AF56<>\"\",\"心機能　\",\"\")&IF(申込みフォーム!AG56<>\"\",\"ABC　\",\"\")&IF(申込みフォーム!AH56<>\"\",\"Lox　\",\"\")&IF(申込みフォーム!AI56<>\"\",\"甲状腺　\",\"\")&IF(申込みフォーム!AJ56<>\"\",\"肝炎\",\"\")","v":""},{"$f":"IF(申込みフォーム!AK56<>\"\",\"脳　\",\"\")&IF(申込みフォーム!AL56<>\"\",\"胸部CT　\",\"\")&IF(申込みフォーム!AM56<>\"\",\"肺機能　\",\"\")&IF(申込みフォーム!AN56<>\"\",\"腹ｴｺｰ　\",\"\")&IF(申込みフォーム!AO56<>\"\",\"心ｴｺｰ　\",\"\")&IF(申込みフォーム!AP56<>\"\",\"ﾌﾛｰﾗ　\",\"\")&IF(申込みフォーム!AQ56<>\"\",\"OCT　\",\"\")&IF(申込みフォーム!AR56<>\"\",\"検便　\",\"\")&IF(申込みフォーム!AS56<>\"\",\"骨　\",\"\")&IF(申込みフォーム!AT56<>\"\",\"骨＋ﾛｺﾓ\",\"\")","v":""},{"$f":"IF(申込みフォーム!AU56<>\"\",申込みフォーム!AU56&\"　　\",\"\")&IF(申込みフォーム!AV56<>\"\",申込みフォーム!AV56&\"　　\",\"\")&IF(申込みフォーム!AW56<>\"\",申込みフォーム!AW56&\"　　\",\"\")","v":""},{"$f":"IF(申込みフォーム!BJ56<>\"\",申込みフォーム!BJ56,\"\")","v":""},{"$f":"IF(申込みフォーム!BK56<>\"\",申込みフォーム!BK56,\"\")","v":""},{"$f":"IF(申込みフォーム!BL56<>\"\",申込みフォーム!BL56&\"　　\",\"\")&IF(申込みフォーム!BM56<>\"\",申込みフォーム!BM56&\"　　\",\"\")&IF(申込みフォーム!BN56<>\"\",申込みフォーム!BN56&\"　　\",\"\")","v":{"$error":"#VALUE!"}},{"$f":"申込みフォーム!$Z56","v":""}]
[47,null,null,null,null,{"$f":"IF(申込みフォーム!B57<>\"\",申込みフォーム!B57&\"　\"&申込みフォーム!C57,\"\")","v":""},{"$f":"IF(申込みフォーム!E57<>\"\",申込みフォーム!E57&\"　\"&申込みフォーム!F57,\"\")","v":""},{"$f":"IF(申込みフォーム!G57<>\"\",申込みフォーム!G57,\"\")","v":""},{"$f":"IF(申込みフォーム!H57<>\"\",申込みフォーム!H57,\"\")","v":""},{"$f":"IF(申込みフォーム!D57<>\"\",申込みフォーム!D57,\"\")","v":""},{"$f":"IF(申込みフォーム!I57<>\"\",REPLACE(申込みフォーム!I57,4,,\"-\"),\"\")","v":""},{"$f":"IF(申込みフォーム!J57<>\"\",申込みフォーム!J57,\"\")","v":""},{"$f":"IF(申込みフォーム!K57<>\"\",申込みフォーム!K57,\"\")","v":""},{"$f":"IF(申込みフォーム!L57<>\"\",MID(申込みフォーム!L57,1,3)&\"-\"&MID(申込みフォーム!L57,4,4)&\"-\"&MID(申込みフォーム!L57,8,4),\"\")","v":""},{"$f":"IF(申込みフォーム!M57<>\"\",申込みフォーム!M57,\"\")","v":""},{"$f":"IF(申込みフォーム!N57<>\"\",申込みフォーム!N57,\"\")","v":""},{"$f":"IF(申込みフォーム!O57<>\"\",申込みフォーム!O57,\"\")","v":""},{"$f":"IF(申込みフォーム!P57<>\"\",申込みフォーム!P57,\"\")","v":""},{"$f":"IF(申込みフォーム!Q57<>\"\",申込みフォーム!Q57,\"\")","v":""},{"$f":"IF(申込みフォーム!R57<>\"\",申込みフォーム!R57,\"\")","v":""},{"$f":"IF(申込みフォーム!S57<>\"\",申込みフォーム!S57,\"\")","v":""},{"$f":"IF(申込みフォーム!U57=\"細胞診のみ\",\"協会子宮　\",IF(申込みフォーム!U57=\"細胞診＋（自費）膣エコー\",\"協会子宮＋自費膣エコー　\",\"\"))&IF(申込みフォーム!W57<>\"\",\"協会ﾏﾝﾓ　\",\"\")&IF(申込みフォーム!Y57<>\"\",\"協会骨　\",\"\")&IF(申込みフォーム!AA57<>\"\",\"協会肝炎　\",\"\")","v":""},{"$f":"IF(申込みフォーム!AB57<>\"\",\"子宮　\",\"\")&IF(申込みフォーム!AC57<>\"\",\"ﾏﾝﾓ　\",\"\")&IF(申込みフォーム!AD57<>\"\",\"乳ｴｺｰ\",\"\")","v":""},{"$f":"IF(申込みフォーム!AE57<>\"\",\"ﾏｰｶｰ　\",\"\")&IF(申込みフォーム!AF57<>\"\",\"心機能　\",\"\")&IF(申込みフォーム!AG57<>\"\",\"ABC　\",\"\")&IF(申込みフォーム!AH57<>\"\",\"Lox　\",\"\")&IF(申込みフォーム!AI57<>\"\",\"甲状腺　\",\"\")&IF(申込みフォーム!AJ57<>\"\",\"肝炎\",\"\")","v":""},{"$f":"IF(申込みフォーム!AK57<>\"\",\"脳　\",\"\")&IF(申込みフォーム!AL57<>\"\",\"胸部CT　\",\"\")&IF(申込みフォーム!AM57<>\"\",\"肺機能　\",\"\")&IF(申込みフォーム!AN57<>\"\",\"腹ｴｺｰ　\",\"\")&IF(申込みフォーム!AO57<>\"\",\"心ｴｺｰ　\",\"\")&IF(申込みフォーム!AP57<>\"\",\"ﾌﾛｰﾗ　\",\"\")&IF(申込みフォーム!AQ57<>\"\",\"OCT　\",\"\")&IF(申込みフォーム!AR57<>\"\",\"検便　\",\"\")&IF(申込みフォーム!AS57<>\"\",\"骨　\",\"\")&IF(申込みフォーム!AT57<>\"\",\"骨＋ﾛｺﾓ\",\"\")","v":""},{"$f":"IF(申込みフォーム!AU57<>\"\",申込みフォーム!AU57&\"　　\",\"\")&IF(申込みフォーム!AV57<>\"\",申込みフォーム!AV57&\"　　\",\"\")&IF(申込みフォーム!AW57<>\"\",申込みフォーム!AW57&\"　　\",\"\")","v":""},{"$f":"IF(申込みフォーム!BJ57<>\"\",申込みフォーム!BJ57,\"\")","v":""},{"$f":"IF(申込みフォーム!BK57<>\"\",申込みフォーム!BK57,\"\")","v":""},{"$f":"IF(申込みフォーム!BL57<>\"\",申込みフォーム!BL57&\"　　\",\"\")&IF(申込みフォーム!BM57<>\"\",申込みフォーム!BM57&\"　　\",\"\")&IF(申込みフォーム!BN57<>\"\",申込みフォーム!BN57&\"　　\",\"\")","v":{"$error":"#VALUE!"}},{"$f":"申込みフォーム!$Z57","v":""}]
[48,null,null,null,null,{"$f":"IF(申込みフォーム!B58<>\"\",申込みフォーム!B58&\"　\"&申込みフォーム!C58,\"\")","v":""},{"$f":"IF(申込みフォーム!E58<>\"\",申込みフォーム!E58&\"　\"&申込みフォーム!F58,\"\")","v":""},{"$f":"IF(申込みフォーム!G58<>\"\",申込みフォーム!G58,\"\")","v":""},{"$f":"IF(申込みフォーム!H58<>\"\",申込みフォーム!H58,\"\")","v":""},{"$f":"IF(申込みフォーム!D58<>\"\",申込みフォーム!D58,\"\")","v":""},{"$f":"IF(申込みフォーム!I58<>\"\",REPLACE(申込みフォーム!I58,4,,\"-\"),\"\")","v":""},{"$f":"IF(申込みフォーム!J58<>\"\",申込みフォーム!J58,\"\")","v":""},{"$f":"IF(申込みフォーム!K58<>\"\",申込みフォーム!K58,\"\")","v":""},{"$f":"IF(申込みフォーム!L58<>\"\",MID(申込みフォーム!L58,1,3)&\"-\"&MID(申込みフォーム!L58,4,4)&\"-\"&MID(申込みフォーム!L58,8,4),\"\")","v":""},{"$f":"IF(申込みフォーム!M58<>\"\",申込みフォーム!M58,\"\")","v":""},{"$f":"IF(申込みフォーム!N58<>\"\",申込みフォーム!N58,\"\")","v":""},{"$f":"IF(申込みフォーム!O58<>\"\",申込みフォーム!O58,\"\")","v":""},{"$f":"IF(申込みフォーム!P58<>\"\",申込みフォーム!P58,\"\")","v":""},{"$f":"IF(申込みフォーム!Q58<>\"\",申込みフォーム!Q58,\"\")","v":""},{"$f":"IF(申込みフォーム!R58<>\"\",申込みフォーム!R58,\"\")","v":""},{"$f":"IF(申込みフォーム!S58<>\"\",申込みフォーム!S58,\"\")","v":""},{"$f":"IF(申込みフォーム!U58=\"細胞診のみ\",\"協会子宮　\",IF(申込みフォーム!U58=\"細胞診＋（自費）膣エコー\",\"協会子宮＋自費膣エコー　\",\"\"))&IF(申込みフォーム!W58<>\"\",\"協会ﾏﾝﾓ　\",\"\")&IF(申込みフォーム!Y58<>\"\",\"協会骨　\",\"\")&IF(申込みフォーム!AA58<>\"\",\"協会肝炎　\",\"\")","v":""},{"$f":"IF(申込みフォーム!AB58<>\"\",\"子宮　\",\"\")&IF(申込みフォーム!AC58<>\"\",\"ﾏﾝﾓ　\",\"\")&IF(申込みフォーム!AD58<>\"\",\"乳ｴｺｰ\",\"\")","v":""},{"$f":"IF(申込みフォーム!AE58<>\"\",\"ﾏｰｶｰ　\",\"\")&IF(申込みフォーム!AF58<>\"\",\"心機能　\",\"\")&IF(申込みフォーム!AG58<>\"\",\"ABC　\",\"\")&IF(申込みフォーム!AH58<>\"\",\"Lox　\",\"\")&IF(申込みフォーム!AI58<>\"\",\"甲状腺　\",\"\")&IF(申込みフォーム!AJ58<>\"\",\"肝炎\",\"\")","v":""},{"$f":"IF(申込みフォーム!AK58<>\"\",\"脳　\",\"\")&IF(申込みフォーム!AL58<>\"\",\"胸部CT　\",\"\")&IF(申込みフォーム!AM58<>\"\",\"肺機能　\",\"\")&IF(申込みフォーム!AN58<>\"\",\"腹ｴｺｰ　\",\"\")&IF(申込みフォーム!AO58<>\"\",\"心ｴｺｰ　\",\"\")&IF(申込みフォーム!AP58<>\"\",\"ﾌﾛｰﾗ　\",\"\")&IF(申込みフォーム!AQ58<>\"\",\"OCT　\",\"\")&IF(申込みフォーム!AR58<>\"\",\"検便　\",\"\")&IF(申込みフォーム!AS58<>\"\",\"骨　\",\"\")&IF(申込みフォーム!AT58<>\"\",\"骨＋ﾛｺﾓ\",\"\")","v":""},{"$f":"IF(申込みフォーム!AU58<>\"\",申込みフォーム!AU58&\"　　\",\"\")&IF(申込みフォーム!AV58<>\"\",申込みフォーム!AV58&\"　　\",\"\")&IF(申込みフォーム!AW58<>\"\",申込みフォーム!AW58&\"　　\",\"\")","v":""},{"$f":"IF(申込みフォーム!BJ58<>\"\",申込みフォーム!BJ58,\"\")","v":""},{"$f":"IF(申込みフォーム!BK58<>\"\",申込みフォーム!BK58,\"\")","v":""},{"$f":"IF(申込みフォーム!BL58<>\"\",申込みフォーム!BL58&\"　　\",\"\")&IF(申込みフォーム!BM58<>\"\",申込みフォーム!BM58&\"　　\",\"\")&IF(申込みフォーム!BN58<>\"\",申込みフォーム!BN58&\"　　\",\"\")","v":{"$error":"#VALUE!"}},{"$f":"申込みフォーム!$Z58","v":""}]
[49,null,null,null,null,{"$f":"IF(申込みフォーム!B59<>\"\",申込みフォーム!B59&\"　\"&申込みフォーム!C59,\"\")","v":""},{"$f":"IF(申込みフォーム!E59<>\"\",申込みフォーム!E59&\"　\"&申込みフォーム!F59,\"\")","v":""},{"$f":"IF(申込みフォーム!G59<>\"\",申込みフォーム!G59,\"\")","v":""},{"$f":"IF(申込みフォーム!H59<>\"\",申込みフォーム!H59,\"\")","v":""},{"$f":"IF(申込みフォーム!D59<>\"\",申込みフォーム!D59,\"\")","v":""},{"$f":"IF(申込みフォーム!I59<>\"\",REPLACE(申込みフォーム!I59,4,,\"-\"),\"\")","v":""},{"$f":"IF(申込みフォーム!J59<>\"\",申込みフォーム!J59,\"\")","v":""},{"$f":"IF(申込みフォーム!K59<>\"\",申込みフォーム!K59,\"\")","v":""},{"$f":"IF(申込みフォーム!L59<>\"\",MID(申込みフォーム!L59,1,3)&\"-\"&MID(申込みフォーム!L59,4,4)&\"-\"&MID(申込みフォーム!L59,8,4),\"\")","v":""},{"$f":"IF(申込みフォーム!M59<>\"\",申込みフォーム!M59,\"\")","v":""},{"$f":"IF(申込みフォーム!N59<>\"\",申込みフォーム!N59,\"\")","v":""},{"$f":"IF(申込みフォーム!O59<>\"\",申込みフォーム!O59,\"\")","v":""},{"$f":"IF(申込みフォーム!P59<>\"\",申込みフォーム!P59,\"\")","v":""},{"$f":"IF(申込みフォーム!Q59<>\"\",申込みフォーム!Q59,\"\")","v":""},{"$f":"IF(申込みフォーム!R59<>\"\",申込みフォーム!R59,\"\")","v":""},{"$f":"IF(申込みフォーム!S59<>\"\",申込みフォーム!S59,\"\")","v":""},{"$f":"IF(申込みフォーム!U59=\"細胞診のみ\",\"協会子宮　\",IF(申込みフォーム!U59=\"細胞診＋（自費）膣エコー\",\"協会子宮＋自費膣エコー　\",\"\"))&IF(申込みフォーム!W59<>\"\",\"協会ﾏﾝﾓ　\",\"\")&IF(申込みフォーム!Y59<>\"\",\"協会骨　\",\"\")&IF(申込みフォーム!AA59<>\"\",\"協会肝炎　\",\"\")","v":""},{"$f":"IF(申込みフォーム!AB59<>\"\",\"子宮　\",\"\")&IF(申込みフォーム!AC59<>\"\",\"ﾏﾝﾓ　\",\"\")&IF(申込みフォーム!AD59<>\"\",\"乳ｴｺｰ\",\"\")","v":""},{"$f":"IF(申込みフォーム!AE59<>\"\",\"ﾏｰｶｰ　\",\"\")&IF(申込みフォーム!AF59<>\"\",\"心機能　\",\"\")&IF(申込みフォーム!AG59<>\"\",\"ABC　\",\"\")&IF(申込みフォーム!AH59<>\"\",\"Lox　\",\"\")&IF(申込みフォーム!AI59<>\"\",\"甲状腺　\",\"\")&IF(申込みフォーム!AJ59<>\"\",\"肝炎\",\"\")","v":""},{"$f":"IF(申込みフォーム!AK59<>\"\",\"脳　\",\"\")&IF(申込みフォーム!AL59<>\"\",\"胸部CT　\",\"\")&IF(申込みフォーム!AM59<>\"\",\"肺機能　\",\"\")&IF(申込みフォーム!AN59<>\"\",\"腹ｴｺｰ　\",\"\")&IF(申込みフォーム!AO59<>\"\",\"心ｴｺｰ　\",\"\")&IF(申込みフォーム!AP59<>\"\",\"ﾌﾛｰﾗ　\",\"\")&IF(申込みフォーム!AQ59<>\"\",\"OCT　\",\"\")&IF(申込みフォーム!AR59<>\"\",\"検便　\",\"\")&IF(申込みフォーム!AS59<>\"\",\"骨　\",\"\")&IF(申込みフォーム!AT59<>\"\",\"骨＋ﾛｺﾓ\",\"\")","v":""},{"$f":"IF(申込みフォーム!AU59<>\"\",申込みフォーム!AU59&\"　　\",\"\")&IF(申込みフォーム!AV59<>\"\",申込みフォーム!AV59&\"　　\",\"\")&IF(申込みフォーム!AW59<>\"\",申込みフォーム!AW59&\"　　\",\"\")","v":""},{"$f":"IF(申込みフォーム!BJ59<>\"\",申込みフォーム!BJ59,\"\")","v":""},{"$f":"IF(申込みフォーム!BK59<>\"\",申込みフォーム!BK59,\"\")","v":""},{"$f":"IF(申込みフォーム!BL59<>\"\",申込みフォーム!BL59&\"　　\",\"\")&IF(申込みフォーム!BM59<>\"\",申込みフォーム!BM59&\"　　\",\"\")&IF(申込みフォーム!BN59<>\"\",申込みフォーム!BN59&\"　　\",\"\")","v":{"$error":"#VALUE!"}},{"$f":"申込みフォーム!$Z59","v":""}]
[50,null,null,null,null,{"$f":"IF(申込みフォーム!B60<>\"\",申込みフォーム!B60&\"　\"&申込みフォーム!C60,\"\")","v":""},{"$f":"IF(申込みフォーム!E60<>\"\",申込みフォーム!E60&\"　\"&申込みフォーム!F60,\"\")","v":""},{"$f":"IF(申込みフォーム!G60<>\"\",申込みフォーム!G60,\"\")","v":""},{"$f":"IF(申込みフォーム!H60<>\"\",申込みフォーム!H60,\"\")","v":""},{"$f":"IF(申込みフォーム!D60<>\"\",申込みフォーム!D60,\"\")","v":""},{"$f":"IF(申込みフォーム!I60<>\"\",REPLACE(申込みフォーム!I60,4,,\"-\"),\"\")","v":""},{"$f":"IF(申込みフォーム!J60<>\"\",申込みフォーム!J60,\"\")","v":""},{"$f":"IF(申込みフォーム!K60<>\"\",申込みフォーム!K60,\"\")","v":""},{"$f":"IF(申込みフォーム!L60<>\"\",MID(申込みフォーム!L60,1,3)&\"-\"&MID(申込みフォーム!L60,4,4)&\"-\"&MID(申込みフォーム!L60,8,4),\"\")","v":""},{"$f":"IF(申込みフォーム!M60<>\"\",申込みフォーム!M60,\"\")","v":""},{"$f":"IF(申込みフォーム!N60<>\"\",申込みフォーム!N60,\"\")","v":""},{"$f":"IF(申込みフォーム!O60<>\"\",申込みフォーム!O60,\"\")","v":""},{"$f":"IF(申込みフォーム!P60<>\"\",申込みフォーム!P60,\"\")","v":""},{"$f":"IF(申込みフォーム!Q60<>\"\",申込みフォーム!Q60,\"\")","v":""},{"$f":"IF(申込みフォーム!R60<>\"\",申込みフォーム!R60,\"\")","v":""},{"$f":"IF(申込みフォーム!S60<>\"\",申込みフォーム!S60,\"\")","v":""},{"$f":"IF(申込みフォーム!U60=\"細胞診のみ\",\"協会子宮　\",IF(申込みフォーム!U60=\"細胞診＋（自費）膣エコー\",\"協会子宮＋自費膣エコー　\",\"\"))&IF(申込みフォーム!W60<>\"\",\"協会ﾏﾝﾓ　\",\"\")&IF(申込みフォーム!Y60<>\"\",\"協会骨　\",\"\")&IF(申込みフォーム!AA60<>\"\",\"協会肝炎　\",\"\")","v":""},{"$f":"IF(申込みフォーム!AB60<>\"\",\"子宮　\",\"\")&IF(申込みフォーム!AC60<>\"\",\"ﾏﾝﾓ　\",\"\")&IF(申込みフォーム!AD60<>\"\",\"乳ｴｺｰ\",\"\")","v":""},{"$f":"IF(申込みフォーム!AE60<>\"\",\"ﾏｰｶｰ　\",\"\")&IF(申込みフォーム!AF60<>\"\",\"心機能　\",\"\")&IF(申込みフォーム!AG60<>\"\",\"ABC　\",\"\")&IF(申込みフォーム!AH60<>\"\",\"Lox　\",\"\")&IF(申込みフォーム!AI60<>\"\",\"甲状腺　\",\"\")&IF(申込みフォーム!AJ60<>\"\",\"肝炎\",\"\")","v":""},{"$f":"IF(申込みフォーム!AK60<>\"\",\"脳　\",\"\")&IF(申込みフォーム!AL60<>\"\",\"胸部CT　\",\"\")&IF(申込みフォーム!AM60<>\"\",\"肺機能　\",\"\")&IF(申込みフォーム!AN60<>\"\",\"腹ｴｺｰ　\",\"\")&IF(申込みフォーム!AO60<>\"\",\"心ｴｺｰ　\",\"\")&IF(申込みフォーム!AP60<>\"\",\"ﾌﾛｰﾗ　\",\"\")&IF(申込みフォーム!AQ60<>\"\",\"OCT　\",\"\")&IF(申込みフォーム!AR60<>\"\",\"検便　\",\"\")&IF(申込みフォーム!AS60<>\"\",\"骨　\",\"\")&IF(申込みフォーム!AT60<>\"\",\"骨＋ﾛｺﾓ\",\"\")","v":""},{"$f":"IF(申込みフォーム!AU60<>\"\",申込みフォーム!AU60&\"　　\",\"\")&IF(申込みフォーム!AV60<>\"\",申込みフォーム!AV60&\"　　\",\"\")&IF(申込みフォーム!AW60<>\"\",申込みフォーム!AW60&\"　　\",\"\")","v":""},{"$f":"IF(申込みフォーム!BJ60<>\"\",申込みフォーム!BJ60,\"\")","v":""},{"$f":"IF(申込みフォーム!BK60<>\"\",申込みフォーム!BK60,\"\")","v":""},{"$f":"IF(申込みフォーム!BL60<>\"\",申込みフォーム!BL60&\"　　\",\"\")&IF(申込みフォーム!BM60<>\"\",申込みフォーム!BM60&\"　　\",\"\")&IF(申込みフォーム!BN60<>\"\",申込みフォーム!BN60&\"　　\",\"\")","v":{"$error":"#VALUE!"}},{"$f":"申込みフォーム!$Z60","v":""}]
[51,null,null,null,null,{"$f":"IF(申込みフォーム!B61<>\"\",申込みフォーム!B61&\"　\"&申込みフォーム!C61,\"\")","v":""},{"$f":"IF(申込みフォーム!E61<>\"\",申込みフォーム!E61&\"　\"&申込みフォーム!F61,\"\")","v":""},{"$f":"IF(申込みフォーム!G61<>\"\",申込みフォーム!G61,\"\")","v":""},{"$f":"IF(申込みフォーム!H61<>\"\",申込みフォーム!H61,\"\")","v":""},{"$f":"IF(申込みフォーム!D61<>\"\",申込みフォーム!D61,\"\")","v":""},{"$f":"IF(申込みフォーム!I61<>\"\",REPLACE(申込みフォーム!I61,4,,\"-\"),\"\")","v":""},{"$f":"IF(申込みフォーム!J61<>\"\",申込みフォーム!J61,\"\")","v":""},{"$f":"IF(申込みフォーム!K61<>\"\",申込みフォーム!K61,\"\")","v":""},{"$f":"IF(申込みフォーム!L61<>\"\",MID(申込みフォーム!L61,1,3)&\"-\"&MID(申込みフォーム!L61,4,4)&\"-\"&MID(申込みフォーム!L61,8,4),\"\")","v":""},{"$f":"IF(申込みフォーム!M61<>\"\",申込みフォーム!M61,\"\")","v":""},{"$f":"IF(申込みフォーム!N61<>\"\",申込みフォーム!N61,\"\")","v":""},{"$f":"IF(申込みフォーム!O61<>\"\",申込みフォーム!O61,\"\")","v":""},{"$f":"IF(申込みフォーム!P61<>\"\",申込みフォーム!P61,\"\")","v":""},{"$f":"IF(申込みフォーム!Q61<>\"\",申込みフォーム!Q61,\"\")","v":""},{"$f":"IF(申込みフォーム!R61<>\"\",申込みフォーム!R61,\"\")","v":""},{"$f":"IF(申込みフォーム!S61<>\"\",申込みフォーム!S61,\"\")","v":""},{"$f":"IF(申込みフォーム!U61=\"細胞診のみ\",\"協会子宮　\",IF(申込みフォーム!U61=\"細胞診＋（自費）膣エコー\",\"協会子宮＋自費膣エコー　\",\"\"))&IF(申込みフォーム!W61<>\"\",\"協会ﾏﾝﾓ　\",\"\")&IF(申込みフォーム!Y61<>\"\",\"協会骨　\",\"\")&IF(申込みフォーム!AA61<>\"\",\"協会肝炎　\",\"\")","v":""},{"$f":"IF(申込みフォーム!AB61<>\"\",\"子宮　\",\"\")&IF(申込みフォーム!AC61<>\"\",\"ﾏﾝﾓ　\",\"\")&IF(申込みフォーム!AD61<>\"\",\"乳ｴｺｰ\",\"\")","v":""},{"$f":"IF(申込みフォーム!AE61<>\"\",\"ﾏｰｶｰ　\",\"\")&IF(申込みフォーム!AF61<>\"\",\"心機能　\",\"\")&IF(申込みフォーム!AG61<>\"\",\"ABC　\",\"\")&IF(申込みフォーム!AH61<>\"\",\"Lox　\",\"\")&IF(申込みフォーム!AI61<>\"\",\"甲状腺　\",\"\")&IF(申込みフォーム!AJ61<>\"\",\"肝炎\",\"\")","v":""},{"$f":"IF(申込みフォーム!AK61<>\"\",\"脳　\",\"\")&IF(申込みフォーム!AL61<>\"\",\"胸部CT　\",\"\")&IF(申込みフォーム!AM61<>\"\",\"肺機能　\",\"\")&IF(申込みフォーム!AN61<>\"\",\"腹ｴｺｰ　\",\"\")&IF(申込みフォーム!AO61<>\"\",\"心ｴｺｰ　\",\"\")&IF(申込みフォーム!AP61<>\"\",\"ﾌﾛｰﾗ　\",\"\")&IF(申込みフォーム!AQ61<>\"\",\"OCT　\",\"\")&IF(申込みフォーム!AR61<>\"\",\"検便　\",\"\")&IF(申込みフォーム!AS61<>\"\",\"骨　\",\"\")&IF(申込みフォーム!AT61<>\"\",\"骨＋ﾛｺﾓ\",\"\")","v":""},{"$f":"IF(申込みフォーム!AU61<>\"\",申込みフォーム!AU61&\"　　\",\"\")&IF(申込みフォーム!AV61<>\"\",申込みフォーム!AV61&\"　　\",\"\")&IF(申込みフォーム!AW61<>\"\",申込みフォーム!AW61&\"　　\",\"\")","v":""},{"$f":"IF(申込みフォーム!BJ61<>\"\",申込みフォーム!BJ61,\"\")","v":""},{"$f":"IF(申込みフォーム!BK61<>\"\",申込みフォーム!BK61,\"\")","v":""},{"$f":"IF(申込みフォーム!BL61<>\"\",申込みフォーム!BL61&\"　　\",\"\")&IF(申込みフォーム!BM61<>\"\",申込みフォーム!BM61&\"　　\",\"\")&IF(申込みフォーム!BN61<>\"\",申込みフォーム!BN61&\"　　\",\"\")","v":{"$error":"#VALUE!"}},{"$f":"申込みフォーム!$Z61","v":""}]
[52,null,null,null,null,{"$f":"IF(申込みフォーム!B62<>\"\",申込みフォーム!B62&\"　\"&申込みフォーム!C62,\"\")","v":""},{"$f":"IF(申込みフォーム!E62<>\"\",申込みフォーム!E62&\"　\"&申込みフォーム!F62,\"\")","v":""},{"$f":"IF(申込みフォーム!G62<>\"\",申込みフォーム!G62,\"\")","v":""},{"$f":"IF(申込みフォーム!H62<>\"\",申込みフォーム!H62,\"\")","v":""},{"$f":"IF(申込みフォーム!D62<>\"\",申込みフォーム!D62,\"\")","v":""},{"$f":"IF(申込みフォーム!I62<>\"\",REPLACE(申込みフォーム!I62,4,,\"-\"),\"\")","v":""},{"$f":"IF(申込みフォーム!J62<>\"\",申込みフォーム!J62,\"\")","v":""},{"$f":"IF(申込みフォーム!K62<>\"\",申込みフォーム!K62,\"\")","v":""},{"$f":"IF(申込みフォーム!L62<>\"\",MID(申込みフォーム!L62,1,3)&\"-\"&MID(申込みフォーム!L62,4,4)&\"-\"&MID(申込みフォーム!L62,8,4),\"\")","v":""},{"$f":"IF(申込みフォーム!M62<>\"\",申込みフォーム!M62,\"\")","v":""},{"$f":"IF(申込みフォーム!N62<>\"\",申込みフォーム!N62,\"\")","v":""},{"$f":"IF(申込みフォーム!O62<>\"\",申込みフォーム!O62,\"\")","v":""},{"$f":"IF(申込みフォーム!P62<>\"\",申込みフォーム!P62,\"\")","v":""},{"$f":"IF(申込みフォーム!Q62<>\"\",申込みフォーム!Q62,\"\")","v":""},{"$f":"IF(申込みフォーム!R62<>\"\",申込みフォーム!R62,\"\")","v":""},{"$f":"IF(申込みフォーム!S62<>\"\",申込みフォーム!S62,\"\")","v":""},{"$f":"IF(申込みフォーム!U62=\"細胞診のみ\",\"協会子宮　\",IF(申込みフォーム!U62=\"細胞診＋（自費）膣エコー\",\"協会子宮＋自費膣エコー　\",\"\"))&IF(申込みフォーム!W62<>\"\",\"協会ﾏﾝﾓ　\",\"\")&IF(申込みフォーム!Y62<>\"\",\"協会骨　\",\"\")&IF(申込みフォーム!AA62<>\"\",\"協会肝炎　\",\"\")","v":""},{"$f":"IF(申込みフォーム!AB62<>\"\",\"子宮　\",\"\")&IF(申込みフォーム!AC62<>\"\",\"ﾏﾝﾓ　\",\"\")&IF(申込みフォーム!AD62<>\"\",\"乳ｴｺｰ\",\"\")","v":""},{"$f":"IF(申込みフォーム!AE62<>\"\",\"ﾏｰｶｰ　\",\"\")&IF(申込みフォーム!AF62<>\"\",\"心機能　\",\"\")&IF(申込みフォーム!AG62<>\"\",\"ABC　\",\"\")&IF(申込みフォーム!AH62<>\"\",\"Lox　\",\"\")&IF(申込みフォーム!AI62<>\"\",\"甲状腺　\",\"\")&IF(申込みフォーム!AJ62<>\"\",\"肝炎\",\"\")","v":""},{"$f":"IF(申込みフォーム!AK62<>\"\",\"脳　\",\"\")&IF(申込みフォーム!AL62<>\"\",\"胸部CT　\",\"\")&IF(申込みフォーム!AM62<>\"\",\"肺機能　\",\"\")&IF(申込みフォーム!AN62<>\"\",\"腹ｴｺｰ　\",\"\")&IF(申込みフォーム!AO62<>\"\",\"心ｴｺｰ　\",\"\")&IF(申込みフォーム!AP62<>\"\",\"ﾌﾛｰﾗ　\",\"\")&IF(申込みフォーム!AQ62<>\"\",\"OCT　\",\"\")&IF(申込みフォーム!AR62<>\"\",\"検便　\",\"\")&IF(申込みフォーム!AS62<>\"\",\"骨　\",\"\")&IF(申込みフォーム!AT62<>\"\",\"骨＋ﾛｺﾓ\",\"\")","v":""},{"$f":"IF(申込みフォーム!AU62<>\"\",申込みフォーム!AU62&\"　　\",\"\")&IF(申込みフォーム!AV62<>\"\",申込みフォーム!AV62&\"　　\",\"\")&IF(申込みフォーム!AW62<>\"\",申込みフォーム!AW62&\"　　\",\"\")","v":""},{"$f":"IF(申込みフォーム!BJ62<>\"\",申込みフォーム!BJ62,\"\")","v":""},{"$f":"IF(申込みフォーム!BK62<>\"\",申込みフォーム!BK62,\"\")","v":""},{"$f":"IF(申込みフォーム!BL62<>\"\",申込みフォーム!BL62&\"　　\",\"\")&IF(申込みフォーム!BM62<>\"\",申込みフォーム!BM62&\"　　\",\"\")&IF(申込みフォーム!BN62<>\"\",申込みフォーム!BN62&\"　　\",\"\")","v":{"$error":"#VALUE!"}},{"$f":"申込みフォーム!$Z62","v":""}]
[53,null,null,null,null,{"$f":"IF(申込みフォーム!B63<>\"\",申込みフォーム!B63&\"　\"&申込みフォーム!C63,\"\")","v":""},{"$f":"IF(申込みフォーム!E63<>\"\",申込みフォーム!E63&\"　\"&申込みフォーム!F63,\"\")","v":""},{"$f":"IF(申込みフォーム!G63<>\"\",申込みフォーム!G63,\"\")","v":""},{"$f":"IF(申込みフォーム!H63<>\"\",申込みフォーム!H63,\"\")","v":""},{"$f":"IF(申込みフォーム!D63<>\"\",申込みフォーム!D63,\"\")","v":""},{"$f":"IF(申込みフォーム!I63<>\"\",REPLACE(申込みフォーム!I63,4,,\"-\"),\"\")","v":""},{"$f":"IF(申込みフォーム!J63<>\"\",申込みフォーム!J63,\"\")","v":""},{"$f":"IF(申込みフォーム!K63<>\"\",申込みフォーム!K63,\"\")","v":""},{"$f":"IF(申込みフォーム!L63<>\"\",MID(申込みフォーム!L63,1,3)&\"-\"&MID(申込みフォーム!L63,4,4)&\"-\"&MID(申込みフォーム!L63,8,4),\"\")","v":""},{"$f":"IF(申込みフォーム!M63<>\"\",申込みフォーム!M63,\"\")","v":""},{"$f":"IF(申込みフォーム!N63<>\"\",申込みフォーム!N63,\"\")","v":""},{"$f":"IF(申込みフォーム!O63<>\"\",申込みフォーム!O63,\"\")","v":""},{"$f":"IF(申込みフォーム!P63<>\"\",申込みフォーム!P63,\"\")","v":""},{"$f":"IF(申込みフォーム!Q63<>\"\",申込みフォーム!Q63,\"\")","v":""},{"$f":"IF(申込みフォーム!R63<>\"\",申込みフォーム!R63,\"\")","v":""},{"$f":"IF(申込みフォーム!S63<>\"\",申込みフォーム!S63,\"\")","v":""},{"$f":"IF(申込みフォーム!U63=\"細胞診のみ\",\"協会子宮　\",IF(申込みフォーム!U63=\"細胞診＋（自費）膣エコー\",\"協会子宮＋自費膣エコー　\",\"\"))&IF(申込みフォーム!W63<>\"\",\"協会ﾏﾝﾓ　\",\"\")&IF(申込みフォーム!Y63<>\"\",\"協会骨　\",\"\")&IF(申込みフォーム!AA63<>\"\",\"協会肝炎　\",\"\")","v":""},{"$f":"IF(申込みフォーム!AB63<>\"\",\"子宮　\",\"\")&IF(申込みフォーム!AC63<>\"\",\"ﾏﾝﾓ　\",\"\")&IF(申込みフォーム!AD63<>\"\",\"乳ｴｺｰ\",\"\")","v":""},{"$f":"IF(申込みフォーム!AE63<>\"\",\"ﾏｰｶｰ　\",\"\")&IF(申込みフォーム!AF63<>\"\",\"心機能　\",\"\")&IF(申込みフォーム!AG63<>\"\",\"ABC　\",\"\")&IF(申込みフォーム!AH63<>\"\",\"Lox　\",\"\")&IF(申込みフォーム!AI63<>\"\",\"甲状腺　\",\"\")&IF(申込みフォーム!AJ63<>\"\",\"肝炎\",\"\")","v":""},{"$f":"IF(申込みフォーム!AK63<>\"\",\"脳　\",\"\")&IF(申込みフォーム!AL63<>\"\",\"胸部CT　\",\"\")&IF(申込みフォーム!AM63<>\"\",\"肺機能　\",\"\")&IF(申込みフォーム!AN63<>\"\",\"腹ｴｺｰ　\",\"\")&IF(申込みフォーム!AO63<>\"\",\"心ｴｺｰ　\",\"\")&IF(申込みフォーム!AP63<>\"\",\"ﾌﾛｰﾗ　\",\"\")&IF(申込みフォーム!AQ63<>\"\",\"OCT　\",\"\")&IF(申込みフォーム!AR63<>\"\",\"検便　\",\"\")&IF(申込みフォーム!AS63<>\"\",\"骨　\",\"\")&IF(申込みフォーム!AT63<>\"\",\"骨＋ﾛｺﾓ\",\"\")","v":""},{"$f":"IF(申込みフォーム!AU63<>\"\",申込みフォーム!AU63&\"　　\",\"\")&IF(申込みフォーム!AV63<>\"\",申込みフォーム!AV63&\"　　\",\"\")&IF(申込みフォーム!AW63<>\"\",申込みフォーム!AW63&\"　　\",\"\")","v":""},{"$f":"IF(申込みフォーム!BJ63<>\"\",申込みフォーム!BJ63,\"\")","v":""},{"$f":"IF(申込みフォーム!BK63<>\"\",申込みフォーム!BK63,\"\")","v":""},{"$f":"IF(申込みフォーム!BL63<>\"\",申込みフォーム!BL63&\"　　\",\"\")&IF(申込みフォーム!BM63<>\"\",申込みフォーム!BM63&\"　　\",\"\")&IF(申込みフォーム!BN63<>\"\",申込みフォーム!BN63&\"　　\",\"\")","v":{"$error":"#VALUE!"}},{"$f":"申込みフォーム!$Z63","v":""}]
[54,null,null,null,null,{"$f":"IF(申込みフォーム!B64<>\"\",申込みフォーム!B64&\"　\"&申込みフォーム!C64,\"\")","v":""},{"$f":"IF(申込みフォーム!E64<>\"\",申込みフォーム!E64&\"　\"&申込みフォーム!F64,\"\")","v":""},{"$f":"IF(申込みフォーム!G64<>\"\",申込みフォーム!G64,\"\")","v":""},{"$f":"IF(申込みフォーム!H64<>\"\",申込みフォーム!H64,\"\")","v":""},{"$f":"IF(申込みフォーム!D64<>\"\",申込みフォーム!D64,\"\")","v":""},{"$f":"IF(申込みフォーム!I64<>\"\",REPLACE(申込みフォーム!I64,4,,\"-\"),\"\")","v":""},{"$f":"IF(申込みフォーム!J64<>\"\",申込みフォーム!J64,\"\")","v":""},{"$f":"IF(申込みフォーム!K64<>\"\",申込みフォーム!K64,\"\")","v":""},{"$f":"IF(申込みフォーム!L64<>\"\",MID(申込みフォーム!L64,1,3)&\"-\"&MID(申込みフォーム!L64,4,4)&\"-\"&MID(申込みフォーム!L64,8,4),\"\")","v":""},{"$f":"IF(申込みフォーム!M64<>\"\",申込みフォーム!M64,\"\")","v":""},{"$f":"IF(申込みフォーム!N64<>\"\",申込みフォーム!N64,\"\")","v":""},{"$f":"IF(申込みフォーム!O64<>\"\",申込みフォーム!O64,\"\")","v":""},{"$f":"IF(申込みフォーム!P64<>\"\",申込みフォーム!P64,\"\")","v":""},{"$f":"IF(申込みフォーム!Q64<>\"\",申込みフォーム!Q64,\"\")","v":""},{"$f":"IF(申込みフォーム!R64<>\"\",申込みフォーム!R64,\"\")","v":""},{"$f":"IF(申込みフォーム!S64<>\"\",申込みフォーム!S64,\"\")","v":""},{"$f":"IF(申込みフォーム!U64=\"細胞診のみ\",\"協会子宮　\",IF(申込みフォーム!U64=\"細胞診＋（自費）膣エコー\",\"協会子宮＋自費膣エコー　\",\"\"))&IF(申込みフォーム!W64<>\"\",\"協会ﾏﾝﾓ　\",\"\")&IF(申込みフォーム!Y64<>\"\",\"協会骨　\",\"\")&IF(申込みフォーム!AA64<>\"\",\"協会肝炎　\",\"\")","v":""},{"$f":"IF(申込みフォーム!AB64<>\"\",\"子宮　\",\"\")&IF(申込みフォーム!AC64<>\"\",\"ﾏﾝﾓ　\",\"\")&IF(申込みフォーム!AD64<>\"\",\"乳ｴｺｰ\",\"\")","v":""},{"$f":"IF(申込みフォーム!AE64<>\"\",\"ﾏｰｶｰ　\",\"\")&IF(申込みフォーム!AF64<>\"\",\"心機能　\",\"\")&IF(申込みフォーム!AG64<>\"\",\"ABC　\",\"\")&IF(申込みフォーム!AH64<>\"\",\"Lox　\",\"\")&IF(申込みフォーム!AI64<>\"\",\"甲状腺　\",\"\")&IF(申込みフォーム!AJ64<>\"\",\"肝炎\",\"\")","v":""},{"$f":"IF(申込みフォーム!AK64<>\"\",\"脳　\",\"\")&IF(申込みフォーム!AL64<>\"\",\"胸部CT　\",\"\")&IF(申込みフォーム!AM64<>\"\",\"肺機能　\",\"\")&IF(申込みフォーム!AN64<>\"\",\"腹ｴｺｰ　\",\"\")&IF(申込みフォーム!AO64<>\"\",\"心ｴｺｰ　\",\"\")&IF(申込みフォーム!AP64<>\"\",\"ﾌﾛｰﾗ　\",\"\")&IF(申込みフォーム!AQ64<>\"\",\"OCT　\",\"\")&IF(申込みフォーム!AR64<>\"\",\"検便　\",\"\")&IF(申込みフォーム!AS64<>\"\",\"骨　\",\"\")&IF(申込みフォーム!AT64<>\"\",\"骨＋ﾛｺﾓ\",\"\")","v":""},{"$f":"IF(申込みフォーム!AU64<>\"\",申込みフォーム!AU64&\"　　\",\"\")&IF(申込みフォーム!AV64<>\"\",申込みフォーム!AV64&\"　　\",\"\")&IF(申込みフォーム!AW64<>\"\",申込みフォーム!AW64&\"　　\",\"\")","v":""},{"$f":"IF(申込みフォーム!BJ64<>\"\",申込みフォーム!BJ64,\"\")","v":""},{"$f":"IF(申込みフォーム!BK64<>\"\",申込みフォーム!BK64,\"\")","v":""},{"$f":"IF(申込みフォーム!BL64<>\"\",申込みフォーム!BL64&\"　　\",\"\")&IF(申込みフォーム!BM64<>\"\",申込みフォーム!BM64&\"　　\",\"\")&IF(申込みフォーム!BN64<>\"\",申込みフォーム!BN64&\"　　\",\"\")","v":{"$error":"#VALUE!"}},{"$f":"申込みフォーム!$Z64","v":""}]
[55,null,null,null,null,{"$f":"IF(申込みフォーム!B65<>\"\",申込みフォーム!B65&\"　\"&申込みフォーム!C65,\"\")","v":""},{"$f":"IF(申込みフォーム!E65<>\"\",申込みフォーム!E65&\"　\"&申込みフォーム!F65,\"\")","v":""},{"$f":"IF(申込みフォーム!G65<>\"\",申込みフォーム!G65,\"\")","v":""},{"$f":"IF(申込みフォーム!H65<>\"\",申込みフォーム!H65,\"\")","v":""},{"$f":"IF(申込みフォーム!D65<>\"\",申込みフォーム!D65,\"\")","v":""},{"$f":"IF(申込みフォーム!I65<>\"\",REPLACE(申込みフォーム!I65,4,,\"-\"),\"\")","v":""},{"$f":"IF(申込みフォーム!J65<>\"\",申込みフォーム!J65,\"\")","v":""},{"$f":"IF(申込みフォーム!K65<>\"\",申込みフォーム!K65,\"\")","v":""},{"$f":"IF(申込みフォーム!L65<>\"\",MID(申込みフォーム!L65,1,3)&\"-\"&MID(申込みフォーム!L65,4,4)&\"-\"&MID(申込みフォーム!L65,8,4),\"\")","v":""},{"$f":"IF(申込みフォーム!M65<>\"\",申込みフォーム!M65,\"\")","v":""},{"$f":"IF(申込みフォーム!N65<>\"\",申込みフォーム!N65,\"\")","v":""},{"$f":"IF(申込みフォーム!O65<>\"\",申込みフォーム!O65,\"\")","v":""},{"$f":"IF(申込みフォーム!P65<>\"\",申込みフォーム!P65,\"\")","v":""},{"$f":"IF(申込みフォーム!Q65<>\"\",申込みフォーム!Q65,\"\")","v":""},{"$f":"IF(申込みフォーム!R65<>\"\",申込みフォーム!R65,\"\")","v":""},{"$f":"IF(申込みフォーム!S65<>\"\",申込みフォーム!S65,\"\")","v":""},{"$f":"IF(申込みフォーム!U65=\"細胞診のみ\",\"協会子宮　\",IF(申込みフォーム!U65=\"細胞診＋（自費）膣エコー\",\"協会子宮＋自費膣エコー　\",\"\"))&IF(申込みフォーム!W65<>\"\",\"協会ﾏﾝﾓ　\",\"\")&IF(申込みフォーム!Y65<>\"\",\"協会骨　\",\"\")&IF(申込みフォーム!AA65<>\"\",\"協会肝炎　\",\"\")","v":""},{"$f":"IF(申込みフォーム!AB65<>\"\",\"子宮　\",\"\")&IF(申込みフォーム!AC65<>\"\",\"ﾏﾝﾓ　\",\"\")&IF(申込みフォーム!AD65<>\"\",\"乳ｴｺｰ\",\"\")","v":""},{"$f":"IF(申込みフォーム!AE65<>\"\",\"ﾏｰｶｰ　\",\"\")&IF(申込みフォーム!AF65<>\"\",\"心機能　\",\"\")&IF(申込みフォーム!AG65<>\"\",\"ABC　\",\"\")&IF(申込みフォーム!AH65<>\"\",\"Lox　\",\"\")&IF(申込みフォーム!AI65<>\"\",\"甲状腺　\",\"\")&IF(申込みフォーム!AJ65<>\"\",\"肝炎\",\"\")","v":""},{"$f":"IF(申込みフォーム!AK65<>\"\",\"脳　\",\"\")&IF(申込みフォーム!AL65<>\"\",\"胸部CT　\",\"\")&IF(申込みフォーム!AM65<>\"\",\"肺機能　\",\"\")&IF(申込みフォーム!AN65<>\"\",\"腹ｴｺｰ　\",\"\")&IF(申込みフォーム!AO65<>\"\",\"心ｴｺｰ　\",\"\")&IF(申込みフォーム!AP65<>\"\",\"ﾌﾛｰﾗ　\",\"\")&IF(申込みフォーム!AQ65<>\"\",\"OCT　\",\"\")&IF(申込みフォーム!AR65<>\"\",\"検便　\",\"\")&IF(申込みフォーム!AS65<>\"\",\"骨　\",\"\")&IF(申込みフォーム!AT65<>\"\",\"骨＋ﾛｺﾓ\",\"\")","v":""},{"$f":"IF(申込みフォーム!AU65<>\"\",申込みフォーム!AU65&\"　　\",\"\")&IF(申込みフォーム!AV65<>\"\",申込みフォーム!AV65&\"　　\",\"\")&IF(申込みフォーム!AW65<>\"\",申込みフォーム!AW65&\"　　\",\"\")","v":""},{"$f":"IF(申込みフォーム!BJ65<>\"\",申込みフォーム!BJ65,\"\")","v":""},{"$f":"IF(申込みフォーム!BK65<>\"\",申込みフォーム!BK65,\"\")","v":""},{"$f":"IF(申込みフォーム!BL65<>\"\",申込みフォーム!BL65&\"　　\",\"\")&IF(申込みフォーム!BM65<>\"\",申込みフォーム!BM65&\"　　\",\"\")&IF(申込みフォーム!BN65<>\"\",申込みフォーム!BN65&\"　　\",\"\")","v":{"$error":"#VALUE!"}},{"$f":"申込みフォーム!$Z65","v":""}]
[56,null,null,null,null,{"$f":"IF(申込みフォーム!B66<>\"\",申込みフォーム!B66&\"　\"&申込みフォーム!C66,\"\")","v":""},{"$f":"IF(申込みフォーム!E66<>\"\",申込みフォーム!E66&\"　\"&申込みフォーム!F66,\"\")","v":""},{"$f":"IF(申込みフォーム!G66<>\"\",申込みフォーム!G66,\"\")","v":""},{"$f":"IF(申込みフォーム!H66<>\"\",申込みフォーム!H66,\"\")","v":""},{"$f":"IF(申込みフォーム!D66<>\"\",申込みフォーム!D66,\"\")","v":""},{"$f":"IF(申込みフォーム!I66<>\"\",REPLACE(申込みフォーム!I66,4,,\"-\"),\"\")","v":""},{"$f":"IF(申込みフォーム!J66<>\"\",申込みフォーム!J66,\"\")","v":""},{"$f":"IF(申込みフォーム!K66<>\"\",申込みフォーム!K66,\"\")","v":""},{"$f":"IF(申込みフォーム!L66<>\"\",MID(申込みフォーム!L66,1,3)&\"-\"&MID(申込みフォーム!L66,4,4)&\"-\"&MID(申込みフォーム!L66,8,4),\"\")","v":""},{"$f":"IF(申込みフォーム!M66<>\"\",申込みフォーム!M66,\"\")","v":""},{"$f":"IF(申込みフォーム!N66<>\"\",申込みフォーム!N66,\"\")","v":""},{"$f":"IF(申込みフォーム!O66<>\"\",申込みフォーム!O66,\"\")","v":""},{"$f":"IF(申込みフォーム!P66<>\"\",申込みフォーム!P66,\"\")","v":""},{"$f":"IF(申込みフォーム!Q66<>\"\",申込みフォーム!Q66,\"\")","v":""},{"$f":"IF(申込みフォーム!R66<>\"\",申込みフォーム!R66,\"\")","v":""},{"$f":"IF(申込みフォーム!S66<>\"\",申込みフォーム!S66,\"\")","v":""},{"$f":"IF(申込みフォーム!U66=\"細胞診のみ\",\"協会子宮　\",IF(申込みフォーム!U66=\"細胞診＋（自費）膣エコー\",\"協会子宮＋自費膣エコー　\",\"\"))&IF(申込みフォーム!W66<>\"\",\"協会ﾏﾝﾓ　\",\"\")&IF(申込みフォーム!Y66<>\"\",\"協会骨　\",\"\")&IF(申込みフォーム!AA66<>\"\",\"協会肝炎　\",\"\")","v":""},{"$f":"IF(申込みフォーム!AB66<>\"\",\"子宮　\",\"\")&IF(申込みフォーム!AC66<>\"\",\"ﾏﾝﾓ　\",\"\")&IF(申込みフォーム!AD66<>\"\",\"乳ｴｺｰ\",\"\")","v":""},{"$f":"IF(申込みフォーム!AE66<>\"\",\"ﾏｰｶｰ　\",\"\")&IF(申込みフォーム!AF66<>\"\",\"心機能　\",\"\")&IF(申込みフォーム!AG66<>\"\",\"ABC　\",\"\")&IF(申込みフォーム!AH66<>\"\",\"Lox　\",\"\")&IF(申込みフォーム!AI66<>\"\",\"甲状腺　\",\"\")&IF(申込みフォーム!AJ66<>\"\",\"肝炎\",\"\")","v":""},{"$f":"IF(申込みフォーム!AK66<>\"\",\"脳　\",\"\")&IF(申込みフォーム!AL66<>\"\",\"胸部CT　\",\"\")&IF(申込みフォーム!AM66<>\"\",\"肺機能　\",\"\")&IF(申込みフォーム!AN66<>\"\",\"腹ｴｺｰ　\",\"\")&IF(申込みフォーム!AO66<>\"\",\"心ｴｺｰ　\",\"\")&IF(申込みフォーム!AP66<>\"\",\"ﾌﾛｰﾗ　\",\"\")&IF(申込みフォーム!AQ66<>\"\",\"OCT　\",\"\")&IF(申込みフォーム!AR66<>\"\",\"検便　\",\"\")&IF(申込みフォーム!AS66<>\"\",\"骨　\",\"\")&IF(申込みフォーム!AT66<>\"\",\"骨＋ﾛｺﾓ\",\"\")","v":""},{"$f":"IF(申込みフォーム!AU66<>\"\",申込みフォーム!AU66&\"　　\",\"\")&IF(申込みフォーム!AV66<>\"\",申込みフォーム!AV66&\"　　\",\"\")&IF(申込みフォーム!AW66<>\"\",申込みフォーム!AW66&\"　　\",\"\")","v":""},{"$f":"IF(申込みフォーム!BJ66<>\"\",申込みフォーム!BJ66,\"\")","v":""},{"$f":"IF(申込みフォーム!BK66<>\"\",申込みフォーム!BK66,\"\")","v":""},{"$f":"IF(申込みフォーム!BL66<>\"\",申込みフォーム!BL66&\"　　\",\"\")&IF(申込みフォーム!BM66<>\"\",申込みフォーム!BM66&\"　　\",\"\")&IF(申込みフォーム!BN66<>\"\",申込みフォーム!BN66&\"　　\",\"\")","v":{"$error":"#VALUE!"}},{"$f":"申込みフォーム!$Z66","v":""}]
[57,null,null,null,null,{"$f":"IF(申込みフォーム!B67<>\"\",申込みフォーム!B67&\"　\"&申込みフォーム!C67,\"\")","v":""},{"$f":"IF(申込みフォーム!E67<>\"\",申込みフォーム!E67&\"　\"&申込みフォーム!F67,\"\")","v":""},{"$f":"IF(申込みフォーム!G67<>\"\",申込みフォーム!G67,\"\")","v":""},{"$f":"IF(申込みフォーム!H67<>\"\",申込みフォーム!H67,\"\")","v":""},{"$f":"IF(申込みフォーム!D67<>\"\",申込みフォーム!D67,\"\")","v":""},{"$f":"IF(申込みフォーム!I67<>\"\",REPLACE(申込みフォーム!I67,4,,\"-\"),\"\")","v":""},{"$f":"IF(申込みフォーム!J67<>\"\",申込みフォーム!J67,\"\")","v":""},{"$f":"IF(申込みフォーム!K67<>\"\",申込みフォーム!K67,\"\")","v":""},{"$f":"IF(申込みフォーム!L67<>\"\",MID(申込みフォーム!L67,1,3)&\"-\"&MID(申込みフォーム!L67,4,4)&\"-\"&MID(申込みフォーム!L67,8,4),\"\")","v":""},{"$f":"IF(申込みフォーム!M67<>\"\",申込みフォーム!M67,\"\")","v":""},{"$f":"IF(申込みフォーム!N67<>\"\",申込みフォーム!N67,\"\")","v":""},{"$f":"IF(申込みフォーム!O67<>\"\",申込みフォーム!O67,\"\")","v":""},{"$f":"IF(申込みフォーム!P67<>\"\",申込みフォーム!P67,\"\")","v":""},{"$f":"IF(申込みフォーム!Q67<>\"\",申込みフォーム!Q67,\"\")","v":""},{"$f":"IF(申込みフォーム!R67<>\"\",申込みフォーム!R67,\"\")","v":""},{"$f":"IF(申込みフォーム!S67<>\"\",申込みフォーム!S67,\"\")","v":""},{"$f":"IF(申込みフォーム!U67=\"細胞診のみ\",\"協会子宮　\",IF(申込みフォーム!U67=\"細胞診＋（自費）膣エコー\",\"協会子宮＋自費膣エコー　\",\"\"))&IF(申込みフォーム!W67<>\"\",\"協会ﾏﾝﾓ　\",\"\")&IF(申込みフォーム!Y67<>\"\",\"協会骨　\",\"\")&IF(申込みフォーム!AA67<>\"\",\"協会肝炎　\",\"\")","v":""},{"$f":"IF(申込みフォーム!AB67<>\"\",\"子宮　\",\"\")&IF(申込みフォーム!AC67<>\"\",\"ﾏﾝﾓ　\",\"\")&IF(申込みフォーム!AD67<>\"\",\"乳ｴｺｰ\",\"\")","v":""},{"$f":"IF(申込みフォーム!AE67<>\"\",\"ﾏｰｶｰ　\",\"\")&IF(申込みフォーム!AF67<>\"\",\"心機能　\",\"\")&IF(申込みフォーム!AG67<>\"\",\"ABC　\",\"\")&IF(申込みフォーム!AH67<>\"\",\"Lox　\",\"\")&IF(申込みフォーム!AI67<>\"\",\"甲状腺　\",\"\")&IF(申込みフォーム!AJ67<>\"\",\"肝炎\",\"\")","v":""},{"$f":"IF(申込みフォーム!AK67<>\"\",\"脳　\",\"\")&IF(申込みフォーム!AL67<>\"\",\"胸部CT　\",\"\")&IF(申込みフォーム!AM67<>\"\",\"肺機能　\",\"\")&IF(申込みフォーム!AN67<>\"\",\"腹ｴｺｰ　\",\"\")&IF(申込みフォーム!AO67<>\"\",\"心ｴｺｰ　\",\"\")&IF(申込みフォーム!AP67<>\"\",\"ﾌﾛｰﾗ　\",\"\")&IF(申込みフォーム!AQ67<>\"\",\"OCT　\",\"\")&IF(申込みフォーム!AR67<>\"\",\"検便　\",\"\")&IF(申込みフォーム!AS67<>\"\",\"骨　\",\"\")&IF(申込みフォーム!AT67<>\"\",\"骨＋ﾛｺﾓ\",\"\")","v":""},{"$f":"IF(申込みフォーム!AU67<>\"\",申込みフォーム!AU67&\"　　\",\"\")&IF(申込みフォーム!AV67<>\"\",申込みフォーム!AV67&\"　　\",\"\")&IF(申込みフォーム!AW67<>\"\",申込みフォーム!AW67&\"　　\",\"\")","v":""},{"$f":"IF(申込みフォーム!BJ67<>\"\",申込みフォーム!BJ67,\"\")","v":""},{"$f":"IF(申込みフォーム!BK67<>\"\",申込みフォーム!BK67,\"\")","v":""},{"$f":"IF(申込みフォーム!BL67<>\"\",申込みフォーム!BL67&\"　　\",\"\")&IF(申込みフォーム!BM67<>\"\",申込みフォーム!BM67&\"　　\",\"\")&IF(申込みフォーム!BN67<>\"\",申込みフォーム!BN67&\"　　\",\"\")","v":{"$error":"#VALUE!"}},{"$f":"申込みフォーム!$Z67","v":""}]
[58,null,null,null,null,{"$f":"IF(申込みフォーム!B68<>\"\",申込みフォーム!B68&\"　\"&申込みフォーム!C68,\"\")","v":""},{"$f":"IF(申込みフォーム!E68<>\"\",申込みフォーム!E68&\"　\"&申込みフォーム!F68,\"\")","v":""},{"$f":"IF(申込みフォーム!G68<>\"\",申込みフォーム!G68,\"\")","v":""},{"$f":"IF(申込みフォーム!H68<>\"\",申込みフォーム!H68,\"\")","v":""},{"$f":"IF(申込みフォーム!D68<>\"\",申込みフォーム!D68,\"\")","v":""},{"$f":"IF(申込みフォーム!I68<>\"\",REPLACE(申込みフォーム!I68,4,,\"-\"),\"\")","v":""},{"$f":"IF(申込みフォーム!J68<>\"\",申込みフォーム!J68,\"\")","v":""},{"$f":"IF(申込みフォーム!K68<>\"\",申込みフォーム!K68,\"\")","v":""},{"$f":"IF(申込みフォーム!L68<>\"\",MID(申込みフォーム!L68,1,3)&\"-\"&MID(申込みフォーム!L68,4,4)&\"-\"&MID(申込みフォーム!L68,8,4),\"\")","v":""},{"$f":"IF(申込みフォーム!M68<>\"\",申込みフォーム!M68,\"\")","v":""},{"$f":"IF(申込みフォーム!N68<>\"\",申込みフォーム!N68,\"\")","v":""},{"$f":"IF(申込みフォーム!O68<>\"\",申込みフォーム!O68,\"\")","v":""},{"$f":"IF(申込みフォーム!P68<>\"\",申込みフォーム!P68,\"\")","v":""},{"$f":"IF(申込みフォーム!Q68<>\"\",申込みフォーム!Q68,\"\")","v":""},{"$f":"IF(申込みフォーム!R68<>\"\",申込みフォーム!R68,\"\")","v":""},{"$f":"IF(申込みフォーム!S68<>\"\",申込みフォーム!S68,\"\")","v":""},{"$f":"IF(申込みフォーム!U68=\"細胞診のみ\",\"協会子宮　\",IF(申込みフォーム!U68=\"細胞診＋（自費）膣エコー\",\"協会子宮＋自費膣エコー　\",\"\"))&IF(申込みフォーム!W68<>\"\",\"協会ﾏﾝﾓ　\",\"\")&IF(申込みフォーム!Y68<>\"\",\"協会骨　\",\"\")&IF(申込みフォーム!AA68<>\"\",\"協会肝炎　\",\"\")","v":""},{"$f":"IF(申込みフォーム!AB68<>\"\",\"子宮　\",\"\")&IF(申込みフォーム!AC68<>\"\",\"ﾏﾝﾓ　\",\"\")&IF(申込みフォーム!AD68<>\"\",\"乳ｴｺｰ\",\"\")","v":""},{"$f":"IF(申込みフォーム!AE68<>\"\",\"ﾏｰｶｰ　\",\"\")&IF(申込みフォーム!AF68<>\"\",\"心機能　\",\"\")&IF(申込みフォーム!AG68<>\"\",\"ABC　\",\"\")&IF(申込みフォーム!AH68<>\"\",\"Lox　\",\"\")&IF(申込みフォーム!AI68<>\"\",\"甲状腺　\",\"\")&IF(申込みフォーム!AJ68<>\"\",\"肝炎\",\"\")","v":""},{"$f":"IF(申込みフォーム!AK68<>\"\",\"脳　\",\"\")&IF(申込みフォーム!AL68<>\"\",\"胸部CT　\",\"\")&IF(申込みフォーム!AM68<>\"\",\"肺機能　\",\"\")&IF(申込みフォーム!AN68<>\"\",\"腹ｴｺｰ　\",\"\")&IF(申込みフォーム!AO68<>\"\",\"心ｴｺｰ　\",\"\")&IF(申込みフォーム!AP68<>\"\",\"ﾌﾛｰﾗ　\",\"\")&IF(申込みフォーム!AQ68<>\"\",\"OCT　\",\"\")&IF(申込みフォーム!AR68<>\"\",\"検便　\",\"\")&IF(申込みフォーム!AS68<>\"\",\"骨　\",\"\")&IF(申込みフォーム!AT68<>\"\",\"骨＋ﾛｺﾓ\",\"\")","v":""},{"$f":"IF(申込みフォーム!AU68<>\"\",申込みフォーム!AU68&\"　　\",\"\")&IF(申込みフォーム!AV68<>\"\",申込みフォーム!AV68&\"　　\",\"\")&IF(申込みフォーム!AW68<>\"\",申込みフォーム!AW68&\"　　\",\"\")","v":""},{"$f":"IF(申込みフォーム!BJ68<>\"\",申込みフォーム!BJ68,\"\")","v":""},{"$f":"IF(申込みフォーム!BK68<>\"\",申込みフォーム!BK68,\"\")","v":""},{"$f":"IF(申込みフォーム!BL68<>\"\",申込みフォーム!BL68&\"　　\",\"\")&IF(申込みフォーム!BM68<>\"\",申込みフォーム!BM68&\"　　\",\"\")&IF(申込みフォーム!BN68<>\"\",申込みフォーム!BN68&\"　　\",\"\")","v":{"$error":"#VALUE!"}},{"$f":"申込みフォーム!$Z68","v":""}]
[59,null,null,null,null,{"$f":"IF(申込みフォーム!B69<>\"\",申込みフォーム!B69&\"　\"&申込みフォーム!C69,\"\")","v":""},{"$f":"IF(申込みフォーム!E69<>\"\",申込みフォーム!E69&\"　\"&申込みフォーム!F69,\"\")","v":""},{"$f":"IF(申込みフォーム!G69<>\"\",申込みフォーム!G69,\"\")","v":""},{"$f":"IF(申込みフォーム!H69<>\"\",申込みフォーム!H69,\"\")","v":""},{"$f":"IF(申込みフォーム!D69<>\"\",申込みフォーム!D69,\"\")","v":""},{"$f":"IF(申込みフォーム!I69<>\"\",REPLACE(申込みフォーム!I69,4,,\"-\"),\"\")","v":""},{"$f":"IF(申込みフォーム!J69<>\"\",申込みフォーム!J69,\"\")","v":""},{"$f":"IF(申込みフォーム!K69<>\"\",申込みフォーム!K69,\"\")","v":""},{"$f":"IF(申込みフォーム!L69<>\"\",MID(申込みフォーム!L69,1,3)&\"-\"&MID(申込みフォーム!L69,4,4)&\"-\"&MID(申込みフォーム!L69,8,4),\"\")","v":""},{"$f":"IF(申込みフォーム!M69<>\"\",申込みフォーム!M69,\"\")","v":""},{"$f":"IF(申込みフォーム!N69<>\"\",申込みフォーム!N69,\"\")","v":""},{"$f":"IF(申込みフォーム!O69<>\"\",申込みフォーム!O69,\"\")","v":""},{"$f":"IF(申込みフォーム!P69<>\"\",申込みフォーム!P69,\"\")","v":""},{"$f":"IF(申込みフォーム!Q69<>\"\",申込みフォーム!Q69,\"\")","v":""},{"$f":"IF(申込みフォーム!R69<>\"\",申込みフォーム!R69,\"\")","v":""},{"$f":"IF(申込みフォーム!S69<>\"\",申込みフォーム!S69,\"\")","v":""},{"$f":"IF(申込みフォーム!U69=\"細胞診のみ\",\"協会子宮　\",IF(申込みフォーム!U69=\"細胞診＋（自費）膣エコー\",\"協会子宮＋自費膣エコー　\",\"\"))&IF(申込みフォーム!W69<>\"\",\"協会ﾏﾝﾓ　\",\"\")&IF(申込みフォーム!Y69<>\"\",\"協会骨　\",\"\")&IF(申込みフォーム!AA69<>\"\",\"協会肝炎　\",\"\")","v":""},{"$f":"IF(申込みフォーム!AB69<>\"\",\"子宮　\",\"\")&IF(申込みフォーム!AC69<>\"\",\"ﾏﾝﾓ　\",\"\")&IF(申込みフォーム!AD69<>\"\",\"乳ｴｺｰ\",\"\")","v":""},{"$f":"IF(申込みフォーム!AE69<>\"\",\"ﾏｰｶｰ　\",\"\")&IF(申込みフォーム!AF69<>\"\",\"心機能　\",\"\")&IF(申込みフォーム!AG69<>\"\",\"ABC　\",\"\")&IF(申込みフォーム!AH69<>\"\",\"Lox　\",\"\")&IF(申込みフォーム!AI69<>\"\",\"甲状腺　\",\"\")&IF(申込みフォーム!AJ69<>\"\",\"肝炎\",\"\")","v":""},{"$f":"IF(申込みフォーム!AK69<>\"\",\"脳　\",\"\")&IF(申込みフォーム!AL69<>\"\",\"胸部CT　\",\"\")&IF(申込みフォーム!AM69<>\"\",\"肺機能　\",\"\")&IF(申込みフォーム!AN69<>\"\",\"腹ｴｺｰ　\",\"\")&IF(申込みフォーム!AO69<>\"\",\"心ｴｺｰ　\",\"\")&IF(申込みフォーム!AP69<>\"\",\"ﾌﾛｰﾗ　\",\"\")&IF(申込みフォーム!AQ69<>\"\",\"OCT　\",\"\")&IF(申込みフォーム!AR69<>\"\",\"検便　\",\"\")&IF(申込みフォーム!AS69<>\"\",\"骨　\",\"\")&IF(申込みフォーム!AT69<>\"\",\"骨＋ﾛｺﾓ\",\"\")","v":""},{"$f":"IF(申込みフォーム!AU69<>\"\",申込みフォーム!AU69&\"　　\",\"\")&IF(申込みフォーム!AV69<>\"\",申込みフォーム!AV69&\"　　\",\"\")&IF(申込みフォーム!AW69<>\"\",申込みフォーム!AW69&\"　　\",\"\")","v":""},{"$f":"IF(申込みフォーム!BJ69<>\"\",申込みフォーム!BJ69,\"\")","v":""},{"$f":"IF(申込みフォーム!BK69<>\"\",申込みフォーム!BK69,\"\")","v":""},{"$f":"IF(申込みフォーム!BL69<>\"\",申込みフォーム!BL69&\"　　\",\"\")&IF(申込みフォーム!BM69<>\"\",申込みフォーム!BM69&\"　　\",\"\")&IF(申込みフォーム!BN69<>\"\",申込みフォーム!BN69&\"　　\",\"\")","v":{"$error":"#VALUE!"}},{"$f":"申込みフォーム!$Z69","v":""}]
[60,null,null,null,null,{"$f":"IF(申込みフォーム!B70<>\"\",申込みフォーム!B70&\"　\"&申込みフォーム!C70,\"\")","v":""},{"$f":"IF(申込みフォーム!E70<>\"\",申込みフォーム!E70&\"　\"&申込みフォーム!F70,\"\")","v":""},{"$f":"IF(申込みフォーム!G70<>\"\",申込みフォーム!G70,\"\")","v":""},{"$f":"IF(申込みフォーム!H70<>\"\",申込みフォーム!H70,\"\")","v":""},{"$f":"IF(申込みフォーム!D70<>\"\",申込みフォーム!D70,\"\")","v":""},{"$f":"IF(申込みフォーム!I70<>\"\",REPLACE(申込みフォーム!I70,4,,\"-\"),\"\")","v":""},{"$f":"IF(申込みフォーム!J70<>\"\",申込みフォーム!J70,\"\")","v":""},{"$f":"IF(申込みフォーム!K70<>\"\",申込みフォーム!K70,\"\")","v":""},{"$f":"IF(申込みフォーム!L70<>\"\",MID(申込みフォーム!L70,1,3)&\"-\"&MID(申込みフォーム!L70,4,4)&\"-\"&MID(申込みフォーム!L70,8,4),\"\")","v":""},{"$f":"IF(申込みフォーム!M70<>\"\",申込みフォーム!M70,\"\")","v":""},{"$f":"IF(申込みフォーム!N70<>\"\",申込みフォーム!N70,\"\")","v":""},{"$f":"IF(申込みフォーム!O70<>\"\",申込みフォーム!O70,\"\")","v":""},{"$f":"IF(申込みフォーム!P70<>\"\",申込みフォーム!P70,\"\")","v":""},{"$f":"IF(申込みフォーム!Q70<>\"\",申込みフォーム!Q70,\"\")","v":""},{"$f":"IF(申込みフォーム!R70<>\"\",申込みフォーム!R70,\"\")","v":""},{"$f":"IF(申込みフォーム!S70<>\"\",申込みフォーム!S70,\"\")","v":""},{"$f":"IF(申込みフォーム!U70=\"細胞診のみ\",\"協会子宮　\",IF(申込みフォーム!U70=\"細胞診＋（自費）膣エコー\",\"協会子宮＋自費膣エコー　\",\"\"))&IF(申込みフォーム!W70<>\"\",\"協会ﾏﾝﾓ　\",\"\")&IF(申込みフォーム!Y70<>\"\",\"協会骨　\",\"\")&IF(申込みフォーム!AA70<>\"\",\"協会肝炎　\",\"\")","v":""},{"$f":"IF(申込みフォーム!AB70<>\"\",\"子宮　\",\"\")&IF(申込みフォーム!AC70<>\"\",\"ﾏﾝﾓ　\",\"\")&IF(申込みフォーム!AD70<>\"\",\"乳ｴｺｰ\",\"\")","v":""},{"$f":"IF(申込みフォーム!AE70<>\"\",\"ﾏｰｶｰ　\",\"\")&IF(申込みフォーム!AF70<>\"\",\"心機能　\",\"\")&IF(申込みフォーム!AG70<>\"\",\"ABC　\",\"\")&IF(申込みフォーム!AH70<>\"\",\"Lox　\",\"\")&IF(申込みフォーム!AI70<>\"\",\"甲状腺　\",\"\")&IF(申込みフォーム!AJ70<>\"\",\"肝炎\",\"\")","v":""},{"$f":"IF(申込みフォーム!AK70<>\"\",\"脳　\",\"\")&IF(申込みフォーム!AL70<>\"\",\"胸部CT　\",\"\")&IF(申込みフォーム!AM70<>\"\",\"肺機能　\",\"\")&IF(申込みフォーム!AN70<>\"\",\"腹ｴｺｰ　\",\"\")&IF(申込みフォーム!AO70<>\"\",\"心ｴｺｰ　\",\"\")&IF(申込みフォーム!AP70<>\"\",\"ﾌﾛｰﾗ　\",\"\")&IF(申込みフォーム!AQ70<>\"\",\"OCT　\",\"\")&IF(申込みフォーム!AR70<>\"\",\"検便　\",\"\")&IF(申込みフォーム!AS70<>\"\",\"骨　\",\"\")&IF(申込みフォーム!AT70<>\"\",\"骨＋ﾛｺﾓ\",\"\")","v":""},{"$f":"IF(申込みフォーム!AU70<>\"\",申込みフォーム!AU70&\"　　\",\"\")&IF(申込みフォーム!AV70<>\"\",申込みフォーム!AV70&\"　　\",\"\")&IF(申込みフォーム!AW70<>\"\",申込みフォーム!AW70&\"　　\",\"\")","v":""},{"$f":"IF(申込みフォーム!BJ70<>\"\",申込みフォーム!BJ70,\"\")","v":""},{"$f":"IF(申込みフォーム!BK70<>\"\",申込みフォーム!BK70,\"\")","v":""},{"$f":"IF(申込みフォーム!BL70<>\"\",申込みフォーム!BL70&\"　　\",\"\")&IF(申込みフォーム!BM70<>\"\",申込みフォーム!BM70&\"　　\",\"\")&IF(申込みフォーム!BN70<>\"\",申込みフォーム!BN70&\"　　\",\"\")","v":{"$error":"#VALUE!"}},{"$f":"申込みフォーム!$Z70","v":""}]
[61,null,null,null,null,{"$f":"IF(申込みフォーム!B71<>\"\",申込みフォーム!B71&\"　\"&申込みフォーム!C71,\"\")","v":""},{"$f":"IF(申込みフォーム!E71<>\"\",申込みフォーム!E71&\"　\"&申込みフォーム!F71,\"\")","v":""},{"$f":"IF(申込みフォーム!G71<>\"\",申込みフォーム!G71,\"\")","v":""},{"$f":"IF(申込みフォーム!H71<>\"\",申込みフォーム!H71,\"\")","v":""},{"$f":"IF(申込みフォーム!D71<>\"\",申込みフォーム!D71,\"\")","v":""},{"$f":"IF(申込みフォーム!I71<>\"\",REPLACE(申込みフォーム!I71,4,,\"-\"),\"\")","v":""},{"$f":"IF(申込みフォーム!J71<>\"\",申込みフォーム!J71,\"\")","v":""},{"$f":"IF(申込みフォーム!K71<>\"\",申込みフォーム!K71,\"\")","v":""},{"$f":"IF(申込みフォーム!L71<>\"\",MID(申込みフォーム!L71,1,3)&\"-\"&MID(申込みフォーム!L71,4,4)&\"-\"&MID(申込みフォーム!L71,8,4),\"\")","v":""},{"$f":"IF(申込みフォーム!M71<>\"\",申込みフォーム!M71,\"\")","v":""},{"$f":"IF(申込みフォーム!N71<>\"\",申込みフォーム!N71,\"\")","v":""},{"$f":"IF(申込みフォーム!O71<>\"\",申込みフォーム!O71,\"\")","v":""},{"$f":"IF(申込みフォーム!P71<>\"\",申込みフォーム!P71,\"\")","v":""},{"$f":"IF(申込みフォーム!Q71<>\"\",申込みフォーム!Q71,\"\")","v":""},{"$f":"IF(申込みフォーム!R71<>\"\",申込みフォーム!R71,\"\")","v":""},{"$f":"IF(申込みフォーム!S71<>\"\",申込みフォーム!S71,\"\")","v":""},{"$f":"IF(申込みフォーム!U71=\"細胞診のみ\",\"協会子宮　\",IF(申込みフォーム!U71=\"細胞診＋（自費）膣エコー\",\"協会子宮＋自費膣エコー　\",\"\"))&IF(申込みフォーム!W71<>\"\",\"協会ﾏﾝﾓ　\",\"\")&IF(申込みフォーム!Y71<>\"\",\"協会骨　\",\"\")&IF(申込みフォーム!AA71<>\"\",\"協会肝炎　\",\"\")","v":""},{"$f":"IF(申込みフォーム!AB71<>\"\",\"子宮　\",\"\")&IF(申込みフォーム!AC71<>\"\",\"ﾏﾝﾓ　\",\"\")&IF(申込みフォーム!AD71<>\"\",\"乳ｴｺｰ\",\"\")","v":""},{"$f":"IF(申込みフォーム!AE71<>\"\",\"ﾏｰｶｰ　\",\"\")&IF(申込みフォーム!AF71<>\"\",\"心機能　\",\"\")&IF(申込みフォーム!AG71<>\"\",\"ABC　\",\"\")&IF(申込みフォーム!AH71<>\"\",\"Lox　\",\"\")&IF(申込みフォーム!AI71<>\"\",\"甲状腺　\",\"\")&IF(申込みフォーム!AJ71<>\"\",\"肝炎\",\"\")","v":""},{"$f":"IF(申込みフォーム!AK71<>\"\",\"脳　\",\"\")&IF(申込みフォーム!AL71<>\"\",\"胸部CT　\",\"\")&IF(申込みフォーム!AM71<>\"\",\"肺機能　\",\"\")&IF(申込みフォーム!AN71<>\"\",\"腹ｴｺｰ　\",\"\")&IF(申込みフォーム!AO71<>\"\",\"心ｴｺｰ　\",\"\")&IF(申込みフォーム!AP71<>\"\",\"ﾌﾛｰﾗ　\",\"\")&IF(申込みフォーム!AQ71<>\"\",\"OCT　\",\"\")&IF(申込みフォーム!AR71<>\"\",\"検便　\",\"\")&IF(申込みフォーム!AS71<>\"\",\"骨　\",\"\")&IF(申込みフォーム!AT71<>\"\",\"骨＋ﾛｺﾓ\",\"\")","v":""},{"$f":"IF(申込みフォーム!AU71<>\"\",申込みフォーム!AU71&\"　　\",\"\")&IF(申込みフォーム!AV71<>\"\",申込みフォーム!AV71&\"　　\",\"\")&IF(申込みフォーム!AW71<>\"\",申込みフォーム!AW71&\"　　\",\"\")","v":""},{"$f":"IF(申込みフォーム!BJ71<>\"\",申込みフォーム!BJ71,\"\")","v":""},{"$f":"IF(申込みフォーム!BK71<>\"\",申込みフォーム!BK71,\"\")","v":""},{"$f":"IF(申込みフォーム!BL71<>\"\",申込みフォーム!BL71&\"　　\",\"\")&IF(申込みフォーム!BM71<>\"\",申込みフォーム!BM71&\"　　\",\"\")&IF(申込みフォーム!BN71<>\"\",申込みフォーム!BN71&\"　　\",\"\")","v":{"$error":"#VALUE!"}},{"$f":"申込みフォーム!$Z71","v":""}]
[62,null,null,null,null,{"$f":"IF(申込みフォーム!B72<>\"\",申込みフォーム!B72&\"　\"&申込みフォーム!C72,\"\")","v":""},{"$f":"IF(申込みフォーム!E72<>\"\",申込みフォーム!E72&\"　\"&申込みフォーム!F72,\"\")","v":""},{"$f":"IF(申込みフォーム!G72<>\"\",申込みフォーム!G72,\"\")","v":""},{"$f":"IF(申込みフォーム!H72<>\"\",申込みフォーム!H72,\"\")","v":""},{"$f":"IF(申込みフォーム!D72<>\"\",申込みフォーム!D72,\"\")","v":""},{"$f":"IF(申込みフォーム!I72<>\"\",REPLACE(申込みフォーム!I72,4,,\"-\"),\"\")","v":""},{"$f":"IF(申込みフォーム!J72<>\"\",申込みフォーム!J72,\"\")","v":""},{"$f":"IF(申込みフォーム!K72<>\"\",申込みフォーム!K72,\"\")","v":""},{"$f":"IF(申込みフォーム!L72<>\"\",MID(申込みフォーム!L72,1,3)&\"-\"&MID(申込みフォーム!L72,4,4)&\"-\"&MID(申込みフォーム!L72,8,4),\"\")","v":""},{"$f":"IF(申込みフォーム!M72<>\"\",申込みフォーム!M72,\"\")","v":""},{"$f":"IF(申込みフォーム!N72<>\"\",申込みフォーム!N72,\"\")","v":""},{"$f":"IF(申込みフォーム!O72<>\"\",申込みフォーム!O72,\"\")","v":""},{"$f":"IF(申込みフォーム!P72<>\"\",申込みフォーム!P72,\"\")","v":""},{"$f":"IF(申込みフォーム!Q72<>\"\",申込みフォーム!Q72,\"\")","v":""},{"$f":"IF(申込みフォーム!R72<>\"\",申込みフォーム!R72,\"\")","v":""},{"$f":"IF(申込みフォーム!S72<>\"\",申込みフォーム!S72,\"\")","v":""},{"$f":"IF(申込みフォーム!U72=\"細胞診のみ\",\"協会子宮　\",IF(申込みフォーム!U72=\"細胞診＋（自費）膣エコー\",\"協会子宮＋自費膣エコー　\",\"\"))&IF(申込みフォーム!W72<>\"\",\"協会ﾏﾝﾓ　\",\"\")&IF(申込みフォーム!Y72<>\"\",\"協会骨　\",\"\")&IF(申込みフォーム!AA72<>\"\",\"協会肝炎　\",\"\")","v":""},{"$f":"IF(申込みフォーム!AB72<>\"\",\"子宮　\",\"\")&IF(申込みフォーム!AC72<>\"\",\"ﾏﾝﾓ　\",\"\")&IF(申込みフォーム!AD72<>\"\",\"乳ｴｺｰ\",\"\")","v":""},{"$f":"IF(申込みフォーム!AE72<>\"\",\"ﾏｰｶｰ　\",\"\")&IF(申込みフォーム!AF72<>\"\",\"心機能　\",\"\")&IF(申込みフォーム!AG72<>\"\",\"ABC　\",\"\")&IF(申込みフォーム!AH72<>\"\",\"Lox　\",\"\")&IF(申込みフォーム!AI72<>\"\",\"甲状腺　\",\"\")&IF(申込みフォーム!AJ72<>\"\",\"肝炎\",\"\")","v":""},{"$f":"IF(申込みフォーム!AK72<>\"\",\"脳　\",\"\")&IF(申込みフォーム!AL72<>\"\",\"胸部CT　\",\"\")&IF(申込みフォーム!AM72<>\"\",\"肺機能　\",\"\")&IF(申込みフォーム!AN72<>\"\",\"腹ｴｺｰ　\",\"\")&IF(申込みフォーム!AO72<>\"\",\"心ｴｺｰ　\",\"\")&IF(申込みフォーム!AP72<>\"\",\"ﾌﾛｰﾗ　\",\"\")&IF(申込みフォーム!AQ72<>\"\",\"OCT　\",\"\")&IF(申込みフォーム!AR72<>\"\",\"検便　\",\"\")&IF(申込みフォーム!AS72<>\"\",\"骨　\",\"\")&IF(申込みフォーム!AT72<>\"\",\"骨＋ﾛｺﾓ\",\"\")","v":""},{"$f":"IF(申込みフォーム!AU72<>\"\",申込みフォーム!AU72&\"　　\",\"\")&IF(申込みフォーム!AV72<>\"\",申込みフォーム!AV72&\"　　\",\"\")&IF(申込みフォーム!AW72<>\"\",申込みフォーム!AW72&\"　　\",\"\")","v":""},{"$f":"IF(申込みフォーム!BJ72<>\"\",申込みフォーム!BJ72,\"\")","v":""},{"$f":"IF(申込みフォーム!BK72<>\"\",申込みフォーム!BK72,\"\")","v":""},{"$f":"IF(申込みフォーム!BL72<>\"\",申込みフォーム!BL72&\"　　\",\"\")&IF(申込みフォーム!BM72<>\"\",申込みフォーム!BM72&\"　　\",\"\")&IF(申込みフォーム!BN72<>\"\",申込みフォーム!BN72&\"　　\",\"\")","v":{"$error":"#VALUE!"}},{"$f":"申込みフォーム!$Z72","v":""}]
[63,null,null,null,null,{"$f":"IF(申込みフォーム!B73<>\"\",申込みフォーム!B73&\"　\"&申込みフォーム!C73,\"\")","v":""},{"$f":"IF(申込みフォーム!E73<>\"\",申込みフォーム!E73&\"　\"&申込みフォーム!F73,\"\")","v":""},{"$f":"IF(申込みフォーム!G73<>\"\",申込みフォーム!G73,\"\")","v":""},{"$f":"IF(申込みフォーム!H73<>\"\",申込みフォーム!H73,\"\")","v":""},{"$f":"IF(申込みフォーム!D73<>\"\",申込みフォーム!D73,\"\")","v":""},{"$f":"IF(申込みフォーム!I73<>\"\",REPLACE(申込みフォーム!I73,4,,\"-\"),\"\")","v":""},{"$f":"IF(申込みフォーム!J73<>\"\",申込みフォーム!J73,\"\")","v":""},{"$f":"IF(申込みフォーム!K73<>\"\",申込みフォーム!K73,\"\")","v":""},{"$f":"IF(申込みフォーム!L73<>\"\",MID(申込みフォーム!L73,1,3)&\"-\"&MID(申込みフォーム!L73,4,4)&\"-\"&MID(申込みフォーム!L73,8,4),\"\")","v":""},{"$f":"IF(申込みフォーム!M73<>\"\",申込みフォーム!M73,\"\")","v":""},{"$f":"IF(申込みフォーム!N73<>\"\",申込みフォーム!N73,\"\")","v":""},{"$f":"IF(申込みフォーム!O73<>\"\",申込みフォーム!O73,\"\")","v":""},{"$f":"IF(申込みフォーム!P73<>\"\",申込みフォーム!P73,\"\")","v":""},{"$f":"IF(申込みフォーム!Q73<>\"\",申込みフォーム!Q73,\"\")","v":""},{"$f":"IF(申込みフォーム!R73<>\"\",申込みフォーム!R73,\"\")","v":""},{"$f":"IF(申込みフォーム!S73<>\"\",申込みフォーム!S73,\"\")","v":""},{"$f":"IF(申込みフォーム!U73=\"細胞診のみ\",\"協会子宮　\",IF(申込みフォーム!U73=\"細胞診＋（自費）膣エコー\",\"協会子宮＋自費膣エコー　\",\"\"))&IF(申込みフォーム!W73<>\"\",\"協会ﾏﾝﾓ　\",\"\")&IF(申込みフォーム!Y73<>\"\",\"協会骨　\",\"\")&IF(申込みフォーム!AA73<>\"\",\"協会肝炎　\",\"\")","v":""},{"$f":"IF(申込みフォーム!AB73<>\"\",\"子宮　\",\"\")&IF(申込みフォーム!AC73<>\"\",\"ﾏﾝﾓ　\",\"\")&IF(申込みフォーム!AD73<>\"\",\"乳ｴｺｰ\",\"\")","v":""},{"$f":"IF(申込みフォーム!AE73<>\"\",\"ﾏｰｶｰ　\",\"\")&IF(申込みフォーム!AF73<>\"\",\"心機能　\",\"\")&IF(申込みフォーム!AG73<>\"\",\"ABC　\",\"\")&IF(申込みフォーム!AH73<>\"\",\"Lox　\",\"\")&IF(申込みフォーム!AI73<>\"\",\"甲状腺　\",\"\")&IF(申込みフォーム!AJ73<>\"\",\"肝炎\",\"\")","v":""},{"$f":"IF(申込みフォーム!AK73<>\"\",\"脳　\",\"\")&IF(申込みフォーム!AL73<>\"\",\"胸部CT　\",\"\")&IF(申込みフォーム!AM73<>\"\",\"肺機能　\",\"\")&IF(申込みフォーム!AN73<>\"\",\"腹ｴｺｰ　\",\"\")&IF(申込みフォーム!AO73<>\"\",\"心ｴｺｰ　\",\"\")&IF(申込みフォーム!AP73<>\"\",\"ﾌﾛｰﾗ　\",\"\")&IF(申込みフォーム!AQ73<>\"\",\"OCT　\",\"\")&IF(申込みフォーム!AR73<>\"\",\"検便　\",\"\")&IF(申込みフォーム!AS73<>\"\",\"骨　\",\"\")&IF(申込みフォーム!AT73<>\"\",\"骨＋ﾛｺﾓ\",\"\")","v":""},{"$f":"IF(申込みフォーム!AU73<>\"\",申込みフォーム!AU73&\"　　\",\"\")&IF(申込みフォーム!AV73<>\"\",申込みフォーム!AV73&\"　　\",\"\")&IF(申込みフォーム!AW73<>\"\",申込みフォーム!AW73&\"　　\",\"\")","v":""},{"$f":"IF(申込みフォーム!BJ73<>\"\",申込みフォーム!BJ73,\"\")","v":""},{"$f":"IF(申込みフォーム!BK73<>\"\",申込みフォーム!BK73,\"\")","v":""},{"$f":"IF(申込みフォーム!BL73<>\"\",申込みフォーム!BL73&\"　　\",\"\")&IF(申込みフォーム!BM73<>\"\",申込みフォーム!BM73&\"　　\",\"\")&IF(申込みフォーム!BN73<>\"\",申込みフォーム!BN73&\"　　\",\"\")","v":{"$error":"#VALUE!"}},{"$f":"申込みフォーム!$Z73","v":""}]
[64,null,null,null,null,{"$f":"IF(申込みフォーム!B74<>\"\",申込みフォーム!B74&\"　\"&申込みフォーム!C74,\"\")","v":""},{"$f":"IF(申込みフォーム!E74<>\"\",申込みフォーム!E74&\"　\"&申込みフォーム!F74,\"\")","v":""},{"$f":"IF(申込みフォーム!G74<>\"\",申込みフォーム!G74,\"\")","v":""},{"$f":"IF(申込みフォーム!H74<>\"\",申込みフォーム!H74,\"\")","v":""},{"$f":"IF(申込みフォーム!D74<>\"\",申込みフォーム!D74,\"\")","v":""},{"$f":"IF(申込みフォーム!I74<>\"\",REPLACE(申込みフォーム!I74,4,,\"-\"),\"\")","v":""},{"$f":"IF(申込みフォーム!J74<>\"\",申込みフォーム!J74,\"\")","v":""},{"$f":"IF(申込みフォーム!K74<>\"\",申込みフォーム!K74,\"\")","v":""},{"$f":"IF(申込みフォーム!L74<>\"\",MID(申込みフォーム!L74,1,3)&\"-\"&MID(申込みフォーム!L74,4,4)&\"-\"&MID(申込みフォーム!L74,8,4),\"\")","v":""},{"$f":"IF(申込みフォーム!M74<>\"\",申込みフォーム!M74,\"\")","v":""},{"$f":"IF(申込みフォーム!N74<>\"\",申込みフォーム!N74,\"\")","v":""},{"$f":"IF(申込みフォーム!O74<>\"\",申込みフォーム!O74,\"\")","v":""},{"$f":"IF(申込みフォーム!P74<>\"\",申込みフォーム!P74,\"\")","v":""},{"$f":"IF(申込みフォーム!Q74<>\"\",申込みフォーム!Q74,\"\")","v":""},{"$f":"IF(申込みフォーム!R74<>\"\",申込みフォーム!R74,\"\")","v":""},{"$f":"IF(申込みフォーム!S74<>\"\",申込みフォーム!S74,\"\")","v":""},{"$f":"IF(申込みフォーム!U74=\"細胞診のみ\",\"協会子宮　\",IF(申込みフォーム!U74=\"細胞診＋（自費）膣エコー\",\"協会子宮＋自費膣エコー　\",\"\"))&IF(申込みフォーム!W74<>\"\",\"協会ﾏﾝﾓ　\",\"\")&IF(申込みフォーム!Y74<>\"\",\"協会骨　\",\"\")&IF(申込みフォーム!AA74<>\"\",\"協会肝炎　\",\"\")","v":""},{"$f":"IF(申込みフォーム!AB74<>\"\",\"子宮　\",\"\")&IF(申込みフォーム!AC74<>\"\",\"ﾏﾝﾓ　\",\"\")&IF(申込みフォーム!AD74<>\"\",\"乳ｴｺｰ\",\"\")","v":""},{"$f":"IF(申込みフォーム!AE74<>\"\",\"ﾏｰｶｰ　\",\"\")&IF(申込みフォーム!AF74<>\"\",\"心機能　\",\"\")&IF(申込みフォーム!AG74<>\"\",\"ABC　\",\"\")&IF(申込みフォーム!AH74<>\"\",\"Lox　\",\"\")&IF(申込みフォーム!AI74<>\"\",\"甲状腺　\",\"\")&IF(申込みフォーム!AJ74<>\"\",\"肝炎\",\"\")","v":""},{"$f":"IF(申込みフォーム!AK74<>\"\",\"脳　\",\"\")&IF(申込みフォーム!AL74<>\"\",\"胸部CT　\",\"\")&IF(申込みフォーム!AM74<>\"\",\"肺機能　\",\"\")&IF(申込みフォーム!AN74<>\"\",\"腹ｴｺｰ　\",\"\")&IF(申込みフォーム!AO74<>\"\",\"心ｴｺｰ　\",\"\")&IF(申込みフォーム!AP74<>\"\",\"ﾌﾛｰﾗ　\",\"\")&IF(申込みフォーム!AQ74<>\"\",\"OCT　\",\"\")&IF(申込みフォーム!AR74<>\"\",\"検便　\",\"\")&IF(申込みフォーム!AS74<>\"\",\"骨　\",\"\")&IF(申込みフォーム!AT74<>\"\",\"骨＋ﾛｺﾓ\",\"\")","v":""},{"$f":"IF(申込みフォーム!AU74<>\"\",申込みフォーム!AU74&\"　　\",\"\")&IF(申込みフォーム!AV74<>\"\",申込みフォーム!AV74&\"　　\",\"\")&IF(申込みフォーム!AW74<>\"\",申込みフォーム!AW74&\"　　\",\"\")","v":""},{"$f":"IF(申込みフォーム!BJ74<>\"\",申込みフォーム!BJ74,\"\")","v":""},{"$f":"IF(申込みフォーム!BK74<>\"\",申込みフォーム!BK74,\"\")","v":""},{"$f":"IF(申込みフォーム!BL74<>\"\",申込みフォーム!BL74&\"　　\",\"\")&IF(申込みフォーム!BM74<>\"\",申込みフォーム!BM74&\"　　\",\"\")&IF(申込みフォーム!BN74<>\"\",申込みフォーム!BN74&\"　　\",\"\")","v":{"$error":"#VALUE!"}},{"$f":"申込みフォーム!$Z74","v":""}]
[65,null,null,null,null,{"$f":"IF(申込みフォーム!B75<>\"\",申込みフォーム!B75&\"　\"&申込みフォーム!C75,\"\")","v":""},{"$f":"IF(申込みフォーム!E75<>\"\",申込みフォーム!E75&\"　\"&申込みフォーム!F75,\"\")","v":""},{"$f":"IF(申込みフォーム!G75<>\"\",申込みフォーム!G75,\"\")","v":""},{"$f":"IF(申込みフォーム!H75<>\"\",申込みフォーム!H75,\"\")","v":""},{"$f":"IF(申込みフォーム!D75<>\"\",申込みフォーム!D75,\"\")","v":""},{"$f":"IF(申込みフォーム!I75<>\"\",REPLACE(申込みフォーム!I75,4,,\"-\"),\"\")","v":""},{"$f":"IF(申込みフォーム!J75<>\"\",申込みフォーム!J75,\"\")","v":""},{"$f":"IF(申込みフォーム!K75<>\"\",申込みフォーム!K75,\"\")","v":""},{"$f":"IF(申込みフォーム!L75<>\"\",MID(申込みフォーム!L75,1,3)&\"-\"&MID(申込みフォーム!L75,4,4)&\"-\"&MID(申込みフォーム!L75,8,4),\"\")","v":""},{"$f":"IF(申込みフォーム!M75<>\"\",申込みフォーム!M75,\"\")","v":""},{"$f":"IF(申込みフォーム!N75<>\"\",申込みフォーム!N75,\"\")","v":""},{"$f":"IF(申込みフォーム!O75<>\"\",申込みフォーム!O75,\"\")","v":""},{"$f":"IF(申込みフォーム!P75<>\"\",申込みフォーム!P75,\"\")","v":""},{"$f":"IF(申込みフォーム!Q75<>\"\",申込みフォーム!Q75,\"\")","v":""},{"$f":"IF(申込みフォーム!R75<>\"\",申込みフォーム!R75,\"\")","v":""},{"$f":"IF(申込みフォーム!S75<>\"\",申込みフォーム!S75,\"\")","v":""},{"$f":"IF(申込みフォーム!U75=\"細胞診のみ\",\"協会子宮　\",IF(申込みフォーム!U75=\"細胞診＋（自費）膣エコー\",\"協会子宮＋自費膣エコー　\",\"\"))&IF(申込みフォーム!W75<>\"\",\"協会ﾏﾝﾓ　\",\"\")&IF(申込みフォーム!Y75<>\"\",\"協会骨　\",\"\")&IF(申込みフォーム!AA75<>\"\",\"協会肝炎　\",\"\")","v":""},{"$f":"IF(申込みフォーム!AB75<>\"\",\"子宮　\",\"\")&IF(申込みフォーム!AC75<>\"\",\"ﾏﾝﾓ　\",\"\")&IF(申込みフォーム!AD75<>\"\",\"乳ｴｺｰ\",\"\")","v":""},{"$f":"IF(申込みフォーム!AE75<>\"\",\"ﾏｰｶｰ　\",\"\")&IF(申込みフォーム!AF75<>\"\",\"心機能　\",\"\")&IF(申込みフォーム!AG75<>\"\",\"ABC　\",\"\")&IF(申込みフォーム!AH75<>\"\",\"Lox　\",\"\")&IF(申込みフォーム!AI75<>\"\",\"甲状腺　\",\"\")&IF(申込みフォーム!AJ75<>\"\",\"肝炎\",\"\")","v":""},{"$f":"IF(申込みフォーム!AK75<>\"\",\"脳　\",\"\")&IF(申込みフォーム!AL75<>\"\",\"胸部CT　\",\"\")&IF(申込みフォーム!AM75<>\"\",\"肺機能　\",\"\")&IF(申込みフォーム!AN75<>\"\",\"腹ｴｺｰ　\",\"\")&IF(申込みフォーム!AO75<>\"\",\"心ｴｺｰ　\",\"\")&IF(申込みフォーム!AP75<>\"\",\"ﾌﾛｰﾗ　\",\"\")&IF(申込みフォーム!AQ75<>\"\",\"OCT　\",\"\")&IF(申込みフォーム!AR75<>\"\",\"検便　\",\"\")&IF(申込みフォーム!AS75<>\"\",\"骨　\",\"\")&IF(申込みフォーム!AT75<>\"\",\"骨＋ﾛｺﾓ\",\"\")","v":""},{"$f":"IF(申込みフォーム!AU75<>\"\",申込みフォーム!AU75&\"　　\",\"\")&IF(申込みフォーム!AV75<>\"\",申込みフォーム!AV75&\"　　\",\"\")&IF(申込みフォーム!AW75<>\"\",申込みフォーム!AW75&\"　　\",\"\")","v":""},{"$f":"IF(申込みフォーム!BJ75<>\"\",申込みフォーム!BJ75,\"\")","v":""},{"$f":"IF(申込みフォーム!BK75<>\"\",申込みフォーム!BK75,\"\")","v":""},{"$f":"IF(申込みフォーム!BL75<>\"\",申込みフォーム!BL75&\"　　\",\"\")&IF(申込みフォーム!BM75<>\"\",申込みフォーム!BM75&\"　　\",\"\")&IF(申込みフォーム!BN75<>\"\",申込みフォーム!BN75&\"　　\",\"\")","v":{"$error":"#VALUE!"}},{"$f":"申込みフォーム!$Z75","v":""}]
[66,null,null,null,null,{"$f":"IF(申込みフォーム!B76<>\"\",申込みフォーム!B76&\"　\"&申込みフォーム!C76,\"\")","v":""},{"$f":"IF(申込みフォーム!E76<>\"\",申込みフォーム!E76&\"　\"&申込みフォーム!F76,\"\")","v":""},{"$f":"IF(申込みフォーム!G76<>\"\",申込みフォーム!G76,\"\")","v":""},{"$f":"IF(申込みフォーム!H76<>\"\",申込みフォーム!H76,\"\")","v":""},{"$f":"IF(申込みフォーム!D76<>\"\",申込みフォーム!D76,\"\")","v":""},{"$f":"IF(申込みフォーム!I76<>\"\",REPLACE(申込みフォーム!I76,4,,\"-\"),\"\")","v":""},{"$f":"IF(申込みフォーム!J76<>\"\",申込みフォーム!J76,\"\")","v":""},{"$f":"IF(申込みフォーム!K76<>\"\",申込みフォーム!K76,\"\")","v":""},{"$f":"IF(申込みフォーム!L76<>\"\",MID(申込みフォーム!L76,1,3)&\"-\"&MID(申込みフォーム!L76,4,4)&\"-\"&MID(申込みフォーム!L76,8,4),\"\")","v":""},{"$f":"IF(申込みフォーム!M76<>\"\",申込みフォーム!M76,\"\")","v":""},{"$f":"IF(申込みフォーム!N76<>\"\",申込みフォーム!N76,\"\")","v":""},{"$f":"IF(申込みフォーム!O76<>\"\",申込みフォーム!O76,\"\")","v":""},{"$f":"IF(申込みフォーム!P76<>\"\",申込みフォーム!P76,\"\")","v":""},{"$f":"IF(申込みフォーム!Q76<>\"\",申込みフォーム!Q76,\"\")","v":""},{"$f":"IF(申込みフォーム!R76<>\"\",申込みフォーム!R76,\"\")","v":""},{"$f":"IF(申込みフォーム!S76<>\"\",申込みフォーム!S76,\"\")","v":""},{"$f":"IF(申込みフォーム!U76=\"細胞診のみ\",\"協会子宮　\",IF(申込みフォーム!U76=\"細胞診＋（自費）膣エコー\",\"協会子宮＋自費膣エコー　\",\"\"))&IF(申込みフォーム!W76<>\"\",\"協会ﾏﾝﾓ　\",\"\")&IF(申込みフォーム!Y76<>\"\",\"協会骨　\",\"\")&IF(申込みフォーム!AA76<>\"\",\"協会肝炎　\",\"\")","v":""},{"$f":"IF(申込みフォーム!AB76<>\"\",\"子宮　\",\"\")&IF(申込みフォーム!AC76<>\"\",\"ﾏﾝﾓ　\",\"\")&IF(申込みフォーム!AD76<>\"\",\"乳ｴｺｰ\",\"\")","v":""},{"$f":"IF(申込みフォーム!AE76<>\"\",\"ﾏｰｶｰ　\",\"\")&IF(申込みフォーム!AF76<>\"\",\"心機能　\",\"\")&IF(申込みフォーム!AG76<>\"\",\"ABC　\",\"\")&IF(申込みフォーム!AH76<>\"\",\"Lox　\",\"\")&IF(申込みフォーム!AI76<>\"\",\"甲状腺　\",\"\")&IF(申込みフォーム!AJ76<>\"\",\"肝炎\",\"\")","v":""},{"$f":"IF(申込みフォーム!AK76<>\"\",\"脳　\",\"\")&IF(申込みフォーム!AL76<>\"\",\"胸部CT　\",\"\")&IF(申込みフォーム!AM76<>\"\",\"肺機能　\",\"\")&IF(申込みフォーム!AN76<>\"\",\"腹ｴｺｰ　\",\"\")&IF(申込みフォーム!AO76<>\"\",\"心ｴｺｰ　\",\"\")&IF(申込みフォーム!AP76<>\"\",\"ﾌﾛｰﾗ　\",\"\")&IF(申込みフォーム!AQ76<>\"\",\"OCT　\",\"\")&IF(申込みフォーム!AR76<>\"\",\"検便　\",\"\")&IF(申込みフォーム!AS76<>\"\",\"骨　\",\"\")&IF(申込みフォーム!AT76<>\"\",\"骨＋ﾛｺﾓ\",\"\")","v":""},{"$f":"IF(申込みフォーム!AU76<>\"\",申込みフォーム!AU76&\"　　\",\"\")&IF(申込みフォーム!AV76<>\"\",申込みフォーム!AV76&\"　　\",\"\")&IF(申込みフォーム!AW76<>\"\",申込みフォーム!AW76&\"　　\",\"\")","v":""},{"$f":"IF(申込みフォーム!BJ76<>\"\",申込みフォーム!BJ76,\"\")","v":""},{"$f":"IF(申込みフォーム!BK76<>\"\",申込みフォーム!BK76,\"\")","v":""},{"$f":"IF(申込みフォーム!BL76<>\"\",申込みフォーム!BL76&\"　　\",\"\")&IF(申込みフォーム!BM76<>\"\",申込みフォーム!BM76&\"　　\",\"\")&IF(申込みフォーム!BN76<>\"\",申込みフォーム!BN76&\"　　\",\"\")","v":{"$error":"#VALUE!"}},{"$f":"申込みフォーム!$Z76","v":""}]
[67,null,null,null,null,{"$f":"IF(申込みフォーム!B77<>\"\",申込みフォーム!B77&\"　\"&申込みフォーム!C77,\"\")","v":""},{"$f":"IF(申込みフォーム!E77<>\"\",申込みフォーム!E77&\"　\"&申込みフォーム!F77,\"\")","v":""},{"$f":"IF(申込みフォーム!G77<>\"\",申込みフォーム!G77,\"\")","v":""},{"$f":"IF(申込みフォーム!H77<>\"\",申込みフォーム!H77,\"\")","v":""},{"$f":"IF(申込みフォーム!D77<>\"\",申込みフォーム!D77,\"\")","v":""},{"$f":"IF(申込みフォーム!I77<>\"\",REPLACE(申込みフォーム!I77,4,,\"-\"),\"\")","v":""},{"$f":"IF(申込みフォーム!J77<>\"\",申込みフォーム!J77,\"\")","v":""},{"$f":"IF(申込みフォーム!K77<>\"\",申込みフォーム!K77,\"\")","v":""},{"$f":"IF(申込みフォーム!L77<>\"\",MID(申込みフォーム!L77,1,3)&\"-\"&MID(申込みフォーム!L77,4,4)&\"-\"&MID(申込みフォーム!L77,8,4),\"\")","v":""},{"$f":"IF(申込みフォーム!M77<>\"\",申込みフォーム!M77,\"\")","v":""},{"$f":"IF(申込みフォーム!N77<>\"\",申込みフォーム!N77,\"\")","v":""},{"$f":"IF(申込みフォーム!O77<>\"\",申込みフォーム!O77,\"\")","v":""},{"$f":"IF(申込みフォーム!P77<>\"\",申込みフォーム!P77,\"\")","v":""},{"$f":"IF(申込みフォーム!Q77<>\"\",申込みフォーム!Q77,\"\")","v":""},{"$f":"IF(申込みフォーム!R77<>\"\",申込みフォーム!R77,\"\")","v":""},{"$f":"IF(申込みフォーム!S77<>\"\",申込みフォーム!S77,\"\")","v":""},{"$f":"IF(申込みフォーム!U77=\"細胞診のみ\",\"協会子宮　\",IF(申込みフォーム!U77=\"細胞診＋（自費）膣エコー\",\"協会子宮＋自費膣エコー　\",\"\"))&IF(申込みフォーム!W77<>\"\",\"協会ﾏﾝﾓ　\",\"\")&IF(申込みフォーム!Y77<>\"\",\"協会骨　\",\"\")&IF(申込みフォーム!AA77<>\"\",\"協会肝炎　\",\"\")","v":""},{"$f":"IF(申込みフォーム!AB77<>\"\",\"子宮　\",\"\")&IF(申込みフォーム!AC77<>\"\",\"ﾏﾝﾓ　\",\"\")&IF(申込みフォーム!AD77<>\"\",\"乳ｴｺｰ\",\"\")","v":""},{"$f":"IF(申込みフォーム!AE77<>\"\",\"ﾏｰｶｰ　\",\"\")&IF(申込みフォーム!AF77<>\"\",\"心機能　\",\"\")&IF(申込みフォーム!AG77<>\"\",\"ABC　\",\"\")&IF(申込みフォーム!AH77<>\"\",\"Lox　\",\"\")&IF(申込みフォーム!AI77<>\"\",\"甲状腺　\",\"\")&IF(申込みフォーム!AJ77<>\"\",\"肝炎\",\"\")","v":""},{"$f":"IF(申込みフォーム!AK77<>\"\",\"脳　\",\"\")&IF(申込みフォーム!AL77<>\"\",\"胸部CT　\",\"\")&IF(申込みフォーム!AM77<>\"\",\"肺機能　\",\"\")&IF(申込みフォーム!AN77<>\"\",\"腹ｴｺｰ　\",\"\")&IF(申込みフォーム!AO77<>\"\",\"心ｴｺｰ　\",\"\")&IF(申込みフォーム!AP77<>\"\",\"ﾌﾛｰﾗ　\",\"\")&IF(申込みフォーム!AQ77<>\"\",\"OCT　\",\"\")&IF(申込みフォーム!AR77<>\"\",\"検便　\",\"\")&IF(申込みフォーム!AS77<>\"\",\"骨　\",\"\")&IF(申込みフォーム!AT77<>\"\",\"骨＋ﾛｺﾓ\",\"\")","v":""},{"$f":"IF(申込みフォーム!AU77<>\"\",申込みフォーム!AU77&\"　　\",\"\")&IF(申込みフォーム!AV77<>\"\",申込みフォーム!AV77&\"　　\",\"\")&IF(申込みフォーム!AW77<>\"\",申込みフォーム!AW77&\"　　\",\"\")","v":""},{"$f":"IF(申込みフォーム!BJ77<>\"\",申込みフォーム!BJ77,\"\")","v":""},{"$f":"IF(申込みフォーム!BK77<>\"\",申込みフォーム!BK77,\"\")","v":""},{"$f":"IF(申込みフォーム!BL77<>\"\",申込みフォーム!BL77&\"　　\",\"\")&IF(申込みフォーム!BM77<>\"\",申込みフォーム!BM77&\"　　\",\"\")&IF(申込みフォーム!BN77<>\"\",申込みフォーム!BN77&\"　　\",\"\")","v":{"$error":"#VALUE!"}},{"$f":"申込みフォーム!$Z77","v":""}]
[68,null,null,null,null,{"$f":"IF(申込みフォーム!B78<>\"\",申込みフォーム!B78&\"　\"&申込みフォーム!C78,\"\")","v":""},{"$f":"IF(申込みフォーム!E78<>\"\",申込みフォーム!E78&\"　\"&申込みフォーム!F78,\"\")","v":""},{"$f":"IF(申込みフォーム!G78<>\"\",申込みフォーム!G78,\"\")","v":""},{"$f":"IF(申込みフォーム!H78<>\"\",申込みフォーム!H78,\"\")","v":""},{"$f":"IF(申込みフォーム!D78<>\"\",申込みフォーム!D78,\"\")","v":""},{"$f":"IF(申込みフォーム!I78<>\"\",REPLACE(申込みフォーム!I78,4,,\"-\"),\"\")","v":""},{"$f":"IF(申込みフォーム!J78<>\"\",申込みフォーム!J78,\"\")","v":""},{"$f":"IF(申込みフォーム!K78<>\"\",申込みフォーム!K78,\"\")","v":""},{"$f":"IF(申込みフォーム!L78<>\"\",MID(申込みフォーム!L78,1,3)&\"-\"&MID(申込みフォーム!L78,4,4)&\"-\"&MID(申込みフォーム!L78,8,4),\"\")","v":""},{"$f":"IF(申込みフォーム!M78<>\"\",申込みフォーム!M78,\"\")","v":""},{"$f":"IF(申込みフォーム!N78<>\"\",申込みフォーム!N78,\"\")","v":""},{"$f":"IF(申込みフォーム!O78<>\"\",申込みフォーム!O78,\"\")","v":""},{"$f":"IF(申込みフォーム!P78<>\"\",申込みフォーム!P78,\"\")","v":""},{"$f":"IF(申込みフォーム!Q78<>\"\",申込みフォーム!Q78,\"\")","v":""},{"$f":"IF(申込みフォーム!R78<>\"\",申込みフォーム!R78,\"\")","v":""},{"$f":"IF(申込みフォーム!S78<>\"\",申込みフォーム!S78,\"\")","v":""},{"$f":"IF(申込みフォーム!U78=\"細胞診のみ\",\"協会子宮　\",IF(申込みフォーム!U78=\"細胞診＋（自費）膣エコー\",\"協会子宮＋自費膣エコー　\",\"\"))&IF(申込みフォーム!W78<>\"\",\"協会ﾏﾝﾓ　\",\"\")&IF(申込みフォーム!Y78<>\"\",\"協会骨　\",\"\")&IF(申込みフォーム!AA78<>\"\",\"協会肝炎　\",\"\")","v":""},{"$f":"IF(申込みフォーム!AB78<>\"\",\"子宮　\",\"\")&IF(申込みフォーム!AC78<>\"\",\"ﾏﾝﾓ　\",\"\")&IF(申込みフォーム!AD78<>\"\",\"乳ｴｺｰ\",\"\")","v":""},{"$f":"IF(申込みフォーム!AE78<>\"\",\"ﾏｰｶｰ　\",\"\")&IF(申込みフォーム!AF78<>\"\",\"心機能　\",\"\")&IF(申込みフォーム!AG78<>\"\",\"ABC　\",\"\")&IF(申込みフォーム!AH78<>\"\",\"Lox　\",\"\")&IF(申込みフォーム!AI78<>\"\",\"甲状腺　\",\"\")&IF(申込みフォーム!AJ78<>\"\",\"肝炎\",\"\")","v":""},{"$f":"IF(申込みフォーム!AK78<>\"\",\"脳　\",\"\")&IF(申込みフォーム!AL78<>\"\",\"胸部CT　\",\"\")&IF(申込みフォーム!AM78<>\"\",\"肺機能　\",\"\")&IF(申込みフォーム!AN78<>\"\",\"腹ｴｺｰ　\",\"\")&IF(申込みフォーム!AO78<>\"\",\"心ｴｺｰ　\",\"\")&IF(申込みフォーム!AP78<>\"\",\"ﾌﾛｰﾗ　\",\"\")&IF(申込みフォーム!AQ78<>\"\",\"OCT　\",\"\")&IF(申込みフォーム!AR78<>\"\",\"検便　\",\"\")&IF(申込みフォーム!AS78<>\"\",\"骨　\",\"\")&IF(申込みフォーム!AT78<>\"\",\"骨＋ﾛｺﾓ\",\"\")","v":""},{"$f":"IF(申込みフォーム!AU78<>\"\",申込みフォーム!AU78&\"　　\",\"\")&IF(申込みフォーム!AV78<>\"\",申込みフォーム!AV78&\"　　\",\"\")&IF(申込みフォーム!AW78<>\"\",申込みフォーム!AW78&\"　　\",\"\")","v":""},{"$f":"IF(申込みフォーム!BJ78<>\"\",申込みフォーム!BJ78,\"\")","v":""},{"$f":"IF(申込みフォーム!BK78<>\"\",申込みフォーム!BK78,\"\")","v":""},{"$f":"IF(申込みフォーム!BL78<>\"\",申込みフォーム!BL78&\"　　\",\"\")&IF(申込みフォーム!BM78<>\"\",申込みフォーム!BM78&\"　　\",\"\")&IF(申込みフォーム!BN78<>\"\",申込みフォーム!BN78&\"　　\",\"\")","v":{"$error":"#VALUE!"}},{"$f":"申込みフォーム!$Z78","v":""}]
[69,null,null,null,null,{"$f":"IF(申込みフォーム!B79<>\"\",申込みフォーム!B79&\"　\"&申込みフォーム!C79,\"\")","v":""},{"$f":"IF(申込みフォーム!E79<>\"\",申込みフォーム!E79&\"　\"&申込みフォーム!F79,\"\")","v":""},{"$f":"IF(申込みフォーム!G79<>\"\",申込みフォーム!G79,\"\")","v":""},{"$f":"IF(申込みフォーム!H79<>\"\",申込みフォーム!H79,\"\")","v":""},{"$f":"IF(申込みフォーム!D79<>\"\",申込みフォーム!D79,\"\")","v":""},{"$f":"IF(申込みフォーム!I79<>\"\",REPLACE(申込みフォーム!I79,4,,\"-\"),\"\")","v":""},{"$f":"IF(申込みフォーム!J79<>\"\",申込みフォーム!J79,\"\")","v":""},{"$f":"IF(申込みフォーム!K79<>\"\",申込みフォーム!K79,\"\")","v":""},{"$f":"IF(申込みフォーム!L79<>\"\",MID(申込みフォーム!L79,1,3)&\"-\"&MID(申込みフォーム!L79,4,4)&\"-\"&MID(申込みフォーム!L79,8,4),\"\")","v":""},{"$f":"IF(申込みフォーム!M79<>\"\",申込みフォーム!M79,\"\")","v":""},{"$f":"IF(申込みフォーム!N79<>\"\",申込みフォーム!N79,\"\")","v":""},{"$f":"IF(申込みフォーム!O79<>\"\",申込みフォーム!O79,\"\")","v":""},{"$f":"IF(申込みフォーム!P79<>\"\",申込みフォーム!P79,\"\")","v":""},{"$f":"IF(申込みフォーム!Q79<>\"\",申込みフォーム!Q79,\"\")","v":""},{"$f":"IF(申込みフォーム!R79<>\"\",申込みフォーム!R79,\"\")","v":""},{"$f":"IF(申込みフォーム!S79<>\"\",申込みフォーム!S79,\"\")","v":""},{"$f":"IF(申込みフォーム!U79=\"細胞診のみ\",\"協会子宮　\",IF(申込みフォーム!U79=\"細胞診＋（自費）膣エコー\",\"協会子宮＋自費膣エコー　\",\"\"))&IF(申込みフォーム!W79<>\"\",\"協会ﾏﾝﾓ　\",\"\")&IF(申込みフォーム!Y79<>\"\",\"協会骨　\",\"\")&IF(申込みフォーム!AA79<>\"\",\"協会肝炎　\",\"\")","v":""},{"$f":"IF(申込みフォーム!AB79<>\"\",\"子宮　\",\"\")&IF(申込みフォーム!AC79<>\"\",\"ﾏﾝﾓ　\",\"\")&IF(申込みフォーム!AD79<>\"\",\"乳ｴｺｰ\",\"\")","v":""},{"$f":"IF(申込みフォーム!AE79<>\"\",\"ﾏｰｶｰ　\",\"\")&IF(申込みフォーム!AF79<>\"\",\"心機能　\",\"\")&IF(申込みフォーム!AG79<>\"\",\"ABC　\",\"\")&IF(申込みフォーム!AH79<>\"\",\"Lox　\",\"\")&IF(申込みフォーム!AI79<>\"\",\"甲状腺　\",\"\")&IF(申込みフォーム!AJ79<>\"\",\"肝炎\",\"\")","v":""},{"$f":"IF(申込みフォーム!AK79<>\"\",\"脳　\",\"\")&IF(申込みフォーム!AL79<>\"\",\"胸部CT　\",\"\")&IF(申込みフォーム!AM79<>\"\",\"肺機能　\",\"\")&IF(申込みフォーム!AN79<>\"\",\"腹ｴｺｰ　\",\"\")&IF(申込みフォーム!AO79<>\"\",\"心ｴｺｰ　\",\"\")&IF(申込みフォーム!AP79<>\"\",\"ﾌﾛｰﾗ　\",\"\")&IF(申込みフォーム!AQ79<>\"\",\"OCT　\",\"\")&IF(申込みフォーム!AR79<>\"\",\"検便　\",\"\")&IF(申込みフォーム!AS79<>\"\",\"骨　\",\"\")&IF(申込みフォーム!AT79<>\"\",\"骨＋ﾛｺﾓ\",\"\")","v":""},{"$f":"IF(申込みフォーム!AU79<>\"\",申込みフォーム!AU79&\"　　\",\"\")&IF(申込みフォーム!AV79<>\"\",申込みフォーム!AV79&\"　　\",\"\")&IF(申込みフォーム!AW79<>\"\",申込みフォーム!AW79&\"　　\",\"\")","v":""},{"$f":"IF(申込みフォーム!BJ79<>\"\",申込みフォーム!BJ79,\"\")","v":""},{"$f":"IF(申込みフォーム!BK79<>\"\",申込みフォーム!BK79,\"\")","v":""},{"$f":"IF(申込みフォーム!BL79<>\"\",申込みフォーム!BL79&\"　　\",\"\")&IF(申込みフォーム!BM79<>\"\",申込みフォーム!BM79&\"　　\",\"\")&IF(申込みフォーム!BN79<>\"\",申込みフォーム!BN79&\"　　\",\"\")","v":{"$error":"#VALUE!"}},{"$f":"申込みフォーム!$Z79","v":""}]
[70,null,null,null,null,{"$f":"IF(申込みフォーム!B80<>\"\",申込みフォーム!B80&\"　\"&申込みフォーム!C80,\"\")","v":""},{"$f":"IF(申込みフォーム!E80<>\"\",申込みフォーム!E80&\"　\"&申込みフォーム!F80,\"\")","v":""},{"$f":"IF(申込みフォーム!G80<>\"\",申込みフォーム!G80,\"\")","v":""},{"$f":"IF(申込みフォーム!H80<>\"\",申込みフォーム!H80,\"\")","v":""},{"$f":"IF(申込みフォーム!D80<>\"\",申込みフォーム!D80,\"\")","v":""},{"$f":"IF(申込みフォーム!I80<>\"\",REPLACE(申込みフォーム!I80,4,,\"-\"),\"\")","v":""},{"$f":"IF(申込みフォーム!J80<>\"\",申込みフォーム!J80,\"\")","v":""},{"$f":"IF(申込みフォーム!K80<>\"\",申込みフォーム!K80,\"\")","v":""},{"$f":"IF(申込みフォーム!L80<>\"\",MID(申込みフォーム!L80,1,3)&\"-\"&MID(申込みフォーム!L80,4,4)&\"-\"&MID(申込みフォーム!L80,8,4),\"\")","v":""},{"$f":"IF(申込みフォーム!M80<>\"\",申込みフォーム!M80,\"\")","v":""},{"$f":"IF(申込みフォーム!N80<>\"\",申込みフォーム!N80,\"\")","v":""},{"$f":"IF(申込みフォーム!O80<>\"\",申込みフォーム!O80,\"\")","v":""},{"$f":"IF(申込みフォーム!P80<>\"\",申込みフォーム!P80,\"\")","v":""},{"$f":"IF(申込みフォーム!Q80<>\"\",申込みフォーム!Q80,\"\")","v":""},{"$f":"IF(申込みフォーム!R80<>\"\",申込みフォーム!R80,\"\")","v":""},{"$f":"IF(申込みフォーム!S80<>\"\",申込みフォーム!S80,\"\")","v":""},{"$f":"IF(申込みフォーム!U80=\"細胞診のみ\",\"協会子宮　\",IF(申込みフォーム!U80=\"細胞診＋（自費）膣エコー\",\"協会子宮＋自費膣エコー　\",\"\"))&IF(申込みフォーム!W80<>\"\",\"協会ﾏﾝﾓ　\",\"\")&IF(申込みフォーム!Y80<>\"\",\"協会骨　\",\"\")&IF(申込みフォーム!AA80<>\"\",\"協会肝炎　\",\"\")","v":""},{"$f":"IF(申込みフォーム!AB80<>\"\",\"子宮　\",\"\")&IF(申込みフォーム!AC80<>\"\",\"ﾏﾝﾓ　\",\"\")&IF(申込みフォーム!AD80<>\"\",\"乳ｴｺｰ\",\"\")","v":""},{"$f":"IF(申込みフォーム!AE80<>\"\",\"ﾏｰｶｰ　\",\"\")&IF(申込みフォーム!AF80<>\"\",\"心機能　\",\"\")&IF(申込みフォーム!AG80<>\"\",\"ABC　\",\"\")&IF(申込みフォーム!AH80<>\"\",\"Lox　\",\"\")&IF(申込みフォーム!AI80<>\"\",\"甲状腺　\",\"\")&IF(申込みフォーム!AJ80<>\"\",\"肝炎\",\"\")","v":""},{"$f":"IF(申込みフォーム!AK80<>\"\",\"脳　\",\"\")&IF(申込みフォーム!AL80<>\"\",\"胸部CT　\",\"\")&IF(申込みフォーム!AM80<>\"\",\"肺機能　\",\"\")&IF(申込みフォーム!AN80<>\"\",\"腹ｴｺｰ　\",\"\")&IF(申込みフォーム!AO80<>\"\",\"心ｴｺｰ　\",\"\")&IF(申込みフォーム!AP80<>\"\",\"ﾌﾛｰﾗ　\",\"\")&IF(申込みフォーム!AQ80<>\"\",\"OCT　\",\"\")&IF(申込みフォーム!AR80<>\"\",\"検便　\",\"\")&IF(申込みフォーム!AS80<>\"\",\"骨　\",\"\")&IF(申込みフォーム!AT80<>\"\",\"骨＋ﾛｺﾓ\",\"\")","v":""},{"$f":"IF(申込みフォーム!AU80<>\"\",申込みフォーム!AU80&\"　　\",\"\")&IF(申込みフォーム!AV80<>\"\",申込みフォーム!AV80&\"　　\",\"\")&IF(申込みフォーム!AW80<>\"\",申込みフォーム!AW80&\"　　\",\"\")","v":""},{"$f":"IF(申込みフォーム!BJ80<>\"\",申込みフォーム!BJ80,\"\")","v":""},{"$f":"IF(申込みフォーム!BK80<>\"\",申込みフォーム!BK80,\"\")","v":""},{"$f":"IF(申込みフォーム!BL80<>\"\",申込みフォーム!BL80&\"　　\",\"\")&IF(申込みフォーム!BM80<>\"\",申込みフォーム!BM80&\"　　\",\"\")&IF(申込みフォーム!BN80<>\"\",申込みフォーム!BN80&\"　　\",\"\")","v":{"$error":"#VALUE!"}},{"$f":"申込みフォーム!$Z80","v":""}]
[71,null,null,null,null,{"$f":"IF(申込みフォーム!B81<>\"\",申込みフォーム!B81&\"　\"&申込みフォーム!C81,\"\")","v":""},{"$f":"IF(申込みフォーム!E81<>\"\",申込みフォーム!E81&\"　\"&申込みフォーム!F81,\"\")","v":""},{"$f":"IF(申込みフォーム!G81<>\"\",申込みフォーム!G81,\"\")","v":""},{"$f":"IF(申込みフォーム!H81<>\"\",申込みフォーム!H81,\"\")","v":""},{"$f":"IF(申込みフォーム!D81<>\"\",申込みフォーム!D81,\"\")","v":""},{"$f":"IF(申込みフォーム!I81<>\"\",REPLACE(申込みフォーム!I81,4,,\"-\"),\"\")","v":""},{"$f":"IF(申込みフォーム!J81<>\"\",申込みフォーム!J81,\"\")","v":""},{"$f":"IF(申込みフォーム!K81<>\"\",申込みフォーム!K81,\"\")","v":""},{"$f":"IF(申込みフォーム!L81<>\"\",MID(申込みフォーム!L81,1,3)&\"-\"&MID(申込みフォーム!L81,4,4)&\"-\"&MID(申込みフォーム!L81,8,4),\"\")","v":""},{"$f":"IF(申込みフォーム!M81<>\"\",申込みフォーム!M81,\"\")","v":""},{"$f":"IF(申込みフォーム!N81<>\"\",申込みフォーム!N81,\"\")","v":""},{"$f":"IF(申込みフォーム!O81<>\"\",申込みフォーム!O81,\"\")","v":""},{"$f":"IF(申込みフォーム!P81<>\"\",申込みフォーム!P81,\"\")","v":""},{"$f":"IF(申込みフォーム!Q81<>\"\",申込みフォーム!Q81,\"\")","v":""},{"$f":"IF(申込みフォーム!R81<>\"\",申込みフォーム!R81,\"\")","v":""},{"$f":"IF(申込みフォーム!S81<>\"\",申込みフォーム!S81,\"\")","v":""},{"$f":"IF(申込みフォーム!U81=\"細胞診のみ\",\"協会子宮　\",IF(申込みフォーム!U81=\"細胞診＋（自費）膣エコー\",\"協会子宮＋自費膣エコー　\",\"\"))&IF(申込みフォーム!W81<>\"\",\"協会ﾏﾝﾓ　\",\"\")&IF(申込みフォーム!Y81<>\"\",\"協会骨　\",\"\")&IF(申込みフォーム!AA81<>\"\",\"協会肝炎　\",\"\")","v":""},{"$f":"IF(申込みフォーム!AB81<>\"\",\"子宮　\",\"\")&IF(申込みフォーム!AC81<>\"\",\"ﾏﾝﾓ　\",\"\")&IF(申込みフォーム!AD81<>\"\",\"乳ｴｺｰ\",\"\")","v":""},{"$f":"IF(申込みフォーム!AE81<>\"\",\"ﾏｰｶｰ　\",\"\")&IF(申込みフォーム!AF81<>\"\",\"心機能　\",\"\")&IF(申込みフォーム!AG81<>\"\",\"ABC　\",\"\")&IF(申込みフォーム!AH81<>\"\",\"Lox　\",\"\")&IF(申込みフォーム!AI81<>\"\",\"甲状腺　\",\"\")&IF(申込みフォーム!AJ81<>\"\",\"肝炎\",\"\")","v":""},{"$f":"IF(申込みフォーム!AK81<>\"\",\"脳　\",\"\")&IF(申込みフォーム!AL81<>\"\",\"胸部CT　\",\"\")&IF(申込みフォーム!AM81<>\"\",\"肺機能　\",\"\")&IF(申込みフォーム!AN81<>\"\",\"腹ｴｺｰ　\",\"\")&IF(申込みフォーム!AO81<>\"\",\"心ｴｺｰ　\",\"\")&IF(申込みフォーム!AP81<>\"\",\"ﾌﾛｰﾗ　\",\"\")&IF(申込みフォーム!AQ81<>\"\",\"OCT　\",\"\")&IF(申込みフォーム!AR81<>\"\",\"検便　\",\"\")&IF(申込みフォーム!AS81<>\"\",\"骨　\",\"\")&IF(申込みフォーム!AT81<>\"\",\"骨＋ﾛｺﾓ\",\"\")","v":""},{"$f":"IF(申込みフォーム!AU81<>\"\",申込みフォーム!AU81&\"　　\",\"\")&IF(申込みフォーム!AV81<>\"\",申込みフォーム!AV81&\"　　\",\"\")&IF(申込みフォーム!AW81<>\"\",申込みフォーム!AW81&\"　　\",\"\")","v":""},{"$f":"IF(申込みフォーム!BJ81<>\"\",申込みフォーム!BJ81,\"\")","v":""},{"$f":"IF(申込みフォーム!BK81<>\"\",申込みフォーム!BK81,\"\")","v":""},{"$f":"IF(申込みフォーム!BL81<>\"\",申込みフォーム!BL81&\"　　\",\"\")&IF(申込みフォーム!BM81<>\"\",申込みフォーム!BM81&\"　　\",\"\")&IF(申込みフォーム!BN81<>\"\",申込みフォーム!BN81&\"　　\",\"\")","v":{"$error":"#VALUE!"}},{"$f":"申込みフォーム!$Z81","v":""}]
[72,null,null,null,null,{"$f":"IF(申込みフォーム!B82<>\"\",申込みフォーム!B82&\"　\"&申込みフォーム!C82,\"\")","v":""},{"$f":"IF(申込みフォーム!E82<>\"\",申込みフォーム!E82&\"　\"&申込みフォーム!F82,\"\")","v":""},{"$f":"IF(申込みフォーム!G82<>\"\",申込みフォーム!G82,\"\")","v":""},{"$f":"IF(申込みフォーム!H82<>\"\",申込みフォーム!H82,\"\")","v":""},{"$f":"IF(申込みフォーム!D82<>\"\",申込みフォーム!D82,\"\")","v":""},{"$f":"IF(申込みフォーム!I82<>\"\",REPLACE(申込みフォーム!I82,4,,\"-\"),\"\")","v":""},{"$f":"IF(申込みフォーム!J82<>\"\",申込みフォーム!J82,\"\")","v":""},{"$f":"IF(申込みフォーム!K82<>\"\",申込みフォーム!K82,\"\")","v":""},{"$f":"IF(申込みフォーム!L82<>\"\",MID(申込みフォーム!L82,1,3)&\"-\"&MID(申込みフォーム!L82,4,4)&\"-\"&MID(申込みフォーム!L82,8,4),\"\")","v":""},{"$f":"IF(申込みフォーム!M82<>\"\",申込みフォーム!M82,\"\")","v":""},{"$f":"IF(申込みフォーム!N82<>\"\",申込みフォーム!N82,\"\")","v":""},{"$f":"IF(申込みフォーム!O82<>\"\",申込みフォーム!O82,\"\")","v":""},{"$f":"IF(申込みフォーム!P82<>\"\",申込みフォーム!P82,\"\")","v":""},{"$f":"IF(申込みフォーム!Q82<>\"\",申込みフォーム!Q82,\"\")","v":""},{"$f":"IF(申込みフォーム!R82<>\"\",申込みフォーム!R82,\"\")","v":""},{"$f":"IF(申込みフォーム!S82<>\"\",申込みフォーム!S82,\"\")","v":""},{"$f":"IF(申込みフォーム!U82=\"細胞診のみ\",\"協会子宮　\",IF(申込みフォーム!U82=\"細胞診＋（自費）膣エコー\",\"協会子宮＋自費膣エコー　\",\"\"))&IF(申込みフォーム!W82<>\"\",\"協会ﾏﾝﾓ　\",\"\")&IF(申込みフォーム!Y82<>\"\",\"協会骨　\",\"\")&IF(申込みフォーム!AA82<>\"\",\"協会肝炎　\",\"\")","v":""},{"$f":"IF(申込みフォーム!AB82<>\"\",\"子宮　\",\"\")&IF(申込みフォーム!AC82<>\"\",\"ﾏﾝﾓ　\",\"\")&IF(申込みフォーム!AD82<>\"\",\"乳ｴｺｰ\",\"\")","v":""},{"$f":"IF(申込みフォーム!AE82<>\"\",\"ﾏｰｶｰ　\",\"\")&IF(申込みフォーム!AF82<>\"\",\"心機能　\",\"\")&IF(申込みフォーム!AG82<>\"\",\"ABC　\",\"\")&IF(申込みフォーム!AH82<>\"\",\"Lox　\",\"\")&IF(申込みフォーム!AI82<>\"\",\"甲状腺　\",\"\")&IF(申込みフォーム!AJ82<>\"\",\"肝炎\",\"\")","v":""},{"$f":"IF(申込みフォーム!AK82<>\"\",\"脳　\",\"\")&IF(申込みフォーム!AL82<>\"\",\"胸部CT　\",\"\")&IF(申込みフォーム!AM82<>\"\",\"肺機能　\",\"\")&IF(申込みフォーム!AN82<>\"\",\"腹ｴｺｰ　\",\"\")&IF(申込みフォーム!AO82<>\"\",\"心ｴｺｰ　\",\"\")&IF(申込みフォーム!AP82<>\"\",\"ﾌﾛｰﾗ　\",\"\")&IF(申込みフォーム!AQ82<>\"\",\"OCT　\",\"\")&IF(申込みフォーム!AR82<>\"\",\"検便　\",\"\")&IF(申込みフォーム!AS82<>\"\",\"骨　\",\"\")&IF(申込みフォーム!AT82<>\"\",\"骨＋ﾛｺﾓ\",\"\")","v":""},{"$f":"IF(申込みフォーム!AU82<>\"\",申込みフォーム!AU82&\"　　\",\"\")&IF(申込みフォーム!AV82<>\"\",申込みフォーム!AV82&\"　　\",\"\")&IF(申込みフォーム!AW82<>\"\",申込みフォーム!AW82&\"　　\",\"\")","v":""},{"$f":"IF(申込みフォーム!BJ82<>\"\",申込みフォーム!BJ82,\"\")","v":""},{"$f":"IF(申込みフォーム!BK82<>\"\",申込みフォーム!BK82,\"\")","v":""},{"$f":"IF(申込みフォーム!BL82<>\"\",申込みフォーム!BL82&\"　　\",\"\")&IF(申込みフォーム!BM82<>\"\",申込みフォーム!BM82&\"　　\",\"\")&IF(申込みフォーム!BN82<>\"\",申込みフォーム!BN82&\"　　\",\"\")","v":{"$error":"#VALUE!"}},{"$f":"申込みフォーム!$Z82","v":""}]
[73,null,null,null,null,{"$f":"IF(申込みフォーム!B83<>\"\",申込みフォーム!B83&\"　\"&申込みフォーム!C83,\"\")","v":""},{"$f":"IF(申込みフォーム!E83<>\"\",申込みフォーム!E83&\"　\"&申込みフォーム!F83,\"\")","v":""},{"$f":"IF(申込みフォーム!G83<>\"\",申込みフォーム!G83,\"\")","v":""},{"$f":"IF(申込みフォーム!H83<>\"\",申込みフォーム!H83,\"\")","v":""},{"$f":"IF(申込みフォーム!D83<>\"\",申込みフォーム!D83,\"\")","v":""},{"$f":"IF(申込みフォーム!I83<>\"\",REPLACE(申込みフォーム!I83,4,,\"-\"),\"\")","v":""},{"$f":"IF(申込みフォーム!J83<>\"\",申込みフォーム!J83,\"\")","v":""},{"$f":"IF(申込みフォーム!K83<>\"\",申込みフォーム!K83,\"\")","v":""},{"$f":"IF(申込みフォーム!L83<>\"\",MID(申込みフォーム!L83,1,3)&\"-\"&MID(申込みフォーム!L83,4,4)&\"-\"&MID(申込みフォーム!L83,8,4),\"\")","v":""},{"$f":"IF(申込みフォーム!M83<>\"\",申込みフォーム!M83,\"\")","v":""},{"$f":"IF(申込みフォーム!N83<>\"\",申込みフォーム!N83,\"\")","v":""},{"$f":"IF(申込みフォーム!O83<>\"\",申込みフォーム!O83,\"\")","v":""},{"$f":"IF(申込みフォーム!P83<>\"\",申込みフォーム!P83,\"\")","v":""},{"$f":"IF(申込みフォーム!Q83<>\"\",申込みフォーム!Q83,\"\")","v":""},{"$f":"IF(申込みフォーム!R83<>\"\",申込みフォーム!R83,\"\")","v":""},{"$f":"IF(申込みフォーム!S83<>\"\",申込みフォーム!S83,\"\")","v":""},{"$f":"IF(申込みフォーム!U83=\"細胞診のみ\",\"協会子宮　\",IF(申込みフォーム!U83=\"細胞診＋（自費）膣エコー\",\"協会子宮＋自費膣エコー　\",\"\"))&IF(申込みフォーム!W83<>\"\",\"協会ﾏﾝﾓ　\",\"\")&IF(申込みフォーム!Y83<>\"\",\"協会骨　\",\"\")&IF(申込みフォーム!AA83<>\"\",\"協会肝炎　\",\"\")","v":""},{"$f":"IF(申込みフォーム!AB83<>\"\",\"子宮　\",\"\")&IF(申込みフォーム!AC83<>\"\",\"ﾏﾝﾓ　\",\"\")&IF(申込みフォーム!AD83<>\"\",\"乳ｴｺｰ\",\"\")","v":""},{"$f":"IF(申込みフォーム!AE83<>\"\",\"ﾏｰｶｰ　\",\"\")&IF(申込みフォーム!AF83<>\"\",\"心機能　\",\"\")&IF(申込みフォーム!AG83<>\"\",\"ABC　\",\"\")&IF(申込みフォーム!AH83<>\"\",\"Lox　\",\"\")&IF(申込みフォーム!AI83<>\"\",\"甲状腺　\",\"\")&IF(申込みフォーム!AJ83<>\"\",\"肝炎\",\"\")","v":""},{"$f":"IF(申込みフォーム!AK83<>\"\",\"脳　\",\"\")&IF(申込みフォーム!AL83<>\"\",\"胸部CT　\",\"\")&IF(申込みフォーム!AM83<>\"\",\"肺機能　\",\"\")&IF(申込みフォーム!AN83<>\"\",\"腹ｴｺｰ　\",\"\")&IF(申込みフォーム!AO83<>\"\",\"心ｴｺｰ　\",\"\")&IF(申込みフォーム!AP83<>\"\",\"ﾌﾛｰﾗ　\",\"\")&IF(申込みフォーム!AQ83<>\"\",\"OCT　\",\"\")&IF(申込みフォーム!AR83<>\"\",\"検便　\",\"\")&IF(申込みフォーム!AS83<>\"\",\"骨　\",\"\")&IF(申込みフォーム!AT83<>\"\",\"骨＋ﾛｺﾓ\",\"\")","v":""},{"$f":"IF(申込みフォーム!AU83<>\"\",申込みフォーム!AU83&\"　　\",\"\")&IF(申込みフォーム!AV83<>\"\",申込みフォーム!AV83&\"　　\",\"\")&IF(申込みフォーム!AW83<>\"\",申込みフォーム!AW83&\"　　\",\"\")","v":""},{"$f":"IF(申込みフォーム!BJ83<>\"\",申込みフォーム!BJ83,\"\")","v":""},{"$f":"IF(申込みフォーム!BK83<>\"\",申込みフォーム!BK83,\"\")","v":""},{"$f":"IF(申込みフォーム!BL83<>\"\",申込みフォーム!BL83&\"　　\",\"\")&IF(申込みフォーム!BM83<>\"\",申込みフォーム!BM83&\"　　\",\"\")&IF(申込みフォーム!BN83<>\"\",申込みフォーム!BN83&\"　　\",\"\")","v":{"$error":"#VALUE!"}},{"$f":"申込みフォーム!$Z83","v":""}]
[74,null,null,null,null,{"$f":"IF(申込みフォーム!B84<>\"\",申込みフォーム!B84&\"　\"&申込みフォーム!C84,\"\")","v":""},{"$f":"IF(申込みフォーム!E84<>\"\",申込みフォーム!E84&\"　\"&申込みフォーム!F84,\"\")","v":""},{"$f":"IF(申込みフォーム!G84<>\"\",申込みフォーム!G84,\"\")","v":""},{"$f":"IF(申込みフォーム!H84<>\"\",申込みフォーム!H84,\"\")","v":""},{"$f":"IF(申込みフォーム!D84<>\"\",申込みフォーム!D84,\"\")","v":""},{"$f":"IF(申込みフォーム!I84<>\"\",REPLACE(申込みフォーム!I84,4,,\"-\"),\"\")","v":""},{"$f":"IF(申込みフォーム!J84<>\"\",申込みフォーム!J84,\"\")","v":""},{"$f":"IF(申込みフォーム!K84<>\"\",申込みフォーム!K84,\"\")","v":""},{"$f":"IF(申込みフォーム!L84<>\"\",MID(申込みフォーム!L84,1,3)&\"-\"&MID(申込みフォーム!L84,4,4)&\"-\"&MID(申込みフォーム!L84,8,4),\"\")","v":""},{"$f":"IF(申込みフォーム!M84<>\"\",申込みフォーム!M84,\"\")","v":""},{"$f":"IF(申込みフォーム!N84<>\"\",申込みフォーム!N84,\"\")","v":""},{"$f":"IF(申込みフォーム!O84<>\"\",申込みフォーム!O84,\"\")","v":""},{"$f":"IF(申込みフォーム!P84<>\"\",申込みフォーム!P84,\"\")","v":""},{"$f":"IF(申込みフォーム!Q84<>\"\",申込みフォーム!Q84,\"\")","v":""},{"$f":"IF(申込みフォーム!R84<>\"\",申込みフォーム!R84,\"\")","v":""},{"$f":"IF(申込みフォーム!S84<>\"\",申込みフォーム!S84,\"\")","v":""},{"$f":"IF(申込みフォーム!U84=\"細胞診のみ\",\"協会子宮　\",IF(申込みフォーム!U84=\"細胞診＋（自費）膣エコー\",\"協会子宮＋自費膣エコー　\",\"\"))&IF(申込みフォーム!W84<>\"\",\"協会ﾏﾝﾓ　\",\"\")&IF(申込みフォーム!Y84<>\"\",\"協会骨　\",\"\")&IF(申込みフォーム!AA84<>\"\",\"協会肝炎　\",\"\")","v":""},{"$f":"IF(申込みフォーム!AB84<>\"\",\"子宮　\",\"\")&IF(申込みフォーム!AC84<>\"\",\"ﾏﾝﾓ　\",\"\")&IF(申込みフォーム!AD84<>\"\",\"乳ｴｺｰ\",\"\")","v":""},{"$f":"IF(申込みフォーム!AE84<>\"\",\"ﾏｰｶｰ　\",\"\")&IF(申込みフォーム!AF84<>\"\",\"心機能　\",\"\")&IF(申込みフォーム!AG84<>\"\",\"ABC　\",\"\")&IF(申込みフォーム!AH84<>\"\",\"Lox　\",\"\")&IF(申込みフォーム!AI84<>\"\",\"甲状腺　\",\"\")&IF(申込みフォーム!AJ84<>\"\",\"肝炎\",\"\")","v":""},{"$f":"IF(申込みフォーム!AK84<>\"\",\"脳　\",\"\")&IF(申込みフォーム!AL84<>\"\",\"胸部CT　\",\"\")&IF(申込みフォーム!AM84<>\"\",\"肺機能　\",\"\")&IF(申込みフォーム!AN84<>\"\",\"腹ｴｺｰ　\",\"\")&IF(申込みフォーム!AO84<>\"\",\"心ｴｺｰ　\",\"\")&IF(申込みフォーム!AP84<>\"\",\"ﾌﾛｰﾗ　\",\"\")&IF(申込みフォーム!AQ84<>\"\",\"OCT　\",\"\")&IF(申込みフォーム!AR84<>\"\",\"検便　\",\"\")&IF(申込みフォーム!AS84<>\"\",\"骨　\",\"\")&IF(申込みフォーム!AT84<>\"\",\"骨＋ﾛｺﾓ\",\"\")","v":""},{"$f":"IF(申込みフォーム!AU84<>\"\",申込みフォーム!AU84&\"　　\",\"\")&IF(申込みフォーム!AV84<>\"\",申込みフォーム!AV84&\"　　\",\"\")&IF(申込みフォーム!AW84<>\"\",申込みフォーム!AW84&\"　　\",\"\")","v":""},{"$f":"IF(申込みフォーム!BJ84<>\"\",申込みフォーム!BJ84,\"\")","v":""},{"$f":"IF(申込みフォーム!BK84<>\"\",申込みフォーム!BK84,\"\")","v":""},{"$f":"IF(申込みフォーム!BL84<>\"\",申込みフォーム!BL84&\"　　\",\"\")&IF(申込みフォーム!BM84<>\"\",申込みフォーム!BM84&\"　　\",\"\")&IF(申込みフォーム!BN84<>\"\",申込みフォーム!BN84&\"　　\",\"\")","v":{"$error":"#VALUE!"}},{"$f":"申込みフォーム!$Z84","v":""}]
[75,null,null,null,null,{"$f":"IF(申込みフォーム!B85<>\"\",申込みフォーム!B85&\"　\"&申込みフォーム!C85,\"\")","v":""},{"$f":"IF(申込みフォーム!E85<>\"\",申込みフォーム!E85&\"　\"&申込みフォーム!F85,\"\")","v":""},{"$f":"IF(申込みフォーム!G85<>\"\",申込みフォーム!G85,\"\")","v":""},{"$f":"IF(申込みフォーム!H85<>\"\",申込みフォーム!H85,\"\")","v":""},{"$f":"IF(申込みフォーム!D85<>\"\",申込みフォーム!D85,\"\")","v":""},{"$f":"IF(申込みフォーム!I85<>\"\",REPLACE(申込みフォーム!I85,4,,\"-\"),\"\")","v":""},{"$f":"IF(申込みフォーム!J85<>\"\",申込みフォーム!J85,\"\")","v":""},{"$f":"IF(申込みフォーム!K85<>\"\",申込みフォーム!K85,\"\")","v":""},{"$f":"IF(申込みフォーム!L85<>\"\",MID(申込みフォーム!L85,1,3)&\"-\"&MID(申込みフォーム!L85,4,4)&\"-\"&MID(申込みフォーム!L85,8,4),\"\")","v":""},{"$f":"IF(申込みフォーム!M85<>\"\",申込みフォーム!M85,\"\")","v":""},{"$f":"IF(申込みフォーム!N85<>\"\",申込みフォーム!N85,\"\")","v":""},{"$f":"IF(申込みフォーム!O85<>\"\",申込みフォーム!O85,\"\")","v":""},{"$f":"IF(申込みフォーム!P85<>\"\",申込みフォーム!P85,\"\")","v":""},{"$f":"IF(申込みフォーム!Q85<>\"\",申込みフォーム!Q85,\"\")","v":""},{"$f":"IF(申込みフォーム!R85<>\"\",申込みフォーム!R85,\"\")","v":""},{"$f":"IF(申込みフォーム!S85<>\"\",申込みフォーム!S85,\"\")","v":""},{"$f":"IF(申込みフォーム!U85=\"細胞診のみ\",\"協会子宮　\",IF(申込みフォーム!U85=\"細胞診＋（自費）膣エコー\",\"協会子宮＋自費膣エコー　\",\"\"))&IF(申込みフォーム!W85<>\"\",\"協会ﾏﾝﾓ　\",\"\")&IF(申込みフォーム!Y85<>\"\",\"協会骨　\",\"\")&IF(申込みフォーム!AA85<>\"\",\"協会肝炎　\",\"\")","v":""},{"$f":"IF(申込みフォーム!AB85<>\"\",\"子宮　\",\"\")&IF(申込みフォーム!AC85<>\"\",\"ﾏﾝﾓ　\",\"\")&IF(申込みフォーム!AD85<>\"\",\"乳ｴｺｰ\",\"\")","v":""},{"$f":"IF(申込みフォーム!AE85<>\"\",\"ﾏｰｶｰ　\",\"\")&IF(申込みフォーム!AF85<>\"\",\"心機能　\",\"\")&IF(申込みフォーム!AG85<>\"\",\"ABC　\",\"\")&IF(申込みフォーム!AH85<>\"\",\"Lox　\",\"\")&IF(申込みフォーム!AI85<>\"\",\"甲状腺　\",\"\")&IF(申込みフォーム!AJ85<>\"\",\"肝炎\",\"\")","v":""},{"$f":"IF(申込みフォーム!AK85<>\"\",\"脳　\",\"\")&IF(申込みフォーム!AL85<>\"\",\"胸部CT　\",\"\")&IF(申込みフォーム!AM85<>\"\",\"肺機能　\",\"\")&IF(申込みフォーム!AN85<>\"\",\"腹ｴｺｰ　\",\"\")&IF(申込みフォーム!AO85<>\"\",\"心ｴｺｰ　\",\"\")&IF(申込みフォーム!AP85<>\"\",\"ﾌﾛｰﾗ　\",\"\")&IF(申込みフォーム!AQ85<>\"\",\"OCT　\",\"\")&IF(申込みフォーム!AR85<>\"\",\"検便　\",\"\")&IF(申込みフォーム!AS85<>\"\",\"骨　\",\"\")&IF(申込みフォーム!AT85<>\"\",\"骨＋ﾛｺﾓ\",\"\")","v":""},{"$f":"IF(申込みフォーム!AU85<>\"\",申込みフォーム!AU85&\"　　\",\"\")&IF(申込みフォーム!AV85<>\"\",申込みフォーム!AV85&\"　　\",\"\")&IF(申込みフォーム!AW85<>\"\",申込みフォーム!AW85&\"　　\",\"\")","v":""},{"$f":"IF(申込みフォーム!BJ85<>\"\",申込みフォーム!BJ85,\"\")","v":""},{"$f":"IF(申込みフォーム!BK85<>\"\",申込みフォーム!BK85,\"\")","v":""},{"$f":"IF(申込みフォーム!BL85<>\"\",申込みフォーム!BL85&\"　　\",\"\")&IF(申込みフォーム!BM85<>\"\",申込みフォーム!BM85&\"　　\",\"\")&IF(申込みフォーム!BN85<>\"\",申込みフォーム!BN85&\"　　\",\"\")","v":{"$error":"#VALUE!"}},{"$f":"申込みフォーム!$Z85","v":""}]
[76,null,null,null,null,{"$f":"IF(申込みフォーム!B86<>\"\",申込みフォーム!B86&\"　\"&申込みフォーム!C86,\"\")","v":""},{"$f":"IF(申込みフォーム!E86<>\"\",申込みフォーム!E86&\"　\"&申込みフォーム!F86,\"\")","v":""},{"$f":"IF(申込みフォーム!G86<>\"\",申込みフォーム!G86,\"\")","v":""},{"$f":"IF(申込みフォーム!H86<>\"\",申込みフォーム!H86,\"\")","v":""},{"$f":"IF(申込みフォーム!D86<>\"\",申込みフォーム!D86,\"\")","v":""},{"$f":"IF(申込みフォーム!I86<>\"\",REPLACE(申込みフォーム!I86,4,,\"-\"),\"\")","v":""},{"$f":"IF(申込みフォーム!J86<>\"\",申込みフォーム!J86,\"\")","v":""},{"$f":"IF(申込みフォーム!K86<>\"\",申込みフォーム!K86,\"\")","v":""},{"$f":"IF(申込みフォーム!L86<>\"\",MID(申込みフォーム!L86,1,3)&\"-\"&MID(申込みフォーム!L86,4,4)&\"-\"&MID(申込みフォーム!L86,8,4),\"\")","v":""},{"$f":"IF(申込みフォーム!M86<>\"\",申込みフォーム!M86,\"\")","v":""},{"$f":"IF(申込みフォーム!N86<>\"\",申込みフォーム!N86,\"\")","v":""},{"$f":"IF(申込みフォーム!O86<>\"\",申込みフォーム!O86,\"\")","v":""},{"$f":"IF(申込みフォーム!P86<>\"\",申込みフォーム!P86,\"\")","v":""},{"$f":"IF(申込みフォーム!Q86<>\"\",申込みフォーム!Q86,\"\")","v":""},{"$f":"IF(申込みフォーム!R86<>\"\",申込みフォーム!R86,\"\")","v":""},{"$f":"IF(申込みフォーム!S86<>\"\",申込みフォーム!S86,\"\")","v":""},{"$f":"IF(申込みフォーム!U86=\"細胞診のみ\",\"協会子宮　\",IF(申込みフォーム!U86=\"細胞診＋（自費）膣エコー\",\"協会子宮＋自費膣エコー　\",\"\"))&IF(申込みフォーム!W86<>\"\",\"協会ﾏﾝﾓ　\",\"\")&IF(申込みフォーム!Y86<>\"\",\"協会骨　\",\"\")&IF(申込みフォーム!AA86<>\"\",\"協会肝炎　\",\"\")","v":""},{"$f":"IF(申込みフォーム!AB86<>\"\",\"子宮　\",\"\")&IF(申込みフォーム!AC86<>\"\",\"ﾏﾝﾓ　\",\"\")&IF(申込みフォーム!AD86<>\"\",\"乳ｴｺｰ\",\"\")","v":""},{"$f":"IF(申込みフォーム!AE86<>\"\",\"ﾏｰｶｰ　\",\"\")&IF(申込みフォーム!AF86<>\"\",\"心機能　\",\"\")&IF(申込みフォーム!AG86<>\"\",\"ABC　\",\"\")&IF(申込みフォーム!AH86<>\"\",\"Lox　\",\"\")&IF(申込みフォーム!AI86<>\"\",\"甲状腺　\",\"\")&IF(申込みフォーム!AJ86<>\"\",\"肝炎\",\"\")","v":""},{"$f":"IF(申込みフォーム!AK86<>\"\",\"脳　\",\"\")&IF(申込みフォーム!AL86<>\"\",\"胸部CT　\",\"\")&IF(申込みフォーム!AM86<>\"\",\"肺機能　\",\"\")&IF(申込みフォーム!AN86<>\"\",\"腹ｴｺｰ　\",\"\")&IF(申込みフォーム!AO86<>\"\",\"心ｴｺｰ　\",\"\")&IF(申込みフォーム!AP86<>\"\",\"ﾌﾛｰﾗ　\",\"\")&IF(申込みフォーム!AQ86<>\"\",\"OCT　\",\"\")&IF(申込みフォーム!AR86<>\"\",\"検便　\",\"\")&IF(申込みフォーム!AS86<>\"\",\"骨　\",\"\")&IF(申込みフォーム!AT86<>\"\",\"骨＋ﾛｺﾓ\",\"\")","v":""},{"$f":"IF(申込みフォーム!AU86<>\"\",申込みフォーム!AU86&\"　　\",\"\")&IF(申込みフォーム!AV86<>\"\",申込みフォーム!AV86&\"　　\",\"\")&IF(申込みフォーム!AW86<>\"\",申込みフォーム!AW86&\"　　\",\"\")","v":""},{"$f":"IF(申込みフォーム!BJ86<>\"\",申込みフォーム!BJ86,\"\")","v":""},{"$f":"IF(申込みフォーム!BK86<>\"\",申込みフォーム!BK86,\"\")","v":""},{"$f":"IF(申込みフォーム!BL86<>\"\",申込みフォーム!BL86&\"　　\",\"\")&IF(申込みフォーム!BM86<>\"\",申込みフォーム!BM86&\"　　\",\"\")&IF(申込みフォーム!BN86<>\"\",申込みフォーム!BN86&\"　　\",\"\")","v":{"$error":"#VALUE!"}},{"$f":"申込みフォーム!$Z86","v":""}]
[77,null,null,null,null,{"$f":"IF(申込みフォーム!B87<>\"\",申込みフォーム!B87&\"　\"&申込みフォーム!C87,\"\")","v":""},{"$f":"IF(申込みフォーム!E87<>\"\",申込みフォーム!E87&\"　\"&申込みフォーム!F87,\"\")","v":""},{"$f":"IF(申込みフォーム!G87<>\"\",申込みフォーム!G87,\"\")","v":""},{"$f":"IF(申込みフォーム!H87<>\"\",申込みフォーム!H87,\"\")","v":""},{"$f":"IF(申込みフォーム!D87<>\"\",申込みフォーム!D87,\"\")","v":""},{"$f":"IF(申込みフォーム!I87<>\"\",REPLACE(申込みフォーム!I87,4,,\"-\"),\"\")","v":""},{"$f":"IF(申込みフォーム!J87<>\"\",申込みフォーム!J87,\"\")","v":""},{"$f":"IF(申込みフォーム!K87<>\"\",申込みフォーム!K87,\"\")","v":""},{"$f":"IF(申込みフォーム!L87<>\"\",MID(申込みフォーム!L87,1,3)&\"-\"&MID(申込みフォーム!L87,4,4)&\"-\"&MID(申込みフォーム!L87,8,4),\"\")","v":""},{"$f":"IF(申込みフォーム!M87<>\"\",申込みフォーム!M87,\"\")","v":""},{"$f":"IF(申込みフォーム!N87<>\"\",申込みフォーム!N87,\"\")","v":""},{"$f":"IF(申込みフォーム!O87<>\"\",申込みフォーム!O87,\"\")","v":""},{"$f":"IF(申込みフォーム!P87<>\"\",申込みフォーム!P87,\"\")","v":""},{"$f":"IF(申込みフォーム!Q87<>\"\",申込みフォーム!Q87,\"\")","v":""},{"$f":"IF(申込みフォーム!R87<>\"\",申込みフォーム!R87,\"\")","v":""},{"$f":"IF(申込みフォーム!S87<>\"\",申込みフォーム!S87,\"\")","v":""},{"$f":"IF(申込みフォーム!U87=\"細胞診のみ\",\"協会子宮　\",IF(申込みフォーム!U87=\"細胞診＋（自費）膣エコー\",\"協会子宮＋自費膣エコー　\",\"\"))&IF(申込みフォーム!W87<>\"\",\"協会ﾏﾝﾓ　\",\"\")&IF(申込みフォーム!Y87<>\"\",\"協会骨　\",\"\")&IF(申込みフォーム!AA87<>\"\",\"協会肝炎　\",\"\")","v":""},{"$f":"IF(申込みフォーム!AB87<>\"\",\"子宮　\",\"\")&IF(申込みフォーム!AC87<>\"\",\"ﾏﾝﾓ　\",\"\")&IF(申込みフォーム!AD87<>\"\",\"乳ｴｺｰ\",\"\")","v":""},{"$f":"IF(申込みフォーム!AE87<>\"\",\"ﾏｰｶｰ　\",\"\")&IF(申込みフォーム!AF87<>\"\",\"心機能　\",\"\")&IF(申込みフォーム!AG87<>\"\",\"ABC　\",\"\")&IF(申込みフォーム!AH87<>\"\",\"Lox　\",\"\")&IF(申込みフォーム!AI87<>\"\",\"甲状腺　\",\"\")&IF(申込みフォーム!AJ87<>\"\",\"肝炎\",\"\")","v":""},{"$f":"IF(申込みフォーム!AK87<>\"\",\"脳　\",\"\")&IF(申込みフォーム!AL87<>\"\",\"胸部CT　\",\"\")&IF(申込みフォーム!AM87<>\"\",\"肺機能　\",\"\")&IF(申込みフォーム!AN87<>\"\",\"腹ｴｺｰ　\",\"\")&IF(申込みフォーム!AO87<>\"\",\"心ｴｺｰ　\",\"\")&IF(申込みフォーム!AP87<>\"\",\"ﾌﾛｰﾗ　\",\"\")&IF(申込みフォーム!AQ87<>\"\",\"OCT　\",\"\")&IF(申込みフォーム!AR87<>\"\",\"検便　\",\"\")&IF(申込みフォーム!AS87<>\"\",\"骨　\",\"\")&IF(申込みフォーム!AT87<>\"\",\"骨＋ﾛｺﾓ\",\"\")","v":""},{"$f":"IF(申込みフォーム!AU87<>\"\",申込みフォーム!AU87&\"　　\",\"\")&IF(申込みフォーム!AV87<>\"\",申込みフォーム!AV87&\"　　\",\"\")&IF(申込みフォーム!AW87<>\"\",申込みフォーム!AW87&\"　　\",\"\")","v":""},{"$f":"IF(申込みフォーム!BJ87<>\"\",申込みフォーム!BJ87,\"\")","v":""},{"$f":"IF(申込みフォーム!BK87<>\"\",申込みフォーム!BK87,\"\")","v":""},{"$f":"IF(申込みフォーム!BL87<>\"\",申込みフォーム!BL87&\"　　\",\"\")&IF(申込みフォーム!BM87<>\"\",申込みフォーム!BM87&\"　　\",\"\")&IF(申込みフォーム!BN87<>\"\",申込みフォーム!BN87&\"　　\",\"\")","v":{"$error":"#VALUE!"}},{"$f":"申込みフォーム!$Z87","v":""}]
[78,null,null,null,null,{"$f":"IF(申込みフォーム!B88<>\"\",申込みフォーム!B88&\"　\"&申込みフォーム!C88,\"\")","v":""},{"$f":"IF(申込みフォーム!E88<>\"\",申込みフォーム!E88&\"　\"&申込みフォーム!F88,\"\")","v":""},{"$f":"IF(申込みフォーム!G88<>\"\",申込みフォーム!G88,\"\")","v":""},{"$f":"IF(申込みフォーム!H88<>\"\",申込みフォーム!H88,\"\")","v":""},{"$f":"IF(申込みフォーム!D88<>\"\",申込みフォーム!D88,\"\")","v":""},{"$f":"IF(申込みフォーム!I88<>\"\",REPLACE(申込みフォーム!I88,4,,\"-\"),\"\")","v":""},{"$f":"IF(申込みフォーム!J88<>\"\",申込みフォーム!J88,\"\")","v":""},{"$f":"IF(申込みフォーム!K88<>\"\",申込みフォーム!K88,\"\")","v":""},{"$f":"IF(申込みフォーム!L88<>\"\",MID(申込みフォーム!L88,1,3)&\"-\"&MID(申込みフォーム!L88,4,4)&\"-\"&MID(申込みフォーム!L88,8,4),\"\")","v":""},{"$f":"IF(申込みフォーム!M88<>\"\",申込みフォーム!M88,\"\")","v":""},{"$f":"IF(申込みフォーム!N88<>\"\",申込みフォーム!N88,\"\")","v":""},{"$f":"IF(申込みフォーム!O88<>\"\",申込みフォーム!O88,\"\")","v":""},{"$f":"IF(申込みフォーム!P88<>\"\",申込みフォーム!P88,\"\")","v":""},{"$f":"IF(申込みフォーム!Q88<>\"\",申込みフォーム!Q88,\"\")","v":""},{"$f":"IF(申込みフォーム!R88<>\"\",申込みフォーム!R88,\"\")","v":""},{"$f":"IF(申込みフォーム!S88<>\"\",申込みフォーム!S88,\"\")","v":""},{"$f":"IF(申込みフォーム!U88=\"細胞診のみ\",\"協会子宮　\",IF(申込みフォーム!U88=\"細胞診＋（自費）膣エコー\",\"協会子宮＋自費膣エコー　\",\"\"))&IF(申込みフォーム!W88<>\"\",\"協会ﾏﾝﾓ　\",\"\")&IF(申込みフォーム!Y88<>\"\",\"協会骨　\",\"\")&IF(申込みフォーム!AA88<>\"\",\"協会肝炎　\",\"\")","v":""},{"$f":"IF(申込みフォーム!AB88<>\"\",\"子宮　\",\"\")&IF(申込みフォーム!AC88<>\"\",\"ﾏﾝﾓ　\",\"\")&IF(申込みフォーム!AD88<>\"\",\"乳ｴｺｰ\",\"\")","v":""},{"$f":"IF(申込みフォーム!AE88<>\"\",\"ﾏｰｶｰ　\",\"\")&IF(申込みフォーム!AF88<>\"\",\"心機能　\",\"\")&IF(申込みフォーム!AG88<>\"\",\"ABC　\",\"\")&IF(申込みフォーム!AH88<>\"\",\"Lox　\",\"\")&IF(申込みフォーム!AI88<>\"\",\"甲状腺　\",\"\")&IF(申込みフォーム!AJ88<>\"\",\"肝炎\",\"\")","v":""},{"$f":"IF(申込みフォーム!AK88<>\"\",\"脳　\",\"\")&IF(申込みフォーム!AL88<>\"\",\"胸部CT　\",\"\")&IF(申込みフォーム!AM88<>\"\",\"肺機能　\",\"\")&IF(申込みフォーム!AN88<>\"\",\"腹ｴｺｰ　\",\"\")&IF(申込みフォーム!AO88<>\"\",\"心ｴｺｰ　\",\"\")&IF(申込みフォーム!AP88<>\"\",\"ﾌﾛｰﾗ　\",\"\")&IF(申込みフォーム!AQ88<>\"\",\"OCT　\",\"\")&IF(申込みフォーム!AR88<>\"\",\"検便　\",\"\")&IF(申込みフォーム!AS88<>\"\",\"骨　\",\"\")&IF(申込みフォーム!AT88<>\"\",\"骨＋ﾛｺﾓ\",\"\")","v":""},{"$f":"IF(申込みフォーム!AU88<>\"\",申込みフォーム!AU88&\"　　\",\"\")&IF(申込みフォーム!AV88<>\"\",申込みフォーム!AV88&\"　　\",\"\")&IF(申込みフォーム!AW88<>\"\",申込みフォーム!AW88&\"　　\",\"\")","v":""},{"$f":"IF(申込みフォーム!BJ88<>\"\",申込みフォーム!BJ88,\"\")","v":""},{"$f":"IF(申込みフォーム!BK88<>\"\",申込みフォーム!BK88,\"\")","v":""},{"$f":"IF(申込みフォーム!BL88<>\"\",申込みフォーム!BL88&\"　　\",\"\")&IF(申込みフォーム!BM88<>\"\",申込みフォーム!BM88&\"　　\",\"\")&IF(申込みフォーム!BN88<>\"\",申込みフォーム!BN88&\"　　\",\"\")","v":{"$error":"#VALUE!"}},{"$f":"申込みフォーム!$Z88","v":""}]
[79,null,null,null,null,{"$f":"IF(申込みフォーム!B89<>\"\",申込みフォーム!B89&\"　\"&申込みフォーム!C89,\"\")","v":""},{"$f":"IF(申込みフォーム!E89<>\"\",申込みフォーム!E89&\"　\"&申込みフォーム!F89,\"\")","v":""},{"$f":"IF(申込みフォーム!G89<>\"\",申込みフォーム!G89,\"\")","v":""},{"$f":"IF(申込みフォーム!H89<>\"\",申込みフォーム!H89,\"\")","v":""},{"$f":"IF(申込みフォーム!D89<>\"\",申込みフォーム!D89,\"\")","v":""},{"$f":"IF(申込みフォーム!I89<>\"\",REPLACE(申込みフォーム!I89,4,,\"-\"),\"\")","v":""},{"$f":"IF(申込みフォーム!J89<>\"\",申込みフォーム!J89,\"\")","v":""},{"$f":"IF(申込みフォーム!K89<>\"\",申込みフォーム!K89,\"\")","v":""},{"$f":"IF(申込みフォーム!L89<>\"\",MID(申込みフォーム!L89,1,3)&\"-\"&MID(申込みフォーム!L89,4,4)&\"-\"&MID(申込みフォーム!L89,8,4),\"\")","v":""},{"$f":"IF(申込みフォーム!M89<>\"\",申込みフォーム!M89,\"\")","v":""},{"$f":"IF(申込みフォーム!N89<>\"\",申込みフォーム!N89,\"\")","v":""},{"$f":"IF(申込みフォーム!O89<>\"\",申込みフォーム!O89,\"\")","v":""},{"$f":"IF(申込みフォーム!P89<>\"\",申込みフォーム!P89,\"\")","v":""},{"$f":"IF(申込みフォーム!Q89<>\"\",申込みフォーム!Q89,\"\")","v":""},{"$f":"IF(申込みフォーム!R89<>\"\",申込みフォーム!R89,\"\")","v":""},{"$f":"IF(申込みフォーム!S89<>\"\",申込みフォーム!S89,\"\")","v":""},{"$f":"IF(申込みフォーム!U89=\"細胞診のみ\",\"協会子宮　\",IF(申込みフォーム!U89=\"細胞診＋（自費）膣エコー\",\"協会子宮＋自費膣エコー　\",\"\"))&IF(申込みフォーム!W89<>\"\",\"協会ﾏﾝﾓ　\",\"\")&IF(申込みフォーム!Y89<>\"\",\"協会骨　\",\"\")&IF(申込みフォーム!AA89<>\"\",\"協会肝炎　\",\"\")","v":""},{"$f":"IF(申込みフォーム!AB89<>\"\",\"子宮　\",\"\")&IF(申込みフォーム!AC89<>\"\",\"ﾏﾝﾓ　\",\"\")&IF(申込みフォーム!AD89<>\"\",\"乳ｴｺｰ\",\"\")","v":""},{"$f":"IF(申込みフォーム!AE89<>\"\",\"ﾏｰｶｰ　\",\"\")&IF(申込みフォーム!AF89<>\"\",\"心機能　\",\"\")&IF(申込みフォーム!AG89<>\"\",\"ABC　\",\"\")&IF(申込みフォーム!AH89<>\"\",\"Lox　\",\"\")&IF(申込みフォーム!AI89<>\"\",\"甲状腺　\",\"\")&IF(申込みフォーム!AJ89<>\"\",\"肝炎\",\"\")","v":""},{"$f":"IF(申込みフォーム!AK89<>\"\",\"脳　\",\"\")&IF(申込みフォーム!AL89<>\"\",\"胸部CT　\",\"\")&IF(申込みフォーム!AM89<>\"\",\"肺機能　\",\"\")&IF(申込みフォーム!AN89<>\"\",\"腹ｴｺｰ　\",\"\")&IF(申込みフォーム!AO89<>\"\",\"心ｴｺｰ　\",\"\")&IF(申込みフォーム!AP89<>\"\",\"ﾌﾛｰﾗ　\",\"\")&IF(申込みフォーム!AQ89<>\"\",\"OCT　\",\"\")&IF(申込みフォーム!AR89<>\"\",\"検便　\",\"\")&IF(申込みフォーム!AS89<>\"\",\"骨　\",\"\")&IF(申込みフォーム!AT89<>\"\",\"骨＋ﾛｺﾓ\",\"\")","v":""},{"$f":"IF(申込みフォーム!AU89<>\"\",申込みフォーム!AU89&\"　　\",\"\")&IF(申込みフォーム!AV89<>\"\",申込みフォーム!AV89&\"　　\",\"\")&IF(申込みフォーム!AW89<>\"\",申込みフォーム!AW89&\"　　\",\"\")","v":""},{"$f":"IF(申込みフォーム!BJ89<>\"\",申込みフォーム!BJ89,\"\")","v":""},{"$f":"IF(申込みフォーム!BK89<>\"\",申込みフォーム!BK89,\"\")","v":""},{"$f":"IF(申込みフォーム!BL89<>\"\",申込みフォーム!BL89&\"　　\",\"\")&IF(申込みフォーム!BM89<>\"\",申込みフォーム!BM89&\"　　\",\"\")&IF(申込みフォーム!BN89<>\"\",申込みフォーム!BN89&\"　　\",\"\")","v":{"$error":"#VALUE!"}},{"$f":"申込みフォーム!$Z89","v":""}]
[80,null,null,null,null,{"$f":"IF(申込みフォーム!B90<>\"\",申込みフォーム!B90&\"　\"&申込みフォーム!C90,\"\")","v":""},{"$f":"IF(申込みフォーム!E90<>\"\",申込みフォーム!E90&\"　\"&申込みフォーム!F90,\"\")","v":""},{"$f":"IF(申込みフォーム!G90<>\"\",申込みフォーム!G90,\"\")","v":""},{"$f":"IF(申込みフォーム!H90<>\"\",申込みフォーム!H90,\"\")","v":""},{"$f":"IF(申込みフォーム!D90<>\"\",申込みフォーム!D90,\"\")","v":""},{"$f":"IF(申込みフォーム!I90<>\"\",REPLACE(申込みフォーム!I90,4,,\"-\"),\"\")","v":""},{"$f":"IF(申込みフォーム!J90<>\"\",申込みフォーム!J90,\"\")","v":""},{"$f":"IF(申込みフォーム!K90<>\"\",申込みフォーム!K90,\"\")","v":""},{"$f":"IF(申込みフォーム!L90<>\"\",MID(申込みフォーム!L90,1,3)&\"-\"&MID(申込みフォーム!L90,4,4)&\"-\"&MID(申込みフォーム!L90,8,4),\"\")","v":""},{"$f":"IF(申込みフォーム!M90<>\"\",申込みフォーム!M90,\"\")","v":""},{"$f":"IF(申込みフォーム!N90<>\"\",申込みフォーム!N90,\"\")","v":""},{"$f":"IF(申込みフォーム!O90<>\"\",申込みフォーム!O90,\"\")","v":""},{"$f":"IF(申込みフォーム!P90<>\"\",申込みフォーム!P90,\"\")","v":""},{"$f":"IF(申込みフォーム!Q90<>\"\",申込みフォーム!Q90,\"\")","v":""},{"$f":"IF(申込みフォーム!R90<>\"\",申込みフォーム!R90,\"\")","v":""},{"$f":"IF(申込みフォーム!S90<>\"\",申込みフォーム!S90,\"\")","v":""},{"$f":"IF(申込みフォーム!U90=\"細胞診のみ\",\"協会子宮　\",IF(申込みフォーム!U90=\"細胞診＋（自費）膣エコー\",\"協会子宮＋自費膣エコー　\",\"\"))&IF(申込みフォーム!W90<>\"\",\"協会ﾏﾝﾓ　\",\"\")&IF(申込みフォーム!Y90<>\"\",\"協会骨　\",\"\")&IF(申込みフォーム!AA90<>\"\",\"協会肝炎　\",\"\")","v":""},{"$f":"IF(申込みフォーム!AB90<>\"\",\"子宮　\",\"\")&IF(申込みフォーム!AC90<>\"\",\"ﾏﾝﾓ　\",\"\")&IF(申込みフォーム!AD90<>\"\",\"乳ｴｺｰ\",\"\")","v":""},{"$f":"IF(申込みフォーム!AE90<>\"\",\"ﾏｰｶｰ　\",\"\")&IF(申込みフォーム!AF90<>\"\",\"心機能　\",\"\")&IF(申込みフォーム!AG90<>\"\",\"ABC　\",\"\")&IF(申込みフォーム!AH90<>\"\",\"Lox　\",\"\")&IF(申込みフォーム!AI90<>\"\",\"甲状腺　\",\"\")&IF(申込みフォーム!AJ90<>\"\",\"肝炎\",\"\")","v":""},{"$f":"IF(申込みフォーム!AK90<>\"\",\"脳　\",\"\")&IF(申込みフォーム!AL90<>\"\",\"胸部CT　\",\"\")&IF(申込みフォーム!AM90<>\"\",\"肺機能　\",\"\")&IF(申込みフォーム!AN90<>\"\",\"腹ｴｺｰ　\",\"\")&IF(申込みフォーム!AO90<>\"\",\"心ｴｺｰ　\",\"\")&IF(申込みフォーム!AP90<>\"\",\"ﾌﾛｰﾗ　\",\"\")&IF(申込みフォーム!AQ90<>\"\",\"OCT　\",\"\")&IF(申込みフォーム!AR90<>\"\",\"検便　\",\"\")&IF(申込みフォーム!AS90<>\"\",\"骨　\",\"\")&IF(申込みフォーム!AT90<>\"\",\"骨＋ﾛｺﾓ\",\"\")","v":""},{"$f":"IF(申込みフォーム!AU90<>\"\",申込みフォーム!AU90&\"　　\",\"\")&IF(申込みフォーム!AV90<>\"\",申込みフォーム!AV90&\"　　\",\"\")&IF(申込みフォーム!AW90<>\"\",申込みフォーム!AW90&\"　　\",\"\")","v":""},{"$f":"IF(申込みフォーム!BJ90<>\"\",申込みフォーム!BJ90,\"\")","v":""},{"$f":"IF(申込みフォーム!BK90<>\"\",申込みフォーム!BK90,\"\")","v":""},{"$f":"IF(申込みフォーム!BL90<>\"\",申込みフォーム!BL90&\"　　\",\"\")&IF(申込みフォーム!BM90<>\"\",申込みフォーム!BM90&\"　　\",\"\")&IF(申込みフォーム!BN90<>\"\",申込みフォーム!BN90&\"　　\",\"\")","v":{"$error":"#VALUE!"}},{"$f":"申込みフォーム!$Z90","v":""}]
[81,null,null,null,null,{"$f":"IF(申込みフォーム!B91<>\"\",申込みフォーム!B91&\"　\"&申込みフォーム!C91,\"\")","v":""},{"$f":"IF(申込みフォーム!E91<>\"\",申込みフォーム!E91&\"　\"&申込みフォーム!F91,\"\")","v":""},{"$f":"IF(申込みフォーム!G91<>\"\",申込みフォーム!G91,\"\")","v":""},{"$f":"IF(申込みフォーム!H91<>\"\",申込みフォーム!H91,\"\")","v":""},{"$f":"IF(申込みフォーム!D91<>\"\",申込みフォーム!D91,\"\")","v":""},{"$f":"IF(申込みフォーム!I91<>\"\",REPLACE(申込みフォーム!I91,4,,\"-\"),\"\")","v":""},{"$f":"IF(申込みフォーム!J91<>\"\",申込みフォーム!J91,\"\")","v":""},{"$f":"IF(申込みフォーム!K91<>\"\",申込みフォーム!K91,\"\")","v":""},{"$f":"IF(申込みフォーム!L91<>\"\",MID(申込みフォーム!L91,1,3)&\"-\"&MID(申込みフォーム!L91,4,4)&\"-\"&MID(申込みフォーム!L91,8,4),\"\")","v":""},{"$f":"IF(申込みフォーム!M91<>\"\",申込みフォーム!M91,\"\")","v":""},{"$f":"IF(申込みフォーム!N91<>\"\",申込みフォーム!N91,\"\")","v":""},{"$f":"IF(申込みフォーム!O91<>\"\",申込みフォーム!O91,\"\")","v":""},{"$f":"IF(申込みフォーム!P91<>\"\",申込みフォーム!P91,\"\")","v":""},{"$f":"IF(申込みフォーム!Q91<>\"\",申込みフォーム!Q91,\"\")","v":""},{"$f":"IF(申込みフォーム!R91<>\"\",申込みフォーム!R91,\"\")","v":""},{"$f":"IF(申込みフォーム!S91<>\"\",申込みフォーム!S91,\"\")","v":""},{"$f":"IF(申込みフォーム!U91=\"細胞診のみ\",\"協会子宮　\",IF(申込みフォーム!U91=\"細胞診＋（自費）膣エコー\",\"協会子宮＋自費膣エコー　\",\"\"))&IF(申込みフォーム!W91<>\"\",\"協会ﾏﾝﾓ　\",\"\")&IF(申込みフォーム!Y91<>\"\",\"協会骨　\",\"\")&IF(申込みフォーム!AA91<>\"\",\"協会肝炎　\",\"\")","v":""},{"$f":"IF(申込みフォーム!AB91<>\"\",\"子宮　\",\"\")&IF(申込みフォーム!AC91<>\"\",\"ﾏﾝﾓ　\",\"\")&IF(申込みフォーム!AD91<>\"\",\"乳ｴｺｰ\",\"\")","v":""},{"$f":"IF(申込みフォーム!AE91<>\"\",\"ﾏｰｶｰ　\",\"\")&IF(申込みフォーム!AF91<>\"\",\"心機能　\",\"\")&IF(申込みフォーム!AG91<>\"\",\"ABC　\",\"\")&IF(申込みフォーム!AH91<>\"\",\"Lox　\",\"\")&IF(申込みフォーム!AI91<>\"\",\"甲状腺　\",\"\")&IF(申込みフォーム!AJ91<>\"\",\"肝炎\",\"\")","v":""},{"$f":"IF(申込みフォーム!AK91<>\"\",\"脳　\",\"\")&IF(申込みフォーム!AL91<>\"\",\"胸部CT　\",\"\")&IF(申込みフォーム!AM91<>\"\",\"肺機能　\",\"\")&IF(申込みフォーム!AN91<>\"\",\"腹ｴｺｰ　\",\"\")&IF(申込みフォーム!AO91<>\"\",\"心ｴｺｰ　\",\"\")&IF(申込みフォーム!AP91<>\"\",\"ﾌﾛｰﾗ　\",\"\")&IF(申込みフォーム!AQ91<>\"\",\"OCT　\",\"\")&IF(申込みフォーム!AR91<>\"\",\"検便　\",\"\")&IF(申込みフォーム!AS91<>\"\",\"骨　\",\"\")&IF(申込みフォーム!AT91<>\"\",\"骨＋ﾛｺﾓ\",\"\")","v":""},{"$f":"IF(申込みフォーム!AU91<>\"\",申込みフォーム!AU91&\"　　\",\"\")&IF(申込みフォーム!AV91<>\"\",申込みフォーム!AV91&\"　　\",\"\")&IF(申込みフォーム!AW91<>\"\",申込みフォーム!AW91&\"　　\",\"\")","v":""},{"$f":"IF(申込みフォーム!BJ91<>\"\",申込みフォーム!BJ91,\"\")","v":""},{"$f":"IF(申込みフォーム!BK91<>\"\",申込みフォーム!BK91,\"\")","v":""},{"$f":"IF(申込みフォーム!BL91<>\"\",申込みフォーム!BL91&\"　　\",\"\")&IF(申込みフォーム!BM91<>\"\",申込みフォーム!BM91&\"　　\",\"\")&IF(申込みフォーム!BN91<>\"\",申込みフォーム!BN91&\"　　\",\"\")","v":{"$error":"#VALUE!"}},{"$f":"申込みフォーム!$Z91","v":""}]
[82,null,null,null,null,{"$f":"IF(申込みフォーム!B92<>\"\",申込みフォーム!B92&\"　\"&申込みフォーム!C92,\"\")","v":""},{"$f":"IF(申込みフォーム!E92<>\"\",申込みフォーム!E92&\"　\"&申込みフォーム!F92,\"\")","v":""},{"$f":"IF(申込みフォーム!G92<>\"\",申込みフォーム!G92,\"\")","v":""},{"$f":"IF(申込みフォーム!H92<>\"\",申込みフォーム!H92,\"\")","v":""},{"$f":"IF(申込みフォーム!D92<>\"\",申込みフォーム!D92,\"\")","v":""},{"$f":"IF(申込みフォーム!I92<>\"\",REPLACE(申込みフォーム!I92,4,,\"-\"),\"\")","v":""},{"$f":"IF(申込みフォーム!J92<>\"\",申込みフォーム!J92,\"\")","v":""},{"$f":"IF(申込みフォーム!K92<>\"\",申込みフォーム!K92,\"\")","v":""},{"$f":"IF(申込みフォーム!L92<>\"\",MID(申込みフォーム!L92,1,3)&\"-\"&MID(申込みフォーム!L92,4,4)&\"-\"&MID(申込みフォーム!L92,8,4),\"\")","v":""},{"$f":"IF(申込みフォーム!M92<>\"\",申込みフォーム!M92,\"\")","v":""},{"$f":"IF(申込みフォーム!N92<>\"\",申込みフォーム!N92,\"\")","v":""},{"$f":"IF(申込みフォーム!O92<>\"\",申込みフォーム!O92,\"\")","v":""},{"$f":"IF(申込みフォーム!P92<>\"\",申込みフォーム!P92,\"\")","v":""},{"$f":"IF(申込みフォーム!Q92<>\"\",申込みフォーム!Q92,\"\")","v":""},{"$f":"IF(申込みフォーム!R92<>\"\",申込みフォーム!R92,\"\")","v":""},{"$f":"IF(申込みフォーム!S92<>\"\",申込みフォーム!S92,\"\")","v":""},{"$f":"IF(申込みフォーム!U92=\"細胞診のみ\",\"協会子宮　\",IF(申込みフォーム!U92=\"細胞診＋（自費）膣エコー\",\"協会子宮＋自費膣エコー　\",\"\"))&IF(申込みフォーム!W92<>\"\",\"協会ﾏﾝﾓ　\",\"\")&IF(申込みフォーム!Y92<>\"\",\"協会骨　\",\"\")&IF(申込みフォーム!AA92<>\"\",\"協会肝炎　\",\"\")","v":""},{"$f":"IF(申込みフォーム!AB92<>\"\",\"子宮　\",\"\")&IF(申込みフォーム!AC92<>\"\",\"ﾏﾝﾓ　\",\"\")&IF(申込みフォーム!AD92<>\"\",\"乳ｴｺｰ\",\"\")","v":""},{"$f":"IF(申込みフォーム!AE92<>\"\",\"ﾏｰｶｰ　\",\"\")&IF(申込みフォーム!AF92<>\"\",\"心機能　\",\"\")&IF(申込みフォーム!AG92<>\"\",\"ABC　\",\"\")&IF(申込みフォーム!AH92<>\"\",\"Lox　\",\"\")&IF(申込みフォーム!AI92<>\"\",\"甲状腺　\",\"\")&IF(申込みフォーム!AJ92<>\"\",\"肝炎\",\"\")","v":""},{"$f":"IF(申込みフォーム!AK92<>\"\",\"脳　\",\"\")&IF(申込みフォーム!AL92<>\"\",\"胸部CT　\",\"\")&IF(申込みフォーム!AM92<>\"\",\"肺機能　\",\"\")&IF(申込みフォーム!AN92<>\"\",\"腹ｴｺｰ　\",\"\")&IF(申込みフォーム!AO92<>\"\",\"心ｴｺｰ　\",\"\")&IF(申込みフォーム!AP92<>\"\",\"ﾌﾛｰﾗ　\",\"\")&IF(申込みフォーム!AQ92<>\"\",\"OCT　\",\"\")&IF(申込みフォーム!AR92<>\"\",\"検便　\",\"\")&IF(申込みフォーム!AS92<>\"\",\"骨　\",\"\")&IF(申込みフォーム!AT92<>\"\",\"骨＋ﾛｺﾓ\",\"\")","v":""},{"$f":"IF(申込みフォーム!AU92<>\"\",申込みフォーム!AU92&\"　　\",\"\")&IF(申込みフォーム!AV92<>\"\",申込みフォーム!AV92&\"　　\",\"\")&IF(申込みフォーム!AW92<>\"\",申込みフォーム!AW92&\"　　\",\"\")","v":""},{"$f":"IF(申込みフォーム!BJ92<>\"\",申込みフォーム!BJ92,\"\")","v":""},{"$f":"IF(申込みフォーム!BK92<>\"\",申込みフォーム!BK92,\"\")","v":""},{"$f":"IF(申込みフォーム!BL92<>\"\",申込みフォーム!BL92&\"　　\",\"\")&IF(申込みフォーム!BM92<>\"\",申込みフォーム!BM92&\"　　\",\"\")&IF(申込みフォーム!BN92<>\"\",申込みフォーム!BN92&\"　　\",\"\")","v":{"$error":"#VALUE!"}},{"$f":"申込みフォーム!$Z92","v":""}]
[83,null,null,null,null,{"$f":"IF(申込みフォーム!B93<>\"\",申込みフォーム!B93&\"　\"&申込みフォーム!C93,\"\")","v":""},{"$f":"IF(申込みフォーム!E93<>\"\",申込みフォーム!E93&\"　\"&申込みフォーム!F93,\"\")","v":""},{"$f":"IF(申込みフォーム!G93<>\"\",申込みフォーム!G93,\"\")","v":""},{"$f":"IF(申込みフォーム!H93<>\"\",申込みフォーム!H93,\"\")","v":""},{"$f":"IF(申込みフォーム!D93<>\"\",申込みフォーム!D93,\"\")","v":""},{"$f":"IF(申込みフォーム!I93<>\"\",REPLACE(申込みフォーム!I93,4,,\"-\"),\"\")","v":""},{"$f":"IF(申込みフォーム!J93<>\"\",申込みフォーム!J93,\"\")","v":""},{"$f":"IF(申込みフォーム!K93<>\"\",申込みフォーム!K93,\"\")","v":""},{"$f":"IF(申込みフォーム!L93<>\"\",MID(申込みフォーム!L93,1,3)&\"-\"&MID(申込みフォーム!L93,4,4)&\"-\"&MID(申込みフォーム!L93,8,4),\"\")","v":""},{"$f":"IF(申込みフォーム!M93<>\"\",申込みフォーム!M93,\"\")","v":""},{"$f":"IF(申込みフォーム!N93<>\"\",申込みフォーム!N93,\"\")","v":""},{"$f":"IF(申込みフォーム!O93<>\"\",申込みフォーム!O93,\"\")","v":""},{"$f":"IF(申込みフォーム!P93<>\"\",申込みフォーム!P93,\"\")","v":""},{"$f":"IF(申込みフォーム!Q93<>\"\",申込みフォーム!Q93,\"\")","v":""},{"$f":"IF(申込みフォーム!R93<>\"\",申込みフォーム!R93,\"\")","v":""},{"$f":"IF(申込みフォーム!S93<>\"\",申込みフォーム!S93,\"\")","v":""},{"$f":"IF(申込みフォーム!U93=\"細胞診のみ\",\"協会子宮　\",IF(申込みフォーム!U93=\"細胞診＋（自費）膣エコー\",\"協会子宮＋自費膣エコー　\",\"\"))&IF(申込みフォーム!W93<>\"\",\"協会ﾏﾝﾓ　\",\"\")&IF(申込みフォーム!Y93<>\"\",\"協会骨　\",\"\")&IF(申込みフォーム!AA93<>\"\",\"協会肝炎　\",\"\")","v":""},{"$f":"IF(申込みフォーム!AB93<>\"\",\"子宮　\",\"\")&IF(申込みフォーム!AC93<>\"\",\"ﾏﾝﾓ　\",\"\")&IF(申込みフォーム!AD93<>\"\",\"乳ｴｺｰ\",\"\")","v":""},{"$f":"IF(申込みフォーム!AE93<>\"\",\"ﾏｰｶｰ　\",\"\")&IF(申込みフォーム!AF93<>\"\",\"心機能　\",\"\")&IF(申込みフォーム!AG93<>\"\",\"ABC　\",\"\")&IF(申込みフォーム!AH93<>\"\",\"Lox　\",\"\")&IF(申込みフォーム!AI93<>\"\",\"甲状腺　\",\"\")&IF(申込みフォーム!AJ93<>\"\",\"肝炎\",\"\")","v":""},{"$f":"IF(申込みフォーム!AK93<>\"\",\"脳　\",\"\")&IF(申込みフォーム!AL93<>\"\",\"胸部CT　\",\"\")&IF(申込みフォーム!AM93<>\"\",\"肺機能　\",\"\")&IF(申込みフォーム!AN93<>\"\",\"腹ｴｺｰ　\",\"\")&IF(申込みフォーム!AO93<>\"\",\"心ｴｺｰ　\",\"\")&IF(申込みフォーム!AP93<>\"\",\"ﾌﾛｰﾗ　\",\"\")&IF(申込みフォーム!AQ93<>\"\",\"OCT　\",\"\")&IF(申込みフォーム!AR93<>\"\",\"検便　\",\"\")&IF(申込みフォーム!AS93<>\"\",\"骨　\",\"\")&IF(申込みフォーム!AT93<>\"\",\"骨＋ﾛｺﾓ\",\"\")","v":""},{"$f":"IF(申込みフォーム!AU93<>\"\",申込みフォーム!AU93&\"　　\",\"\")&IF(申込みフォーム!AV93<>\"\",申込みフォーム!AV93&\"　　\",\"\")&IF(申込みフォーム!AW93<>\"\",申込みフォーム!AW93&\"　　\",\"\")","v":""},{"$f":"IF(申込みフォーム!BJ93<>\"\",申込みフォーム!BJ93,\"\")","v":""},{"$f":"IF(申込みフォーム!BK93<>\"\",申込みフォーム!BK93,\"\")","v":""},{"$f":"IF(申込みフォーム!BL93<>\"\",申込みフォーム!BL93&\"　　\",\"\")&IF(申込みフォーム!BM93<>\"\",申込みフォーム!BM93&\"　　\",\"\")&IF(申込みフォーム!BN93<>\"\",申込みフォーム!BN93&\"　　\",\"\")","v":{"$error":"#VALUE!"}},{"$f":"申込みフォーム!$Z93","v":""}]
[84,null,null,null,null,{"$f":"IF(申込みフォーム!B94<>\"\",申込みフォーム!B94&\"　\"&申込みフォーム!C94,\"\")","v":""},{"$f":"IF(申込みフォーム!E94<>\"\",申込みフォーム!E94&\"　\"&申込みフォーム!F94,\"\")","v":""},{"$f":"IF(申込みフォーム!G94<>\"\",申込みフォーム!G94,\"\")","v":""},{"$f":"IF(申込みフォーム!H94<>\"\",申込みフォーム!H94,\"\")","v":""},{"$f":"IF(申込みフォーム!D94<>\"\",申込みフォーム!D94,\"\")","v":""},{"$f":"IF(申込みフォーム!I94<>\"\",REPLACE(申込みフォーム!I94,4,,\"-\"),\"\")","v":""},{"$f":"IF(申込みフォーム!J94<>\"\",申込みフォーム!J94,\"\")","v":""},{"$f":"IF(申込みフォーム!K94<>\"\",申込みフォーム!K94,\"\")","v":""},{"$f":"IF(申込みフォーム!L94<>\"\",MID(申込みフォーム!L94,1,3)&\"-\"&MID(申込みフォーム!L94,4,4)&\"-\"&MID(申込みフォーム!L94,8,4),\"\")","v":""},{"$f":"IF(申込みフォーム!M94<>\"\",申込みフォーム!M94,\"\")","v":""},{"$f":"IF(申込みフォーム!N94<>\"\",申込みフォーム!N94,\"\")","v":""},{"$f":"IF(申込みフォーム!O94<>\"\",申込みフォーム!O94,\"\")","v":""},{"$f":"IF(申込みフォーム!P94<>\"\",申込みフォーム!P94,\"\")","v":""},{"$f":"IF(申込みフォーム!Q94<>\"\",申込みフォーム!Q94,\"\")","v":""},{"$f":"IF(申込みフォーム!R94<>\"\",申込みフォーム!R94,\"\")","v":""},{"$f":"IF(申込みフォーム!S94<>\"\",申込みフォーム!S94,\"\")","v":""},{"$f":"IF(申込みフォーム!U94=\"細胞診のみ\",\"協会子宮　\",IF(申込みフォーム!U94=\"細胞診＋（自費）膣エコー\",\"協会子宮＋自費膣エコー　\",\"\"))&IF(申込みフォーム!W94<>\"\",\"協会ﾏﾝﾓ　\",\"\")&IF(申込みフォーム!Y94<>\"\",\"協会骨　\",\"\")&IF(申込みフォーム!AA94<>\"\",\"協会肝炎　\",\"\")","v":""},{"$f":"IF(申込みフォーム!AB94<>\"\",\"子宮　\",\"\")&IF(申込みフォーム!AC94<>\"\",\"ﾏﾝﾓ　\",\"\")&IF(申込みフォーム!AD94<>\"\",\"乳ｴｺｰ\",\"\")","v":""},{"$f":"IF(申込みフォーム!AE94<>\"\",\"ﾏｰｶｰ　\",\"\")&IF(申込みフォーム!AF94<>\"\",\"心機能　\",\"\")&IF(申込みフォーム!AG94<>\"\",\"ABC　\",\"\")&IF(申込みフォーム!AH94<>\"\",\"Lox　\",\"\")&IF(申込みフォーム!AI94<>\"\",\"甲状腺　\",\"\")&IF(申込みフォーム!AJ94<>\"\",\"肝炎\",\"\")","v":""},{"$f":"IF(申込みフォーム!AK94<>\"\",\"脳　\",\"\")&IF(申込みフォーム!AL94<>\"\",\"胸部CT　\",\"\")&IF(申込みフォーム!AM94<>\"\",\"肺機能　\",\"\")&IF(申込みフォーム!AN94<>\"\",\"腹ｴｺｰ　\",\"\")&IF(申込みフォーム!AO94<>\"\",\"心ｴｺｰ　\",\"\")&IF(申込みフォーム!AP94<>\"\",\"ﾌﾛｰﾗ　\",\"\")&IF(申込みフォーム!AQ94<>\"\",\"OCT　\",\"\")&IF(申込みフォーム!AR94<>\"\",\"検便　\",\"\")&IF(申込みフォーム!AS94<>\"\",\"骨　\",\"\")&IF(申込みフォーム!AT94<>\"\",\"骨＋ﾛｺﾓ\",\"\")","v":""},{"$f":"IF(申込みフォーム!AU94<>\"\",申込みフォーム!AU94&\"　　\",\"\")&IF(申込みフォーム!AV94<>\"\",申込みフォーム!AV94&\"　　\",\"\")&IF(申込みフォーム!AW94<>\"\",申込みフォーム!AW94&\"　　\",\"\")","v":""},{"$f":"IF(申込みフォーム!BJ94<>\"\",申込みフォーム!BJ94,\"\")","v":""},{"$f":"IF(申込みフォーム!BK94<>\"\",申込みフォーム!BK94,\"\")","v":""},{"$f":"IF(申込みフォーム!BL94<>\"\",申込みフォーム!BL94&\"　　\",\"\")&IF(申込みフォーム!BM94<>\"\",申込みフォーム!BM94&\"　　\",\"\")&IF(申込みフォーム!BN94<>\"\",申込みフォーム!BN94&\"　　\",\"\")","v":{"$error":"#VALUE!"}},{"$f":"申込みフォーム!$Z94","v":""}]
[85,null,null,null,null,{"$f":"IF(申込みフォーム!B95<>\"\",申込みフォーム!B95&\"　\"&申込みフォーム!C95,\"\")","v":""},{"$f":"IF(申込みフォーム!E95<>\"\",申込みフォーム!E95&\"　\"&申込みフォーム!F95,\"\")","v":""},{"$f":"IF(申込みフォーム!G95<>\"\",申込みフォーム!G95,\"\")","v":""},{"$f":"IF(申込みフォーム!H95<>\"\",申込みフォーム!H95,\"\")","v":""},{"$f":"IF(申込みフォーム!D95<>\"\",申込みフォーム!D95,\"\")","v":""},{"$f":"IF(申込みフォーム!I95<>\"\",REPLACE(申込みフォーム!I95,4,,\"-\"),\"\")","v":""},{"$f":"IF(申込みフォーム!J95<>\"\",申込みフォーム!J95,\"\")","v":""},{"$f":"IF(申込みフォーム!K95<>\"\",申込みフォーム!K95,\"\")","v":""},{"$f":"IF(申込みフォーム!L95<>\"\",MID(申込みフォーム!L95,1,3)&\"-\"&MID(申込みフォーム!L95,4,4)&\"-\"&MID(申込みフォーム!L95,8,4),\"\")","v":""},{"$f":"IF(申込みフォーム!M95<>\"\",申込みフォーム!M95,\"\")","v":""},{"$f":"IF(申込みフォーム!N95<>\"\",申込みフォーム!N95,\"\")","v":""},{"$f":"IF(申込みフォーム!O95<>\"\",申込みフォーム!O95,\"\")","v":""},{"$f":"IF(申込みフォーム!P95<>\"\",申込みフォーム!P95,\"\")","v":""},{"$f":"IF(申込みフォーム!Q95<>\"\",申込みフォーム!Q95,\"\")","v":""},{"$f":"IF(申込みフォーム!R95<>\"\",申込みフォーム!R95,\"\")","v":""},{"$f":"IF(申込みフォーム!S95<>\"\",申込みフォーム!S95,\"\")","v":""},{"$f":"IF(申込みフォーム!U95=\"細胞診のみ\",\"協会子宮　\",IF(申込みフォーム!U95=\"細胞診＋（自費）膣エコー\",\"協会子宮＋自費膣エコー　\",\"\"))&IF(申込みフォーム!W95<>\"\",\"協会ﾏﾝﾓ　\",\"\")&IF(申込みフォーム!Y95<>\"\",\"協会骨　\",\"\")&IF(申込みフォーム!AA95<>\"\",\"協会肝炎　\",\"\")","v":""},{"$f":"IF(申込みフォーム!AB95<>\"\",\"子宮　\",\"\")&IF(申込みフォーム!AC95<>\"\",\"ﾏﾝﾓ　\",\"\")&IF(申込みフォーム!AD95<>\"\",\"乳ｴｺｰ\",\"\")","v":""},{"$f":"IF(申込みフォーム!AE95<>\"\",\"ﾏｰｶｰ　\",\"\")&IF(申込みフォーム!AF95<>\"\",\"心機能　\",\"\")&IF(申込みフォーム!AG95<>\"\",\"ABC　\",\"\")&IF(申込みフォーム!AH95<>\"\",\"Lox　\",\"\")&IF(申込みフォーム!AI95<>\"\",\"甲状腺　\",\"\")&IF(申込みフォーム!AJ95<>\"\",\"肝炎\",\"\")","v":""},{"$f":"IF(申込みフォーム!AK95<>\"\",\"脳　\",\"\")&IF(申込みフォーム!AL95<>\"\",\"胸部CT　\",\"\")&IF(申込みフォーム!AM95<>\"\",\"肺機能　\",\"\")&IF(申込みフォーム!AN95<>\"\",\"腹ｴｺｰ　\",\"\")&IF(申込みフォーム!AO95<>\"\",\"心ｴｺｰ　\",\"\")&IF(申込みフォーム!AP95<>\"\",\"ﾌﾛｰﾗ　\",\"\")&IF(申込みフォーム!AQ95<>\"\",\"OCT　\",\"\")&IF(申込みフォーム!AR95<>\"\",\"検便　\",\"\")&IF(申込みフォーム!AS95<>\"\",\"骨　\",\"\")&IF(申込みフォーム!AT95<>\"\",\"骨＋ﾛｺﾓ\",\"\")","v":""},{"$f":"IF(申込みフォーム!AU95<>\"\",申込みフォーム!AU95&\"　　\",\"\")&IF(申込みフォーム!AV95<>\"\",申込みフォーム!AV95&\"　　\",\"\")&IF(申込みフォーム!AW95<>\"\",申込みフォーム!AW95&\"　　\",\"\")","v":""},{"$f":"IF(申込みフォーム!BJ95<>\"\",申込みフォーム!BJ95,\"\")","v":""},{"$f":"IF(申込みフォーム!BK95<>\"\",申込みフォーム!BK95,\"\")","v":""},{"$f":"IF(申込みフォーム!BL95<>\"\",申込みフォーム!BL95&\"　　\",\"\")&IF(申込みフォーム!BM95<>\"\",申込みフォーム!BM95&\"　　\",\"\")&IF(申込みフォーム!BN95<>\"\",申込みフォーム!BN95&\"　　\",\"\")","v":{"$error":"#VALUE!"}},{"$f":"申込みフォーム!$Z95","v":""}]
[86,null,null,null,null,{"$f":"IF(申込みフォーム!B96<>\"\",申込みフォーム!B96&\"　\"&申込みフォーム!C96,\"\")","v":""},{"$f":"IF(申込みフォーム!E96<>\"\",申込みフォーム!E96&\"　\"&申込みフォーム!F96,\"\")","v":""},{"$f":"IF(申込みフォーム!G96<>\"\",申込みフォーム!G96,\"\")","v":""},{"$f":"IF(申込みフォーム!H96<>\"\",申込みフォーム!H96,\"\")","v":""},{"$f":"IF(申込みフォーム!D96<>\"\",申込みフォーム!D96,\"\")","v":""},{"$f":"IF(申込みフォーム!I96<>\"\",REPLACE(申込みフォーム!I96,4,,\"-\"),\"\")","v":""},{"$f":"IF(申込みフォーム!J96<>\"\",申込みフォーム!J96,\"\")","v":""},{"$f":"IF(申込みフォーム!K96<>\"\",申込みフォーム!K96,\"\")","v":""},{"$f":"IF(申込みフォーム!L96<>\"\",MID(申込みフォーム!L96,1,3)&\"-\"&MID(申込みフォーム!L96,4,4)&\"-\"&MID(申込みフォーム!L96,8,4),\"\")","v":""},{"$f":"IF(申込みフォーム!M96<>\"\",申込みフォーム!M96,\"\")","v":""},{"$f":"IF(申込みフォーム!N96<>\"\",申込みフォーム!N96,\"\")","v":""},{"$f":"IF(申込みフォーム!O96<>\"\",申込みフォーム!O96,\"\")","v":""},{"$f":"IF(申込みフォーム!P96<>\"\",申込みフォーム!P96,\"\")","v":""},{"$f":"IF(申込みフォーム!Q96<>\"\",申込みフォーム!Q96,\"\")","v":""},{"$f":"IF(申込みフォーム!R96<>\"\",申込みフォーム!R96,\"\")","v":""},{"$f":"IF(申込みフォーム!S96<>\"\",申込みフォーム!S96,\"\")","v":""},{"$f":"IF(申込みフォーム!U96=\"細胞診のみ\",\"協会子宮　\",IF(申込みフォーム!U96=\"細胞診＋（自費）膣エコー\",\"協会子宮＋自費膣エコー　\",\"\"))&IF(申込みフォーム!W96<>\"\",\"協会ﾏﾝﾓ　\",\"\")&IF(申込みフォーム!Y96<>\"\",\"協会骨　\",\"\")&IF(申込みフォーム!AA96<>\"\",\"協会肝炎　\",\"\")","v":""},{"$f":"IF(申込みフォーム!AB96<>\"\",\"子宮　\",\"\")&IF(申込みフォーム!AC96<>\"\",\"ﾏﾝﾓ　\",\"\")&IF(申込みフォーム!AD96<>\"\",\"乳ｴｺｰ\",\"\")","v":""},{"$f":"IF(申込みフォーム!AE96<>\"\",\"ﾏｰｶｰ　\",\"\")&IF(申込みフォーム!AF96<>\"\",\"心機能　\",\"\")&IF(申込みフォーム!AG96<>\"\",\"ABC　\",\"\")&IF(申込みフォーム!AH96<>\"\",\"Lox　\",\"\")&IF(申込みフォーム!AI96<>\"\",\"甲状腺　\",\"\")&IF(申込みフォーム!AJ96<>\"\",\"肝炎\",\"\")","v":""},{"$f":"IF(申込みフォーム!AK96<>\"\",\"脳　\",\"\")&IF(申込みフォーム!AL96<>\"\",\"胸部CT　\",\"\")&IF(申込みフォーム!AM96<>\"\",\"肺機能　\",\"\")&IF(申込みフォーム!AN96<>\"\",\"腹ｴｺｰ　\",\"\")&IF(申込みフォーム!AO96<>\"\",\"心ｴｺｰ　\",\"\")&IF(申込みフォーム!AP96<>\"\",\"ﾌﾛｰﾗ　\",\"\")&IF(申込みフォーム!AQ96<>\"\",\"OCT　\",\"\")&IF(申込みフォーム!AR96<>\"\",\"検便　\",\"\")&IF(申込みフォーム!AS96<>\"\",\"骨　\",\"\")&IF(申込みフォーム!AT96<>\"\",\"骨＋ﾛｺﾓ\",\"\")","v":""},{"$f":"IF(申込みフォーム!AU96<>\"\",申込みフォーム!AU96&\"　　\",\"\")&IF(申込みフォーム!AV96<>\"\",申込みフォーム!AV96&\"　　\",\"\")&IF(申込みフォーム!AW96<>\"\",申込みフォーム!AW96&\"　　\",\"\")","v":""},{"$f":"IF(申込みフォーム!BJ96<>\"\",申込みフォーム!BJ96,\"\")","v":""},{"$f":"IF(申込みフォーム!BK96<>\"\",申込みフォーム!BK96,\"\")","v":""},{"$f":"IF(申込みフォーム!BL96<>\"\",申込みフォーム!BL96&\"　　\",\"\")&IF(申込みフォーム!BM96<>\"\",申込みフォーム!BM96&\"　　\",\"\")&IF(申込みフォーム!BN96<>\"\",申込みフォーム!BN96&\"　　\",\"\")","v":{"$error":"#VALUE!"}},{"$f":"申込みフォーム!$Z96","v":""}]
[87,null,null,null,null,{"$f":"IF(申込みフォーム!B97<>\"\",申込みフォーム!B97&\"　\"&申込みフォーム!C97,\"\")","v":""},{"$f":"IF(申込みフォーム!E97<>\"\",申込みフォーム!E97&\"　\"&申込みフォーム!F97,\"\")","v":""},{"$f":"IF(申込みフォーム!G97<>\"\",申込みフォーム!G97,\"\")","v":""},{"$f":"IF(申込みフォーム!H97<>\"\",申込みフォーム!H97,\"\")","v":""},{"$f":"IF(申込みフォーム!D97<>\"\",申込みフォーム!D97,\"\")","v":""},{"$f":"IF(申込みフォーム!I97<>\"\",REPLACE(申込みフォーム!I97,4,,\"-\"),\"\")","v":""},{"$f":"IF(申込みフォーム!J97<>\"\",申込みフォーム!J97,\"\")","v":""},{"$f":"IF(申込みフォーム!K97<>\"\",申込みフォーム!K97,\"\")","v":""},{"$f":"IF(申込みフォーム!L97<>\"\",MID(申込みフォーム!L97,1,3)&\"-\"&MID(申込みフォーム!L97,4,4)&\"-\"&MID(申込みフォーム!L97,8,4),\"\")","v":""},{"$f":"IF(申込みフォーム!M97<>\"\",申込みフォーム!M97,\"\")","v":""},{"$f":"IF(申込みフォーム!N97<>\"\",申込みフォーム!N97,\"\")","v":""},{"$f":"IF(申込みフォーム!O97<>\"\",申込みフォーム!O97,\"\")","v":""},{"$f":"IF(申込みフォーム!P97<>\"\",申込みフォーム!P97,\"\")","v":""},{"$f":"IF(申込みフォーム!Q97<>\"\",申込みフォーム!Q97,\"\")","v":""},{"$f":"IF(申込みフォーム!R97<>\"\",申込みフォーム!R97,\"\")","v":""},{"$f":"IF(申込みフォーム!S97<>\"\",申込みフォーム!S97,\"\")","v":""},{"$f":"IF(申込みフォーム!U97=\"細胞診のみ\",\"協会子宮　\",IF(申込みフォーム!U97=\"細胞診＋（自費）膣エコー\",\"協会子宮＋自費膣エコー　\",\"\"))&IF(申込みフォーム!W97<>\"\",\"協会ﾏﾝﾓ　\",\"\")&IF(申込みフォーム!Y97<>\"\",\"協会骨　\",\"\")&IF(申込みフォーム!AA97<>\"\",\"協会肝炎　\",\"\")","v":""},{"$f":"IF(申込みフォーム!AB97<>\"\",\"子宮　\",\"\")&IF(申込みフォーム!AC97<>\"\",\"ﾏﾝﾓ　\",\"\")&IF(申込みフォーム!AD97<>\"\",\"乳ｴｺｰ\",\"\")","v":""},{"$f":"IF(申込みフォーム!AE97<>\"\",\"ﾏｰｶｰ　\",\"\")&IF(申込みフォーム!AF97<>\"\",\"心機能　\",\"\")&IF(申込みフォーム!AG97<>\"\",\"ABC　\",\"\")&IF(申込みフォーム!AH97<>\"\",\"Lox　\",\"\")&IF(申込みフォーム!AI97<>\"\",\"甲状腺　\",\"\")&IF(申込みフォーム!AJ97<>\"\",\"肝炎\",\"\")","v":""},{"$f":"IF(申込みフォーム!AK97<>\"\",\"脳　\",\"\")&IF(申込みフォーム!AL97<>\"\",\"胸部CT　\",\"\")&IF(申込みフォーム!AM97<>\"\",\"肺機能　\",\"\")&IF(申込みフォーム!AN97<>\"\",\"腹ｴｺｰ　\",\"\")&IF(申込みフォーム!AO97<>\"\",\"心ｴｺｰ　\",\"\")&IF(申込みフォーム!AP97<>\"\",\"ﾌﾛｰﾗ　\",\"\")&IF(申込みフォーム!AQ97<>\"\",\"OCT　\",\"\")&IF(申込みフォーム!AR97<>\"\",\"検便　\",\"\")&IF(申込みフォーム!AS97<>\"\",\"骨　\",\"\")&IF(申込みフォーム!AT97<>\"\",\"骨＋ﾛｺﾓ\",\"\")","v":""},{"$f":"IF(申込みフォーム!AU97<>\"\",申込みフォーム!AU97&\"　　\",\"\")&IF(申込みフォーム!AV97<>\"\",申込みフォーム!AV97&\"　　\",\"\")&IF(申込みフォーム!AW97<>\"\",申込みフォーム!AW97&\"　　\",\"\")","v":""},{"$f":"IF(申込みフォーム!BJ97<>\"\",申込みフォーム!BJ97,\"\")","v":""},{"$f":"IF(申込みフォーム!BK97<>\"\",申込みフォーム!BK97,\"\")","v":""},{"$f":"IF(申込みフォーム!BL97<>\"\",申込みフォーム!BL97&\"　　\",\"\")&IF(申込みフォーム!BM97<>\"\",申込みフォーム!BM97&\"　　\",\"\")&IF(申込みフォーム!BN97<>\"\",申込みフォーム!BN97&\"　　\",\"\")","v":{"$error":"#VALUE!"}},{"$f":"申込みフォーム!$Z97","v":""}]
[88,null,null,null,null,{"$f":"IF(申込みフォーム!B98<>\"\",申込みフォーム!B98&\"　\"&申込みフォーム!C98,\"\")","v":""},{"$f":"IF(申込みフォーム!E98<>\"\",申込みフォーム!E98&\"　\"&申込みフォーム!F98,\"\")","v":""},{"$f":"IF(申込みフォーム!G98<>\"\",申込みフォーム!G98,\"\")","v":""},{"$f":"IF(申込みフォーム!H98<>\"\",申込みフォーム!H98,\"\")","v":""},{"$f":"IF(申込みフォーム!D98<>\"\",申込みフォーム!D98,\"\")","v":""},{"$f":"IF(申込みフォーム!I98<>\"\",REPLACE(申込みフォーム!I98,4,,\"-\"),\"\")","v":""},{"$f":"IF(申込みフォーム!J98<>\"\",申込みフォーム!J98,\"\")","v":""},{"$f":"IF(申込みフォーム!K98<>\"\",申込みフォーム!K98,\"\")","v":""},{"$f":"IF(申込みフォーム!L98<>\"\",MID(申込みフォーム!L98,1,3)&\"-\"&MID(申込みフォーム!L98,4,4)&\"-\"&MID(申込みフォーム!L98,8,4),\"\")","v":""},{"$f":"IF(申込みフォーム!M98<>\"\",申込みフォーム!M98,\"\")","v":""},{"$f":"IF(申込みフォーム!N98<>\"\",申込みフォーム!N98,\"\")","v":""},{"$f":"IF(申込みフォーム!O98<>\"\",申込みフォーム!O98,\"\")","v":""},{"$f":"IF(申込みフォーム!P98<>\"\",申込みフォーム!P98,\"\")","v":""},{"$f":"IF(申込みフォーム!Q98<>\"\",申込みフォーム!Q98,\"\")","v":""},{"$f":"IF(申込みフォーム!R98<>\"\",申込みフォーム!R98,\"\")","v":""},{"$f":"IF(申込みフォーム!S98<>\"\",申込みフォーム!S98,\"\")","v":""},{"$f":"IF(申込みフォーム!U98=\"細胞診のみ\",\"協会子宮　\",IF(申込みフォーム!U98=\"細胞診＋（自費）膣エコー\",\"協会子宮＋自費膣エコー　\",\"\"))&IF(申込みフォーム!W98<>\"\",\"協会ﾏﾝﾓ　\",\"\")&IF(申込みフォーム!Y98<>\"\",\"協会骨　\",\"\")&IF(申込みフォーム!AA98<>\"\",\"協会肝炎　\",\"\")","v":""},{"$f":"IF(申込みフォーム!AB98<>\"\",\"子宮　\",\"\")&IF(申込みフォーム!AC98<>\"\",\"ﾏﾝﾓ　\",\"\")&IF(申込みフォーム!AD98<>\"\",\"乳ｴｺｰ\",\"\")","v":""},{"$f":"IF(申込みフォーム!AE98<>\"\",\"ﾏｰｶｰ　\",\"\")&IF(申込みフォーム!AF98<>\"\",\"心機能　\",\"\")&IF(申込みフォーム!AG98<>\"\",\"ABC　\",\"\")&IF(申込みフォーム!AH98<>\"\",\"Lox　\",\"\")&IF(申込みフォーム!AI98<>\"\",\"甲状腺　\",\"\")&IF(申込みフォーム!AJ98<>\"\",\"肝炎\",\"\")","v":""},{"$f":"IF(申込みフォーム!AK98<>\"\",\"脳　\",\"\")&IF(申込みフォーム!AL98<>\"\",\"胸部CT　\",\"\")&IF(申込みフォーム!AM98<>\"\",\"肺機能　\",\"\")&IF(申込みフォーム!AN98<>\"\",\"腹ｴｺｰ　\",\"\")&IF(申込みフォーム!AO98<>\"\",\"心ｴｺｰ　\",\"\")&IF(申込みフォーム!AP98<>\"\",\"ﾌﾛｰﾗ　\",\"\")&IF(申込みフォーム!AQ98<>\"\",\"OCT　\",\"\")&IF(申込みフォーム!AR98<>\"\",\"検便　\",\"\")&IF(申込みフォーム!AS98<>\"\",\"骨　\",\"\")&IF(申込みフォーム!AT98<>\"\",\"骨＋ﾛｺﾓ\",\"\")","v":""},{"$f":"IF(申込みフォーム!AU98<>\"\",申込みフォーム!AU98&\"　　\",\"\")&IF(申込みフォーム!AV98<>\"\",申込みフォーム!AV98&\"　　\",\"\")&IF(申込みフォーム!AW98<>\"\",申込みフォーム!AW98&\"　　\",\"\")","v":""},{"$f":"IF(申込みフォーム!BJ98<>\"\",申込みフォーム!BJ98,\"\")","v":""},{"$f":"IF(申込みフォーム!BK98<>\"\",申込みフォーム!BK98,\"\")","v":""},{"$f":"IF(申込みフォーム!BL98<>\"\",申込みフォーム!BL98&\"　　\",\"\")&IF(申込みフォーム!BM98<>\"\",申込みフォーム!BM98&\"　　\",\"\")&IF(申込みフォーム!BN98<>\"\",申込みフォーム!BN98&\"　　\",\"\")","v":{"$error":"#VALUE!"}},{"$f":"申込みフォーム!$Z98","v":""}]
[89,null,null,null,null,{"$f":"IF(申込みフォーム!B99<>\"\",申込みフォーム!B99&\"　\"&申込みフォーム!C99,\"\")","v":""},{"$f":"IF(申込みフォーム!E99<>\"\",申込みフォーム!E99&\"　\"&申込みフォーム!F99,\"\")","v":""},{"$f":"IF(申込みフォーム!G99<>\"\",申込みフォーム!G99,\"\")","v":""},{"$f":"IF(申込みフォーム!H99<>\"\",申込みフォーム!H99,\"\")","v":""},{"$f":"IF(申込みフォーム!D99<>\"\",申込みフォーム!D99,\"\")","v":""},{"$f":"IF(申込みフォーム!I99<>\"\",REPLACE(申込みフォーム!I99,4,,\"-\"),\"\")","v":""},{"$f":"IF(申込みフォーム!J99<>\"\",申込みフォーム!J99,\"\")","v":""},{"$f":"IF(申込みフォーム!K99<>\"\",申込みフォーム!K99,\"\")","v":""},{"$f":"IF(申込みフォーム!L99<>\"\",MID(申込みフォーム!L99,1,3)&\"-\"&MID(申込みフォーム!L99,4,4)&\"-\"&MID(申込みフォーム!L99,8,4),\"\")","v":""},{"$f":"IF(申込みフォーム!M99<>\"\",申込みフォーム!M99,\"\")","v":""},{"$f":"IF(申込みフォーム!N99<>\"\",申込みフォーム!N99,\"\")","v":""},{"$f":"IF(申込みフォーム!O99<>\"\",申込みフォーム!O99,\"\")","v":""},{"$f":"IF(申込みフォーム!P99<>\"\",申込みフォーム!P99,\"\")","v":""},{"$f":"IF(申込みフォーム!Q99<>\"\",申込みフォーム!Q99,\"\")","v":""},{"$f":"IF(申込みフォーム!R99<>\"\",申込みフォーム!R99,\"\")","v":""},{"$f":"IF(申込みフォーム!S99<>\"\",申込みフォーム!S99,\"\")","v":""},{"$f":"IF(申込みフォーム!U99=\"細胞診のみ\",\"協会子宮　\",IF(申込みフォーム!U99=\"細胞診＋（自費）膣エコー\",\"協会子宮＋自費膣エコー　\",\"\"))&IF(申込みフォーム!W99<>\"\",\"協会ﾏﾝﾓ　\",\"\")&IF(申込みフォーム!Y99<>\"\",\"協会骨　\",\"\")&IF(申込みフォーム!AA99<>\"\",\"協会肝炎　\",\"\")","v":""},{"$f":"IF(申込みフォーム!AB99<>\"\",\"子宮　\",\"\")&IF(申込みフォーム!AC99<>\"\",\"ﾏﾝﾓ　\",\"\")&IF(申込みフォーム!AD99<>\"\",\"乳ｴｺｰ\",\"\")","v":""},{"$f":"IF(申込みフォーム!AE99<>\"\",\"ﾏｰｶｰ　\",\"\")&IF(申込みフォーム!AF99<>\"\",\"心機能　\",\"\")&IF(申込みフォーム!AG99<>\"\",\"ABC　\",\"\")&IF(申込みフォーム!AH99<>\"\",\"Lox　\",\"\")&IF(申込みフォーム!AI99<>\"\",\"甲状腺　\",\"\")&IF(申込みフォーム!AJ99<>\"\",\"肝炎\",\"\")","v":""},{"$f":"IF(申込みフォーム!AK99<>\"\",\"脳　\",\"\")&IF(申込みフォーム!AL99<>\"\",\"胸部CT　\",\"\")&IF(申込みフォーム!AM99<>\"\",\"肺機能　\",\"\")&IF(申込みフォーム!AN99<>\"\",\"腹ｴｺｰ　\",\"\")&IF(申込みフォーム!AO99<>\"\",\"心ｴｺｰ　\",\"\")&IF(申込みフォーム!AP99<>\"\",\"ﾌﾛｰﾗ　\",\"\")&IF(申込みフォーム!AQ99<>\"\",\"OCT　\",\"\")&IF(申込みフォーム!AR99<>\"\",\"検便　\",\"\")&IF(申込みフォーム!AS99<>\"\",\"骨　\",\"\")&IF(申込みフォーム!AT99<>\"\",\"骨＋ﾛｺﾓ\",\"\")","v":""},{"$f":"IF(申込みフォーム!AU99<>\"\",申込みフォーム!AU99&\"　　\",\"\")&IF(申込みフォーム!AV99<>\"\",申込みフォーム!AV99&\"　　\",\"\")&IF(申込みフォーム!AW99<>\"\",申込みフォーム!AW99&\"　　\",\"\")","v":""},{"$f":"IF(申込みフォーム!BJ99<>\"\",申込みフォーム!BJ99,\"\")","v":""},{"$f":"IF(申込みフォーム!BK99<>\"\",申込みフォーム!BK99,\"\")","v":""},{"$f":"IF(申込みフォーム!BL99<>\"\",申込みフォーム!BL99&\"　　\",\"\")&IF(申込みフォーム!BM99<>\"\",申込みフォーム!BM99&\"　　\",\"\")&IF(申込みフォーム!BN99<>\"\",申込みフォーム!BN99&\"　　\",\"\")","v":{"$error":"#VALUE!"}},{"$f":"申込みフォーム!$Z99","v":""}]
[90,null,null,null,null,{"$f":"IF(申込みフォーム!B100<>\"\",申込みフォーム!B100&\"　\"&申込みフォーム!C100,\"\")","v":""},{"$f":"IF(申込みフォーム!E100<>\"\",申込みフォーム!E100&\"　\"&申込みフォーム!F100,\"\")","v":""},{"$f":"IF(申込みフォーム!G100<>\"\",申込みフォーム!G100,\"\")","v":""},{"$f":"IF(申込みフォーム!H100<>\"\",申込みフォーム!H100,\"\")","v":""},{"$f":"IF(申込みフォーム!D100<>\"\",申込みフォーム!D100,\"\")","v":""},{"$f":"IF(申込みフォーム!I100<>\"\",REPLACE(申込みフォーム!I100,4,,\"-\"),\"\")","v":""},{"$f":"IF(申込みフォーム!J100<>\"\",申込みフォーム!J100,\"\")","v":""},{"$f":"IF(申込みフォーム!K100<>\"\",申込みフォーム!K100,\"\")","v":""},{"$f":"IF(申込みフォーム!L100<>\"\",MID(申込みフォーム!L100,1,3)&\"-\"&MID(申込みフォーム!L100,4,4)&\"-\"&MID(申込みフォーム!L100,8,4),\"\")","v":""},{"$f":"IF(申込みフォーム!M100<>\"\",申込みフォーム!M100,\"\")","v":""},{"$f":"IF(申込みフォーム!N100<>\"\",申込みフォーム!N100,\"\")","v":""},{"$f":"IF(申込みフォーム!O100<>\"\",申込みフォーム!O100,\"\")","v":""},{"$f":"IF(申込みフォーム!P100<>\"\",申込みフォーム!P100,\"\")","v":""},{"$f":"IF(申込みフォーム!Q100<>\"\",申込みフォーム!Q100,\"\")","v":""},{"$f":"IF(申込みフォーム!R100<>\"\",申込みフォーム!R100,\"\")","v":""},{"$f":"IF(申込みフォーム!S100<>\"\",申込みフォーム!S100,\"\")","v":""},{"$f":"IF(申込みフォーム!U100=\"細胞診のみ\",\"協会子宮　\",IF(申込みフォーム!U100=\"細胞診＋（自費）膣エコー\",\"協会子宮＋自費膣エコー　\",\"\"))&IF(申込みフォーム!W100<>\"\",\"協会ﾏﾝﾓ　\",\"\")&IF(申込みフォーム!Y100<>\"\",\"協会骨　\",\"\")&IF(申込みフォーム!AA100<>\"\",\"協会肝炎　\",\"\")","v":""},{"$f":"IF(申込みフォーム!AB100<>\"\",\"子宮　\",\"\")&IF(申込みフォーム!AC100<>\"\",\"ﾏﾝﾓ　\",\"\")&IF(申込みフォーム!AD100<>\"\",\"乳ｴｺｰ\",\"\")","v":""},{"$f":"IF(申込みフォーム!AE100<>\"\",\"ﾏｰｶｰ　\",\"\")&IF(申込みフォーム!AF100<>\"\",\"心機能　\",\"\")&IF(申込みフォーム!AG100<>\"\",\"ABC　\",\"\")&IF(申込みフォーム!AH100<>\"\",\"Lox　\",\"\")&IF(申込みフォーム!AI100<>\"\",\"甲状腺　\",\"\")&IF(申込みフォーム!AJ100<>\"\",\"肝炎\",\"\")","v":""},{"$f":"IF(申込みフォーム!AK100<>\"\",\"脳　\",\"\")&IF(申込みフォーム!AL100<>\"\",\"胸部CT　\",\"\")&IF(申込みフォーム!AM100<>\"\",\"肺機能　\",\"\")&IF(申込みフォーム!AN100<>\"\",\"腹ｴｺｰ　\",\"\")&IF(申込みフォーム!AO100<>\"\",\"心ｴｺｰ　\",\"\")&IF(申込みフォーム!AP100<>\"\",\"ﾌﾛｰﾗ　\",\"\")&IF(申込みフォーム!AQ100<>\"\",\"OCT　\",\"\")&IF(申込みフォーム!AR100<>\"\",\"検便　\",\"\")&IF(申込みフォーム!AS100<>\"\",\"骨　\",\"\")&IF(申込みフォーム!AT100<>\"\",\"骨＋ﾛｺﾓ\",\"\")","v":""},{"$f":"IF(申込みフォーム!AU100<>\"\",申込みフォーム!AU100&\"　　\",\"\")&IF(申込みフォーム!AV100<>\"\",申込みフォーム!AV100&\"　　\",\"\")&IF(申込みフォーム!AW100<>\"\",申込みフォーム!AW100&\"　　\",\"\")","v":""},{"$f":"IF(申込みフォーム!BJ100<>\"\",申込みフォーム!BJ100,\"\")","v":""},{"$f":"IF(申込みフォーム!BK100<>\"\",申込みフォーム!BK100,\"\")","v":""},{"$f":"IF(申込みフォーム!BL100<>\"\",申込みフォーム!BL100&\"　　\",\"\")&IF(申込みフォーム!BM100<>\"\",申込みフォーム!BM100&\"　　\",\"\")&IF(申込みフォーム!BN100<>\"\",申込みフォーム!BN100&\"　　\",\"\")","v":{"$error":"#VALUE!"}},{"$f":"申込みフォーム!$Z100","v":""}]
[91,null,null,null,null,{"$f":"IF(申込みフォーム!B101<>\"\",申込みフォーム!B101&\"　\"&申込みフォーム!C101,\"\")","v":""},{"$f":"IF(申込みフォーム!E101<>\"\",申込みフォーム!E101&\"　\"&申込みフォーム!F101,\"\")","v":""},{"$f":"IF(申込みフォーム!G101<>\"\",申込みフォーム!G101,\"\")","v":""},{"$f":"IF(申込みフォーム!H101<>\"\",申込みフォーム!H101,\"\")","v":""},{"$f":"IF(申込みフォーム!D101<>\"\",申込みフォーム!D101,\"\")","v":""},{"$f":"IF(申込みフォーム!I101<>\"\",REPLACE(申込みフォーム!I101,4,,\"-\"),\"\")","v":""},{"$f":"IF(申込みフォーム!J101<>\"\",申込みフォーム!J101,\"\")","v":""},{"$f":"IF(申込みフォーム!K101<>\"\",申込みフォーム!K101,\"\")","v":""},{"$f":"IF(申込みフォーム!L101<>\"\",MID(申込みフォーム!L101,1,3)&\"-\"&MID(申込みフォーム!L101,4,4)&\"-\"&MID(申込みフォーム!L101,8,4),\"\")","v":""},{"$f":"IF(申込みフォーム!M101<>\"\",申込みフォーム!M101,\"\")","v":""},{"$f":"IF(申込みフォーム!N101<>\"\",申込みフォーム!N101,\"\")","v":""},{"$f":"IF(申込みフォーム!O101<>\"\",申込みフォーム!O101,\"\")","v":""},{"$f":"IF(申込みフォーム!P101<>\"\",申込みフォーム!P101,\"\")","v":""},{"$f":"IF(申込みフォーム!Q101<>\"\",申込みフォーム!Q101,\"\")","v":""},{"$f":"IF(申込みフォーム!R101<>\"\",申込みフォーム!R101,\"\")","v":""},{"$f":"IF(申込みフォーム!S101<>\"\",申込みフォーム!S101,\"\")","v":""},{"$f":"IF(申込みフォーム!U101=\"細胞診のみ\",\"協会子宮　\",IF(申込みフォーム!U101=\"細胞診＋（自費）膣エコー\",\"協会子宮＋自費膣エコー　\",\"\"))&IF(申込みフォーム!W101<>\"\",\"協会ﾏﾝﾓ　\",\"\")&IF(申込みフォーム!Y101<>\"\",\"協会骨　\",\"\")&IF(申込みフォーム!AA101<>\"\",\"協会肝炎　\",\"\")","v":""},{"$f":"IF(申込みフォーム!AB101<>\"\",\"子宮　\",\"\")&IF(申込みフォーム!AC101<>\"\",\"ﾏﾝﾓ　\",\"\")&IF(申込みフォーム!AD101<>\"\",\"乳ｴｺｰ\",\"\")","v":""},{"$f":"IF(申込みフォーム!AE101<>\"\",\"ﾏｰｶｰ　\",\"\")&IF(申込みフォーム!AF101<>\"\",\"心機能　\",\"\")&IF(申込みフォーム!AG101<>\"\",\"ABC　\",\"\")&IF(申込みフォーム!AH101<>\"\",\"Lox　\",\"\")&IF(申込みフォーム!AI101<>\"\",\"甲状腺　\",\"\")&IF(申込みフォーム!AJ101<>\"\",\"肝炎\",\"\")","v":""},{"$f":"IF(申込みフォーム!AK101<>\"\",\"脳　\",\"\")&IF(申込みフォーム!AL101<>\"\",\"胸部CT　\",\"\")&IF(申込みフォーム!AM101<>\"\",\"肺機能　\",\"\")&IF(申込みフォーム!AN101<>\"\",\"腹ｴｺｰ　\",\"\")&IF(申込みフォーム!AO101<>\"\",\"心ｴｺｰ　\",\"\")&IF(申込みフォーム!AP101<>\"\",\"ﾌﾛｰﾗ　\",\"\")&IF(申込みフォーム!AQ101<>\"\",\"OCT　\",\"\")&IF(申込みフォーム!AR101<>\"\",\"検便　\",\"\")&IF(申込みフォーム!AS101<>\"\",\"骨　\",\"\")&IF(申込みフォーム!AT101<>\"\",\"骨＋ﾛｺﾓ\",\"\")","v":""},{"$f":"IF(申込みフォーム!AU101<>\"\",申込みフォーム!AU101&\"　　\",\"\")&IF(申込みフォーム!AV101<>\"\",申込みフォーム!AV101&\"　　\",\"\")&IF(申込みフォーム!AW101<>\"\",申込みフォーム!AW101&\"　　\",\"\")","v":""},{"$f":"IF(申込みフォーム!BJ101<>\"\",申込みフォーム!BJ101,\"\")","v":""},{"$f":"IF(申込みフォーム!BK101<>\"\",申込みフォーム!BK101,\"\")","v":""},{"$f":"IF(申込みフォーム!BL101<>\"\",申込みフォーム!BL101&\"　　\",\"\")&IF(申込みフォーム!BM101<>\"\",申込みフォーム!BM101&\"　　\",\"\")&IF(申込みフォーム!BN101<>\"\",申込みフォーム!BN101&\"　　\",\"\")","v":{"$error":"#VALUE!"}},{"$f":"申込みフォーム!$Z101","v":""}]
[92,null,null,null,null,{"$f":"IF(申込みフォーム!B102<>\"\",申込みフォーム!B102&\"　\"&申込みフォーム!C102,\"\")","v":""},{"$f":"IF(申込みフォーム!E102<>\"\",申込みフォーム!E102&\"　\"&申込みフォーム!F102,\"\")","v":""},{"$f":"IF(申込みフォーム!G102<>\"\",申込みフォーム!G102,\"\")","v":""},{"$f":"IF(申込みフォーム!H102<>\"\",申込みフォーム!H102,\"\")","v":""},{"$f":"IF(申込みフォーム!D102<>\"\",申込みフォーム!D102,\"\")","v":""},{"$f":"IF(申込みフォーム!I102<>\"\",REPLACE(申込みフォーム!I102,4,,\"-\"),\"\")","v":""},{"$f":"IF(申込みフォーム!J102<>\"\",申込みフォーム!J102,\"\")","v":""},{"$f":"IF(申込みフォーム!K102<>\"\",申込みフォーム!K102,\"\")","v":""},{"$f":"IF(申込みフォーム!L102<>\"\",MID(申込みフォーム!L102,1,3)&\"-\"&MID(申込みフォーム!L102,4,4)&\"-\"&MID(申込みフォーム!L102,8,4),\"\")","v":""},{"$f":"IF(申込みフォーム!M102<>\"\",申込みフォーム!M102,\"\")","v":""},{"$f":"IF(申込みフォーム!N102<>\"\",申込みフォーム!N102,\"\")","v":""},{"$f":"IF(申込みフォーム!O102<>\"\",申込みフォーム!O102,\"\")","v":""},{"$f":"IF(申込みフォーム!P102<>\"\",申込みフォーム!P102,\"\")","v":""},{"$f":"IF(申込みフォーム!Q102<>\"\",申込みフォーム!Q102,\"\")","v":""},{"$f":"IF(申込みフォーム!R102<>\"\",申込みフォーム!R102,\"\")","v":""},{"$f":"IF(申込みフォーム!S102<>\"\",申込みフォーム!S102,\"\")","v":""},{"$f":"IF(申込みフォーム!U102=\"細胞診のみ\",\"協会子宮　\",IF(申込みフォーム!U102=\"細胞診＋（自費）膣エコー\",\"協会子宮＋自費膣エコー　\",\"\"))&IF(申込みフォーム!W102<>\"\",\"協会ﾏﾝﾓ　\",\"\")&IF(申込みフォーム!Y102<>\"\",\"協会骨　\",\"\")&IF(申込みフォーム!AA102<>\"\",\"協会肝炎　\",\"\")","v":""},{"$f":"IF(申込みフォーム!AB102<>\"\",\"子宮　\",\"\")&IF(申込みフォーム!AC102<>\"\",\"ﾏﾝﾓ　\",\"\")&IF(申込みフォーム!AD102<>\"\",\"乳ｴｺｰ\",\"\")","v":""},{"$f":"IF(申込みフォーム!AE102<>\"\",\"ﾏｰｶｰ　\",\"\")&IF(申込みフォーム!AF102<>\"\",\"心機能　\",\"\")&IF(申込みフォーム!AG102<>\"\",\"ABC　\",\"\")&IF(申込みフォーム!AH102<>\"\",\"Lox　\",\"\")&IF(申込みフォーム!AI102<>\"\",\"甲状腺　\",\"\")&IF(申込みフォーム!AJ102<>\"\",\"肝炎\",\"\")","v":""},{"$f":"IF(申込みフォーム!AK102<>\"\",\"脳　\",\"\")&IF(申込みフォーム!AL102<>\"\",\"胸部CT　\",\"\")&IF(申込みフォーム!AM102<>\"\",\"肺機能　\",\"\")&IF(申込みフォーム!AN102<>\"\",\"腹ｴｺｰ　\",\"\")&IF(申込みフォーム!AO102<>\"\",\"心ｴｺｰ　\",\"\")&IF(申込みフォーム!AP102<>\"\",\"ﾌﾛｰﾗ　\",\"\")&IF(申込みフォーム!AQ102<>\"\",\"OCT　\",\"\")&IF(申込みフォーム!AR102<>\"\",\"検便　\",\"\")&IF(申込みフォーム!AS102<>\"\",\"骨　\",\"\")&IF(申込みフォーム!AT102<>\"\",\"骨＋ﾛｺﾓ\",\"\")","v":""},{"$f":"IF(申込みフォーム!AU102<>\"\",申込みフォーム!AU102&\"　　\",\"\")&IF(申込みフォーム!AV102<>\"\",申込みフォーム!AV102&\"　　\",\"\")&IF(申込みフォーム!AW102<>\"\",申込みフォーム!AW102&\"　　\",\"\")","v":""},{"$f":"IF(申込みフォーム!BJ102<>\"\",申込みフォーム!BJ102,\"\")","v":""},{"$f":"IF(申込みフォーム!BK102<>\"\",申込みフォーム!BK102,\"\")","v":""},{"$f":"IF(申込みフォーム!BL102<>\"\",申込みフォーム!BL102&\"　　\",\"\")&IF(申込みフォーム!BM102<>\"\",申込みフォーム!BM102&\"　　\",\"\")&IF(申込みフォーム!BN102<>\"\",申込みフォーム!BN102&\"　　\",\"\")","v":{"$error":"#VALUE!"}},{"$f":"申込みフォーム!$Z102","v":""}]
[93,null,null,null,null,{"$f":"IF(申込みフォーム!B103<>\"\",申込みフォーム!B103&\"　\"&申込みフォーム!C103,\"\")","v":""},{"$f":"IF(申込みフォーム!E103<>\"\",申込みフォーム!E103&\"　\"&申込みフォーム!F103,\"\")","v":""},{"$f":"IF(申込みフォーム!G103<>\"\",申込みフォーム!G103,\"\")","v":""},{"$f":"IF(申込みフォーム!H103<>\"\",申込みフォーム!H103,\"\")","v":""},{"$f":"IF(申込みフォーム!D103<>\"\",申込みフォーム!D103,\"\")","v":""},{"$f":"IF(申込みフォーム!I103<>\"\",REPLACE(申込みフォーム!I103,4,,\"-\"),\"\")","v":""},{"$f":"IF(申込みフォーム!J103<>\"\",申込みフォーム!J103,\"\")","v":""},{"$f":"IF(申込みフォーム!K103<>\"\",申込みフォーム!K103,\"\")","v":""},{"$f":"IF(申込みフォーム!L103<>\"\",MID(申込みフォーム!L103,1,3)&\"-\"&MID(申込みフォーム!L103,4,4)&\"-\"&MID(申込みフォーム!L103,8,4),\"\")","v":""},{"$f":"IF(申込みフォーム!M103<>\"\",申込みフォーム!M103,\"\")","v":""},{"$f":"IF(申込みフォーム!N103<>\"\",申込みフォーム!N103,\"\")","v":""},{"$f":"IF(申込みフォーム!O103<>\"\",申込みフォーム!O103,\"\")","v":""},{"$f":"IF(申込みフォーム!P103<>\"\",申込みフォーム!P103,\"\")","v":""},{"$f":"IF(申込みフォーム!Q103<>\"\",申込みフォーム!Q103,\"\")","v":""},{"$f":"IF(申込みフォーム!R103<>\"\",申込みフォーム!R103,\"\")","v":""},{"$f":"IF(申込みフォーム!S103<>\"\",申込みフォーム!S103,\"\")","v":""},{"$f":"IF(申込みフォーム!U103=\"細胞診のみ\",\"協会子宮　\",IF(申込みフォーム!U103=\"細胞診＋（自費）膣エコー\",\"協会子宮＋自費膣エコー　\",\"\"))&IF(申込みフォーム!W103<>\"\",\"協会ﾏﾝﾓ　\",\"\")&IF(申込みフォーム!Y103<>\"\",\"協会骨　\",\"\")&IF(申込みフォーム!AA103<>\"\",\"協会肝炎　\",\"\")","v":""},{"$f":"IF(申込みフォーム!AB103<>\"\",\"子宮　\",\"\")&IF(申込みフォーム!AC103<>\"\",\"ﾏﾝﾓ　\",\"\")&IF(申込みフォーム!AD103<>\"\",\"乳ｴｺｰ\",\"\")","v":""},{"$f":"IF(申込みフォーム!AE103<>\"\",\"ﾏｰｶｰ　\",\"\")&IF(申込みフォーム!AF103<>\"\",\"心機能　\",\"\")&IF(申込みフォーム!AG103<>\"\",\"ABC　\",\"\")&IF(申込みフォーム!AH103<>\"\",\"Lox　\",\"\")&IF(申込みフォーム!AI103<>\"\",\"甲状腺　\",\"\")&IF(申込みフォーム!AJ103<>\"\",\"肝炎\",\"\")","v":""},{"$f":"IF(申込みフォーム!AK103<>\"\",\"脳　\",\"\")&IF(申込みフォーム!AL103<>\"\",\"胸部CT　\",\"\")&IF(申込みフォーム!AM103<>\"\",\"肺機能　\",\"\")&IF(申込みフォーム!AN103<>\"\",\"腹ｴｺｰ　\",\"\")&IF(申込みフォーム!AO103<>\"\",\"心ｴｺｰ　\",\"\")&IF(申込みフォーム!AP103<>\"\",\"ﾌﾛｰﾗ　\",\"\")&IF(申込みフォーム!AQ103<>\"\",\"OCT　\",\"\")&IF(申込みフォーム!AR103<>\"\",\"検便　\",\"\")&IF(申込みフォーム!AS103<>\"\",\"骨　\",\"\")&IF(申込みフォーム!AT103<>\"\",\"骨＋ﾛｺﾓ\",\"\")","v":""},{"$f":"IF(申込みフォーム!AU103<>\"\",申込みフォーム!AU103&\"　　\",\"\")&IF(申込みフォーム!AV103<>\"\",申込みフォーム!AV103&\"　　\",\"\")&IF(申込みフォーム!AW103<>\"\",申込みフォーム!AW103&\"　　\",\"\")","v":""},{"$f":"IF(申込みフォーム!BJ103<>\"\",申込みフォーム!BJ103,\"\")","v":""},{"$f":"IF(申込みフォーム!BK103<>\"\",申込みフォーム!BK103,\"\")","v":""},{"$f":"IF(申込みフォーム!BL103<>\"\",申込みフォーム!BL103&\"　　\",\"\")&IF(申込みフォーム!BM103<>\"\",申込みフォーム!BM103&\"　　\",\"\")&IF(申込みフォーム!BN103<>\"\",申込みフォーム!BN103&\"　　\",\"\")","v":{"$error":"#VALUE!"}},{"$f":"申込みフォーム!$Z103","v":""}]
[94,null,null,null,null,{"$f":"IF(申込みフォーム!B104<>\"\",申込みフォーム!B104&\"　\"&申込みフォーム!C104,\"\")","v":""},{"$f":"IF(申込みフォーム!E104<>\"\",申込みフォーム!E104&\"　\"&申込みフォーム!F104,\"\")","v":""},{"$f":"IF(申込みフォーム!G104<>\"\",申込みフォーム!G104,\"\")","v":""},{"$f":"IF(申込みフォーム!H104<>\"\",申込みフォーム!H104,\"\")","v":""},{"$f":"IF(申込みフォーム!D104<>\"\",申込みフォーム!D104,\"\")","v":""},{"$f":"IF(申込みフォーム!I104<>\"\",REPLACE(申込みフォーム!I104,4,,\"-\"),\"\")","v":""},{"$f":"IF(申込みフォーム!J104<>\"\",申込みフォーム!J104,\"\")","v":""},{"$f":"IF(申込みフォーム!K104<>\"\",申込みフォーム!K104,\"\")","v":""},{"$f":"IF(申込みフォーム!L104<>\"\",MID(申込みフォーム!L104,1,3)&\"-\"&MID(申込みフォーム!L104,4,4)&\"-\"&MID(申込みフォーム!L104,8,4),\"\")","v":""},{"$f":"IF(申込みフォーム!M104<>\"\",申込みフォーム!M104,\"\")","v":""},{"$f":"IF(申込みフォーム!N104<>\"\",申込みフォーム!N104,\"\")","v":""},{"$f":"IF(申込みフォーム!O104<>\"\",申込みフォーム!O104,\"\")","v":""},{"$f":"IF(申込みフォーム!P104<>\"\",申込みフォーム!P104,\"\")","v":""},{"$f":"IF(申込みフォーム!Q104<>\"\",申込みフォーム!Q104,\"\")","v":""},{"$f":"IF(申込みフォーム!R104<>\"\",申込みフォーム!R104,\"\")","v":""},{"$f":"IF(申込みフォーム!S104<>\"\",申込みフォーム!S104,\"\")","v":""},{"$f":"IF(申込みフォーム!U104=\"細胞診のみ\",\"協会子宮　\",IF(申込みフォーム!U104=\"細胞診＋（自費）膣エコー\",\"協会子宮＋自費膣エコー　\",\"\"))&IF(申込みフォーム!W104<>\"\",\"協会ﾏﾝﾓ　\",\"\")&IF(申込みフォーム!Y104<>\"\",\"協会骨　\",\"\")&IF(申込みフォーム!AA104<>\"\",\"協会肝炎　\",\"\")","v":""},{"$f":"IF(申込みフォーム!AB104<>\"\",\"子宮　\",\"\")&IF(申込みフォーム!AC104<>\"\",\"ﾏﾝﾓ　\",\"\")&IF(申込みフォーム!AD104<>\"\",\"乳ｴｺｰ\",\"\")","v":""},{"$f":"IF(申込みフォーム!AE104<>\"\",\"ﾏｰｶｰ　\",\"\")&IF(申込みフォーム!AF104<>\"\",\"心機能　\",\"\")&IF(申込みフォーム!AG104<>\"\",\"ABC　\",\"\")&IF(申込みフォーム!AH104<>\"\",\"Lox　\",\"\")&IF(申込みフォーム!AI104<>\"\",\"甲状腺　\",\"\")&IF(申込みフォーム!AJ104<>\"\",\"肝炎\",\"\")","v":""},{"$f":"IF(申込みフォーム!AK104<>\"\",\"脳　\",\"\")&IF(申込みフォーム!AL104<>\"\",\"胸部CT　\",\"\")&IF(申込みフォーム!AM104<>\"\",\"肺機能　\",\"\")&IF(申込みフォーム!AN104<>\"\",\"腹ｴｺｰ　\",\"\")&IF(申込みフォーム!AO104<>\"\",\"心ｴｺｰ　\",\"\")&IF(申込みフォーム!AP104<>\"\",\"ﾌﾛｰﾗ　\",\"\")&IF(申込みフォーム!AQ104<>\"\",\"OCT　\",\"\")&IF(申込みフォーム!AR104<>\"\",\"検便　\",\"\")&IF(申込みフォーム!AS104<>\"\",\"骨　\",\"\")&IF(申込みフォーム!AT104<>\"\",\"骨＋ﾛｺﾓ\",\"\")","v":""},{"$f":"IF(申込みフォーム!AU104<>\"\",申込みフォーム!AU104&\"　　\",\"\")&IF(申込みフォーム!AV104<>\"\",申込みフォーム!AV104&\"　　\",\"\")&IF(申込みフォーム!AW104<>\"\",申込みフォーム!AW104&\"　　\",\"\")","v":""},{"$f":"IF(申込みフォーム!BJ104<>\"\",申込みフォーム!BJ104,\"\")","v":""},{"$f":"IF(申込みフォーム!BK104<>\"\",申込みフォーム!BK104,\"\")","v":""},{"$f":"IF(申込みフォーム!BL104<>\"\",申込みフォーム!BL104&\"　　\",\"\")&IF(申込みフォーム!BM104<>\"\",申込みフォーム!BM104&\"　　\",\"\")&IF(申込みフォーム!BN104<>\"\",申込みフォーム!BN104&\"　　\",\"\")","v":{"$error":"#VALUE!"}},{"$f":"申込みフォーム!$Z104","v":""}]
[95,null,null,null,null,{"$f":"IF(申込みフォーム!B105<>\"\",申込みフォーム!B105&\"　\"&申込みフォーム!C105,\"\")","v":""},{"$f":"IF(申込みフォーム!E105<>\"\",申込みフォーム!E105&\"　\"&申込みフォーム!F105,\"\")","v":""},{"$f":"IF(申込みフォーム!G105<>\"\",申込みフォーム!G105,\"\")","v":""},{"$f":"IF(申込みフォーム!H105<>\"\",申込みフォーム!H105,\"\")","v":""},{"$f":"IF(申込みフォーム!D105<>\"\",申込みフォーム!D105,\"\")","v":""},{"$f":"IF(申込みフォーム!I105<>\"\",REPLACE(申込みフォーム!I105,4,,\"-\"),\"\")","v":""},{"$f":"IF(申込みフォーム!J105<>\"\",申込みフォーム!J105,\"\")","v":""},{"$f":"IF(申込みフォーム!K105<>\"\",申込みフォーム!K105,\"\")","v":""},{"$f":"IF(申込みフォーム!L105<>\"\",MID(申込みフォーム!L105,1,3)&\"-\"&MID(申込みフォーム!L105,4,4)&\"-\"&MID(申込みフォーム!L105,8,4),\"\")","v":""},{"$f":"IF(申込みフォーム!M105<>\"\",申込みフォーム!M105,\"\")","v":""},{"$f":"IF(申込みフォーム!N105<>\"\",申込みフォーム!N105,\"\")","v":""},{"$f":"IF(申込みフォーム!O105<>\"\",申込みフォーム!O105,\"\")","v":""},{"$f":"IF(申込みフォーム!P105<>\"\",申込みフォーム!P105,\"\")","v":""},{"$f":"IF(申込みフォーム!Q105<>\"\",申込みフォーム!Q105,\"\")","v":""},{"$f":"IF(申込みフォーム!R105<>\"\",申込みフォーム!R105,\"\")","v":""},{"$f":"IF(申込みフォーム!S105<>\"\",申込みフォーム!S105,\"\")","v":""},{"$f":"IF(申込みフォーム!U105=\"細胞診のみ\",\"協会子宮　\",IF(申込みフォーム!U105=\"細胞診＋（自費）膣エコー\",\"協会子宮＋自費膣エコー　\",\"\"))&IF(申込みフォーム!W105<>\"\",\"協会ﾏﾝﾓ　\",\"\")&IF(申込みフォーム!Y105<>\"\",\"協会骨　\",\"\")&IF(申込みフォーム!AA105<>\"\",\"協会肝炎　\",\"\")","v":""},{"$f":"IF(申込みフォーム!AB105<>\"\",\"子宮　\",\"\")&IF(申込みフォーム!AC105<>\"\",\"ﾏﾝﾓ　\",\"\")&IF(申込みフォーム!AD105<>\"\",\"乳ｴｺｰ\",\"\")","v":""},{"$f":"IF(申込みフォーム!AE105<>\"\",\"ﾏｰｶｰ　\",\"\")&IF(申込みフォーム!AF105<>\"\",\"心機能　\",\"\")&IF(申込みフォーム!AG105<>\"\",\"ABC　\",\"\")&IF(申込みフォーム!AH105<>\"\",\"Lox　\",\"\")&IF(申込みフォーム!AI105<>\"\",\"甲状腺　\",\"\")&IF(申込みフォーム!AJ105<>\"\",\"肝炎\",\"\")","v":""},{"$f":"IF(申込みフォーム!AK105<>\"\",\"脳　\",\"\")&IF(申込みフォーム!AL105<>\"\",\"胸部CT　\",\"\")&IF(申込みフォーム!AM105<>\"\",\"肺機能　\",\"\")&IF(申込みフォーム!AN105<>\"\",\"腹ｴｺｰ　\",\"\")&IF(申込みフォーム!AO105<>\"\",\"心ｴｺｰ　\",\"\")&IF(申込みフォーム!AP105<>\"\",\"ﾌﾛｰﾗ　\",\"\")&IF(申込みフォーム!AQ105<>\"\",\"OCT　\",\"\")&IF(申込みフォーム!AR105<>\"\",\"検便　\",\"\")&IF(申込みフォーム!AS105<>\"\",\"骨　\",\"\")&IF(申込みフォーム!AT105<>\"\",\"骨＋ﾛｺﾓ\",\"\")","v":""},{"$f":"IF(申込みフォーム!AU105<>\"\",申込みフォーム!AU105&\"　　\",\"\")&IF(申込みフォーム!AV105<>\"\",申込みフォーム!AV105&\"　　\",\"\")&IF(申込みフォーム!AW105<>\"\",申込みフォーム!AW105&\"　　\",\"\")","v":""},{"$f":"IF(申込みフォーム!BJ105<>\"\",申込みフォーム!BJ105,\"\")","v":""},{"$f":"IF(申込みフォーム!BK105<>\"\",申込みフォーム!BK105,\"\")","v":""},{"$f":"IF(申込みフォーム!BL105<>\"\",申込みフォーム!BL105&\"　　\",\"\")&IF(申込みフォーム!BM105<>\"\",申込みフォーム!BM105&\"　　\",\"\")&IF(申込みフォーム!BN105<>\"\",申込みフォーム!BN105&\"　　\",\"\")","v":{"$error":"#VALUE!"}},{"$f":"申込みフォーム!$Z105","v":""}]
[96,null,null,null,null,{"$f":"IF(申込みフォーム!B106<>\"\",申込みフォーム!B106&\"　\"&申込みフォーム!C106,\"\")","v":""},{"$f":"IF(申込みフォーム!E106<>\"\",申込みフォーム!E106&\"　\"&申込みフォーム!F106,\"\")","v":""},{"$f":"IF(申込みフォーム!G106<>\"\",申込みフォーム!G106,\"\")","v":""},{"$f":"IF(申込みフォーム!H106<>\"\",申込みフォーム!H106,\"\")","v":""},{"$f":"IF(申込みフォーム!D106<>\"\",申込みフォーム!D106,\"\")","v":""},{"$f":"IF(申込みフォーム!I106<>\"\",REPLACE(申込みフォーム!I106,4,,\"-\"),\"\")","v":""},{"$f":"IF(申込みフォーム!J106<>\"\",申込みフォーム!J106,\"\")","v":""},{"$f":"IF(申込みフォーム!K106<>\"\",申込みフォーム!K106,\"\")","v":""},{"$f":"IF(申込みフォーム!L106<>\"\",MID(申込みフォーム!L106,1,3)&\"-\"&MID(申込みフォーム!L106,4,4)&\"-\"&MID(申込みフォーム!L106,8,4),\"\")","v":""},{"$f":"IF(申込みフォーム!M106<>\"\",申込みフォーム!M106,\"\")","v":""},{"$f":"IF(申込みフォーム!N106<>\"\",申込みフォーム!N106,\"\")","v":""},{"$f":"IF(申込みフォーム!O106<>\"\",申込みフォーム!O106,\"\")","v":""},{"$f":"IF(申込みフォーム!P106<>\"\",申込みフォーム!P106,\"\")","v":""},{"$f":"IF(申込みフォーム!Q106<>\"\",申込みフォーム!Q106,\"\")","v":""},{"$f":"IF(申込みフォーム!R106<>\"\",申込みフォーム!R106,\"\")","v":""},{"$f":"IF(申込みフォーム!S106<>\"\",申込みフォーム!S106,\"\")","v":""},{"$f":"IF(申込みフォーム!U106=\"細胞診のみ\",\"協会子宮　\",IF(申込みフォーム!U106=\"細胞診＋（自費）膣エコー\",\"協会子宮＋自費膣エコー　\",\"\"))&IF(申込みフォーム!W106<>\"\",\"協会ﾏﾝﾓ　\",\"\")&IF(申込みフォーム!Y106<>\"\",\"協会骨　\",\"\")&IF(申込みフォーム!AA106<>\"\",\"協会肝炎　\",\"\")","v":""},{"$f":"IF(申込みフォーム!AB106<>\"\",\"子宮　\",\"\")&IF(申込みフォーム!AC106<>\"\",\"ﾏﾝﾓ　\",\"\")&IF(申込みフォーム!AD106<>\"\",\"乳ｴｺｰ\",\"\")","v":""},{"$f":"IF(申込みフォーム!AE106<>\"\",\"ﾏｰｶｰ　\",\"\")&IF(申込みフォーム!AF106<>\"\",\"心機能　\",\"\")&IF(申込みフォーム!AG106<>\"\",\"ABC　\",\"\")&IF(申込みフォーム!AH106<>\"\",\"Lox　\",\"\")&IF(申込みフォーム!AI106<>\"\",\"甲状腺　\",\"\")&IF(申込みフォーム!AJ106<>\"\",\"肝炎\",\"\")","v":""},{"$f":"IF(申込みフォーム!AK106<>\"\",\"脳　\",\"\")&IF(申込みフォーム!AL106<>\"\",\"胸部CT　\",\"\")&IF(申込みフォーム!AM106<>\"\",\"肺機能　\",\"\")&IF(申込みフォーム!AN106<>\"\",\"腹ｴｺｰ　\",\"\")&IF(申込みフォーム!AO106<>\"\",\"心ｴｺｰ　\",\"\")&IF(申込みフォーム!AP106<>\"\",\"ﾌﾛｰﾗ　\",\"\")&IF(申込みフォーム!AQ106<>\"\",\"OCT　\",\"\")&IF(申込みフォーム!AR106<>\"\",\"検便　\",\"\")&IF(申込みフォーム!AS106<>\"\",\"骨　\",\"\")&IF(申込みフォーム!AT106<>\"\",\"骨＋ﾛｺﾓ\",\"\")","v":""},{"$f":"IF(申込みフォーム!AU106<>\"\",申込みフォーム!AU106&\"　　\",\"\")&IF(申込みフォーム!AV106<>\"\",申込みフォーム!AV106&\"　　\",\"\")&IF(申込みフォーム!AW106<>\"\",申込みフォーム!AW106&\"　　\",\"\")","v":""},{"$f":"IF(申込みフォーム!BJ106<>\"\",申込みフォーム!BJ106,\"\")","v":""},{"$f":"IF(申込みフォーム!BK106<>\"\",申込みフォーム!BK106,\"\")","v":""},{"$f":"IF(申込みフォーム!BL106<>\"\",申込みフォーム!BL106&\"　　\",\"\")&IF(申込みフォーム!BM106<>\"\",申込みフォーム!BM106&\"　　\",\"\")&IF(申込みフォーム!BN106<>\"\",申込みフォーム!BN106&\"　　\",\"\")","v":{"$error":"#VALUE!"}},{"$f":"申込みフォーム!$Z106","v":""}]
[97,null,null,null,null,{"$f":"IF(申込みフォーム!B107<>\"\",申込みフォーム!B107&\"　\"&申込みフォーム!C107,\"\")","v":""},{"$f":"IF(申込みフォーム!E107<>\"\",申込みフォーム!E107&\"　\"&申込みフォーム!F107,\"\")","v":""},{"$f":"IF(申込みフォーム!G107<>\"\",申込みフォーム!G107,\"\")","v":""},{"$f":"IF(申込みフォーム!H107<>\"\",申込みフォーム!H107,\"\")","v":""},{"$f":"IF(申込みフォーム!D107<>\"\",申込みフォーム!D107,\"\")","v":""},{"$f":"IF(申込みフォーム!I107<>\"\",REPLACE(申込みフォーム!I107,4,,\"-\"),\"\")","v":""},{"$f":"IF(申込みフォーム!J107<>\"\",申込みフォーム!J107,\"\")","v":""},{"$f":"IF(申込みフォーム!K107<>\"\",申込みフォーム!K107,\"\")","v":""},{"$f":"IF(申込みフォーム!L107<>\"\",MID(申込みフォーム!L107,1,3)&\"-\"&MID(申込みフォーム!L107,4,4)&\"-\"&MID(申込みフォーム!L107,8,4),\"\")","v":""},{"$f":"IF(申込みフォーム!M107<>\"\",申込みフォーム!M107,\"\")","v":""},{"$f":"IF(申込みフォーム!N107<>\"\",申込みフォーム!N107,\"\")","v":""},{"$f":"IF(申込みフォーム!O107<>\"\",申込みフォーム!O107,\"\")","v":""},{"$f":"IF(申込みフォーム!P107<>\"\",申込みフォーム!P107,\"\")","v":""},{"$f":"IF(申込みフォーム!Q107<>\"\",申込みフォーム!Q107,\"\")","v":""},{"$f":"IF(申込みフォーム!R107<>\"\",申込みフォーム!R107,\"\")","v":""},{"$f":"IF(申込みフォーム!S107<>\"\",申込みフォーム!S107,\"\")","v":""},{"$f":"IF(申込みフォーム!U107=\"細胞診のみ\",\"協会子宮　\",IF(申込みフォーム!U107=\"細胞診＋（自費）膣エコー\",\"協会子宮＋自費膣エコー　\",\"\"))&IF(申込みフォーム!W107<>\"\",\"協会ﾏﾝﾓ　\",\"\")&IF(申込みフォーム!Y107<>\"\",\"協会骨　\",\"\")&IF(申込みフォーム!AA107<>\"\",\"協会肝炎　\",\"\")","v":""},{"$f":"IF(申込みフォーム!AB107<>\"\",\"子宮　\",\"\")&IF(申込みフォーム!AC107<>\"\",\"ﾏﾝﾓ　\",\"\")&IF(申込みフォーム!AD107<>\"\",\"乳ｴｺｰ\",\"\")","v":""},{"$f":"IF(申込みフォーム!AE107<>\"\",\"ﾏｰｶｰ　\",\"\")&IF(申込みフォーム!AF107<>\"\",\"心機能　\",\"\")&IF(申込みフォーム!AG107<>\"\",\"ABC　\",\"\")&IF(申込みフォーム!AH107<>\"\",\"Lox　\",\"\")&IF(申込みフォーム!AI107<>\"\",\"甲状腺　\",\"\")&IF(申込みフォーム!AJ107<>\"\",\"肝炎\",\"\")","v":""},{"$f":"IF(申込みフォーム!AK107<>\"\",\"脳　\",\"\")&IF(申込みフォーム!AL107<>\"\",\"胸部CT　\",\"\")&IF(申込みフォーム!AM107<>\"\",\"肺機能　\",\"\")&IF(申込みフォーム!AN107<>\"\",\"腹ｴｺｰ　\",\"\")&IF(申込みフォーム!AO107<>\"\",\"心ｴｺｰ　\",\"\")&IF(申込みフォーム!AP107<>\"\",\"ﾌﾛｰﾗ　\",\"\")&IF(申込みフォーム!AQ107<>\"\",\"OCT　\",\"\")&IF(申込みフォーム!AR107<>\"\",\"検便　\",\"\")&IF(申込みフォーム!AS107<>\"\",\"骨　\",\"\")&IF(申込みフォーム!AT107<>\"\",\"骨＋ﾛｺﾓ\",\"\")","v":""},{"$f":"IF(申込みフォーム!AU107<>\"\",申込みフォーム!AU107&\"　　\",\"\")&IF(申込みフォーム!AV107<>\"\",申込みフォーム!AV107&\"　　\",\"\")&IF(申込みフォーム!AW107<>\"\",申込みフォーム!AW107&\"　　\",\"\")","v":""},{"$f":"IF(申込みフォーム!BJ107<>\"\",申込みフォーム!BJ107,\"\")","v":""},{"$f":"IF(申込みフォーム!BK107<>\"\",申込みフォーム!BK107,\"\")","v":""},{"$f":"IF(申込みフォーム!BL107<>\"\",申込みフォーム!BL107&\"　　\",\"\")&IF(申込みフォーム!BM107<>\"\",申込みフォーム!BM107&\"　　\",\"\")&IF(申込みフォーム!BN107<>\"\",申込みフォーム!BN107&\"　　\",\"\")","v":{"$error":"#VALUE!"}},{"$f":"申込みフォーム!$Z107","v":""}]
[98,null,null,null,null,{"$f":"IF(申込みフォーム!B108<>\"\",申込みフォーム!B108&\"　\"&申込みフォーム!C108,\"\")","v":""},{"$f":"IF(申込みフォーム!E108<>\"\",申込みフォーム!E108&\"　\"&申込みフォーム!F108,\"\")","v":""},{"$f":"IF(申込みフォーム!G108<>\"\",申込みフォーム!G108,\"\")","v":""},{"$f":"IF(申込みフォーム!H108<>\"\",申込みフォーム!H108,\"\")","v":""},{"$f":"IF(申込みフォーム!D108<>\"\",申込みフォーム!D108,\"\")","v":""},{"$f":"IF(申込みフォーム!I108<>\"\",REPLACE(申込みフォーム!I108,4,,\"-\"),\"\")","v":""},{"$f":"IF(申込みフォーム!J108<>\"\",申込みフォーム!J108,\"\")","v":""},{"$f":"IF(申込みフォーム!K108<>\"\",申込みフォーム!K108,\"\")","v":""},{"$f":"IF(申込みフォーム!L108<>\"\",MID(申込みフォーム!L108,1,3)&\"-\"&MID(申込みフォーム!L108,4,4)&\"-\"&MID(申込みフォーム!L108,8,4),\"\")","v":""},{"$f":"IF(申込みフォーム!M108<>\"\",申込みフォーム!M108,\"\")","v":""},{"$f":"IF(申込みフォーム!N108<>\"\",申込みフォーム!N108,\"\")","v":""},{"$f":"IF(申込みフォーム!O108<>\"\",申込みフォーム!O108,\"\")","v":""},{"$f":"IF(申込みフォーム!P108<>\"\",申込みフォーム!P108,\"\")","v":""},{"$f":"IF(申込みフォーム!Q108<>\"\",申込みフォーム!Q108,\"\")","v":""},{"$f":"IF(申込みフォーム!R108<>\"\",申込みフォーム!R108,\"\")","v":""},{"$f":"IF(申込みフォーム!S108<>\"\",申込みフォーム!S108,\"\")","v":""},{"$f":"IF(申込みフォーム!U108=\"細胞診のみ\",\"協会子宮　\",IF(申込みフォーム!U108=\"細胞診＋（自費）膣エコー\",\"協会子宮＋自費膣エコー　\",\"\"))&IF(申込みフォーム!W108<>\"\",\"協会ﾏﾝﾓ　\",\"\")&IF(申込みフォーム!Y108<>\"\",\"協会骨　\",\"\")&IF(申込みフォーム!AA108<>\"\",\"協会肝炎　\",\"\")","v":""},{"$f":"IF(申込みフォーム!AB108<>\"\",\"子宮　\",\"\")&IF(申込みフォーム!AC108<>\"\",\"ﾏﾝﾓ　\",\"\")&IF(申込みフォーム!AD108<>\"\",\"乳ｴｺｰ\",\"\")","v":""},{"$f":"IF(申込みフォーム!AE108<>\"\",\"ﾏｰｶｰ　\",\"\")&IF(申込みフォーム!AF108<>\"\",\"心機能　\",\"\")&IF(申込みフォーム!AG108<>\"\",\"ABC　\",\"\")&IF(申込みフォーム!AH108<>\"\",\"Lox　\",\"\")&IF(申込みフォーム!AI108<>\"\",\"甲状腺　\",\"\")&IF(申込みフォーム!AJ108<>\"\",\"肝炎\",\"\")","v":""},{"$f":"IF(申込みフォーム!AK108<>\"\",\"脳　\",\"\")&IF(申込みフォーム!AL108<>\"\",\"胸部CT　\",\"\")&IF(申込みフォーム!AM108<>\"\",\"肺機能　\",\"\")&IF(申込みフォーム!AN108<>\"\",\"腹ｴｺｰ　\",\"\")&IF(申込みフォーム!AO108<>\"\",\"心ｴｺｰ　\",\"\")&IF(申込みフォーム!AP108<>\"\",\"ﾌﾛｰﾗ　\",\"\")&IF(申込みフォーム!AQ108<>\"\",\"OCT　\",\"\")&IF(申込みフォーム!AR108<>\"\",\"検便　\",\"\")&IF(申込みフォーム!AS108<>\"\",\"骨　\",\"\")&IF(申込みフォーム!AT108<>\"\",\"骨＋ﾛｺﾓ\",\"\")","v":""},{"$f":"IF(申込みフォーム!AU108<>\"\",申込みフォーム!AU108&\"　　\",\"\")&IF(申込みフォーム!AV108<>\"\",申込みフォーム!AV108&\"　　\",\"\")&IF(申込みフォーム!AW108<>\"\",申込みフォーム!AW108&\"　　\",\"\")","v":""},{"$f":"IF(申込みフォーム!BJ108<>\"\",申込みフォーム!BJ108,\"\")","v":""},{"$f":"IF(申込みフォーム!BK108<>\"\",申込みフォーム!BK108,\"\")","v":""},{"$f":"IF(申込みフォーム!BL108<>\"\",申込みフォーム!BL108&\"　　\",\"\")&IF(申込みフォーム!BM108<>\"\",申込みフォーム!BM108&\"　　\",\"\")&IF(申込みフォーム!BN108<>\"\",申込みフォーム!BN108&\"　　\",\"\")","v":{"$error":"#VALUE!"}},{"$f":"申込みフォーム!$Z108","v":""}]
[99,null,null,null,null,{"$f":"IF(申込みフォーム!B109<>\"\",申込みフォーム!B109&\"　\"&申込みフォーム!C109,\"\")","v":""},{"$f":"IF(申込みフォーム!E109<>\"\",申込みフォーム!E109&\"　\"&申込みフォーム!F109,\"\")","v":""},{"$f":"IF(申込みフォーム!G109<>\"\",申込みフォーム!G109,\"\")","v":""},{"$f":"IF(申込みフォーム!H109<>\"\",申込みフォーム!H109,\"\")","v":""},{"$f":"IF(申込みフォーム!D109<>\"\",申込みフォーム!D109,\"\")","v":""},{"$f":"IF(申込みフォーム!I109<>\"\",REPLACE(申込みフォーム!I109,4,,\"-\"),\"\")","v":""},{"$f":"IF(申込みフォーム!J109<>\"\",申込みフォーム!J109,\"\")","v":""},{"$f":"IF(申込みフォーム!K109<>\"\",申込みフォーム!K109,\"\")","v":""},{"$f":"IF(申込みフォーム!L109<>\"\",MID(申込みフォーム!L109,1,3)&\"-\"&MID(申込みフォーム!L109,4,4)&\"-\"&MID(申込みフォーム!L109,8,4),\"\")","v":""},{"$f":"IF(申込みフォーム!M109<>\"\",申込みフォーム!M109,\"\")","v":""},{"$f":"IF(申込みフォーム!N109<>\"\",申込みフォーム!N109,\"\")","v":""},{"$f":"IF(申込みフォーム!O109<>\"\",申込みフォーム!O109,\"\")","v":""},{"$f":"IF(申込みフォーム!P109<>\"\",申込みフォーム!P109,\"\")","v":""},{"$f":"IF(申込みフォーム!Q109<>\"\",申込みフォーム!Q109,\"\")","v":""},{"$f":"IF(申込みフォーム!R109<>\"\",申込みフォーム!R109,\"\")","v":""},{"$f":"IF(申込みフォーム!S109<>\"\",申込みフォーム!S109,\"\")","v":""},{"$f":"IF(申込みフォーム!U109=\"細胞診のみ\",\"協会子宮　\",IF(申込みフォーム!U109=\"細胞診＋（自費）膣エコー\",\"協会子宮＋自費膣エコー　\",\"\"))&IF(申込みフォーム!W109<>\"\",\"協会ﾏﾝﾓ　\",\"\")&IF(申込みフォーム!Y109<>\"\",\"協会骨　\",\"\")&IF(申込みフォーム!AA109<>\"\",\"協会肝炎　\",\"\")","v":""},{"$f":"IF(申込みフォーム!AB109<>\"\",\"子宮　\",\"\")&IF(申込みフォーム!AC109<>\"\",\"ﾏﾝﾓ　\",\"\")&IF(申込みフォーム!AD109<>\"\",\"乳ｴｺｰ\",\"\")","v":""},{"$f":"IF(申込みフォーム!AE109<>\"\",\"ﾏｰｶｰ　\",\"\")&IF(申込みフォーム!AF109<>\"\",\"心機能　\",\"\")&IF(申込みフォーム!AG109<>\"\",\"ABC　\",\"\")&IF(申込みフォーム!AH109<>\"\",\"Lox　\",\"\")&IF(申込みフォーム!AI109<>\"\",\"甲状腺　\",\"\")&IF(申込みフォーム!AJ109<>\"\",\"肝炎\",\"\")","v":""},{"$f":"IF(申込みフォーム!AK109<>\"\",\"脳　\",\"\")&IF(申込みフォーム!AL109<>\"\",\"胸部CT　\",\"\")&IF(申込みフォーム!AM109<>\"\",\"肺機能　\",\"\")&IF(申込みフォーム!AN109<>\"\",\"腹ｴｺｰ　\",\"\")&IF(申込みフォーム!AO109<>\"\",\"心ｴｺｰ　\",\"\")&IF(申込みフォーム!AP109<>\"\",\"ﾌﾛｰﾗ　\",\"\")&IF(申込みフォーム!AQ109<>\"\",\"OCT　\",\"\")&IF(申込みフォーム!AR109<>\"\",\"検便　\",\"\")&IF(申込みフォーム!AS109<>\"\",\"骨　\",\"\")&IF(申込みフォーム!AT109<>\"\",\"骨＋ﾛｺﾓ\",\"\")","v":""},{"$f":"IF(申込みフォーム!AU109<>\"\",申込みフォーム!AU109&\"　　\",\"\")&IF(申込みフォーム!AV109<>\"\",申込みフォーム!AV109&\"　　\",\"\")&IF(申込みフォーム!AW109<>\"\",申込みフォーム!AW109&\"　　\",\"\")","v":""},{"$f":"IF(申込みフォーム!BJ109<>\"\",申込みフォーム!BJ109,\"\")","v":""},{"$f":"IF(申込みフォーム!BK109<>\"\",申込みフォーム!BK109,\"\")","v":""},{"$f":"IF(申込みフォーム!BL109<>\"\",申込みフォーム!BL109&\"　　\",\"\")&IF(申込みフォーム!BM109<>\"\",申込みフォーム!BM109&\"　　\",\"\")&IF(申込みフォーム!BN109<>\"\",申込みフォーム!BN109&\"　　\",\"\")","v":{"$error":"#VALUE!"}},{"$f":"申込みフォーム!$Z109","v":""}]
[100,null,null,null,null,{"$f":"IF(申込みフォーム!B110<>\"\",申込みフォーム!B110&\"　\"&申込みフォーム!C110,\"\")","v":""},{"$f":"IF(申込みフォーム!E110<>\"\",申込みフォーム!E110&\"　\"&申込みフォーム!F110,\"\")","v":""},{"$f":"IF(申込みフォーム!G110<>\"\",申込みフォーム!G110,\"\")","v":""},{"$f":"IF(申込みフォーム!H110<>\"\",申込みフォーム!H110,\"\")","v":""},{"$f":"IF(申込みフォーム!D110<>\"\",申込みフォーム!D110,\"\")","v":""},{"$f":"IF(申込みフォーム!I110<>\"\",REPLACE(申込みフォーム!I110,4,,\"-\"),\"\")","v":""},{"$f":"IF(申込みフォーム!J110<>\"\",申込みフォーム!J110,\"\")","v":""},{"$f":"IF(申込みフォーム!K110<>\"\",申込みフォーム!K110,\"\")","v":""},{"$f":"IF(申込みフォーム!L110<>\"\",MID(申込みフォーム!L110,1,3)&\"-\"&MID(申込みフォーム!L110,4,4)&\"-\"&MID(申込みフォーム!L110,8,4),\"\")","v":""},{"$f":"IF(申込みフォーム!M110<>\"\",申込みフォーム!M110,\"\")","v":""},{"$f":"IF(申込みフォーム!N110<>\"\",申込みフォーム!N110,\"\")","v":""},{"$f":"IF(申込みフォーム!O110<>\"\",申込みフォーム!O110,\"\")","v":""},{"$f":"IF(申込みフォーム!P110<>\"\",申込みフォーム!P110,\"\")","v":""},{"$f":"IF(申込みフォーム!Q110<>\"\",申込みフォーム!Q110,\"\")","v":""},{"$f":"IF(申込みフォーム!R110<>\"\",申込みフォーム!R110,\"\")","v":""},{"$f":"IF(申込みフォーム!S110<>\"\",申込みフォーム!S110,\"\")","v":""},{"$f":"IF(申込みフォーム!U110=\"細胞診のみ\",\"協会子宮　\",IF(申込みフォーム!U110=\"細胞診＋（自費）膣エコー\",\"協会子宮＋自費膣エコー　\",\"\"))&IF(申込みフォーム!W110<>\"\",\"協会ﾏﾝﾓ　\",\"\")&IF(申込みフォーム!Y110<>\"\",\"協会骨　\",\"\")&IF(申込みフォーム!AA110<>\"\",\"協会肝炎　\",\"\")","v":""},{"$f":"IF(申込みフォーム!AB110<>\"\",\"子宮　\",\"\")&IF(申込みフォーム!AC110<>\"\",\"ﾏﾝﾓ　\",\"\")&IF(申込みフォーム!AD110<>\"\",\"乳ｴｺｰ\",\"\")","v":""},{"$f":"IF(申込みフォーム!AE110<>\"\",\"ﾏｰｶｰ　\",\"\")&IF(申込みフォーム!AF110<>\"\",\"心機能　\",\"\")&IF(申込みフォーム!AG110<>\"\",\"ABC　\",\"\")&IF(申込みフォーム!AH110<>\"\",\"Lox　\",\"\")&IF(申込みフォーム!AI110<>\"\",\"甲状腺　\",\"\")&IF(申込みフォーム!AJ110<>\"\",\"肝炎\",\"\")","v":""},{"$f":"IF(申込みフォーム!AK110<>\"\",\"脳　\",\"\")&IF(申込みフォーム!AL110<>\"\",\"胸部CT　\",\"\")&IF(申込みフォーム!AM110<>\"\",\"肺機能　\",\"\")&IF(申込みフォーム!AN110<>\"\",\"腹ｴｺｰ　\",\"\")&IF(申込みフォーム!AO110<>\"\",\"心ｴｺｰ　\",\"\")&IF(申込みフォーム!AP110<>\"\",\"ﾌﾛｰﾗ　\",\"\")&IF(申込みフォーム!AQ110<>\"\",\"OCT　\",\"\")&IF(申込みフォーム!AR110<>\"\",\"検便　\",\"\")&IF(申込みフォーム!AS110<>\"\",\"骨　\",\"\")&IF(申込みフォーム!AT110<>\"\",\"骨＋ﾛｺﾓ\",\"\")","v":""},{"$f":"IF(申込みフォーム!AU110<>\"\",申込みフォーム!AU110&\"　　\",\"\")&IF(申込みフォーム!AV110<>\"\",申込みフォーム!AV110&\"　　\",\"\")&IF(申込みフォーム!AW110<>\"\",申込みフォーム!AW110&\"　　\",\"\")","v":""},{"$f":"IF(申込みフォーム!BJ110<>\"\",申込みフォーム!BJ110,\"\")","v":""},{"$f":"IF(申込みフォーム!BK110<>\"\",申込みフォーム!BK110,\"\")","v":""},{"$f":"IF(申込みフォーム!BL110<>\"\",申込みフォーム!BL110&\"　　\",\"\")&IF(申込みフォーム!BM110<>\"\",申込みフォーム!BM110&\"　　\",\"\")&IF(申込みフォーム!BN110<>\"\",申込みフォーム!BN110&\"　　\",\"\")","v":{"$error":"#VALUE!"}},{"$f":"申込みフォーム!$Z110","v":""}]
[101,null,null,null,null,{"$f":"IF(申込みフォーム!B111<>\"\",申込みフォーム!B111&\"　\"&申込みフォーム!C111,\"\")","v":""},{"$f":"IF(申込みフォーム!E111<>\"\",申込みフォーム!E111&\"　\"&申込みフォーム!F111,\"\")","v":""},{"$f":"IF(申込みフォーム!G111<>\"\",申込みフォーム!G111,\"\")","v":""},{"$f":"IF(申込みフォーム!H111<>\"\",申込みフォーム!H111,\"\")","v":""},{"$f":"IF(申込みフォーム!D111<>\"\",申込みフォーム!D111,\"\")","v":""},{"$f":"IF(申込みフォーム!I111<>\"\",REPLACE(申込みフォーム!I111,4,,\"-\"),\"\")","v":""},{"$f":"IF(申込みフォーム!J111<>\"\",申込みフォーム!J111,\"\")","v":""},{"$f":"IF(申込みフォーム!K111<>\"\",申込みフォーム!K111,\"\")","v":""},{"$f":"IF(申込みフォーム!L111<>\"\",MID(申込みフォーム!L111,1,3)&\"-\"&MID(申込みフォーム!L111,4,4)&\"-\"&MID(申込みフォーム!L111,8,4),\"\")","v":""},{"$f":"IF(申込みフォーム!M111<>\"\",申込みフォーム!M111,\"\")","v":""},{"$f":"IF(申込みフォーム!N111<>\"\",申込みフォーム!N111,\"\")","v":""},{"$f":"IF(申込みフォーム!O111<>\"\",申込みフォーム!O111,\"\")","v":""},{"$f":"IF(申込みフォーム!P111<>\"\",申込みフォーム!P111,\"\")","v":""},{"$f":"IF(申込みフォーム!Q111<>\"\",申込みフォーム!Q111,\"\")","v":""},{"$f":"IF(申込みフォーム!R111<>\"\",申込みフォーム!R111,\"\")","v":""},{"$f":"IF(申込みフォーム!S111<>\"\",申込みフォーム!S111,\"\")","v":""},{"$f":"IF(申込みフォーム!U111=\"細胞診のみ\",\"協会子宮　\",IF(申込みフォーム!U111=\"細胞診＋（自費）膣エコー\",\"協会子宮＋自費膣エコー　\",\"\"))&IF(申込みフォーム!W111<>\"\",\"協会ﾏﾝﾓ　\",\"\")&IF(申込みフォーム!Y111<>\"\",\"協会骨　\",\"\")&IF(申込みフォーム!AA111<>\"\",\"協会肝炎　\",\"\")","v":""},{"$f":"IF(申込みフォーム!AB111<>\"\",\"子宮　\",\"\")&IF(申込みフォーム!AC111<>\"\",\"ﾏﾝﾓ　\",\"\")&IF(申込みフォーム!AD111<>\"\",\"乳ｴｺｰ\",\"\")","v":""},{"$f":"IF(申込みフォーム!AE111<>\"\",\"ﾏｰｶｰ　\",\"\")&IF(申込みフォーム!AF111<>\"\",\"心機能　\",\"\")&IF(申込みフォーム!AG111<>\"\",\"ABC　\",\"\")&IF(申込みフォーム!AH111<>\"\",\"Lox　\",\"\")&IF(申込みフォーム!AI111<>\"\",\"甲状腺　\",\"\")&IF(申込みフォーム!AJ111<>\"\",\"肝炎\",\"\")","v":""},{"$f":"IF(申込みフォーム!AK111<>\"\",\"脳　\",\"\")&IF(申込みフォーム!AL111<>\"\",\"胸部CT　\",\"\")&IF(申込みフォーム!AM111<>\"\",\"肺機能　\",\"\")&IF(申込みフォーム!AN111<>\"\",\"腹ｴｺｰ　\",\"\")&IF(申込みフォーム!AO111<>\"\",\"心ｴｺｰ　\",\"\")&IF(申込みフォーム!AP111<>\"\",\"ﾌﾛｰﾗ　\",\"\")&IF(申込みフォーム!AQ111<>\"\",\"OCT　\",\"\")&IF(申込みフォーム!AR111<>\"\",\"検便　\",\"\")&IF(申込みフォーム!AS111<>\"\",\"骨　\",\"\")&IF(申込みフォーム!AT111<>\"\",\"骨＋ﾛｺﾓ\",\"\")","v":""},{"$f":"IF(申込みフォーム!AU111<>\"\",申込みフォーム!AU111&\"　　\",\"\")&IF(申込みフォーム!AV111<>\"\",申込みフォーム!AV111&\"　　\",\"\")&IF(申込みフォーム!AW111<>\"\",申込みフォーム!AW111&\"　　\",\"\")","v":""},{"$f":"IF(申込みフォーム!BJ111<>\"\",申込みフォーム!BJ111,\"\")","v":""},{"$f":"IF(申込みフォーム!BK111<>\"\",申込みフォーム!BK111,\"\")","v":""},{"$f":"IF(申込みフォーム!BL111<>\"\",申込みフォーム!BL111&\"　　\",\"\")&IF(申込みフォーム!BM111<>\"\",申込みフォーム!BM111&\"　　\",\"\")&IF(申込みフォーム!BN111<>\"\",申込みフォーム!BN111&\"　　\",\"\")","v":{"$error":"#VALUE!"}},{"$f":"申込みフォーム!$Z111","v":""}]
[102,null,null,null,null,{"$f":"IF(申込みフォーム!B112<>\"\",申込みフォーム!B112&\"　\"&申込みフォーム!C112,\"\")","v":""},{"$f":"IF(申込みフォーム!E112<>\"\",申込みフォーム!E112&\"　\"&申込みフォーム!F112,\"\")","v":""},{"$f":"IF(申込みフォーム!G112<>\"\",申込みフォーム!G112,\"\")","v":""},{"$f":"IF(申込みフォーム!H112<>\"\",申込みフォーム!H112,\"\")","v":""},{"$f":"IF(申込みフォーム!D112<>\"\",申込みフォーム!D112,\"\")","v":""},{"$f":"IF(申込みフォーム!I112<>\"\",REPLACE(申込みフォーム!I112,4,,\"-\"),\"\")","v":""},{"$f":"IF(申込みフォーム!J112<>\"\",申込みフォーム!J112,\"\")","v":""},{"$f":"IF(申込みフォーム!K112<>\"\",申込みフォーム!K112,\"\")","v":""},{"$f":"IF(申込みフォーム!L112<>\"\",MID(申込みフォーム!L112,1,3)&\"-\"&MID(申込みフォーム!L112,4,4)&\"-\"&MID(申込みフォーム!L112,8,4),\"\")","v":""},{"$f":"IF(申込みフォーム!M112<>\"\",申込みフォーム!M112,\"\")","v":""},{"$f":"IF(申込みフォーム!N112<>\"\",申込みフォーム!N112,\"\")","v":""},{"$f":"IF(申込みフォーム!O112<>\"\",申込みフォーム!O112,\"\")","v":""},{"$f":"IF(申込みフォーム!P112<>\"\",申込みフォーム!P112,\"\")","v":""},{"$f":"IF(申込みフォーム!Q112<>\"\",申込みフォーム!Q112,\"\")","v":""},{"$f":"IF(申込みフォーム!R112<>\"\",申込みフォーム!R112,\"\")","v":""},{"$f":"IF(申込みフォーム!S112<>\"\",申込みフォーム!S112,\"\")","v":""},{"$f":"IF(申込みフォーム!U112=\"細胞診のみ\",\"協会子宮　\",IF(申込みフォーム!U112=\"細胞診＋（自費）膣エコー\",\"協会子宮＋自費膣エコー　\",\"\"))&IF(申込みフォーム!W112<>\"\",\"協会ﾏﾝﾓ　\",\"\")&IF(申込みフォーム!Y112<>\"\",\"協会骨　\",\"\")&IF(申込みフォーム!AA112<>\"\",\"協会肝炎　\",\"\")","v":""},{"$f":"IF(申込みフォーム!AB112<>\"\",\"子宮　\",\"\")&IF(申込みフォーム!AC112<>\"\",\"ﾏﾝﾓ　\",\"\")&IF(申込みフォーム!AD112<>\"\",\"乳ｴｺｰ\",\"\")","v":""},{"$f":"IF(申込みフォーム!AE112<>\"\",\"ﾏｰｶｰ　\",\"\")&IF(申込みフォーム!AF112<>\"\",\"心機能　\",\"\")&IF(申込みフォーム!AG112<>\"\",\"ABC　\",\"\")&IF(申込みフォーム!AH112<>\"\",\"Lox　\",\"\")&IF(申込みフォーム!AI112<>\"\",\"甲状腺　\",\"\")&IF(申込みフォーム!AJ112<>\"\",\"肝炎\",\"\")","v":""},{"$f":"IF(申込みフォーム!AK112<>\"\",\"脳　\",\"\")&IF(申込みフォーム!AL112<>\"\",\"胸部CT　\",\"\")&IF(申込みフォーム!AM112<>\"\",\"肺機能　\",\"\")&IF(申込みフォーム!AN112<>\"\",\"腹ｴｺｰ　\",\"\")&IF(申込みフォーム!AO112<>\"\",\"心ｴｺｰ　\",\"\")&IF(申込みフォーム!AP112<>\"\",\"ﾌﾛｰﾗ　\",\"\")&IF(申込みフォーム!AQ112<>\"\",\"OCT　\",\"\")&IF(申込みフォーム!AR112<>\"\",\"検便　\",\"\")&IF(申込みフォーム!AS112<>\"\",\"骨　\",\"\")&IF(申込みフォーム!AT112<>\"\",\"骨＋ﾛｺﾓ\",\"\")","v":""},{"$f":"IF(申込みフォーム!AU112<>\"\",申込みフォーム!AU112&\"　　\",\"\")&IF(申込みフォーム!AV112<>\"\",申込みフォーム!AV112&\"　　\",\"\")&IF(申込みフォーム!AW112<>\"\",申込みフォーム!AW112&\"　　\",\"\")","v":""},{"$f":"IF(申込みフォーム!BJ112<>\"\",申込みフォーム!BJ112,\"\")","v":""},{"$f":"IF(申込みフォーム!BK112<>\"\",申込みフォーム!BK112,\"\")","v":""},{"$f":"IF(申込みフォーム!BL112<>\"\",申込みフォーム!BL112&\"　　\",\"\")&IF(申込みフォーム!BM112<>\"\",申込みフォーム!BM112&\"　　\",\"\")&IF(申込みフォーム!BN112<>\"\",申込みフォーム!BN112&\"　　\",\"\")","v":{"$error":"#VALUE!"}},{"$f":"申込みフォーム!$Z112","v":""}]
[103,null,null,null,null,{"$f":"IF(申込みフォーム!B113<>\"\",申込みフォーム!B113&\"　\"&申込みフォーム!C113,\"\")","v":""},{"$f":"IF(申込みフォーム!E113<>\"\",申込みフォーム!E113&\"　\"&申込みフォーム!F113,\"\")","v":""},{"$f":"IF(申込みフォーム!G113<>\"\",申込みフォーム!G113,\"\")","v":""},{"$f":"IF(申込みフォーム!H113<>\"\",申込みフォーム!H113,\"\")","v":""},{"$f":"IF(申込みフォーム!D113<>\"\",申込みフォーム!D113,\"\")","v":""},{"$f":"IF(申込みフォーム!I113<>\"\",REPLACE(申込みフォーム!I113,4,,\"-\"),\"\")","v":""},{"$f":"IF(申込みフォーム!J113<>\"\",申込みフォーム!J113,\"\")","v":""},{"$f":"IF(申込みフォーム!K113<>\"\",申込みフォーム!K113,\"\")","v":""},{"$f":"IF(申込みフォーム!L113<>\"\",MID(申込みフォーム!L113,1,3)&\"-\"&MID(申込みフォーム!L113,4,4)&\"-\"&MID(申込みフォーム!L113,8,4),\"\")","v":""},{"$f":"IF(申込みフォーム!M113<>\"\",申込みフォーム!M113,\"\")","v":""},{"$f":"IF(申込みフォーム!N113<>\"\",申込みフォーム!N113,\"\")","v":""},{"$f":"IF(申込みフォーム!O113<>\"\",申込みフォーム!O113,\"\")","v":""},{"$f":"IF(申込みフォーム!P113<>\"\",申込みフォーム!P113,\"\")","v":""},{"$f":"IF(申込みフォーム!Q113<>\"\",申込みフォーム!Q113,\"\")","v":""},{"$f":"IF(申込みフォーム!R113<>\"\",申込みフォーム!R113,\"\")","v":""},{"$f":"IF(申込みフォーム!S113<>\"\",申込みフォーム!S113,\"\")","v":""},{"$f":"IF(申込みフォーム!U113=\"細胞診のみ\",\"協会子宮　\",IF(申込みフォーム!U113=\"細胞診＋（自費）膣エコー\",\"協会子宮＋自費膣エコー　\",\"\"))&IF(申込みフォーム!W113<>\"\",\"協会ﾏﾝﾓ　\",\"\")&IF(申込みフォーム!Y113<>\"\",\"協会骨　\",\"\")&IF(申込みフォーム!AA113<>\"\",\"協会肝炎　\",\"\")","v":""},{"$f":"IF(申込みフォーム!AB113<>\"\",\"子宮　\",\"\")&IF(申込みフォーム!AC113<>\"\",\"ﾏﾝﾓ　\",\"\")&IF(申込みフォーム!AD113<>\"\",\"乳ｴｺｰ\",\"\")","v":""},{"$f":"IF(申込みフォーム!AE113<>\"\",\"ﾏｰｶｰ　\",\"\")&IF(申込みフォーム!AF113<>\"\",\"心機能　\",\"\")&IF(申込みフォーム!AG113<>\"\",\"ABC　\",\"\")&IF(申込みフォーム!AH113<>\"\",\"Lox　\",\"\")&IF(申込みフォーム!AI113<>\"\",\"甲状腺　\",\"\")&IF(申込みフォーム!AJ113<>\"\",\"肝炎\",\"\")","v":""},{"$f":"IF(申込みフォーム!AK113<>\"\",\"脳　\",\"\")&IF(申込みフォーム!AL113<>\"\",\"胸部CT　\",\"\")&IF(申込みフォーム!AM113<>\"\",\"肺機能　\",\"\")&IF(申込みフォーム!AN113<>\"\",\"腹ｴｺｰ　\",\"\")&IF(申込みフォーム!AO113<>\"\",\"心ｴｺｰ　\",\"\")&IF(申込みフォーム!AP113<>\"\",\"ﾌﾛｰﾗ　\",\"\")&IF(申込みフォーム!AQ113<>\"\",\"OCT　\",\"\")&IF(申込みフォーム!AR113<>\"\",\"検便　\",\"\")&IF(申込みフォーム!AS113<>\"\",\"骨　\",\"\")&IF(申込みフォーム!AT113<>\"\",\"骨＋ﾛｺﾓ\",\"\")","v":""},{"$f":"IF(申込みフォーム!AU113<>\"\",申込みフォーム!AU113&\"　　\",\"\")&IF(申込みフォーム!AV113<>\"\",申込みフォーム!AV113&\"　　\",\"\")&IF(申込みフォーム!AW113<>\"\",申込みフォーム!AW113&\"　　\",\"\")","v":""},{"$f":"IF(申込みフォーム!BJ113<>\"\",申込みフォーム!BJ113,\"\")","v":""},{"$f":"IF(申込みフォーム!BK113<>\"\",申込みフォーム!BK113,\"\")","v":""},{"$f":"IF(申込みフォーム!BL113<>\"\",申込みフォーム!BL113&\"　　\",\"\")&IF(申込みフォーム!BM113<>\"\",申込みフォーム!BM113&\"　　\",\"\")&IF(申込みフォーム!BN113<>\"\",申込みフォーム!BN113&\"　　\",\"\")","v":{"$error":"#VALUE!"}},{"$f":"申込みフォーム!$Z113","v":""}]
[104,null,null,null,null,{"$f":"IF(申込みフォーム!B114<>\"\",申込みフォーム!B114&\"　\"&申込みフォーム!C114,\"\")","v":""},{"$f":"IF(申込みフォーム!E114<>\"\",申込みフォーム!E114&\"　\"&申込みフォーム!F114,\"\")","v":""},{"$f":"IF(申込みフォーム!G114<>\"\",申込みフォーム!G114,\"\")","v":""},{"$f":"IF(申込みフォーム!H114<>\"\",申込みフォーム!H114,\"\")","v":""},{"$f":"IF(申込みフォーム!D114<>\"\",申込みフォーム!D114,\"\")","v":""},{"$f":"IF(申込みフォーム!I114<>\"\",REPLACE(申込みフォーム!I114,4,,\"-\"),\"\")","v":""},{"$f":"IF(申込みフォーム!J114<>\"\",申込みフォーム!J114,\"\")","v":""},{"$f":"IF(申込みフォーム!K114<>\"\",申込みフォーム!K114,\"\")","v":""},{"$f":"IF(申込みフォーム!L114<>\"\",MID(申込みフォーム!L114,1,3)&\"-\"&MID(申込みフォーム!L114,4,4)&\"-\"&MID(申込みフォーム!L114,8,4),\"\")","v":""},{"$f":"IF(申込みフォーム!M114<>\"\",申込みフォーム!M114,\"\")","v":""},{"$f":"IF(申込みフォーム!N114<>\"\",申込みフォーム!N114,\"\")","v":""},{"$f":"IF(申込みフォーム!O114<>\"\",申込みフォーム!O114,\"\")","v":""},{"$f":"IF(申込みフォーム!P114<>\"\",申込みフォーム!P114,\"\")","v":""},{"$f":"IF(申込みフォーム!Q114<>\"\",申込みフォーム!Q114,\"\")","v":""},{"$f":"IF(申込みフォーム!R114<>\"\",申込みフォーム!R114,\"\")","v":""},{"$f":"IF(申込みフォーム!S114<>\"\",申込みフォーム!S114,\"\")","v":""},{"$f":"IF(申込みフォーム!U114=\"細胞診のみ\",\"協会子宮　\",IF(申込みフォーム!U114=\"細胞診＋（自費）膣エコー\",\"協会子宮＋自費膣エコー　\",\"\"))&IF(申込みフォーム!W114<>\"\",\"協会ﾏﾝﾓ　\",\"\")&IF(申込みフォーム!Y114<>\"\",\"協会骨　\",\"\")&IF(申込みフォーム!AA114<>\"\",\"協会肝炎　\",\"\")","v":""},{"$f":"IF(申込みフォーム!AB114<>\"\",\"子宮　\",\"\")&IF(申込みフォーム!AC114<>\"\",\"ﾏﾝﾓ　\",\"\")&IF(申込みフォーム!AD114<>\"\",\"乳ｴｺｰ\",\"\")","v":""},{"$f":"IF(申込みフォーム!AE114<>\"\",\"ﾏｰｶｰ　\",\"\")&IF(申込みフォーム!AF114<>\"\",\"心機能　\",\"\")&IF(申込みフォーム!AG114<>\"\",\"ABC　\",\"\")&IF(申込みフォーム!AH114<>\"\",\"Lox　\",\"\")&IF(申込みフォーム!AI114<>\"\",\"甲状腺　\",\"\")&IF(申込みフォーム!AJ114<>\"\",\"肝炎\",\"\")","v":""},{"$f":"IF(申込みフォーム!AK114<>\"\",\"脳　\",\"\")&IF(申込みフォーム!AL114<>\"\",\"胸部CT　\",\"\")&IF(申込みフォーム!AM114<>\"\",\"肺機能　\",\"\")&IF(申込みフォーム!AN114<>\"\",\"腹ｴｺｰ　\",\"\")&IF(申込みフォーム!AO114<>\"\",\"心ｴｺｰ　\",\"\")&IF(申込みフォーム!AP114<>\"\",\"ﾌﾛｰﾗ　\",\"\")&IF(申込みフォーム!AQ114<>\"\",\"OCT　\",\"\")&IF(申込みフォーム!AR114<>\"\",\"検便　\",\"\")&IF(申込みフォーム!AS114<>\"\",\"骨　\",\"\")&IF(申込みフォーム!AT114<>\"\",\"骨＋ﾛｺﾓ\",\"\")","v":""},{"$f":"IF(申込みフォーム!AU114<>\"\",申込みフォーム!AU114&\"　　\",\"\")&IF(申込みフォーム!AV114<>\"\",申込みフォーム!AV114&\"　　\",\"\")&IF(申込みフォーム!AW114<>\"\",申込みフォーム!AW114&\"　　\",\"\")","v":""},{"$f":"IF(申込みフォーム!BJ114<>\"\",申込みフォーム!BJ114,\"\")","v":""},{"$f":"IF(申込みフォーム!BK114<>\"\",申込みフォーム!BK114,\"\")","v":""},{"$f":"IF(申込みフォーム!BL114<>\"\",申込みフォーム!BL114&\"　　\",\"\")&IF(申込みフォーム!BM114<>\"\",申込みフォーム!BM114&\"　　\",\"\")&IF(申込みフォーム!BN114<>\"\",申込みフォーム!BN114&\"　　\",\"\")","v":{"$error":"#VALUE!"}},{"$f":"申込みフォーム!$Z114","v":""}]
[105,null,null,null,null,{"$f":"IF(申込みフォーム!B115<>\"\",申込みフォーム!B115&\"　\"&申込みフォーム!C115,\"\")","v":""},{"$f":"IF(申込みフォーム!E115<>\"\",申込みフォーム!E115&\"　\"&申込みフォーム!F115,\"\")","v":""},{"$f":"IF(申込みフォーム!G115<>\"\",申込みフォーム!G115,\"\")","v":""},{"$f":"IF(申込みフォーム!H115<>\"\",申込みフォーム!H115,\"\")","v":""},{"$f":"IF(申込みフォーム!D115<>\"\",申込みフォーム!D115,\"\")","v":""},{"$f":"IF(申込みフォーム!I115<>\"\",REPLACE(申込みフォーム!I115,4,,\"-\"),\"\")","v":""},{"$f":"IF(申込みフォーム!J115<>\"\",申込みフォーム!J115,\"\")","v":""},{"$f":"IF(申込みフォーム!K115<>\"\",申込みフォーム!K115,\"\")","v":""},{"$f":"IF(申込みフォーム!L115<>\"\",MID(申込みフォーム!L115,1,3)&\"-\"&MID(申込みフォーム!L115,4,4)&\"-\"&MID(申込みフォーム!L115,8,4),\"\")","v":""},{"$f":"IF(申込みフォーム!M115<>\"\",申込みフォーム!M115,\"\")","v":""},{"$f":"IF(申込みフォーム!N115<>\"\",申込みフォーム!N115,\"\")","v":""},{"$f":"IF(申込みフォーム!O115<>\"\",申込みフォーム!O115,\"\")","v":""},{"$f":"IF(申込みフォーム!P115<>\"\",申込みフォーム!P115,\"\")","v":""},{"$f":"IF(申込みフォーム!Q115<>\"\",申込みフォーム!Q115,\"\")","v":""},{"$f":"IF(申込みフォーム!R115<>\"\",申込みフォーム!R115,\"\")","v":""},{"$f":"IF(申込みフォーム!S115<>\"\",申込みフォーム!S115,\"\")","v":""},{"$f":"IF(申込みフォーム!U115=\"細胞診のみ\",\"協会子宮　\",IF(申込みフォーム!U115=\"細胞診＋（自費）膣エコー\",\"協会子宮＋自費膣エコー　\",\"\"))&IF(申込みフォーム!W115<>\"\",\"協会ﾏﾝﾓ　\",\"\")&IF(申込みフォーム!Y115<>\"\",\"協会骨　\",\"\")&IF(申込みフォーム!AA115<>\"\",\"協会肝炎　\",\"\")","v":""},{"$f":"IF(申込みフォーム!AB115<>\"\",\"子宮　\",\"\")&IF(申込みフォーム!AC115<>\"\",\"ﾏﾝﾓ　\",\"\")&IF(申込みフォーム!AD115<>\"\",\"乳ｴｺｰ\",\"\")","v":""},{"$f":"IF(申込みフォーム!AE115<>\"\",\"ﾏｰｶｰ　\",\"\")&IF(申込みフォーム!AF115<>\"\",\"心機能　\",\"\")&IF(申込みフォーム!AG115<>\"\",\"ABC　\",\"\")&IF(申込みフォーム!AH115<>\"\",\"Lox　\",\"\")&IF(申込みフォーム!AI115<>\"\",\"甲状腺　\",\"\")&IF(申込みフォーム!AJ115<>\"\",\"肝炎\",\"\")","v":""},{"$f":"IF(申込みフォーム!AK115<>\"\",\"脳　\",\"\")&IF(申込みフォーム!AL115<>\"\",\"胸部CT　\",\"\")&IF(申込みフォーム!AM115<>\"\",\"肺機能　\",\"\")&IF(申込みフォーム!AN115<>\"\",\"腹ｴｺｰ　\",\"\")&IF(申込みフォーム!AO115<>\"\",\"心ｴｺｰ　\",\"\")&IF(申込みフォーム!AP115<>\"\",\"ﾌﾛｰﾗ　\",\"\")&IF(申込みフォーム!AQ115<>\"\",\"OCT　\",\"\")&IF(申込みフォーム!AR115<>\"\",\"検便　\",\"\")&IF(申込みフォーム!AS115<>\"\",\"骨　\",\"\")&IF(申込みフォーム!AT115<>\"\",\"骨＋ﾛｺﾓ\",\"\")","v":""},{"$f":"IF(申込みフォーム!AU115<>\"\",申込みフォーム!AU115&\"　　\",\"\")&IF(申込みフォーム!AV115<>\"\",申込みフォーム!AV115&\"　　\",\"\")&IF(申込みフォーム!AW115<>\"\",申込みフォーム!AW115&\"　　\",\"\")","v":""},{"$f":"IF(申込みフォーム!BJ115<>\"\",申込みフォーム!BJ115,\"\")","v":""},{"$f":"IF(申込みフォーム!BK115<>\"\",申込みフォーム!BK115,\"\")","v":""},{"$f":"IF(申込みフォーム!BL115<>\"\",申込みフォーム!BL115&\"　　\",\"\")&IF(申込みフォーム!BM115<>\"\",申込みフォーム!BM115&\"　　\",\"\")&IF(申込みフォーム!BN115<>\"\",申込みフォーム!BN115&\"　　\",\"\")","v":{"$error":"#VALUE!"}},{"$f":"申込みフォーム!$Z115","v":""}]
[106,null,null,null,null,{"$f":"IF(申込みフォーム!B116<>\"\",申込みフォーム!B116&\"　\"&申込みフォーム!C116,\"\")","v":""},{"$f":"IF(申込みフォーム!E116<>\"\",申込みフォーム!E116&\"　\"&申込みフォーム!F116,\"\")","v":""},{"$f":"IF(申込みフォーム!G116<>\"\",申込みフォーム!G116,\"\")","v":""},{"$f":"IF(申込みフォーム!H116<>\"\",申込みフォーム!H116,\"\")","v":""},{"$f":"IF(申込みフォーム!D116<>\"\",申込みフォーム!D116,\"\")","v":""},{"$f":"IF(申込みフォーム!I116<>\"\",REPLACE(申込みフォーム!I116,4,,\"-\"),\"\")","v":""},{"$f":"IF(申込みフォーム!J116<>\"\",申込みフォーム!J116,\"\")","v":""},{"$f":"IF(申込みフォーム!K116<>\"\",申込みフォーム!K116,\"\")","v":""},{"$f":"IF(申込みフォーム!L116<>\"\",MID(申込みフォーム!L116,1,3)&\"-\"&MID(申込みフォーム!L116,4,4)&\"-\"&MID(申込みフォーム!L116,8,4),\"\")","v":""},{"$f":"IF(申込みフォーム!M116<>\"\",申込みフォーム!M116,\"\")","v":""},{"$f":"IF(申込みフォーム!N116<>\"\",申込みフォーム!N116,\"\")","v":""},{"$f":"IF(申込みフォーム!O116<>\"\",申込みフォーム!O116,\"\")","v":""},{"$f":"IF(申込みフォーム!P116<>\"\",申込みフォーム!P116,\"\")","v":""},{"$f":"IF(申込みフォーム!Q116<>\"\",申込みフォーム!Q116,\"\")","v":""},{"$f":"IF(申込みフォーム!R116<>\"\",申込みフォーム!R116,\"\")","v":""},{"$f":"IF(申込みフォーム!S116<>\"\",申込みフォーム!S116,\"\")","v":""},{"$f":"IF(申込みフォーム!U116=\"細胞診のみ\",\"協会子宮　\",IF(申込みフォーム!U116=\"細胞診＋（自費）膣エコー\",\"協会子宮＋自費膣エコー　\",\"\"))&IF(申込みフォーム!W116<>\"\",\"協会ﾏﾝﾓ　\",\"\")&IF(申込みフォーム!Y116<>\"\",\"協会骨　\",\"\")&IF(申込みフォーム!AA116<>\"\",\"協会肝炎　\",\"\")","v":""},{"$f":"IF(申込みフォーム!AB116<>\"\",\"子宮　\",\"\")&IF(申込みフォーム!AC116<>\"\",\"ﾏﾝﾓ　\",\"\")&IF(申込みフォーム!AD116<>\"\",\"乳ｴｺｰ\",\"\")","v":""},{"$f":"IF(申込みフォーム!AE116<>\"\",\"ﾏｰｶｰ　\",\"\")&IF(申込みフォーム!AF116<>\"\",\"心機能　\",\"\")&IF(申込みフォーム!AG116<>\"\",\"ABC　\",\"\")&IF(申込みフォーム!AH116<>\"\",\"Lox　\",\"\")&IF(申込みフォーム!AI116<>\"\",\"甲状腺　\",\"\")&IF(申込みフォーム!AJ116<>\"\",\"肝炎\",\"\")","v":""},{"$f":"IF(申込みフォーム!AK116<>\"\",\"脳　\",\"\")&IF(申込みフォーム!AL116<>\"\",\"胸部CT　\",\"\")&IF(申込みフォーム!AM116<>\"\",\"肺機能　\",\"\")&IF(申込みフォーム!AN116<>\"\",\"腹ｴｺｰ　\",\"\")&IF(申込みフォーム!AO116<>\"\",\"心ｴｺｰ　\",\"\")&IF(申込みフォーム!AP116<>\"\",\"ﾌﾛｰﾗ　\",\"\")&IF(申込みフォーム!AQ116<>\"\",\"OCT　\",\"\")&IF(申込みフォーム!AR116<>\"\",\"検便　\",\"\")&IF(申込みフォーム!AS116<>\"\",\"骨　\",\"\")&IF(申込みフォーム!AT116<>\"\",\"骨＋ﾛｺﾓ\",\"\")","v":""},{"$f":"IF(申込みフォーム!AU116<>\"\",申込みフォーム!AU116&\"　　\",\"\")&IF(申込みフォーム!AV116<>\"\",申込みフォーム!AV116&\"　　\",\"\")&IF(申込みフォーム!AW116<>\"\",申込みフォーム!AW116&\"　　\",\"\")","v":""},{"$f":"IF(申込みフォーム!BJ116<>\"\",申込みフォーム!BJ116,\"\")","v":""},{"$f":"IF(申込みフォーム!BK116<>\"\",申込みフォーム!BK116,\"\")","v":""},{"$f":"IF(申込みフォーム!BL116<>\"\",申込みフォーム!BL116&\"　　\",\"\")&IF(申込みフォーム!BM116<>\"\",申込みフォーム!BM116&\"　　\",\"\")&IF(申込みフォーム!BN116<>\"\",申込みフォーム!BN116&\"　　\",\"\")","v":{"$error":"#VALUE!"}},{"$f":"申込みフォーム!$Z116","v":""}]
[107,null,null,null,null,{"$f":"IF(申込みフォーム!B117<>\"\",申込みフォーム!B117&\"　\"&申込みフォーム!C117,\"\")","v":""},{"$f":"IF(申込みフォーム!E117<>\"\",申込みフォーム!E117&\"　\"&申込みフォーム!F117,\"\")","v":""},{"$f":"IF(申込みフォーム!G117<>\"\",申込みフォーム!G117,\"\")","v":""},{"$f":"IF(申込みフォーム!H117<>\"\",申込みフォーム!H117,\"\")","v":""},{"$f":"IF(申込みフォーム!D117<>\"\",申込みフォーム!D117,\"\")","v":""},{"$f":"IF(申込みフォーム!I117<>\"\",REPLACE(申込みフォーム!I117,4,,\"-\"),\"\")","v":""},{"$f":"IF(申込みフォーム!J117<>\"\",申込みフォーム!J117,\"\")","v":""},{"$f":"IF(申込みフォーム!K117<>\"\",申込みフォーム!K117,\"\")","v":""},{"$f":"IF(申込みフォーム!L117<>\"\",MID(申込みフォーム!L117,1,3)&\"-\"&MID(申込みフォーム!L117,4,4)&\"-\"&MID(申込みフォーム!L117,8,4),\"\")","v":""},{"$f":"IF(申込みフォーム!M117<>\"\",申込みフォーム!M117,\"\")","v":""},{"$f":"IF(申込みフォーム!N117<>\"\",申込みフォーム!N117,\"\")","v":""},{"$f":"IF(申込みフォーム!O117<>\"\",申込みフォーム!O117,\"\")","v":""},{"$f":"IF(申込みフォーム!P117<>\"\",申込みフォーム!P117,\"\")","v":""},{"$f":"IF(申込みフォーム!Q117<>\"\",申込みフォーム!Q117,\"\")","v":""},{"$f":"IF(申込みフォーム!R117<>\"\",申込みフォーム!R117,\"\")","v":""},{"$f":"IF(申込みフォーム!S117<>\"\",申込みフォーム!S117,\"\")","v":""},{"$f":"IF(申込みフォーム!U117=\"細胞診のみ\",\"協会子宮　\",IF(申込みフォーム!U117=\"細胞診＋（自費）膣エコー\",\"協会子宮＋自費膣エコー　\",\"\"))&IF(申込みフォーム!W117<>\"\",\"協会ﾏﾝﾓ　\",\"\")&IF(申込みフォーム!Y117<>\"\",\"協会骨　\",\"\")&IF(申込みフォーム!AA117<>\"\",\"協会肝炎　\",\"\")","v":""},{"$f":"IF(申込みフォーム!AB117<>\"\",\"子宮　\",\"\")&IF(申込みフォーム!AC117<>\"\",\"ﾏﾝﾓ　\",\"\")&IF(申込みフォーム!AD117<>\"\",\"乳ｴｺｰ\",\"\")","v":""},{"$f":"IF(申込みフォーム!AE117<>\"\",\"ﾏｰｶｰ　\",\"\")&IF(申込みフォーム!AF117<>\"\",\"心機能　\",\"\")&IF(申込みフォーム!AG117<>\"\",\"ABC　\",\"\")&IF(申込みフォーム!AH117<>\"\",\"Lox　\",\"\")&IF(申込みフォーム!AI117<>\"\",\"甲状腺　\",\"\")&IF(申込みフォーム!AJ117<>\"\",\"肝炎\",\"\")","v":""},{"$f":"IF(申込みフォーム!AK117<>\"\",\"脳　\",\"\")&IF(申込みフォーム!AL117<>\"\",\"胸部CT　\",\"\")&IF(申込みフォーム!AM117<>\"\",\"肺機能　\",\"\")&IF(申込みフォーム!AN117<>\"\",\"腹ｴｺｰ　\",\"\")&IF(申込みフォーム!AO117<>\"\",\"心ｴｺｰ　\",\"\")&IF(申込みフォーム!AP117<>\"\",\"ﾌﾛｰﾗ　\",\"\")&IF(申込みフォーム!AQ117<>\"\",\"OCT　\",\"\")&IF(申込みフォーム!AR117<>\"\",\"検便　\",\"\")&IF(申込みフォーム!AS117<>\"\",\"骨　\",\"\")&IF(申込みフォーム!AT117<>\"\",\"骨＋ﾛｺﾓ\",\"\")","v":""},{"$f":"IF(申込みフォーム!AU117<>\"\",申込みフォーム!AU117&\"　　\",\"\")&IF(申込みフォーム!AV117<>\"\",申込みフォーム!AV117&\"　　\",\"\")&IF(申込みフォーム!AW117<>\"\",申込みフォーム!AW117&\"　　\",\"\")","v":""},{"$f":"IF(申込みフォーム!BJ117<>\"\",申込みフォーム!BJ117,\"\")","v":""},{"$f":"IF(申込みフォーム!BK117<>\"\",申込みフォーム!BK117,\"\")","v":""},{"$f":"IF(申込みフォーム!BL117<>\"\",申込みフォーム!BL117&\"　　\",\"\")&IF(申込みフォーム!BM117<>\"\",申込みフォーム!BM117&\"　　\",\"\")&IF(申込みフォーム!BN117<>\"\",申込みフォーム!BN117&\"　　\",\"\")","v":{"$error":"#VALUE!"}},{"$f":"申込みフォーム!$Z117","v":""}]
[108,null,null,null,null,{"$f":"IF(申込みフォーム!B118<>\"\",申込みフォーム!B118&\"　\"&申込みフォーム!C118,\"\")","v":""},{"$f":"IF(申込みフォーム!E118<>\"\",申込みフォーム!E118&\"　\"&申込みフォーム!F118,\"\")","v":""},{"$f":"IF(申込みフォーム!G118<>\"\",申込みフォーム!G118,\"\")","v":""},{"$f":"IF(申込みフォーム!H118<>\"\",申込みフォーム!H118,\"\")","v":""},{"$f":"IF(申込みフォーム!D118<>\"\",申込みフォーム!D118,\"\")","v":""},{"$f":"IF(申込みフォーム!I118<>\"\",REPLACE(申込みフォーム!I118,4,,\"-\"),\"\")","v":""},{"$f":"IF(申込みフォーム!J118<>\"\",申込みフォーム!J118,\"\")","v":""},{"$f":"IF(申込みフォーム!K118<>\"\",申込みフォーム!K118,\"\")","v":""},{"$f":"IF(申込みフォーム!L118<>\"\",MID(申込みフォーム!L118,1,3)&\"-\"&MID(申込みフォーム!L118,4,4)&\"-\"&MID(申込みフォーム!L118,8,4),\"\")","v":""},{"$f":"IF(申込みフォーム!M118<>\"\",申込みフォーム!M118,\"\")","v":""},{"$f":"IF(申込みフォーム!N118<>\"\",申込みフォーム!N118,\"\")","v":""},{"$f":"IF(申込みフォーム!O118<>\"\",申込みフォーム!O118,\"\")","v":""},{"$f":"IF(申込みフォーム!P118<>\"\",申込みフォーム!P118,\"\")","v":""},{"$f":"IF(申込みフォーム!Q118<>\"\",申込みフォーム!Q118,\"\")","v":""},{"$f":"IF(申込みフォーム!R118<>\"\",申込みフォーム!R118,\"\")","v":""},{"$f":"IF(申込みフォーム!S118<>\"\",申込みフォーム!S118,\"\")","v":""},{"$f":"IF(申込みフォーム!U118=\"細胞診のみ\",\"協会子宮　\",IF(申込みフォーム!U118=\"細胞診＋（自費）膣エコー\",\"協会子宮＋自費膣エコー　\",\"\"))&IF(申込みフォーム!W118<>\"\",\"協会ﾏﾝﾓ　\",\"\")&IF(申込みフォーム!Y118<>\"\",\"協会骨　\",\"\")&IF(申込みフォーム!AA118<>\"\",\"協会肝炎　\",\"\")","v":""},{"$f":"IF(申込みフォーム!AB118<>\"\",\"子宮　\",\"\")&IF(申込みフォーム!AC118<>\"\",\"ﾏﾝﾓ　\",\"\")&IF(申込みフォーム!AD118<>\"\",\"乳ｴｺｰ\",\"\")","v":""},{"$f":"IF(申込みフォーム!AE118<>\"\",\"ﾏｰｶｰ　\",\"\")&IF(申込みフォーム!AF118<>\"\",\"心機能　\",\"\")&IF(申込みフォーム!AG118<>\"\",\"ABC　\",\"\")&IF(申込みフォーム!AH118<>\"\",\"Lox　\",\"\")&IF(申込みフォーム!AI118<>\"\",\"甲状腺　\",\"\")&IF(申込みフォーム!AJ118<>\"\",\"肝炎\",\"\")","v":""},{"$f":"IF(申込みフォーム!AK118<>\"\",\"脳　\",\"\")&IF(申込みフォーム!AL118<>\"\",\"胸部CT　\",\"\")&IF(申込みフォーム!AM118<>\"\",\"肺機能　\",\"\")&IF(申込みフォーム!AN118<>\"\",\"腹ｴｺｰ　\",\"\")&IF(申込みフォーム!AO118<>\"\",\"心ｴｺｰ　\",\"\")&IF(申込みフォーム!AP118<>\"\",\"ﾌﾛｰﾗ　\",\"\")&IF(申込みフォーム!AQ118<>\"\",\"OCT　\",\"\")&IF(申込みフォーム!AR118<>\"\",\"検便　\",\"\")&IF(申込みフォーム!AS118<>\"\",\"骨　\",\"\")&IF(申込みフォーム!AT118<>\"\",\"骨＋ﾛｺﾓ\",\"\")","v":""},{"$f":"IF(申込みフォーム!AU118<>\"\",申込みフォーム!AU118&\"　　\",\"\")&IF(申込みフォーム!AV118<>\"\",申込みフォーム!AV118&\"　　\",\"\")&IF(申込みフォーム!AW118<>\"\",申込みフォーム!AW118&\"　　\",\"\")","v":""},{"$f":"IF(申込みフォーム!BJ118<>\"\",申込みフォーム!BJ118,\"\")","v":""},{"$f":"IF(申込みフォーム!BK118<>\"\",申込みフォーム!BK118,\"\")","v":""},{"$f":"IF(申込みフォーム!BL118<>\"\",申込みフォーム!BL118&\"　　\",\"\")&IF(申込みフォーム!BM118<>\"\",申込みフォーム!BM118&\"　　\",\"\")&IF(申込みフォーム!BN118<>\"\",申込みフォーム!BN118&\"　　\",\"\")","v":{"$error":"#VALUE!"}},{"$f":"申込みフォーム!$Z118","v":""}]
[109,null,null,null,null,{"$f":"IF(申込みフォーム!B119<>\"\",申込みフォーム!B119&\"　\"&申込みフォーム!C119,\"\")","v":""},{"$f":"IF(申込みフォーム!E119<>\"\",申込みフォーム!E119&\"　\"&申込みフォーム!F119,\"\")","v":""},{"$f":"IF(申込みフォーム!G119<>\"\",申込みフォーム!G119,\"\")","v":""},{"$f":"IF(申込みフォーム!H119<>\"\",申込みフォーム!H119,\"\")","v":""},{"$f":"IF(申込みフォーム!D119<>\"\",申込みフォーム!D119,\"\")","v":""},{"$f":"IF(申込みフォーム!I119<>\"\",REPLACE(申込みフォーム!I119,4,,\"-\"),\"\")","v":""},{"$f":"IF(申込みフォーム!J119<>\"\",申込みフォーム!J119,\"\")","v":""},{"$f":"IF(申込みフォーム!K119<>\"\",申込みフォーム!K119,\"\")","v":""},{"$f":"IF(申込みフォーム!L119<>\"\",MID(申込みフォーム!L119,1,3)&\"-\"&MID(申込みフォーム!L119,4,4)&\"-\"&MID(申込みフォーム!L119,8,4),\"\")","v":""},{"$f":"IF(申込みフォーム!M119<>\"\",申込みフォーム!M119,\"\")","v":""},{"$f":"IF(申込みフォーム!N119<>\"\",申込みフォーム!N119,\"\")","v":""},{"$f":"IF(申込みフォーム!O119<>\"\",申込みフォーム!O119,\"\")","v":""},{"$f":"IF(申込みフォーム!P119<>\"\",申込みフォーム!P119,\"\")","v":""},{"$f":"IF(申込みフォーム!Q119<>\"\",申込みフォーム!Q119,\"\")","v":""},{"$f":"IF(申込みフォーム!R119<>\"\",申込みフォーム!R119,\"\")","v":""},{"$f":"IF(申込みフォーム!S119<>\"\",申込みフォーム!S119,\"\")","v":""},{"$f":"IF(申込みフォーム!U119=\"細胞診のみ\",\"協会子宮　\",IF(申込みフォーム!U119=\"細胞診＋（自費）膣エコー\",\"協会子宮＋自費膣エコー　\",\"\"))&IF(申込みフォーム!W119<>\"\",\"協会ﾏﾝﾓ　\",\"\")&IF(申込みフォーム!Y119<>\"\",\"協会骨　\",\"\")&IF(申込みフォーム!AA119<>\"\",\"協会肝炎　\",\"\")","v":""},{"$f":"IF(申込みフォーム!AB119<>\"\",\"子宮　\",\"\")&IF(申込みフォーム!AC119<>\"\",\"ﾏﾝﾓ　\",\"\")&IF(申込みフォーム!AD119<>\"\",\"乳ｴｺｰ\",\"\")","v":""},{"$f":"IF(申込みフォーム!AE119<>\"\",\"ﾏｰｶｰ　\",\"\")&IF(申込みフォーム!AF119<>\"\",\"心機能　\",\"\")&IF(申込みフォーム!AG119<>\"\",\"ABC　\",\"\")&IF(申込みフォーム!AH119<>\"\",\"Lox　\",\"\")&IF(申込みフォーム!AI119<>\"\",\"甲状腺　\",\"\")&IF(申込みフォーム!AJ119<>\"\",\"肝炎\",\"\")","v":""},{"$f":"IF(申込みフォーム!AK119<>\"\",\"脳　\",\"\")&IF(申込みフォーム!AL119<>\"\",\"胸部CT　\",\"\")&IF(申込みフォーム!AM119<>\"\",\"肺機能　\",\"\")&IF(申込みフォーム!AN119<>\"\",\"腹ｴｺｰ　\",\"\")&IF(申込みフォーム!AO119<>\"\",\"心ｴｺｰ　\",\"\")&IF(申込みフォーム!AP119<>\"\",\"ﾌﾛｰﾗ　\",\"\")&IF(申込みフォーム!AQ119<>\"\",\"OCT　\",\"\")&IF(申込みフォーム!AR119<>\"\",\"検便　\",\"\")&IF(申込みフォーム!AS119<>\"\",\"骨　\",\"\")&IF(申込みフォーム!AT119<>\"\",\"骨＋ﾛｺﾓ\",\"\")","v":""},{"$f":"IF(申込みフォーム!AU119<>\"\",申込みフォーム!AU119&\"　　\",\"\")&IF(申込みフォーム!AV119<>\"\",申込みフォーム!AV119&\"　　\",\"\")&IF(申込みフォーム!AW119<>\"\",申込みフォーム!AW119&\"　　\",\"\")","v":""},{"$f":"IF(申込みフォーム!BJ119<>\"\",申込みフォーム!BJ119,\"\")","v":""},{"$f":"IF(申込みフォーム!BK119<>\"\",申込みフォーム!BK119,\"\")","v":""},{"$f":"IF(申込みフォーム!BL119<>\"\",申込みフォーム!BL119&\"　　\",\"\")&IF(申込みフォーム!BM119<>\"\",申込みフォーム!BM119&\"　　\",\"\")&IF(申込みフォーム!BN119<>\"\",申込みフォーム!BN119&\"　　\",\"\")","v":{"$error":"#VALUE!"}},{"$f":"申込みフォーム!$Z119","v":""}]
[110,null,null,null,null,{"$f":"IF(申込みフォーム!B120<>\"\",申込みフォーム!B120&\"　\"&申込みフォーム!C120,\"\")","v":""},{"$f":"IF(申込みフォーム!E120<>\"\",申込みフォーム!E120&\"　\"&申込みフォーム!F120,\"\")","v":""},{"$f":"IF(申込みフォーム!G120<>\"\",申込みフォーム!G120,\"\")","v":""},{"$f":"IF(申込みフォーム!H120<>\"\",申込みフォーム!H120,\"\")","v":""},{"$f":"IF(申込みフォーム!D120<>\"\",申込みフォーム!D120,\"\")","v":""},{"$f":"IF(申込みフォーム!I120<>\"\",REPLACE(申込みフォーム!I120,4,,\"-\"),\"\")","v":""},{"$f":"IF(申込みフォーム!J120<>\"\",申込みフォーム!J120,\"\")","v":""},{"$f":"IF(申込みフォーム!K120<>\"\",申込みフォーム!K120,\"\")","v":""},{"$f":"IF(申込みフォーム!L120<>\"\",MID(申込みフォーム!L120,1,3)&\"-\"&MID(申込みフォーム!L120,4,4)&\"-\"&MID(申込みフォーム!L120,8,4),\"\")","v":""},{"$f":"IF(申込みフォーム!M120<>\"\",申込みフォーム!M120,\"\")","v":""},{"$f":"IF(申込みフォーム!N120<>\"\",申込みフォーム!N120,\"\")","v":""},{"$f":"IF(申込みフォーム!O120<>\"\",申込みフォーム!O120,\"\")","v":""},{"$f":"IF(申込みフォーム!P120<>\"\",申込みフォーム!P120,\"\")","v":""},{"$f":"IF(申込みフォーム!Q120<>\"\",申込みフォーム!Q120,\"\")","v":""},{"$f":"IF(申込みフォーム!R120<>\"\",申込みフォーム!R120,\"\")","v":""},{"$f":"IF(申込みフォーム!S120<>\"\",申込みフォーム!S120,\"\")","v":""},{"$f":"IF(申込みフォーム!U120=\"細胞診のみ\",\"協会子宮　\",IF(申込みフォーム!U120=\"細胞診＋（自費）膣エコー\",\"協会子宮＋自費膣エコー　\",\"\"))&IF(申込みフォーム!W120<>\"\",\"協会ﾏﾝﾓ　\",\"\")&IF(申込みフォーム!Y120<>\"\",\"協会骨　\",\"\")&IF(申込みフォーム!AA120<>\"\",\"協会肝炎　\",\"\")","v":""},{"$f":"IF(申込みフォーム!AB120<>\"\",\"子宮　\",\"\")&IF(申込みフォーム!AC120<>\"\",\"ﾏﾝﾓ　\",\"\")&IF(申込みフォーム!AD120<>\"\",\"乳ｴｺｰ\",\"\")","v":""},{"$f":"IF(申込みフォーム!AE120<>\"\",\"ﾏｰｶｰ　\",\"\")&IF(申込みフォーム!AF120<>\"\",\"心機能　\",\"\")&IF(申込みフォーム!AG120<>\"\",\"ABC　\",\"\")&IF(申込みフォーム!AH120<>\"\",\"Lox　\",\"\")&IF(申込みフォーム!AI120<>\"\",\"甲状腺　\",\"\")&IF(申込みフォーム!AJ120<>\"\",\"肝炎\",\"\")","v":""},{"$f":"IF(申込みフォーム!AK120<>\"\",\"脳　\",\"\")&IF(申込みフォーム!AL120<>\"\",\"胸部CT　\",\"\")&IF(申込みフォーム!AM120<>\"\",\"肺機能　\",\"\")&IF(申込みフォーム!AN120<>\"\",\"腹ｴｺｰ　\",\"\")&IF(申込みフォーム!AO120<>\"\",\"心ｴｺｰ　\",\"\")&IF(申込みフォーム!AP120<>\"\",\"ﾌﾛｰﾗ　\",\"\")&IF(申込みフォーム!AQ120<>\"\",\"OCT　\",\"\")&IF(申込みフォーム!AR120<>\"\",\"検便　\",\"\")&IF(申込みフォーム!AS120<>\"\",\"骨　\",\"\")&IF(申込みフォーム!AT120<>\"\",\"骨＋ﾛｺﾓ\",\"\")","v":""},{"$f":"IF(申込みフォーム!AU120<>\"\",申込みフォーム!AU120&\"　　\",\"\")&IF(申込みフォーム!AV120<>\"\",申込みフォーム!AV120&\"　　\",\"\")&IF(申込みフォーム!AW120<>\"\",申込みフォーム!AW120&\"　　\",\"\")","v":""},{"$f":"IF(申込みフォーム!BJ120<>\"\",申込みフォーム!BJ120,\"\")","v":""},{"$f":"IF(申込みフォーム!BK120<>\"\",申込みフォーム!BK120,\"\")","v":""},{"$f":"IF(申込みフォーム!BL120<>\"\",申込みフォーム!BL120&\"　　\",\"\")&IF(申込みフォーム!BM120<>\"\",申込みフォーム!BM120&\"　　\",\"\")&IF(申込みフォーム!BN120<>\"\",申込みフォーム!BN120&\"　　\",\"\")","v":{"$error":"#VALUE!"}},{"$f":"申込みフォーム!$Z120","v":""}]
[111,null,null,null,null,{"$f":"IF(申込みフォーム!B121<>\"\",申込みフォーム!B121&\"　\"&申込みフォーム!C121,\"\")","v":""},{"$f":"IF(申込みフォーム!E121<>\"\",申込みフォーム!E121&\"　\"&申込みフォーム!F121,\"\")","v":""},{"$f":"IF(申込みフォーム!G121<>\"\",申込みフォーム!G121,\"\")","v":""},{"$f":"IF(申込みフォーム!H121<>\"\",申込みフォーム!H121,\"\")","v":""},{"$f":"IF(申込みフォーム!D121<>\"\",申込みフォーム!D121,\"\")","v":""},{"$f":"IF(申込みフォーム!I121<>\"\",REPLACE(申込みフォーム!I121,4,,\"-\"),\"\")","v":""},{"$f":"IF(申込みフォーム!J121<>\"\",申込みフォーム!J121,\"\")","v":""},{"$f":"IF(申込みフォーム!K121<>\"\",申込みフォーム!K121,\"\")","v":""},{"$f":"IF(申込みフォーム!L121<>\"\",MID(申込みフォーム!L121,1,3)&\"-\"&MID(申込みフォーム!L121,4,4)&\"-\"&MID(申込みフォーム!L121,8,4),\"\")","v":""},{"$f":"IF(申込みフォーム!M121<>\"\",申込みフォーム!M121,\"\")","v":""},{"$f":"IF(申込みフォーム!N121<>\"\",申込みフォーム!N121,\"\")","v":""},{"$f":"IF(申込みフォーム!O121<>\"\",申込みフォーム!O121,\"\")","v":""},{"$f":"IF(申込みフォーム!P121<>\"\",申込みフォーム!P121,\"\")","v":""},{"$f":"IF(申込みフォーム!Q121<>\"\",申込みフォーム!Q121,\"\")","v":""},{"$f":"IF(申込みフォーム!R121<>\"\",申込みフォーム!R121,\"\")","v":""},{"$f":"IF(申込みフォーム!S121<>\"\",申込みフォーム!S121,\"\")","v":""},{"$f":"IF(申込みフォーム!U121=\"細胞診のみ\",\"協会子宮　\",IF(申込みフォーム!U121=\"細胞診＋（自費）膣エコー\",\"協会子宮＋自費膣エコー　\",\"\"))&IF(申込みフォーム!W121<>\"\",\"協会ﾏﾝﾓ　\",\"\")&IF(申込みフォーム!Y121<>\"\",\"協会骨　\",\"\")&IF(申込みフォーム!AA121<>\"\",\"協会肝炎　\",\"\")","v":""},{"$f":"IF(申込みフォーム!AB121<>\"\",\"子宮　\",\"\")&IF(申込みフォーム!AC121<>\"\",\"ﾏﾝﾓ　\",\"\")&IF(申込みフォーム!AD121<>\"\",\"乳ｴｺｰ\",\"\")","v":""},{"$f":"IF(申込みフォーム!AE121<>\"\",\"ﾏｰｶｰ　\",\"\")&IF(申込みフォーム!AF121<>\"\",\"心機能　\",\"\")&IF(申込みフォーム!AG121<>\"\",\"ABC　\",\"\")&IF(申込みフォーム!AH121<>\"\",\"Lox　\",\"\")&IF(申込みフォーム!AI121<>\"\",\"甲状腺　\",\"\")&IF(申込みフォーム!AJ121<>\"\",\"肝炎\",\"\")","v":""},{"$f":"IF(申込みフォーム!AK121<>\"\",\"脳　\",\"\")&IF(申込みフォーム!AL121<>\"\",\"胸部CT　\",\"\")&IF(申込みフォーム!AM121<>\"\",\"肺機能　\",\"\")&IF(申込みフォーム!AN121<>\"\",\"腹ｴｺｰ　\",\"\")&IF(申込みフォーム!AO121<>\"\",\"心ｴｺｰ　\",\"\")&IF(申込みフォーム!AP121<>\"\",\"ﾌﾛｰﾗ　\",\"\")&IF(申込みフォーム!AQ121<>\"\",\"OCT　\",\"\")&IF(申込みフォーム!AR121<>\"\",\"検便　\",\"\")&IF(申込みフォーム!AS121<>\"\",\"骨　\",\"\")&IF(申込みフォーム!AT121<>\"\",\"骨＋ﾛｺﾓ\",\"\")","v":""},{"$f":"IF(申込みフォーム!AU121<>\"\",申込みフォーム!AU121&\"　　\",\"\")&IF(申込みフォーム!AV121<>\"\",申込みフォーム!AV121&\"　　\",\"\")&IF(申込みフォーム!AW121<>\"\",申込みフォーム!AW121&\"　　\",\"\")","v":""},{"$f":"IF(申込みフォーム!BJ121<>\"\",申込みフォーム!BJ121,\"\")","v":""},{"$f":"IF(申込みフォーム!BK121<>\"\",申込みフォーム!BK121,\"\")","v":""},{"$f":"IF(申込みフォーム!BL121<>\"\",申込みフォーム!BL121&\"　　\",\"\")&IF(申込みフォーム!BM121<>\"\",申込みフォーム!BM121&\"　　\",\"\")&IF(申込みフォーム!BN121<>\"\",申込みフォーム!BN121&\"　　\",\"\")","v":{"$error":"#VALUE!"}},{"$f":"申込みフォーム!$Z121","v":""}]
[112,null,null,null,null,{"$f":"IF(申込みフォーム!B122<>\"\",申込みフォーム!B122&\"　\"&申込みフォーム!C122,\"\")","v":""},{"$f":"IF(申込みフォーム!E122<>\"\",申込みフォーム!E122&\"　\"&申込みフォーム!F122,\"\")","v":""},{"$f":"IF(申込みフォーム!G122<>\"\",申込みフォーム!G122,\"\")","v":""},{"$f":"IF(申込みフォーム!H122<>\"\",申込みフォーム!H122,\"\")","v":""},{"$f":"IF(申込みフォーム!D122<>\"\",申込みフォーム!D122,\"\")","v":""},{"$f":"IF(申込みフォーム!I122<>\"\",REPLACE(申込みフォーム!I122,4,,\"-\"),\"\")","v":""},{"$f":"IF(申込みフォーム!J122<>\"\",申込みフォーム!J122,\"\")","v":""},{"$f":"IF(申込みフォーム!K122<>\"\",申込みフォーム!K122,\"\")","v":""},{"$f":"IF(申込みフォーム!L122<>\"\",MID(申込みフォーム!L122,1,3)&\"-\"&MID(申込みフォーム!L122,4,4)&\"-\"&MID(申込みフォーム!L122,8,4),\"\")","v":""},{"$f":"IF(申込みフォーム!M122<>\"\",申込みフォーム!M122,\"\")","v":""},{"$f":"IF(申込みフォーム!N122<>\"\",申込みフォーム!N122,\"\")","v":""},{"$f":"IF(申込みフォーム!O122<>\"\",申込みフォーム!O122,\"\")","v":""},{"$f":"IF(申込みフォーム!P122<>\"\",申込みフォーム!P122,\"\")","v":""},{"$f":"IF(申込みフォーム!Q122<>\"\",申込みフォーム!Q122,\"\")","v":""},{"$f":"IF(申込みフォーム!R122<>\"\",申込みフォーム!R122,\"\")","v":""},{"$f":"IF(申込みフォーム!S122<>\"\",申込みフォーム!S122,\"\")","v":""},{"$f":"IF(申込みフォーム!U122=\"細胞診のみ\",\"協会子宮　\",IF(申込みフォーム!U122=\"細胞診＋（自費）膣エコー\",\"協会子宮＋自費膣エコー　\",\"\"))&IF(申込みフォーム!W122<>\"\",\"協会ﾏﾝﾓ　\",\"\")&IF(申込みフォーム!Y122<>\"\",\"協会骨　\",\"\")&IF(申込みフォーム!AA122<>\"\",\"協会肝炎　\",\"\")","v":""},{"$f":"IF(申込みフォーム!AB122<>\"\",\"子宮　\",\"\")&IF(申込みフォーム!AC122<>\"\",\"ﾏﾝﾓ　\",\"\")&IF(申込みフォーム!AD122<>\"\",\"乳ｴｺｰ\",\"\")","v":""},{"$f":"IF(申込みフォーム!AE122<>\"\",\"ﾏｰｶｰ　\",\"\")&IF(申込みフォーム!AF122<>\"\",\"心機能　\",\"\")&IF(申込みフォーム!AG122<>\"\",\"ABC　\",\"\")&IF(申込みフォーム!AH122<>\"\",\"Lox　\",\"\")&IF(申込みフォーム!AI122<>\"\",\"甲状腺　\",\"\")&IF(申込みフォーム!AJ122<>\"\",\"肝炎\",\"\")","v":""},{"$f":"IF(申込みフォーム!AK122<>\"\",\"脳　\",\"\")&IF(申込みフォーム!AL122<>\"\",\"胸部CT　\",\"\")&IF(申込みフォーム!AM122<>\"\",\"肺機能　\",\"\")&IF(申込みフォーム!AN122<>\"\",\"腹ｴｺｰ　\",\"\")&IF(申込みフォーム!AO122<>\"\",\"心ｴｺｰ　\",\"\")&IF(申込みフォーム!AP122<>\"\",\"ﾌﾛｰﾗ　\",\"\")&IF(申込みフォーム!AQ122<>\"\",\"OCT　\",\"\")&IF(申込みフォーム!AR122<>\"\",\"検便　\",\"\")&IF(申込みフォーム!AS122<>\"\",\"骨　\",\"\")&IF(申込みフォーム!AT122<>\"\",\"骨＋ﾛｺﾓ\",\"\")","v":""},{"$f":"IF(申込みフォーム!AU122<>\"\",申込みフォーム!AU122&\"　　\",\"\")&IF(申込みフォーム!AV122<>\"\",申込みフォーム!AV122&\"　　\",\"\")&IF(申込みフォーム!AW122<>\"\",申込みフォーム!AW122&\"　　\",\"\")","v":""},{"$f":"IF(申込みフォーム!BJ122<>\"\",申込みフォーム!BJ122,\"\")","v":""},{"$f":"IF(申込みフォーム!BK122<>\"\",申込みフォーム!BK122,\"\")","v":""},{"$f":"IF(申込みフォーム!BL122<>\"\",申込みフォーム!BL122&\"　　\",\"\")&IF(申込みフォーム!BM122<>\"\",申込みフォーム!BM122&\"　　\",\"\")&IF(申込みフォーム!BN122<>\"\",申込みフォーム!BN122&\"　　\",\"\")","v":{"$error":"#VALUE!"}},{"$f":"申込みフォーム!$Z122","v":""}]
[113,null,null,null,null,{"$f":"IF(申込みフォーム!B123<>\"\",申込みフォーム!B123&\"　\"&申込みフォーム!C123,\"\")","v":""},{"$f":"IF(申込みフォーム!E123<>\"\",申込みフォーム!E123&\"　\"&申込みフォーム!F123,\"\")","v":""},{"$f":"IF(申込みフォーム!G123<>\"\",申込みフォーム!G123,\"\")","v":""},{"$f":"IF(申込みフォーム!H123<>\"\",申込みフォーム!H123,\"\")","v":""},{"$f":"IF(申込みフォーム!D123<>\"\",申込みフォーム!D123,\"\")","v":""},{"$f":"IF(申込みフォーム!I123<>\"\",REPLACE(申込みフォーム!I123,4,,\"-\"),\"\")","v":""},{"$f":"IF(申込みフォーム!J123<>\"\",申込みフォーム!J123,\"\")","v":""},{"$f":"IF(申込みフォーム!K123<>\"\",申込みフォーム!K123,\"\")","v":""},{"$f":"IF(申込みフォーム!L123<>\"\",MID(申込みフォーム!L123,1,3)&\"-\"&MID(申込みフォーム!L123,4,4)&\"-\"&MID(申込みフォーム!L123,8,4),\"\")","v":""},{"$f":"IF(申込みフォーム!M123<>\"\",申込みフォーム!M123,\"\")","v":""},{"$f":"IF(申込みフォーム!N123<>\"\",申込みフォーム!N123,\"\")","v":""},{"$f":"IF(申込みフォーム!O123<>\"\",申込みフォーム!O123,\"\")","v":""},{"$f":"IF(申込みフォーム!P123<>\"\",申込みフォーム!P123,\"\")","v":""},{"$f":"IF(申込みフォーム!Q123<>\"\",申込みフォーム!Q123,\"\")","v":""},{"$f":"IF(申込みフォーム!R123<>\"\",申込みフォーム!R123,\"\")","v":""},{"$f":"IF(申込みフォーム!S123<>\"\",申込みフォーム!S123,\"\")","v":""},{"$f":"IF(申込みフォーム!U123=\"細胞診のみ\",\"協会子宮　\",IF(申込みフォーム!U123=\"細胞診＋（自費）膣エコー\",\"協会子宮＋自費膣エコー　\",\"\"))&IF(申込みフォーム!W123<>\"\",\"協会ﾏﾝﾓ　\",\"\")&IF(申込みフォーム!Y123<>\"\",\"協会骨　\",\"\")&IF(申込みフォーム!AA123<>\"\",\"協会肝炎　\",\"\")","v":""},{"$f":"IF(申込みフォーム!AB123<>\"\",\"子宮　\",\"\")&IF(申込みフォーム!AC123<>\"\",\"ﾏﾝﾓ　\",\"\")&IF(申込みフォーム!AD123<>\"\",\"乳ｴｺｰ\",\"\")","v":""},{"$f":"IF(申込みフォーム!AE123<>\"\",\"ﾏｰｶｰ　\",\"\")&IF(申込みフォーム!AF123<>\"\",\"心機能　\",\"\")&IF(申込みフォーム!AG123<>\"\",\"ABC　\",\"\")&IF(申込みフォーム!AH123<>\"\",\"Lox　\",\"\")&IF(申込みフォーム!AI123<>\"\",\"甲状腺　\",\"\")&IF(申込みフォーム!AJ123<>\"\",\"肝炎\",\"\")","v":""},{"$f":"IF(申込みフォーム!AK123<>\"\",\"脳　\",\"\")&IF(申込みフォーム!AL123<>\"\",\"胸部CT　\",\"\")&IF(申込みフォーム!AM123<>\"\",\"肺機能　\",\"\")&IF(申込みフォーム!AN123<>\"\",\"腹ｴｺｰ　\",\"\")&IF(申込みフォーム!AO123<>\"\",\"心ｴｺｰ　\",\"\")&IF(申込みフォーム!AP123<>\"\",\"ﾌﾛｰﾗ　\",\"\")&IF(申込みフォーム!AQ123<>\"\",\"OCT　\",\"\")&IF(申込みフォーム!AR123<>\"\",\"検便　\",\"\")&IF(申込みフォーム!AS123<>\"\",\"骨　\",\"\")&IF(申込みフォーム!AT123<>\"\",\"骨＋ﾛｺﾓ\",\"\")","v":""},{"$f":"IF(申込みフォーム!AU123<>\"\",申込みフォーム!AU123&\"　　\",\"\")&IF(申込みフォーム!AV123<>\"\",申込みフォーム!AV123&\"　　\",\"\")&IF(申込みフォーム!AW123<>\"\",申込みフォーム!AW123&\"　　\",\"\")","v":""},{"$f":"IF(申込みフォーム!BJ123<>\"\",申込みフォーム!BJ123,\"\")","v":""},{"$f":"IF(申込みフォーム!BK123<>\"\",申込みフォーム!BK123,\"\")","v":""},{"$f":"IF(申込みフォーム!BL123<>\"\",申込みフォーム!BL123&\"　　\",\"\")&IF(申込みフォーム!BM123<>\"\",申込みフォーム!BM123&\"　　\",\"\")&IF(申込みフォーム!BN123<>\"\",申込みフォーム!BN123&\"　　\",\"\")","v":{"$error":"#VALUE!"}},{"$f":"申込みフォーム!$Z123","v":""}]
[114,null,null,null,null,{"$f":"IF(申込みフォーム!B124<>\"\",申込みフォーム!B124&\"　\"&申込みフォーム!C124,\"\")","v":""},{"$f":"IF(申込みフォーム!E124<>\"\",申込みフォーム!E124&\"　\"&申込みフォーム!F124,\"\")","v":""},{"$f":"IF(申込みフォーム!G124<>\"\",申込みフォーム!G124,\"\")","v":""},{"$f":"IF(申込みフォーム!H124<>\"\",申込みフォーム!H124,\"\")","v":""},{"$f":"IF(申込みフォーム!D124<>\"\",申込みフォーム!D124,\"\")","v":""},{"$f":"IF(申込みフォーム!I124<>\"\",REPLACE(申込みフォーム!I124,4,,\"-\"),\"\")","v":""},{"$f":"IF(申込みフォーム!J124<>\"\",申込みフォーム!J124,\"\")","v":""},{"$f":"IF(申込みフォーム!K124<>\"\",申込みフォーム!K124,\"\")","v":""},{"$f":"IF(申込みフォーム!L124<>\"\",MID(申込みフォーム!L124,1,3)&\"-\"&MID(申込みフォーム!L124,4,4)&\"-\"&MID(申込みフォーム!L124,8,4),\"\")","v":""},{"$f":"IF(申込みフォーム!M124<>\"\",申込みフォーム!M124,\"\")","v":""},{"$f":"IF(申込みフォーム!N124<>\"\",申込みフォーム!N124,\"\")","v":""},{"$f":"IF(申込みフォーム!O124<>\"\",申込みフォーム!O124,\"\")","v":""},{"$f":"IF(申込みフォーム!P124<>\"\",申込みフォーム!P124,\"\")","v":""},{"$f":"IF(申込みフォーム!Q124<>\"\",申込みフォーム!Q124,\"\")","v":""},{"$f":"IF(申込みフォーム!R124<>\"\",申込みフォーム!R124,\"\")","v":""},{"$f":"IF(申込みフォーム!S124<>\"\",申込みフォーム!S124,\"\")","v":""},{"$f":"IF(申込みフォーム!U124=\"細胞診のみ\",\"協会子宮　\",IF(申込みフォーム!U124=\"細胞診＋（自費）膣エコー\",\"協会子宮＋自費膣エコー　\",\"\"))&IF(申込みフォーム!W124<>\"\",\"協会ﾏﾝﾓ　\",\"\")&IF(申込みフォーム!Y124<>\"\",\"協会骨　\",\"\")&IF(申込みフォーム!AA124<>\"\",\"協会肝炎　\",\"\")","v":""},{"$f":"IF(申込みフォーム!AB124<>\"\",\"子宮　\",\"\")&IF(申込みフォーム!AC124<>\"\",\"ﾏﾝﾓ　\",\"\")&IF(申込みフォーム!AD124<>\"\",\"乳ｴｺｰ\",\"\")","v":""},{"$f":"IF(申込みフォーム!AE124<>\"\",\"ﾏｰｶｰ　\",\"\")&IF(申込みフォーム!AF124<>\"\",\"心機能　\",\"\")&IF(申込みフォーム!AG124<>\"\",\"ABC　\",\"\")&IF(申込みフォーム!AH124<>\"\",\"Lox　\",\"\")&IF(申込みフォーム!AI124<>\"\",\"甲状腺　\",\"\")&IF(申込みフォーム!AJ124<>\"\",\"肝炎\",\"\")","v":""},{"$f":"IF(申込みフォーム!AK124<>\"\",\"脳　\",\"\")&IF(申込みフォーム!AL124<>\"\",\"胸部CT　\",\"\")&IF(申込みフォーム!AM124<>\"\",\"肺機能　\",\"\")&IF(申込みフォーム!AN124<>\"\",\"腹ｴｺｰ　\",\"\")&IF(申込みフォーム!AO124<>\"\",\"心ｴｺｰ　\",\"\")&IF(申込みフォーム!AP124<>\"\",\"ﾌﾛｰﾗ　\",\"\")&IF(申込みフォーム!AQ124<>\"\",\"OCT　\",\"\")&IF(申込みフォーム!AR124<>\"\",\"検便　\",\"\")&IF(申込みフォーム!AS124<>\"\",\"骨　\",\"\")&IF(申込みフォーム!AT124<>\"\",\"骨＋ﾛｺﾓ\",\"\")","v":""},{"$f":"IF(申込みフォーム!AU124<>\"\",申込みフォーム!AU124&\"　　\",\"\")&IF(申込みフォーム!AV124<>\"\",申込みフォーム!AV124&\"　　\",\"\")&IF(申込みフォーム!AW124<>\"\",申込みフォーム!AW124&\"　　\",\"\")","v":""},{"$f":"IF(申込みフォーム!BJ124<>\"\",申込みフォーム!BJ124,\"\")","v":""},{"$f":"IF(申込みフォーム!BK124<>\"\",申込みフォーム!BK124,\"\")","v":""},{"$f":"IF(申込みフォーム!BL124<>\"\",申込みフォーム!BL124&\"　　\",\"\")&IF(申込みフォーム!BM124<>\"\",申込みフォーム!BM124&\"　　\",\"\")&IF(申込みフォーム!BN124<>\"\",申込みフォーム!BN124&\"　　\",\"\")","v":{"$error":"#VALUE!"}},{"$f":"申込みフォーム!$Z124","v":""}]
[115,null,null,null,null,{"$f":"IF(申込みフォーム!B125<>\"\",申込みフォーム!B125&\"　\"&申込みフォーム!C125,\"\")","v":""},{"$f":"IF(申込みフォーム!E125<>\"\",申込みフォーム!E125&\"　\"&申込みフォーム!F125,\"\")","v":""},{"$f":"IF(申込みフォーム!G125<>\"\",申込みフォーム!G125,\"\")","v":""},{"$f":"IF(申込みフォーム!H125<>\"\",申込みフォーム!H125,\"\")","v":""},{"$f":"IF(申込みフォーム!D125<>\"\",申込みフォーム!D125,\"\")","v":""},{"$f":"IF(申込みフォーム!I125<>\"\",REPLACE(申込みフォーム!I125,4,,\"-\"),\"\")","v":""},{"$f":"IF(申込みフォーム!J125<>\"\",申込みフォーム!J125,\"\")","v":""},{"$f":"IF(申込みフォーム!K125<>\"\",申込みフォーム!K125,\"\")","v":""},{"$f":"IF(申込みフォーム!L125<>\"\",MID(申込みフォーム!L125,1,3)&\"-\"&MID(申込みフォーム!L125,4,4)&\"-\"&MID(申込みフォーム!L125,8,4),\"\")","v":""},{"$f":"IF(申込みフォーム!M125<>\"\",申込みフォーム!M125,\"\")","v":""},{"$f":"IF(申込みフォーム!N125<>\"\",申込みフォーム!N125,\"\")","v":""},{"$f":"IF(申込みフォーム!O125<>\"\",申込みフォーム!O125,\"\")","v":""},{"$f":"IF(申込みフォーム!P125<>\"\",申込みフォーム!P125,\"\")","v":""},{"$f":"IF(申込みフォーム!Q125<>\"\",申込みフォーム!Q125,\"\")","v":""},{"$f":"IF(申込みフォーム!R125<>\"\",申込みフォーム!R125,\"\")","v":""},{"$f":"IF(申込みフォーム!S125<>\"\",申込みフォーム!S125,\"\")","v":""},{"$f":"IF(申込みフォーム!U125=\"細胞診のみ\",\"協会子宮　\",IF(申込みフォーム!U125=\"細胞診＋（自費）膣エコー\",\"協会子宮＋自費膣エコー　\",\"\"))&IF(申込みフォーム!W125<>\"\",\"協会ﾏﾝﾓ　\",\"\")&IF(申込みフォーム!Y125<>\"\",\"協会骨　\",\"\")&IF(申込みフォーム!AA125<>\"\",\"協会肝炎　\",\"\")","v":""},{"$f":"IF(申込みフォーム!AB125<>\"\",\"子宮　\",\"\")&IF(申込みフォーム!AC125<>\"\",\"ﾏﾝﾓ　\",\"\")&IF(申込みフォーム!AD125<>\"\",\"乳ｴｺｰ\",\"\")","v":""},{"$f":"IF(申込みフォーム!AE125<>\"\",\"ﾏｰｶｰ　\",\"\")&IF(申込みフォーム!AF125<>\"\",\"心機能　\",\"\")&IF(申込みフォーム!AG125<>\"\",\"ABC　\",\"\")&IF(申込みフォーム!AH125<>\"\",\"Lox　\",\"\")&IF(申込みフォーム!AI125<>\"\",\"甲状腺　\",\"\")&IF(申込みフォーム!AJ125<>\"\",\"肝炎\",\"\")","v":""},{"$f":"IF(申込みフォーム!AK125<>\"\",\"脳　\",\"\")&IF(申込みフォーム!AL125<>\"\",\"胸部CT　\",\"\")&IF(申込みフォーム!AM125<>\"\",\"肺機能　\",\"\")&IF(申込みフォーム!AN125<>\"\",\"腹ｴｺｰ　\",\"\")&IF(申込みフォーム!AO125<>\"\",\"心ｴｺｰ　\",\"\")&IF(申込みフォーム!AP125<>\"\",\"ﾌﾛｰﾗ　\",\"\")&IF(申込みフォーム!AQ125<>\"\",\"OCT　\",\"\")&IF(申込みフォーム!AR125<>\"\",\"検便　\",\"\")&IF(申込みフォーム!AS125<>\"\",\"骨　\",\"\")&IF(申込みフォーム!AT125<>\"\",\"骨＋ﾛｺﾓ\",\"\")","v":""},{"$f":"IF(申込みフォーム!AU125<>\"\",申込みフォーム!AU125&\"　　\",\"\")&IF(申込みフォーム!AV125<>\"\",申込みフォーム!AV125&\"　　\",\"\")&IF(申込みフォーム!AW125<>\"\",申込みフォーム!AW125&\"　　\",\"\")","v":""},{"$f":"IF(申込みフォーム!BJ125<>\"\",申込みフォーム!BJ125,\"\")","v":""},{"$f":"IF(申込みフォーム!BK125<>\"\",申込みフォーム!BK125,\"\")","v":""},{"$f":"IF(申込みフォーム!BL125<>\"\",申込みフォーム!BL125&\"　　\",\"\")&IF(申込みフォーム!BM125<>\"\",申込みフォーム!BM125&\"　　\",\"\")&IF(申込みフォーム!BN125<>\"\",申込みフォーム!BN125&\"　　\",\"\")","v":{"$error":"#VALUE!"}},{"$f":"申込みフォーム!$Z125","v":""}]
[116,null,null,null,null,{"$f":"IF(申込みフォーム!B126<>\"\",申込みフォーム!B126&\"　\"&申込みフォーム!C126,\"\")","v":""},{"$f":"IF(申込みフォーム!E126<>\"\",申込みフォーム!E126&\"　\"&申込みフォーム!F126,\"\")","v":""},{"$f":"IF(申込みフォーム!G126<>\"\",申込みフォーム!G126,\"\")","v":""},{"$f":"IF(申込みフォーム!H126<>\"\",申込みフォーム!H126,\"\")","v":""},{"$f":"IF(申込みフォーム!D126<>\"\",申込みフォーム!D126,\"\")","v":""},{"$f":"IF(申込みフォーム!I126<>\"\",REPLACE(申込みフォーム!I126,4,,\"-\"),\"\")","v":""},{"$f":"IF(申込みフォーム!J126<>\"\",申込みフォーム!J126,\"\")","v":""},{"$f":"IF(申込みフォーム!K126<>\"\",申込みフォーム!K126,\"\")","v":""},{"$f":"IF(申込みフォーム!L126<>\"\",MID(申込みフォーム!L126,1,3)&\"-\"&MID(申込みフォーム!L126,4,4)&\"-\"&MID(申込みフォーム!L126,8,4),\"\")","v":""},{"$f":"IF(申込みフォーム!M126<>\"\",申込みフォーム!M126,\"\")","v":""},{"$f":"IF(申込みフォーム!N126<>\"\",申込みフォーム!N126,\"\")","v":""},{"$f":"IF(申込みフォーム!O126<>\"\",申込みフォーム!O126,\"\")","v":""},{"$f":"IF(申込みフォーム!P126<>\"\",申込みフォーム!P126,\"\")","v":""},{"$f":"IF(申込みフォーム!Q126<>\"\",申込みフォーム!Q126,\"\")","v":""},{"$f":"IF(申込みフォーム!R126<>\"\",申込みフォーム!R126,\"\")","v":""},{"$f":"IF(申込みフォーム!S126<>\"\",申込みフォーム!S126,\"\")","v":""},{"$f":"IF(申込みフォーム!U126=\"細胞診のみ\",\"協会子宮　\",IF(申込みフォーム!U126=\"細胞診＋（自費）膣エコー\",\"協会子宮＋自費膣エコー　\",\"\"))&IF(申込みフォーム!W126<>\"\",\"協会ﾏﾝﾓ　\",\"\")&IF(申込みフォーム!Y126<>\"\",\"協会骨　\",\"\")&IF(申込みフォーム!AA126<>\"\",\"協会肝炎　\",\"\")","v":""},{"$f":"IF(申込みフォーム!AB126<>\"\",\"子宮　\",\"\")&IF(申込みフォーム!AC126<>\"\",\"ﾏﾝﾓ　\",\"\")&IF(申込みフォーム!AD126<>\"\",\"乳ｴｺｰ\",\"\")","v":""},{"$f":"IF(申込みフォーム!AE126<>\"\",\"ﾏｰｶｰ　\",\"\")&IF(申込みフォーム!AF126<>\"\",\"心機能　\",\"\")&IF(申込みフォーム!AG126<>\"\",\"ABC　\",\"\")&IF(申込みフォーム!AH126<>\"\",\"Lox　\",\"\")&IF(申込みフォーム!AI126<>\"\",\"甲状腺　\",\"\")&IF(申込みフォーム!AJ126<>\"\",\"肝炎\",\"\")","v":""},{"$f":"IF(申込みフォーム!AK126<>\"\",\"脳　\",\"\")&IF(申込みフォーム!AL126<>\"\",\"胸部CT　\",\"\")&IF(申込みフォーム!AM126<>\"\",\"肺機能　\",\"\")&IF(申込みフォーム!AN126<>\"\",\"腹ｴｺｰ　\",\"\")&IF(申込みフォーム!AO126<>\"\",\"心ｴｺｰ　\",\"\")&IF(申込みフォーム!AP126<>\"\",\"ﾌﾛｰﾗ　\",\"\")&IF(申込みフォーム!AQ126<>\"\",\"OCT　\",\"\")&IF(申込みフォーム!AR126<>\"\",\"検便　\",\"\")&IF(申込みフォーム!AS126<>\"\",\"骨　\",\"\")&IF(申込みフォーム!AT126<>\"\",\"骨＋ﾛｺﾓ\",\"\")","v":""},{"$f":"IF(申込みフォーム!AU126<>\"\",申込みフォーム!AU126&\"　　\",\"\")&IF(申込みフォーム!AV126<>\"\",申込みフォーム!AV126&\"　　\",\"\")&IF(申込みフォーム!AW126<>\"\",申込みフォーム!AW126&\"　　\",\"\")","v":""},{"$f":"IF(申込みフォーム!BJ126<>\"\",申込みフォーム!BJ126,\"\")","v":""},{"$f":"IF(申込みフォーム!BK126<>\"\",申込みフォーム!BK126,\"\")","v":""},{"$f":"IF(申込みフォーム!BL126<>\"\",申込みフォーム!BL126&\"　　\",\"\")&IF(申込みフォーム!BM126<>\"\",申込みフォーム!BM126&\"　　\",\"\")&IF(申込みフォーム!BN126<>\"\",申込みフォーム!BN126&\"　　\",\"\")","v":{"$error":"#VALUE!"}},{"$f":"申込みフォーム!$Z126","v":""}]
[117,null,null,null,null,{"$f":"IF(申込みフォーム!B127<>\"\",申込みフォーム!B127&\"　\"&申込みフォーム!C127,\"\")","v":""},{"$f":"IF(申込みフォーム!E127<>\"\",申込みフォーム!E127&\"　\"&申込みフォーム!F127,\"\")","v":""},{"$f":"IF(申込みフォーム!G127<>\"\",申込みフォーム!G127,\"\")","v":""},{"$f":"IF(申込みフォーム!H127<>\"\",申込みフォーム!H127,\"\")","v":""},{"$f":"IF(申込みフォーム!D127<>\"\",申込みフォーム!D127,\"\")","v":""},{"$f":"IF(申込みフォーム!I127<>\"\",REPLACE(申込みフォーム!I127,4,,\"-\"),\"\")","v":""},{"$f":"IF(申込みフォーム!J127<>\"\",申込みフォーム!J127,\"\")","v":""},{"$f":"IF(申込みフォーム!K127<>\"\",申込みフォーム!K127,\"\")","v":""},{"$f":"IF(申込みフォーム!L127<>\"\",MID(申込みフォーム!L127,1,3)&\"-\"&MID(申込みフォーム!L127,4,4)&\"-\"&MID(申込みフォーム!L127,8,4),\"\")","v":""},{"$f":"IF(申込みフォーム!M127<>\"\",申込みフォーム!M127,\"\")","v":""},{"$f":"IF(申込みフォーム!N127<>\"\",申込みフォーム!N127,\"\")","v":""},{"$f":"IF(申込みフォーム!O127<>\"\",申込みフォーム!O127,\"\")","v":""},{"$f":"IF(申込みフォーム!P127<>\"\",申込みフォーム!P127,\"\")","v":""},{"$f":"IF(申込みフォーム!Q127<>\"\",申込みフォーム!Q127,\"\")","v":""},{"$f":"IF(申込みフォーム!R127<>\"\",申込みフォーム!R127,\"\")","v":""},{"$f":"IF(申込みフォーム!S127<>\"\",申込みフォーム!S127,\"\")","v":""},{"$f":"IF(申込みフォーム!U127=\"細胞診のみ\",\"協会子宮　\",IF(申込みフォーム!U127=\"細胞診＋（自費）膣エコー\",\"協会子宮＋自費膣エコー　\",\"\"))&IF(申込みフォーム!W127<>\"\",\"協会ﾏﾝﾓ　\",\"\")&IF(申込みフォーム!Y127<>\"\",\"協会骨　\",\"\")&IF(申込みフォーム!AA127<>\"\",\"協会肝炎　\",\"\")","v":""},{"$f":"IF(申込みフォーム!AB127<>\"\",\"子宮　\",\"\")&IF(申込みフォーム!AC127<>\"\",\"ﾏﾝﾓ　\",\"\")&IF(申込みフォーム!AD127<>\"\",\"乳ｴｺｰ\",\"\")","v":""},{"$f":"IF(申込みフォーム!AE127<>\"\",\"ﾏｰｶｰ　\",\"\")&IF(申込みフォーム!AF127<>\"\",\"心機能　\",\"\")&IF(申込みフォーム!AG127<>\"\",\"ABC　\",\"\")&IF(申込みフォーム!AH127<>\"\",\"Lox　\",\"\")&IF(申込みフォーム!AI127<>\"\",\"甲状腺　\",\"\")&IF(申込みフォーム!AJ127<>\"\",\"肝炎\",\"\")","v":""},{"$f":"IF(申込みフォーム!AK127<>\"\",\"脳　\",\"\")&IF(申込みフォーム!AL127<>\"\",\"胸部CT　\",\"\")&IF(申込みフォーム!AM127<>\"\",\"肺機能　\",\"\")&IF(申込みフォーム!AN127<>\"\",\"腹ｴｺｰ　\",\"\")&IF(申込みフォーム!AO127<>\"\",\"心ｴｺｰ　\",\"\")&IF(申込みフォーム!AP127<>\"\",\"ﾌﾛｰﾗ　\",\"\")&IF(申込みフォーム!AQ127<>\"\",\"OCT　\",\"\")&IF(申込みフォーム!AR127<>\"\",\"検便　\",\"\")&IF(申込みフォーム!AS127<>\"\",\"骨　\",\"\")&IF(申込みフォーム!AT127<>\"\",\"骨＋ﾛｺﾓ\",\"\")","v":""},{"$f":"IF(申込みフォーム!AU127<>\"\",申込みフォーム!AU127&\"　　\",\"\")&IF(申込みフォーム!AV127<>\"\",申込みフォーム!AV127&\"　　\",\"\")&IF(申込みフォーム!AW127<>\"\",申込みフォーム!AW127&\"　　\",\"\")","v":""},{"$f":"IF(申込みフォーム!BJ127<>\"\",申込みフォーム!BJ127,\"\")","v":""},{"$f":"IF(申込みフォーム!BK127<>\"\",申込みフォーム!BK127,\"\")","v":""},{"$f":"IF(申込みフォーム!BL127<>\"\",申込みフォーム!BL127&\"　　\",\"\")&IF(申込みフォーム!BM127<>\"\",申込みフォーム!BM127&\"　　\",\"\")&IF(申込みフォーム!BN127<>\"\",申込みフォーム!BN127&\"　　\",\"\")","v":{"$error":"#VALUE!"}},{"$f":"申込みフォーム!$Z127","v":""}]
[118,null,null,null,null,{"$f":"IF(申込みフォーム!B128<>\"\",申込みフォーム!B128&\"　\"&申込みフォーム!C128,\"\")","v":""},{"$f":"IF(申込みフォーム!E128<>\"\",申込みフォーム!E128&\"　\"&申込みフォーム!F128,\"\")","v":""},{"$f":"IF(申込みフォーム!G128<>\"\",申込みフォーム!G128,\"\")","v":""},{"$f":"IF(申込みフォーム!H128<>\"\",申込みフォーム!H128,\"\")","v":""},{"$f":"IF(申込みフォーム!D128<>\"\",申込みフォーム!D128,\"\")","v":""},{"$f":"IF(申込みフォーム!I128<>\"\",REPLACE(申込みフォーム!I128,4,,\"-\"),\"\")","v":""},{"$f":"IF(申込みフォーム!J128<>\"\",申込みフォーム!J128,\"\")","v":""},{"$f":"IF(申込みフォーム!K128<>\"\",申込みフォーム!K128,\"\")","v":""},{"$f":"IF(申込みフォーム!L128<>\"\",MID(申込みフォーム!L128,1,3)&\"-\"&MID(申込みフォーム!L128,4,4)&\"-\"&MID(申込みフォーム!L128,8,4),\"\")","v":""},{"$f":"IF(申込みフォーム!M128<>\"\",申込みフォーム!M128,\"\")","v":""},{"$f":"IF(申込みフォーム!N128<>\"\",申込みフォーム!N128,\"\")","v":""},{"$f":"IF(申込みフォーム!O128<>\"\",申込みフォーム!O128,\"\")","v":""},{"$f":"IF(申込みフォーム!P128<>\"\",申込みフォーム!P128,\"\")","v":""},{"$f":"IF(申込みフォーム!Q128<>\"\",申込みフォーム!Q128,\"\")","v":""},{"$f":"IF(申込みフォーム!R128<>\"\",申込みフォーム!R128,\"\")","v":""},{"$f":"IF(申込みフォーム!S128<>\"\",申込みフォーム!S128,\"\")","v":""},{"$f":"IF(申込みフォーム!U128=\"細胞診のみ\",\"協会子宮　\",IF(申込みフォーム!U128=\"細胞診＋（自費）膣エコー\",\"協会子宮＋自費膣エコー　\",\"\"))&IF(申込みフォーム!W128<>\"\",\"協会ﾏﾝﾓ　\",\"\")&IF(申込みフォーム!Y128<>\"\",\"協会骨　\",\"\")&IF(申込みフォーム!AA128<>\"\",\"協会肝炎　\",\"\")","v":""},{"$f":"IF(申込みフォーム!AB128<>\"\",\"子宮　\",\"\")&IF(申込みフォーム!AC128<>\"\",\"ﾏﾝﾓ　\",\"\")&IF(申込みフォーム!AD128<>\"\",\"乳ｴｺｰ\",\"\")","v":""},{"$f":"IF(申込みフォーム!AE128<>\"\",\"ﾏｰｶｰ　\",\"\")&IF(申込みフォーム!AF128<>\"\",\"心機能　\",\"\")&IF(申込みフォーム!AG128<>\"\",\"ABC　\",\"\")&IF(申込みフォーム!AH128<>\"\",\"Lox　\",\"\")&IF(申込みフォーム!AI128<>\"\",\"甲状腺　\",\"\")&IF(申込みフォーム!AJ128<>\"\",\"肝炎\",\"\")","v":""},{"$f":"IF(申込みフォーム!AK128<>\"\",\"脳　\",\"\")&IF(申込みフォーム!AL128<>\"\",\"胸部CT　\",\"\")&IF(申込みフォーム!AM128<>\"\",\"肺機能　\",\"\")&IF(申込みフォーム!AN128<>\"\",\"腹ｴｺｰ　\",\"\")&IF(申込みフォーム!AO128<>\"\",\"心ｴｺｰ　\",\"\")&IF(申込みフォーム!AP128<>\"\",\"ﾌﾛｰﾗ　\",\"\")&IF(申込みフォーム!AQ128<>\"\",\"OCT　\",\"\")&IF(申込みフォーム!AR128<>\"\",\"検便　\",\"\")&IF(申込みフォーム!AS128<>\"\",\"骨　\",\"\")&IF(申込みフォーム!AT128<>\"\",\"骨＋ﾛｺﾓ\",\"\")","v":""},{"$f":"IF(申込みフォーム!AU128<>\"\",申込みフォーム!AU128&\"　　\",\"\")&IF(申込みフォーム!AV128<>\"\",申込みフォーム!AV128&\"　　\",\"\")&IF(申込みフォーム!AW128<>\"\",申込みフォーム!AW128&\"　　\",\"\")","v":""},{"$f":"IF(申込みフォーム!BJ128<>\"\",申込みフォーム!BJ128,\"\")","v":""},{"$f":"IF(申込みフォーム!BK128<>\"\",申込みフォーム!BK128,\"\")","v":""},{"$f":"IF(申込みフォーム!BL128<>\"\",申込みフォーム!BL128&\"　　\",\"\")&IF(申込みフォーム!BM128<>\"\",申込みフォーム!BM128&\"　　\",\"\")&IF(申込みフォーム!BN128<>\"\",申込みフォーム!BN128&\"　　\",\"\")","v":{"$error":"#VALUE!"}},{"$f":"申込みフォーム!$Z128","v":""}]
[119,null,null,null,null,{"$f":"IF(申込みフォーム!B129<>\"\",申込みフォーム!B129&\"　\"&申込みフォーム!C129,\"\")","v":""},{"$f":"IF(申込みフォーム!E129<>\"\",申込みフォーム!E129&\"　\"&申込みフォーム!F129,\"\")","v":""},{"$f":"IF(申込みフォーム!G129<>\"\",申込みフォーム!G129,\"\")","v":""},{"$f":"IF(申込みフォーム!H129<>\"\",申込みフォーム!H129,\"\")","v":""},{"$f":"IF(申込みフォーム!D129<>\"\",申込みフォーム!D129,\"\")","v":""},{"$f":"IF(申込みフォーム!I129<>\"\",REPLACE(申込みフォーム!I129,4,,\"-\"),\"\")","v":""},{"$f":"IF(申込みフォーム!J129<>\"\",申込みフォーム!J129,\"\")","v":""},{"$f":"IF(申込みフォーム!K129<>\"\",申込みフォーム!K129,\"\")","v":""},{"$f":"IF(申込みフォーム!L129<>\"\",MID(申込みフォーム!L129,1,3)&\"-\"&MID(申込みフォーム!L129,4,4)&\"-\"&MID(申込みフォーム!L129,8,4),\"\")","v":""},{"$f":"IF(申込みフォーム!M129<>\"\",申込みフォーム!M129,\"\")","v":""},{"$f":"IF(申込みフォーム!N129<>\"\",申込みフォーム!N129,\"\")","v":""},{"$f":"IF(申込みフォーム!O129<>\"\",申込みフォーム!O129,\"\")","v":""},{"$f":"IF(申込みフォーム!P129<>\"\",申込みフォーム!P129,\"\")","v":""},{"$f":"IF(申込みフォーム!Q129<>\"\",申込みフォーム!Q129,\"\")","v":""},{"$f":"IF(申込みフォーム!R129<>\"\",申込みフォーム!R129,\"\")","v":""},{"$f":"IF(申込みフォーム!S129<>\"\",申込みフォーム!S129,\"\")","v":""},{"$f":"IF(申込みフォーム!U129=\"細胞診のみ\",\"協会子宮　\",IF(申込みフォーム!U129=\"細胞診＋（自費）膣エコー\",\"協会子宮＋自費膣エコー　\",\"\"))&IF(申込みフォーム!W129<>\"\",\"協会ﾏﾝﾓ　\",\"\")&IF(申込みフォーム!Y129<>\"\",\"協会骨　\",\"\")&IF(申込みフォーム!AA129<>\"\",\"協会肝炎　\",\"\")","v":""},{"$f":"IF(申込みフォーム!AB129<>\"\",\"子宮　\",\"\")&IF(申込みフォーム!AC129<>\"\",\"ﾏﾝﾓ　\",\"\")&IF(申込みフォーム!AD129<>\"\",\"乳ｴｺｰ\",\"\")","v":""},{"$f":"IF(申込みフォーム!AE129<>\"\",\"ﾏｰｶｰ　\",\"\")&IF(申込みフォーム!AF129<>\"\",\"心機能　\",\"\")&IF(申込みフォーム!AG129<>\"\",\"ABC　\",\"\")&IF(申込みフォーム!AH129<>\"\",\"Lox　\",\"\")&IF(申込みフォーム!AI129<>\"\",\"甲状腺　\",\"\")&IF(申込みフォーム!AJ129<>\"\",\"肝炎\",\"\")","v":""},{"$f":"IF(申込みフォーム!AK129<>\"\",\"脳　\",\"\")&IF(申込みフォーム!AL129<>\"\",\"胸部CT　\",\"\")&IF(申込みフォーム!AM129<>\"\",\"肺機能　\",\"\")&IF(申込みフォーム!AN129<>\"\",\"腹ｴｺｰ　\",\"\")&IF(申込みフォーム!AO129<>\"\",\"心ｴｺｰ　\",\"\")&IF(申込みフォーム!AP129<>\"\",\"ﾌﾛｰﾗ　\",\"\")&IF(申込みフォーム!AQ129<>\"\",\"OCT　\",\"\")&IF(申込みフォーム!AR129<>\"\",\"検便　\",\"\")&IF(申込みフォーム!AS129<>\"\",\"骨　\",\"\")&IF(申込みフォーム!AT129<>\"\",\"骨＋ﾛｺﾓ\",\"\")","v":""},{"$f":"IF(申込みフォーム!AU129<>\"\",申込みフォーム!AU129&\"　　\",\"\")&IF(申込みフォーム!AV129<>\"\",申込みフォーム!AV129&\"　　\",\"\")&IF(申込みフォーム!AW129<>\"\",申込みフォーム!AW129&\"　　\",\"\")","v":""},{"$f":"IF(申込みフォーム!BJ129<>\"\",申込みフォーム!BJ129,\"\")","v":""},{"$f":"IF(申込みフォーム!BK129<>\"\",申込みフォーム!BK129,\"\")","v":""},{"$f":"IF(申込みフォーム!BL129<>\"\",申込みフォーム!BL129&\"　　\",\"\")&IF(申込みフォーム!BM129<>\"\",申込みフォーム!BM129&\"　　\",\"\")&IF(申込みフォーム!BN129<>\"\",申込みフォーム!BN129&\"　　\",\"\")","v":{"$error":"#VALUE!"}},{"$f":"申込みフォーム!$Z129","v":""}]
[120,null,null,null,null,{"$f":"IF(申込みフォーム!B130<>\"\",申込みフォーム!B130&\"　\"&申込みフォーム!C130,\"\")","v":""},{"$f":"IF(申込みフォーム!E130<>\"\",申込みフォーム!E130&\"　\"&申込みフォーム!F130,\"\")","v":""},{"$f":"IF(申込みフォーム!G130<>\"\",申込みフォーム!G130,\"\")","v":""},{"$f":"IF(申込みフォーム!H130<>\"\",申込みフォーム!H130,\"\")","v":""},{"$f":"IF(申込みフォーム!D130<>\"\",申込みフォーム!D130,\"\")","v":""},{"$f":"IF(申込みフォーム!I130<>\"\",REPLACE(申込みフォーム!I130,4,,\"-\"),\"\")","v":""},{"$f":"IF(申込みフォーム!J130<>\"\",申込みフォーム!J130,\"\")","v":""},{"$f":"IF(申込みフォーム!K130<>\"\",申込みフォーム!K130,\"\")","v":""},{"$f":"IF(申込みフォーム!L130<>\"\",MID(申込みフォーム!L130,1,3)&\"-\"&MID(申込みフォーム!L130,4,4)&\"-\"&MID(申込みフォーム!L130,8,4),\"\")","v":""},{"$f":"IF(申込みフォーム!M130<>\"\",申込みフォーム!M130,\"\")","v":""},{"$f":"IF(申込みフォーム!N130<>\"\",申込みフォーム!N130,\"\")","v":""},{"$f":"IF(申込みフォーム!O130<>\"\",申込みフォーム!O130,\"\")","v":""},{"$f":"IF(申込みフォーム!P130<>\"\",申込みフォーム!P130,\"\")","v":""},{"$f":"IF(申込みフォーム!Q130<>\"\",申込みフォーム!Q130,\"\")","v":""},{"$f":"IF(申込みフォーム!R130<>\"\",申込みフォーム!R130,\"\")","v":""},{"$f":"IF(申込みフォーム!S130<>\"\",申込みフォーム!S130,\"\")","v":""},{"$f":"IF(申込みフォーム!U130=\"細胞診のみ\",\"協会子宮　\",IF(申込みフォーム!U130=\"細胞診＋（自費）膣エコー\",\"協会子宮＋自費膣エコー　\",\"\"))&IF(申込みフォーム!W130<>\"\",\"協会ﾏﾝﾓ　\",\"\")&IF(申込みフォーム!Y130<>\"\",\"協会骨　\",\"\")&IF(申込みフォーム!AA130<>\"\",\"協会肝炎　\",\"\")","v":""},{"$f":"IF(申込みフォーム!AB130<>\"\",\"子宮　\",\"\")&IF(申込みフォーム!AC130<>\"\",\"ﾏﾝﾓ　\",\"\")&IF(申込みフォーム!AD130<>\"\",\"乳ｴｺｰ\",\"\")","v":""},{"$f":"IF(申込みフォーム!AE130<>\"\",\"ﾏｰｶｰ　\",\"\")&IF(申込みフォーム!AF130<>\"\",\"心機能　\",\"\")&IF(申込みフォーム!AG130<>\"\",\"ABC　\",\"\")&IF(申込みフォーム!AH130<>\"\",\"Lox　\",\"\")&IF(申込みフォーム!AI130<>\"\",\"甲状腺　\",\"\")&IF(申込みフォーム!AJ130<>\"\",\"肝炎\",\"\")","v":""},{"$f":"IF(申込みフォーム!AK130<>\"\",\"脳　\",\"\")&IF(申込みフォーム!AL130<>\"\",\"胸部CT　\",\"\")&IF(申込みフォーム!AM130<>\"\",\"肺機能　\",\"\")&IF(申込みフォーム!AN130<>\"\",\"腹ｴｺｰ　\",\"\")&IF(申込みフォーム!AO130<>\"\",\"心ｴｺｰ　\",\"\")&IF(申込みフォーム!AP130<>\"\",\"ﾌﾛｰﾗ　\",\"\")&IF(申込みフォーム!AQ130<>\"\",\"OCT　\",\"\")&IF(申込みフォーム!AR130<>\"\",\"検便　\",\"\")&IF(申込みフォーム!AS130<>\"\",\"骨　\",\"\")&IF(申込みフォーム!AT130<>\"\",\"骨＋ﾛｺﾓ\",\"\")","v":""},{"$f":"IF(申込みフォーム!AU130<>\"\",申込みフォーム!AU130&\"　　\",\"\")&IF(申込みフォーム!AV130<>\"\",申込みフォーム!AV130&\"　　\",\"\")&IF(申込みフォーム!AW130<>\"\",申込みフォーム!AW130&\"　　\",\"\")","v":""},{"$f":"IF(申込みフォーム!BJ130<>\"\",申込みフォーム!BJ130,\"\")","v":""},{"$f":"IF(申込みフォーム!BK130<>\"\",申込みフォーム!BK130,\"\")","v":""},{"$f":"IF(申込みフォーム!BL130<>\"\",申込みフォーム!BL130&\"　　\",\"\")&IF(申込みフォーム!BM130<>\"\",申込みフォーム!BM130&\"　　\",\"\")&IF(申込みフォーム!BN130<>\"\",申込みフォーム!BN130&\"　　\",\"\")","v":{"$error":"#VALUE!"}},{"$f":"申込みフォーム!$Z130","v":""}]
[121,null,null,null,null,{"$f":"IF(申込みフォーム!B131<>\"\",申込みフォーム!B131&\"　\"&申込みフォーム!C131,\"\")","v":""},{"$f":"IF(申込みフォーム!E131<>\"\",申込みフォーム!E131&\"　\"&申込みフォーム!F131,\"\")","v":""},{"$f":"IF(申込みフォーム!G131<>\"\",申込みフォーム!G131,\"\")","v":""},{"$f":"IF(申込みフォーム!H131<>\"\",申込みフォーム!H131,\"\")","v":""},{"$f":"IF(申込みフォーム!D131<>\"\",申込みフォーム!D131,\"\")","v":""},{"$f":"IF(申込みフォーム!I131<>\"\",REPLACE(申込みフォーム!I131,4,,\"-\"),\"\")","v":""},{"$f":"IF(申込みフォーム!J131<>\"\",申込みフォーム!J131,\"\")","v":""},{"$f":"IF(申込みフォーム!K131<>\"\",申込みフォーム!K131,\"\")","v":""},{"$f":"IF(申込みフォーム!L131<>\"\",MID(申込みフォーム!L131,1,3)&\"-\"&MID(申込みフォーム!L131,4,4)&\"-\"&MID(申込みフォーム!L131,8,4),\"\")","v":""},{"$f":"IF(申込みフォーム!M131<>\"\",申込みフォーム!M131,\"\")","v":""},{"$f":"IF(申込みフォーム!N131<>\"\",申込みフォーム!N131,\"\")","v":""},{"$f":"IF(申込みフォーム!O131<>\"\",申込みフォーム!O131,\"\")","v":""},{"$f":"IF(申込みフォーム!P131<>\"\",申込みフォーム!P131,\"\")","v":""},{"$f":"IF(申込みフォーム!Q131<>\"\",申込みフォーム!Q131,\"\")","v":""},{"$f":"IF(申込みフォーム!R131<>\"\",申込みフォーム!R131,\"\")","v":""},{"$f":"IF(申込みフォーム!S131<>\"\",申込みフォーム!S131,\"\")","v":""},{"$f":"IF(申込みフォーム!U131=\"細胞診のみ\",\"協会子宮　\",IF(申込みフォーム!U131=\"細胞診＋（自費）膣エコー\",\"協会子宮＋自費膣エコー　\",\"\"))&IF(申込みフォーム!W131<>\"\",\"協会ﾏﾝﾓ　\",\"\")&IF(申込みフォーム!Y131<>\"\",\"協会骨　\",\"\")&IF(申込みフォーム!AA131<>\"\",\"協会肝炎　\",\"\")","v":""},{"$f":"IF(申込みフォーム!AB131<>\"\",\"子宮　\",\"\")&IF(申込みフォーム!AC131<>\"\",\"ﾏﾝﾓ　\",\"\")&IF(申込みフォーム!AD131<>\"\",\"乳ｴｺｰ\",\"\")","v":""},{"$f":"IF(申込みフォーム!AE131<>\"\",\"ﾏｰｶｰ　\",\"\")&IF(申込みフォーム!AF131<>\"\",\"心機能　\",\"\")&IF(申込みフォーム!AG131<>\"\",\"ABC　\",\"\")&IF(申込みフォーム!AH131<>\"\",\"Lox　\",\"\")&IF(申込みフォーム!AI131<>\"\",\"甲状腺　\",\"\")&IF(申込みフォーム!AJ131<>\"\",\"肝炎\",\"\")","v":""},{"$f":"IF(申込みフォーム!AK131<>\"\",\"脳　\",\"\")&IF(申込みフォーム!AL131<>\"\",\"胸部CT　\",\"\")&IF(申込みフォーム!AM131<>\"\",\"肺機能　\",\"\")&IF(申込みフォーム!AN131<>\"\",\"腹ｴｺｰ　\",\"\")&IF(申込みフォーム!AO131<>\"\",\"心ｴｺｰ　\",\"\")&IF(申込みフォーム!AP131<>\"\",\"ﾌﾛｰﾗ　\",\"\")&IF(申込みフォーム!AQ131<>\"\",\"OCT　\",\"\")&IF(申込みフォーム!AR131<>\"\",\"検便　\",\"\")&IF(申込みフォーム!AS131<>\"\",\"骨　\",\"\")&IF(申込みフォーム!AT131<>\"\",\"骨＋ﾛｺﾓ\",\"\")","v":""},{"$f":"IF(申込みフォーム!AU131<>\"\",申込みフォーム!AU131&\"　　\",\"\")&IF(申込みフォーム!AV131<>\"\",申込みフォーム!AV131&\"　　\",\"\")&IF(申込みフォーム!AW131<>\"\",申込みフォーム!AW131&\"　　\",\"\")","v":""},{"$f":"IF(申込みフォーム!BJ131<>\"\",申込みフォーム!BJ131,\"\")","v":""},{"$f":"IF(申込みフォーム!BK131<>\"\",申込みフォーム!BK131,\"\")","v":""},{"$f":"IF(申込みフォーム!BL131<>\"\",申込みフォーム!BL131&\"　　\",\"\")&IF(申込みフォーム!BM131<>\"\",申込みフォーム!BM131&\"　　\",\"\")&IF(申込みフォーム!BN131<>\"\",申込みフォーム!BN131&\"　　\",\"\")","v":{"$error":"#VALUE!"}},{"$f":"申込みフォーム!$Z131","v":""}]
[122,null,null,null,null,{"$f":"IF(申込みフォーム!B132<>\"\",申込みフォーム!B132&\"　\"&申込みフォーム!C132,\"\")","v":""},{"$f":"IF(申込みフォーム!E132<>\"\",申込みフォーム!E132&\"　\"&申込みフォーム!F132,\"\")","v":""},{"$f":"IF(申込みフォーム!G132<>\"\",申込みフォーム!G132,\"\")","v":""},{"$f":"IF(申込みフォーム!H132<>\"\",申込みフォーム!H132,\"\")","v":""},{"$f":"IF(申込みフォーム!D132<>\"\",申込みフォーム!D132,\"\")","v":""},{"$f":"IF(申込みフォーム!I132<>\"\",REPLACE(申込みフォーム!I132,4,,\"-\"),\"\")","v":""},{"$f":"IF(申込みフォーム!J132<>\"\",申込みフォーム!J132,\"\")","v":""},{"$f":"IF(申込みフォーム!K132<>\"\",申込みフォーム!K132,\"\")","v":""},{"$f":"IF(申込みフォーム!L132<>\"\",MID(申込みフォーム!L132,1,3)&\"-\"&MID(申込みフォーム!L132,4,4)&\"-\"&MID(申込みフォーム!L132,8,4),\"\")","v":""},{"$f":"IF(申込みフォーム!M132<>\"\",申込みフォーム!M132,\"\")","v":""},{"$f":"IF(申込みフォーム!N132<>\"\",申込みフォーム!N132,\"\")","v":""},{"$f":"IF(申込みフォーム!O132<>\"\",申込みフォーム!O132,\"\")","v":""},{"$f":"IF(申込みフォーム!P132<>\"\",申込みフォーム!P132,\"\")","v":""},{"$f":"IF(申込みフォーム!Q132<>\"\",申込みフォーム!Q132,\"\")","v":""},{"$f":"IF(申込みフォーム!R132<>\"\",申込みフォーム!R132,\"\")","v":""},{"$f":"IF(申込みフォーム!S132<>\"\",申込みフォーム!S132,\"\")","v":""},{"$f":"IF(申込みフォーム!U132=\"細胞診のみ\",\"協会子宮　\",IF(申込みフォーム!U132=\"細胞診＋（自費）膣エコー\",\"協会子宮＋自費膣エコー　\",\"\"))&IF(申込みフォーム!W132<>\"\",\"協会ﾏﾝﾓ　\",\"\")&IF(申込みフォーム!Y132<>\"\",\"協会骨　\",\"\")&IF(申込みフォーム!AA132<>\"\",\"協会肝炎　\",\"\")","v":""},{"$f":"IF(申込みフォーム!AB132<>\"\",\"子宮　\",\"\")&IF(申込みフォーム!AC132<>\"\",\"ﾏﾝﾓ　\",\"\")&IF(申込みフォーム!AD132<>\"\",\"乳ｴｺｰ\",\"\")","v":""},{"$f":"IF(申込みフォーム!AE132<>\"\",\"ﾏｰｶｰ　\",\"\")&IF(申込みフォーム!AF132<>\"\",\"心機能　\",\"\")&IF(申込みフォーム!AG132<>\"\",\"ABC　\",\"\")&IF(申込みフォーム!AH132<>\"\",\"Lox　\",\"\")&IF(申込みフォーム!AI132<>\"\",\"甲状腺　\",\"\")&IF(申込みフォーム!AJ132<>\"\",\"肝炎\",\"\")","v":""},{"$f":"IF(申込みフォーム!AK132<>\"\",\"脳　\",\"\")&IF(申込みフォーム!AL132<>\"\",\"胸部CT　\",\"\")&IF(申込みフォーム!AM132<>\"\",\"肺機能　\",\"\")&IF(申込みフォーム!AN132<>\"\",\"腹ｴｺｰ　\",\"\")&IF(申込みフォーム!AO132<>\"\",\"心ｴｺｰ　\",\"\")&IF(申込みフォーム!AP132<>\"\",\"ﾌﾛｰﾗ　\",\"\")&IF(申込みフォーム!AQ132<>\"\",\"OCT　\",\"\")&IF(申込みフォーム!AR132<>\"\",\"検便　\",\"\")&IF(申込みフォーム!AS132<>\"\",\"骨　\",\"\")&IF(申込みフォーム!AT132<>\"\",\"骨＋ﾛｺﾓ\",\"\")","v":""},{"$f":"IF(申込みフォーム!AU132<>\"\",申込みフォーム!AU132&\"　　\",\"\")&IF(申込みフォーム!AV132<>\"\",申込みフォーム!AV132&\"　　\",\"\")&IF(申込みフォーム!AW132<>\"\",申込みフォーム!AW132&\"　　\",\"\")","v":""},{"$f":"IF(申込みフォーム!BJ132<>\"\",申込みフォーム!BJ132,\"\")","v":""},{"$f":"IF(申込みフォーム!BK132<>\"\",申込みフォーム!BK132,\"\")","v":""},{"$f":"IF(申込みフォーム!BL132<>\"\",申込みフォーム!BL132&\"　　\",\"\")&IF(申込みフォーム!BM132<>\"\",申込みフォーム!BM132&\"　　\",\"\")&IF(申込みフォーム!BN132<>\"\",申込みフォーム!BN132&\"　　\",\"\")","v":{"$error":"#VALUE!"}},{"$f":"申込みフォーム!$Z132","v":""}]
[123,null,null,null,null,{"$f":"IF(申込みフォーム!B133<>\"\",申込みフォーム!B133&\"　\"&申込みフォーム!C133,\"\")","v":""},{"$f":"IF(申込みフォーム!E133<>\"\",申込みフォーム!E133&\"　\"&申込みフォーム!F133,\"\")","v":""},{"$f":"IF(申込みフォーム!G133<>\"\",申込みフォーム!G133,\"\")","v":""},{"$f":"IF(申込みフォーム!H133<>\"\",申込みフォーム!H133,\"\")","v":""},{"$f":"IF(申込みフォーム!D133<>\"\",申込みフォーム!D133,\"\")","v":""},{"$f":"IF(申込みフォーム!I133<>\"\",REPLACE(申込みフォーム!I133,4,,\"-\"),\"\")","v":""},{"$f":"IF(申込みフォーム!J133<>\"\",申込みフォーム!J133,\"\")","v":""},{"$f":"IF(申込みフォーム!K133<>\"\",申込みフォーム!K133,\"\")","v":""},{"$f":"IF(申込みフォーム!L133<>\"\",MID(申込みフォーム!L133,1,3)&\"-\"&MID(申込みフォーム!L133,4,4)&\"-\"&MID(申込みフォーム!L133,8,4),\"\")","v":""},{"$f":"IF(申込みフォーム!M133<>\"\",申込みフォーム!M133,\"\")","v":""},{"$f":"IF(申込みフォーム!N133<>\"\",申込みフォーム!N133,\"\")","v":""},{"$f":"IF(申込みフォーム!O133<>\"\",申込みフォーム!O133,\"\")","v":""},{"$f":"IF(申込みフォーム!P133<>\"\",申込みフォーム!P133,\"\")","v":""},{"$f":"IF(申込みフォーム!Q133<>\"\",申込みフォーム!Q133,\"\")","v":""},{"$f":"IF(申込みフォーム!R133<>\"\",申込みフォーム!R133,\"\")","v":""},{"$f":"IF(申込みフォーム!S133<>\"\",申込みフォーム!S133,\"\")","v":""},{"$f":"IF(申込みフォーム!U133=\"細胞診のみ\",\"協会子宮　\",IF(申込みフォーム!U133=\"細胞診＋（自費）膣エコー\",\"協会子宮＋自費膣エコー　\",\"\"))&IF(申込みフォーム!W133<>\"\",\"協会ﾏﾝﾓ　\",\"\")&IF(申込みフォーム!Y133<>\"\",\"協会骨　\",\"\")&IF(申込みフォーム!AA133<>\"\",\"協会肝炎　\",\"\")","v":""},{"$f":"IF(申込みフォーム!AB133<>\"\",\"子宮　\",\"\")&IF(申込みフォーム!AC133<>\"\",\"ﾏﾝﾓ　\",\"\")&IF(申込みフォーム!AD133<>\"\",\"乳ｴｺｰ\",\"\")","v":""},{"$f":"IF(申込みフォーム!AE133<>\"\",\"ﾏｰｶｰ　\",\"\")&IF(申込みフォーム!AF133<>\"\",\"心機能　\",\"\")&IF(申込みフォーム!AG133<>\"\",\"ABC　\",\"\")&IF(申込みフォーム!AH133<>\"\",\"Lox　\",\"\")&IF(申込みフォーム!AI133<>\"\",\"甲状腺　\",\"\")&IF(申込みフォーム!AJ133<>\"\",\"肝炎\",\"\")","v":""},{"$f":"IF(申込みフォーム!AK133<>\"\",\"脳　\",\"\")&IF(申込みフォーム!AL133<>\"\",\"胸部CT　\",\"\")&IF(申込みフォーム!AM133<>\"\",\"肺機能　\",\"\")&IF(申込みフォーム!AN133<>\"\",\"腹ｴｺｰ　\",\"\")&IF(申込みフォーム!AO133<>\"\",\"心ｴｺｰ　\",\"\")&IF(申込みフォーム!AP133<>\"\",\"ﾌﾛｰﾗ　\",\"\")&IF(申込みフォーム!AQ133<>\"\",\"OCT　\",\"\")&IF(申込みフォーム!AR133<>\"\",\"検便　\",\"\")&IF(申込みフォーム!AS133<>\"\",\"骨　\",\"\")&IF(申込みフォーム!AT133<>\"\",\"骨＋ﾛｺﾓ\",\"\")","v":""},{"$f":"IF(申込みフォーム!AU133<>\"\",申込みフォーム!AU133&\"　　\",\"\")&IF(申込みフォーム!AV133<>\"\",申込みフォーム!AV133&\"　　\",\"\")&IF(申込みフォーム!AW133<>\"\",申込みフォーム!AW133&\"　　\",\"\")","v":""},{"$f":"IF(申込みフォーム!BJ133<>\"\",申込みフォーム!BJ133,\"\")","v":""},{"$f":"IF(申込みフォーム!BK133<>\"\",申込みフォーム!BK133,\"\")","v":""},{"$f":"IF(申込みフォーム!BL133<>\"\",申込みフォーム!BL133&\"　　\",\"\")&IF(申込みフォーム!BM133<>\"\",申込みフォーム!BM133&\"　　\",\"\")&IF(申込みフォーム!BN133<>\"\",申込みフォーム!BN133&\"　　\",\"\")","v":{"$error":"#VALUE!"}},{"$f":"申込みフォーム!$Z133","v":""}]
[124,null,null,null,null,{"$f":"IF(申込みフォーム!B134<>\"\",申込みフォーム!B134&\"　\"&申込みフォーム!C134,\"\")","v":""},{"$f":"IF(申込みフォーム!E134<>\"\",申込みフォーム!E134&\"　\"&申込みフォーム!F134,\"\")","v":""},{"$f":"IF(申込みフォーム!G134<>\"\",申込みフォーム!G134,\"\")","v":""},{"$f":"IF(申込みフォーム!H134<>\"\",申込みフォーム!H134,\"\")","v":""},{"$f":"IF(申込みフォーム!D134<>\"\",申込みフォーム!D134,\"\")","v":""},{"$f":"IF(申込みフォーム!I134<>\"\",REPLACE(申込みフォーム!I134,4,,\"-\"),\"\")","v":""},{"$f":"IF(申込みフォーム!J134<>\"\",申込みフォーム!J134,\"\")","v":""},{"$f":"IF(申込みフォーム!K134<>\"\",申込みフォーム!K134,\"\")","v":""},{"$f":"IF(申込みフォーム!L134<>\"\",MID(申込みフォーム!L134,1,3)&\"-\"&MID(申込みフォーム!L134,4,4)&\"-\"&MID(申込みフォーム!L134,8,4),\"\")","v":""},{"$f":"IF(申込みフォーム!M134<>\"\",申込みフォーム!M134,\"\")","v":""},{"$f":"IF(申込みフォーム!N134<>\"\",申込みフォーム!N134,\"\")","v":""},{"$f":"IF(申込みフォーム!O134<>\"\",申込みフォーム!O134,\"\")","v":""},{"$f":"IF(申込みフォーム!P134<>\"\",申込みフォーム!P134,\"\")","v":""},{"$f":"IF(申込みフォーム!Q134<>\"\",申込みフォーム!Q134,\"\")","v":""},{"$f":"IF(申込みフォーム!R134<>\"\",申込みフォーム!R134,\"\")","v":""},{"$f":"IF(申込みフォーム!S134<>\"\",申込みフォーム!S134,\"\")","v":""},{"$f":"IF(申込みフォーム!U134=\"細胞診のみ\",\"協会子宮　\",IF(申込みフォーム!U134=\"細胞診＋（自費）膣エコー\",\"協会子宮＋自費膣エコー　\",\"\"))&IF(申込みフォーム!W134<>\"\",\"協会ﾏﾝﾓ　\",\"\")&IF(申込みフォーム!Y134<>\"\",\"協会骨　\",\"\")&IF(申込みフォーム!AA134<>\"\",\"協会肝炎　\",\"\")","v":""},{"$f":"IF(申込みフォーム!AB134<>\"\",\"子宮　\",\"\")&IF(申込みフォーム!AC134<>\"\",\"ﾏﾝﾓ　\",\"\")&IF(申込みフォーム!AD134<>\"\",\"乳ｴｺｰ\",\"\")","v":""},{"$f":"IF(申込みフォーム!AE134<>\"\",\"ﾏｰｶｰ　\",\"\")&IF(申込みフォーム!AF134<>\"\",\"心機能　\",\"\")&IF(申込みフォーム!AG134<>\"\",\"ABC　\",\"\")&IF(申込みフォーム!AH134<>\"\",\"Lox　\",\"\")&IF(申込みフォーム!AI134<>\"\",\"甲状腺　\",\"\")&IF(申込みフォーム!AJ134<>\"\",\"肝炎\",\"\")","v":""},{"$f":"IF(申込みフォーム!AK134<>\"\",\"脳　\",\"\")&IF(申込みフォーム!AL134<>\"\",\"胸部CT　\",\"\")&IF(申込みフォーム!AM134<>\"\",\"肺機能　\",\"\")&IF(申込みフォーム!AN134<>\"\",\"腹ｴｺｰ　\",\"\")&IF(申込みフォーム!AO134<>\"\",\"心ｴｺｰ　\",\"\")&IF(申込みフォーム!AP134<>\"\",\"ﾌﾛｰﾗ　\",\"\")&IF(申込みフォーム!AQ134<>\"\",\"OCT　\",\"\")&IF(申込みフォーム!AR134<>\"\",\"検便　\",\"\")&IF(申込みフォーム!AS134<>\"\",\"骨　\",\"\")&IF(申込みフォーム!AT134<>\"\",\"骨＋ﾛｺﾓ\",\"\")","v":""},{"$f":"IF(申込みフォーム!AU134<>\"\",申込みフォーム!AU134&\"　　\",\"\")&IF(申込みフォーム!AV134<>\"\",申込みフォーム!AV134&\"　　\",\"\")&IF(申込みフォーム!AW134<>\"\",申込みフォーム!AW134&\"　　\",\"\")","v":""},{"$f":"IF(申込みフォーム!BJ134<>\"\",申込みフォーム!BJ134,\"\")","v":""},{"$f":"IF(申込みフォーム!BK134<>\"\",申込みフォーム!BK134,\"\")","v":""},{"$f":"IF(申込みフォーム!BL134<>\"\",申込みフォーム!BL134&\"　　\",\"\")&IF(申込みフォーム!BM134<>\"\",申込みフォーム!BM134&\"　　\",\"\")&IF(申込みフォーム!BN134<>\"\",申込みフォーム!BN134&\"　　\",\"\")","v":{"$error":"#VALUE!"}},{"$f":"申込みフォーム!$Z134","v":""}]
[125,null,null,null,null,{"$f":"IF(申込みフォーム!B135<>\"\",申込みフォーム!B135&\"　\"&申込みフォーム!C135,\"\")","v":""},{"$f":"IF(申込みフォーム!E135<>\"\",申込みフォーム!E135&\"　\"&申込みフォーム!F135,\"\")","v":""},{"$f":"IF(申込みフォーム!G135<>\"\",申込みフォーム!G135,\"\")","v":""},{"$f":"IF(申込みフォーム!H135<>\"\",申込みフォーム!H135,\"\")","v":""},{"$f":"IF(申込みフォーム!D135<>\"\",申込みフォーム!D135,\"\")","v":""},{"$f":"IF(申込みフォーム!I135<>\"\",REPLACE(申込みフォーム!I135,4,,\"-\"),\"\")","v":""},{"$f":"IF(申込みフォーム!J135<>\"\",申込みフォーム!J135,\"\")","v":""},{"$f":"IF(申込みフォーム!K135<>\"\",申込みフォーム!K135,\"\")","v":""},{"$f":"IF(申込みフォーム!L135<>\"\",MID(申込みフォーム!L135,1,3)&\"-\"&MID(申込みフォーム!L135,4,4)&\"-\"&MID(申込みフォーム!L135,8,4),\"\")","v":""},{"$f":"IF(申込みフォーム!M135<>\"\",申込みフォーム!M135,\"\")","v":""},{"$f":"IF(申込みフォーム!N135<>\"\",申込みフォーム!N135,\"\")","v":""},{"$f":"IF(申込みフォーム!O135<>\"\",申込みフォーム!O135,\"\")","v":""},{"$f":"IF(申込みフォーム!P135<>\"\",申込みフォーム!P135,\"\")","v":""},{"$f":"IF(申込みフォーム!Q135<>\"\",申込みフォーム!Q135,\"\")","v":""},{"$f":"IF(申込みフォーム!R135<>\"\",申込みフォーム!R135,\"\")","v":""},{"$f":"IF(申込みフォーム!S135<>\"\",申込みフォーム!S135,\"\")","v":""},{"$f":"IF(申込みフォーム!U135=\"細胞診のみ\",\"協会子宮　\",IF(申込みフォーム!U135=\"細胞診＋（自費）膣エコー\",\"協会子宮＋自費膣エコー　\",\"\"))&IF(申込みフォーム!W135<>\"\",\"協会ﾏﾝﾓ　\",\"\")&IF(申込みフォーム!Y135<>\"\",\"協会骨　\",\"\")&IF(申込みフォーム!AA135<>\"\",\"協会肝炎　\",\"\")","v":""},{"$f":"IF(申込みフォーム!AB135<>\"\",\"子宮　\",\"\")&IF(申込みフォーム!AC135<>\"\",\"ﾏﾝﾓ　\",\"\")&IF(申込みフォーム!AD135<>\"\",\"乳ｴｺｰ\",\"\")","v":""},{"$f":"IF(申込みフォーム!AE135<>\"\",\"ﾏｰｶｰ　\",\"\")&IF(申込みフォーム!AF135<>\"\",\"心機能　\",\"\")&IF(申込みフォーム!AG135<>\"\",\"ABC　\",\"\")&IF(申込みフォーム!AH135<>\"\",\"Lox　\",\"\")&IF(申込みフォーム!AI135<>\"\",\"甲状腺　\",\"\")&IF(申込みフォーム!AJ135<>\"\",\"肝炎\",\"\")","v":""},{"$f":"IF(申込みフォーム!AK135<>\"\",\"脳　\",\"\")&IF(申込みフォーム!AL135<>\"\",\"胸部CT　\",\"\")&IF(申込みフォーム!AM135<>\"\",\"肺機能　\",\"\")&IF(申込みフォーム!AN135<>\"\",\"腹ｴｺｰ　\",\"\")&IF(申込みフォーム!AO135<>\"\",\"心ｴｺｰ　\",\"\")&IF(申込みフォーム!AP135<>\"\",\"ﾌﾛｰﾗ　\",\"\")&IF(申込みフォーム!AQ135<>\"\",\"OCT　\",\"\")&IF(申込みフォーム!AR135<>\"\",\"検便　\",\"\")&IF(申込みフォーム!AS135<>\"\",\"骨　\",\"\")&IF(申込みフォーム!AT135<>\"\",\"骨＋ﾛｺﾓ\",\"\")","v":""},{"$f":"IF(申込みフォーム!AU135<>\"\",申込みフォーム!AU135&\"　　\",\"\")&IF(申込みフォーム!AV135<>\"\",申込みフォーム!AV135&\"　　\",\"\")&IF(申込みフォーム!AW135<>\"\",申込みフォーム!AW135&\"　　\",\"\")","v":""},{"$f":"IF(申込みフォーム!BJ135<>\"\",申込みフォーム!BJ135,\"\")","v":""},{"$f":"IF(申込みフォーム!BK135<>\"\",申込みフォーム!BK135,\"\")","v":""},{"$f":"IF(申込みフォーム!BL135<>\"\",申込みフォーム!BL135&\"　　\",\"\")&IF(申込みフォーム!BM135<>\"\",申込みフォーム!BM135&\"　　\",\"\")&IF(申込みフォーム!BN135<>\"\",申込みフォーム!BN135&\"　　\",\"\")","v":{"$error":"#VALUE!"}},{"$f":"申込みフォーム!$Z135","v":""}]
[126,null,null,null,null,{"$f":"IF(申込みフォーム!B136<>\"\",申込みフォーム!B136&\"　\"&申込みフォーム!C136,\"\")","v":""},{"$f":"IF(申込みフォーム!E136<>\"\",申込みフォーム!E136&\"　\"&申込みフォーム!F136,\"\")","v":""},{"$f":"IF(申込みフォーム!G136<>\"\",申込みフォーム!G136,\"\")","v":""},{"$f":"IF(申込みフォーム!H136<>\"\",申込みフォーム!H136,\"\")","v":""},{"$f":"IF(申込みフォーム!D136<>\"\",申込みフォーム!D136,\"\")","v":""},{"$f":"IF(申込みフォーム!I136<>\"\",REPLACE(申込みフォーム!I136,4,,\"-\"),\"\")","v":""},{"$f":"IF(申込みフォーム!J136<>\"\",申込みフォーム!J136,\"\")","v":""},{"$f":"IF(申込みフォーム!K136<>\"\",申込みフォーム!K136,\"\")","v":""},{"$f":"IF(申込みフォーム!L136<>\"\",MID(申込みフォーム!L136,1,3)&\"-\"&MID(申込みフォーム!L136,4,4)&\"-\"&MID(申込みフォーム!L136,8,4),\"\")","v":""},{"$f":"IF(申込みフォーム!M136<>\"\",申込みフォーム!M136,\"\")","v":""},{"$f":"IF(申込みフォーム!N136<>\"\",申込みフォーム!N136,\"\")","v":""},{"$f":"IF(申込みフォーム!O136<>\"\",申込みフォーム!O136,\"\")","v":""},{"$f":"IF(申込みフォーム!P136<>\"\",申込みフォーム!P136,\"\")","v":""},{"$f":"IF(申込みフォーム!Q136<>\"\",申込みフォーム!Q136,\"\")","v":""},{"$f":"IF(申込みフォーム!R136<>\"\",申込みフォーム!R136,\"\")","v":""},{"$f":"IF(申込みフォーム!S136<>\"\",申込みフォーム!S136,\"\")","v":""},{"$f":"IF(申込みフォーム!U136=\"細胞診のみ\",\"協会子宮　\",IF(申込みフォーム!U136=\"細胞診＋（自費）膣エコー\",\"協会子宮＋自費膣エコー　\",\"\"))&IF(申込みフォーム!W136<>\"\",\"協会ﾏﾝﾓ　\",\"\")&IF(申込みフォーム!Y136<>\"\",\"協会骨　\",\"\")&IF(申込みフォーム!AA136<>\"\",\"協会肝炎　\",\"\")","v":""},{"$f":"IF(申込みフォーム!AB136<>\"\",\"子宮　\",\"\")&IF(申込みフォーム!AC136<>\"\",\"ﾏﾝﾓ　\",\"\")&IF(申込みフォーム!AD136<>\"\",\"乳ｴｺｰ\",\"\")","v":""},{"$f":"IF(申込みフォーム!AE136<>\"\",\"ﾏｰｶｰ　\",\"\")&IF(申込みフォーム!AF136<>\"\",\"心機能　\",\"\")&IF(申込みフォーム!AG136<>\"\",\"ABC　\",\"\")&IF(申込みフォーム!AH136<>\"\",\"Lox　\",\"\")&IF(申込みフォーム!AI136<>\"\",\"甲状腺　\",\"\")&IF(申込みフォーム!AJ136<>\"\",\"肝炎\",\"\")","v":""},{"$f":"IF(申込みフォーム!AK136<>\"\",\"脳　\",\"\")&IF(申込みフォーム!AL136<>\"\",\"胸部CT　\",\"\")&IF(申込みフォーム!AM136<>\"\",\"肺機能　\",\"\")&IF(申込みフォーム!AN136<>\"\",\"腹ｴｺｰ　\",\"\")&IF(申込みフォーム!AO136<>\"\",\"心ｴｺｰ　\",\"\")&IF(申込みフォーム!AP136<>\"\",\"ﾌﾛｰﾗ　\",\"\")&IF(申込みフォーム!AQ136<>\"\",\"OCT　\",\"\")&IF(申込みフォーム!AR136<>\"\",\"検便　\",\"\")&IF(申込みフォーム!AS136<>\"\",\"骨　\",\"\")&IF(申込みフォーム!AT136<>\"\",\"骨＋ﾛｺﾓ\",\"\")","v":""},{"$f":"IF(申込みフォーム!AU136<>\"\",申込みフォーム!AU136&\"　　\",\"\")&IF(申込みフォーム!AV136<>\"\",申込みフォーム!AV136&\"　　\",\"\")&IF(申込みフォーム!AW136<>\"\",申込みフォーム!AW136&\"　　\",\"\")","v":""},{"$f":"IF(申込みフォーム!BJ136<>\"\",申込みフォーム!BJ136,\"\")","v":""},{"$f":"IF(申込みフォーム!BK136<>\"\",申込みフォーム!BK136,\"\")","v":""},{"$f":"IF(申込みフォーム!BL136<>\"\",申込みフォーム!BL136&\"　　\",\"\")&IF(申込みフォーム!BM136<>\"\",申込みフォーム!BM136&\"　　\",\"\")&IF(申込みフォーム!BN136<>\"\",申込みフォーム!BN136&\"　　\",\"\")","v":{"$error":"#VALUE!"}},{"$f":"申込みフォーム!$Z136","v":""}]
[127,null,null,null,null,{"$f":"IF(申込みフォーム!B137<>\"\",申込みフォーム!B137&\"　\"&申込みフォーム!C137,\"\")","v":""},{"$f":"IF(申込みフォーム!E137<>\"\",申込みフォーム!E137&\"　\"&申込みフォーム!F137,\"\")","v":""},{"$f":"IF(申込みフォーム!G137<>\"\",申込みフォーム!G137,\"\")","v":""},{"$f":"IF(申込みフォーム!H137<>\"\",申込みフォーム!H137,\"\")","v":""},{"$f":"IF(申込みフォーム!D137<>\"\",申込みフォーム!D137,\"\")","v":""},{"$f":"IF(申込みフォーム!I137<>\"\",REPLACE(申込みフォーム!I137,4,,\"-\"),\"\")","v":""},{"$f":"IF(申込みフォーム!J137<>\"\",申込みフォーム!J137,\"\")","v":""},{"$f":"IF(申込みフォーム!K137<>\"\",申込みフォーム!K137,\"\")","v":""},{"$f":"IF(申込みフォーム!L137<>\"\",MID(申込みフォーム!L137,1,3)&\"-\"&MID(申込みフォーム!L137,4,4)&\"-\"&MID(申込みフォーム!L137,8,4),\"\")","v":""},{"$f":"IF(申込みフォーム!M137<>\"\",申込みフォーム!M137,\"\")","v":""},{"$f":"IF(申込みフォーム!N137<>\"\",申込みフォーム!N137,\"\")","v":""},{"$f":"IF(申込みフォーム!O137<>\"\",申込みフォーム!O137,\"\")","v":""},{"$f":"IF(申込みフォーム!P137<>\"\",申込みフォーム!P137,\"\")","v":""},{"$f":"IF(申込みフォーム!Q137<>\"\",申込みフォーム!Q137,\"\")","v":""},{"$f":"IF(申込みフォーム!R137<>\"\",申込みフォーム!R137,\"\")","v":""},{"$f":"IF(申込みフォーム!S137<>\"\",申込みフォーム!S137,\"\")","v":""},{"$f":"IF(申込みフォーム!U137=\"細胞診のみ\",\"協会子宮　\",IF(申込みフォーム!U137=\"細胞診＋（自費）膣エコー\",\"協会子宮＋自費膣エコー　\",\"\"))&IF(申込みフォーム!W137<>\"\",\"協会ﾏﾝﾓ　\",\"\")&IF(申込みフォーム!Y137<>\"\",\"協会骨　\",\"\")&IF(申込みフォーム!AA137<>\"\",\"協会肝炎　\",\"\")","v":""},{"$f":"IF(申込みフォーム!AB137<>\"\",\"子宮　\",\"\")&IF(申込みフォーム!AC137<>\"\",\"ﾏﾝﾓ　\",\"\")&IF(申込みフォーム!AD137<>\"\",\"乳ｴｺｰ\",\"\")","v":""},{"$f":"IF(申込みフォーム!AE137<>\"\",\"ﾏｰｶｰ　\",\"\")&IF(申込みフォーム!AF137<>\"\",\"心機能　\",\"\")&IF(申込みフォーム!AG137<>\"\",\"ABC　\",\"\")&IF(申込みフォーム!AH137<>\"\",\"Lox　\",\"\")&IF(申込みフォーム!AI137<>\"\",\"甲状腺　\",\"\")&IF(申込みフォーム!AJ137<>\"\",\"肝炎\",\"\")","v":""},{"$f":"IF(申込みフォーム!AK137<>\"\",\"脳　\",\"\")&IF(申込みフォーム!AL137<>\"\",\"胸部CT　\",\"\")&IF(申込みフォーム!AM137<>\"\",\"肺機能　\",\"\")&IF(申込みフォーム!AN137<>\"\",\"腹ｴｺｰ　\",\"\")&IF(申込みフォーム!AO137<>\"\",\"心ｴｺｰ　\",\"\")&IF(申込みフォーム!AP137<>\"\",\"ﾌﾛｰﾗ　\",\"\")&IF(申込みフォーム!AQ137<>\"\",\"OCT　\",\"\")&IF(申込みフォーム!AR137<>\"\",\"検便　\",\"\")&IF(申込みフォーム!AS137<>\"\",\"骨　\",\"\")&IF(申込みフォーム!AT137<>\"\",\"骨＋ﾛｺﾓ\",\"\")","v":""},{"$f":"IF(申込みフォーム!AU137<>\"\",申込みフォーム!AU137&\"　　\",\"\")&IF(申込みフォーム!AV137<>\"\",申込みフォーム!AV137&\"　　\",\"\")&IF(申込みフォーム!AW137<>\"\",申込みフォーム!AW137&\"　　\",\"\")","v":""},{"$f":"IF(申込みフォーム!BJ137<>\"\",申込みフォーム!BJ137,\"\")","v":""},{"$f":"IF(申込みフォーム!BK137<>\"\",申込みフォーム!BK137,\"\")","v":""},{"$f":"IF(申込みフォーム!BL137<>\"\",申込みフォーム!BL137&\"　　\",\"\")&IF(申込みフォーム!BM137<>\"\",申込みフォーム!BM137&\"　　\",\"\")&IF(申込みフォーム!BN137<>\"\",申込みフォーム!BN137&\"　　\",\"\")","v":{"$error":"#VALUE!"}},{"$f":"申込みフォーム!$Z137","v":""}]
[128,null,null,null,null,{"$f":"IF(申込みフォーム!B138<>\"\",申込みフォーム!B138&\"　\"&申込みフォーム!C138,\"\")","v":""},{"$f":"IF(申込みフォーム!E138<>\"\",申込みフォーム!E138&\"　\"&申込みフォーム!F138,\"\")","v":""},{"$f":"IF(申込みフォーム!G138<>\"\",申込みフォーム!G138,\"\")","v":""},{"$f":"IF(申込みフォーム!H138<>\"\",申込みフォーム!H138,\"\")","v":""},{"$f":"IF(申込みフォーム!D138<>\"\",申込みフォーム!D138,\"\")","v":""},{"$f":"IF(申込みフォーム!I138<>\"\",REPLACE(申込みフォーム!I138,4,,\"-\"),\"\")","v":""},{"$f":"IF(申込みフォーム!J138<>\"\",申込みフォーム!J138,\"\")","v":""},{"$f":"IF(申込みフォーム!K138<>\"\",申込みフォーム!K138,\"\")","v":""},{"$f":"IF(申込みフォーム!L138<>\"\",MID(申込みフォーム!L138,1,3)&\"-\"&MID(申込みフォーム!L138,4,4)&\"-\"&MID(申込みフォーム!L138,8,4),\"\")","v":""},{"$f":"IF(申込みフォーム!M138<>\"\",申込みフォーム!M138,\"\")","v":""},{"$f":"IF(申込みフォーム!N138<>\"\",申込みフォーム!N138,\"\")","v":""},{"$f":"IF(申込みフォーム!O138<>\"\",申込みフォーム!O138,\"\")","v":""},{"$f":"IF(申込みフォーム!P138<>\"\",申込みフォーム!P138,\"\")","v":""},{"$f":"IF(申込みフォーム!Q138<>\"\",申込みフォーム!Q138,\"\")","v":""},{"$f":"IF(申込みフォーム!R138<>\"\",申込みフォーム!R138,\"\")","v":""},{"$f":"IF(申込みフォーム!S138<>\"\",申込みフォーム!S138,\"\")","v":""},{"$f":"IF(申込みフォーム!U138=\"細胞診のみ\",\"協会子宮　\",IF(申込みフォーム!U138=\"細胞診＋（自費）膣エコー\",\"協会子宮＋自費膣エコー　\",\"\"))&IF(申込みフォーム!W138<>\"\",\"協会ﾏﾝﾓ　\",\"\")&IF(申込みフォーム!Y138<>\"\",\"協会骨　\",\"\")&IF(申込みフォーム!AA138<>\"\",\"協会肝炎　\",\"\")","v":""},{"$f":"IF(申込みフォーム!AB138<>\"\",\"子宮　\",\"\")&IF(申込みフォーム!AC138<>\"\",\"ﾏﾝﾓ　\",\"\")&IF(申込みフォーム!AD138<>\"\",\"乳ｴｺｰ\",\"\")","v":""},{"$f":"IF(申込みフォーム!AE138<>\"\",\"ﾏｰｶｰ　\",\"\")&IF(申込みフォーム!AF138<>\"\",\"心機能　\",\"\")&IF(申込みフォーム!AG138<>\"\",\"ABC　\",\"\")&IF(申込みフォーム!AH138<>\"\",\"Lox　\",\"\")&IF(申込みフォーム!AI138<>\"\",\"甲状腺　\",\"\")&IF(申込みフォーム!AJ138<>\"\",\"肝炎\",\"\")","v":""},{"$f":"IF(申込みフォーム!AK138<>\"\",\"脳　\",\"\")&IF(申込みフォーム!AL138<>\"\",\"胸部CT　\",\"\")&IF(申込みフォーム!AM138<>\"\",\"肺機能　\",\"\")&IF(申込みフォーム!AN138<>\"\",\"腹ｴｺｰ　\",\"\")&IF(申込みフォーム!AO138<>\"\",\"心ｴｺｰ　\",\"\")&IF(申込みフォーム!AP138<>\"\",\"ﾌﾛｰﾗ　\",\"\")&IF(申込みフォーム!AQ138<>\"\",\"OCT　\",\"\")&IF(申込みフォーム!AR138<>\"\",\"検便　\",\"\")&IF(申込みフォーム!AS138<>\"\",\"骨　\",\"\")&IF(申込みフォーム!AT138<>\"\",\"骨＋ﾛｺﾓ\",\"\")","v":""},{"$f":"IF(申込みフォーム!AU138<>\"\",申込みフォーム!AU138&\"　　\",\"\")&IF(申込みフォーム!AV138<>\"\",申込みフォーム!AV138&\"　　\",\"\")&IF(申込みフォーム!AW138<>\"\",申込みフォーム!AW138&\"　　\",\"\")","v":""},{"$f":"IF(申込みフォーム!BJ138<>\"\",申込みフォーム!BJ138,\"\")","v":""},{"$f":"IF(申込みフォーム!BK138<>\"\",申込みフォーム!BK138,\"\")","v":""},{"$f":"IF(申込みフォーム!BL138<>\"\",申込みフォーム!BL138&\"　　\",\"\")&IF(申込みフォーム!BM138<>\"\",申込みフォーム!BM138&\"　　\",\"\")&IF(申込みフォーム!BN138<>\"\",申込みフォーム!BN138&\"　　\",\"\")","v":{"$error":"#VALUE!"}},{"$f":"申込みフォーム!$Z138","v":""}]
[129,null,null,null,null,{"$f":"IF(申込みフォーム!B139<>\"\",申込みフォーム!B139&\"　\"&申込みフォーム!C139,\"\")","v":""},{"$f":"IF(申込みフォーム!E139<>\"\",申込みフォーム!E139&\"　\"&申込みフォーム!F139,\"\")","v":""},{"$f":"IF(申込みフォーム!G139<>\"\",申込みフォーム!G139,\"\")","v":""},{"$f":"IF(申込みフォーム!H139<>\"\",申込みフォーム!H139,\"\")","v":""},{"$f":"IF(申込みフォーム!D139<>\"\",申込みフォーム!D139,\"\")","v":""},{"$f":"IF(申込みフォーム!I139<>\"\",REPLACE(申込みフォーム!I139,4,,\"-\"),\"\")","v":""},{"$f":"IF(申込みフォーム!J139<>\"\",申込みフォーム!J139,\"\")","v":""},{"$f":"IF(申込みフォーム!K139<>\"\",申込みフォーム!K139,\"\")","v":""},{"$f":"IF(申込みフォーム!L139<>\"\",MID(申込みフォーム!L139,1,3)&\"-\"&MID(申込みフォーム!L139,4,4)&\"-\"&MID(申込みフォーム!L139,8,4),\"\")","v":""},{"$f":"IF(申込みフォーム!M139<>\"\",申込みフォーム!M139,\"\")","v":""},{"$f":"IF(申込みフォーム!N139<>\"\",申込みフォーム!N139,\"\")","v":""},{"$f":"IF(申込みフォーム!O139<>\"\",申込みフォーム!O139,\"\")","v":""},{"$f":"IF(申込みフォーム!P139<>\"\",申込みフォーム!P139,\"\")","v":""},{"$f":"IF(申込みフォーム!Q139<>\"\",申込みフォーム!Q139,\"\")","v":""},{"$f":"IF(申込みフォーム!R139<>\"\",申込みフォーム!R139,\"\")","v":""},{"$f":"IF(申込みフォーム!S139<>\"\",申込みフォーム!S139,\"\")","v":""},{"$f":"IF(申込みフォーム!U139=\"細胞診のみ\",\"協会子宮　\",IF(申込みフォーム!U139=\"細胞診＋（自費）膣エコー\",\"協会子宮＋自費膣エコー　\",\"\"))&IF(申込みフォーム!W139<>\"\",\"協会ﾏﾝﾓ　\",\"\")&IF(申込みフォーム!Y139<>\"\",\"協会骨　\",\"\")&IF(申込みフォーム!AA139<>\"\",\"協会肝炎　\",\"\")","v":""},{"$f":"IF(申込みフォーム!AB139<>\"\",\"子宮　\",\"\")&IF(申込みフォーム!AC139<>\"\",\"ﾏﾝﾓ　\",\"\")&IF(申込みフォーム!AD139<>\"\",\"乳ｴｺｰ\",\"\")","v":""},{"$f":"IF(申込みフォーム!AE139<>\"\",\"ﾏｰｶｰ　\",\"\")&IF(申込みフォーム!AF139<>\"\",\"心機能　\",\"\")&IF(申込みフォーム!AG139<>\"\",\"ABC　\",\"\")&IF(申込みフォーム!AH139<>\"\",\"Lox　\",\"\")&IF(申込みフォーム!AI139<>\"\",\"甲状腺　\",\"\")&IF(申込みフォーム!AJ139<>\"\",\"肝炎\",\"\")","v":""},{"$f":"IF(申込みフォーム!AK139<>\"\",\"脳　\",\"\")&IF(申込みフォーム!AL139<>\"\",\"胸部CT　\",\"\")&IF(申込みフォーム!AM139<>\"\",\"肺機能　\",\"\")&IF(申込みフォーム!AN139<>\"\",\"腹ｴｺｰ　\",\"\")&IF(申込みフォーム!AO139<>\"\",\"心ｴｺｰ　\",\"\")&IF(申込みフォーム!AP139<>\"\",\"ﾌﾛｰﾗ　\",\"\")&IF(申込みフォーム!AQ139<>\"\",\"OCT　\",\"\")&IF(申込みフォーム!AR139<>\"\",\"検便　\",\"\")&IF(申込みフォーム!AS139<>\"\",\"骨　\",\"\")&IF(申込みフォーム!AT139<>\"\",\"骨＋ﾛｺﾓ\",\"\")","v":""},{"$f":"IF(申込みフォーム!AU139<>\"\",申込みフォーム!AU139&\"　　\",\"\")&IF(申込みフォーム!AV139<>\"\",申込みフォーム!AV139&\"　　\",\"\")&IF(申込みフォーム!AW139<>\"\",申込みフォーム!AW139&\"　　\",\"\")","v":""},{"$f":"IF(申込みフォーム!BJ139<>\"\",申込みフォーム!BJ139,\"\")","v":""},{"$f":"IF(申込みフォーム!BK139<>\"\",申込みフォーム!BK139,\"\")","v":""},{"$f":"IF(申込みフォーム!BL139<>\"\",申込みフォーム!BL139&\"　　\",\"\")&IF(申込みフォーム!BM139<>\"\",申込みフォーム!BM139&\"　　\",\"\")&IF(申込みフォーム!BN139<>\"\",申込みフォーム!BN139&\"　　\",\"\")","v":{"$error":"#VALUE!"}},{"$f":"申込みフォーム!$Z139","v":""}]
[130,null,null,null,null,{"$f":"IF(申込みフォーム!B140<>\"\",申込みフォーム!B140&\"　\"&申込みフォーム!C140,\"\")","v":""},{"$f":"IF(申込みフォーム!E140<>\"\",申込みフォーム!E140&\"　\"&申込みフォーム!F140,\"\")","v":""},{"$f":"IF(申込みフォーム!G140<>\"\",申込みフォーム!G140,\"\")","v":""},{"$f":"IF(申込みフォーム!H140<>\"\",申込みフォーム!H140,\"\")","v":""},{"$f":"IF(申込みフォーム!D140<>\"\",申込みフォーム!D140,\"\")","v":""},{"$f":"IF(申込みフォーム!I140<>\"\",REPLACE(申込みフォーム!I140,4,,\"-\"),\"\")","v":""},{"$f":"IF(申込みフォーム!J140<>\"\",申込みフォーム!J140,\"\")","v":""},{"$f":"IF(申込みフォーム!K140<>\"\",申込みフォーム!K140,\"\")","v":""},{"$f":"IF(申込みフォーム!L140<>\"\",MID(申込みフォーム!L140,1,3)&\"-\"&MID(申込みフォーム!L140,4,4)&\"-\"&MID(申込みフォーム!L140,8,4),\"\")","v":""},{"$f":"IF(申込みフォーム!M140<>\"\",申込みフォーム!M140,\"\")","v":""},{"$f":"IF(申込みフォーム!N140<>\"\",申込みフォーム!N140,\"\")","v":""},{"$f":"IF(申込みフォーム!O140<>\"\",申込みフォーム!O140,\"\")","v":""},{"$f":"IF(申込みフォーム!P140<>\"\",申込みフォーム!P140,\"\")","v":""},{"$f":"IF(申込みフォーム!Q140<>\"\",申込みフォーム!Q140,\"\")","v":""},{"$f":"IF(申込みフォーム!R140<>\"\",申込みフォーム!R140,\"\")","v":""},{"$f":"IF(申込みフォーム!S140<>\"\",申込みフォーム!S140,\"\")","v":""},{"$f":"IF(申込みフォーム!U140=\"細胞診のみ\",\"協会子宮　\",IF(申込みフォーム!U140=\"細胞診＋（自費）膣エコー\",\"協会子宮＋自費膣エコー　\",\"\"))&IF(申込みフォーム!W140<>\"\",\"協会ﾏﾝﾓ　\",\"\")&IF(申込みフォーム!Y140<>\"\",\"協会骨　\",\"\")&IF(申込みフォーム!AA140<>\"\",\"協会肝炎　\",\"\")","v":""},{"$f":"IF(申込みフォーム!AB140<>\"\",\"子宮　\",\"\")&IF(申込みフォーム!AC140<>\"\",\"ﾏﾝﾓ　\",\"\")&IF(申込みフォーム!AD140<>\"\",\"乳ｴｺｰ\",\"\")","v":""},{"$f":"IF(申込みフォーム!AE140<>\"\",\"ﾏｰｶｰ　\",\"\")&IF(申込みフォーム!AF140<>\"\",\"心機能　\",\"\")&IF(申込みフォーム!AG140<>\"\",\"ABC　\",\"\")&IF(申込みフォーム!AH140<>\"\",\"Lox　\",\"\")&IF(申込みフォーム!AI140<>\"\",\"甲状腺　\",\"\")&IF(申込みフォーム!AJ140<>\"\",\"肝炎\",\"\")","v":""},{"$f":"IF(申込みフォーム!AK140<>\"\",\"脳　\",\"\")&IF(申込みフォーム!AL140<>\"\",\"胸部CT　\",\"\")&IF(申込みフォーム!AM140<>\"\",\"肺機能　\",\"\")&IF(申込みフォーム!AN140<>\"\",\"腹ｴｺｰ　\",\"\")&IF(申込みフォーム!AO140<>\"\",\"心ｴｺｰ　\",\"\")&IF(申込みフォーム!AP140<>\"\",\"ﾌﾛｰﾗ　\",\"\")&IF(申込みフォーム!AQ140<>\"\",\"OCT　\",\"\")&IF(申込みフォーム!AR140<>\"\",\"検便　\",\"\")&IF(申込みフォーム!AS140<>\"\",\"骨　\",\"\")&IF(申込みフォーム!AT140<>\"\",\"骨＋ﾛｺﾓ\",\"\")","v":""},{"$f":"IF(申込みフォーム!AU140<>\"\",申込みフォーム!AU140&\"　　\",\"\")&IF(申込みフォーム!AV140<>\"\",申込みフォーム!AV140&\"　　\",\"\")&IF(申込みフォーム!AW140<>\"\",申込みフォーム!AW140&\"　　\",\"\")","v":""},{"$f":"IF(申込みフォーム!BJ140<>\"\",申込みフォーム!BJ140,\"\")","v":""},{"$f":"IF(申込みフォーム!BK140<>\"\",申込みフォーム!BK140,\"\")","v":""},{"$f":"IF(申込みフォーム!BL140<>\"\",申込みフォーム!BL140&\"　　\",\"\")&IF(申込みフォーム!BM140<>\"\",申込みフォーム!BM140&\"　　\",\"\")&IF(申込みフォーム!BN140<>\"\",申込みフォーム!BN140&\"　　\",\"\")","v":{"$error":"#VALUE!"}},{"$f":"申込みフォーム!$Z140","v":""}]
[131,null,null,null,null,{"$f":"IF(申込みフォーム!B141<>\"\",申込みフォーム!B141&\"　\"&申込みフォーム!C141,\"\")","v":""},{"$f":"IF(申込みフォーム!E141<>\"\",申込みフォーム!E141&\"　\"&申込みフォーム!F141,\"\")","v":""},{"$f":"IF(申込みフォーム!G141<>\"\",申込みフォーム!G141,\"\")","v":""},{"$f":"IF(申込みフォーム!H141<>\"\",申込みフォーム!H141,\"\")","v":""},{"$f":"IF(申込みフォーム!D141<>\"\",申込みフォーム!D141,\"\")","v":""},{"$f":"IF(申込みフォーム!I141<>\"\",REPLACE(申込みフォーム!I141,4,,\"-\"),\"\")","v":""},{"$f":"IF(申込みフォーム!J141<>\"\",申込みフォーム!J141,\"\")","v":""},{"$f":"IF(申込みフォーム!K141<>\"\",申込みフォーム!K141,\"\")","v":""},{"$f":"IF(申込みフォーム!L141<>\"\",MID(申込みフォーム!L141,1,3)&\"-\"&MID(申込みフォーム!L141,4,4)&\"-\"&MID(申込みフォーム!L141,8,4),\"\")","v":""},{"$f":"IF(申込みフォーム!M141<>\"\",申込みフォーム!M141,\"\")","v":""},{"$f":"IF(申込みフォーム!N141<>\"\",申込みフォーム!N141,\"\")","v":""},{"$f":"IF(申込みフォーム!O141<>\"\",申込みフォーム!O141,\"\")","v":""},{"$f":"IF(申込みフォーム!P141<>\"\",申込みフォーム!P141,\"\")","v":""},{"$f":"IF(申込みフォーム!Q141<>\"\",申込みフォーム!Q141,\"\")","v":""},{"$f":"IF(申込みフォーム!R141<>\"\",申込みフォーム!R141,\"\")","v":""},{"$f":"IF(申込みフォーム!S141<>\"\",申込みフォーム!S141,\"\")","v":""},{"$f":"IF(申込みフォーム!U141=\"細胞診のみ\",\"協会子宮　\",IF(申込みフォーム!U141=\"細胞診＋（自費）膣エコー\",\"協会子宮＋自費膣エコー　\",\"\"))&IF(申込みフォーム!W141<>\"\",\"協会ﾏﾝﾓ　\",\"\")&IF(申込みフォーム!Y141<>\"\",\"協会骨　\",\"\")&IF(申込みフォーム!AA141<>\"\",\"協会肝炎　\",\"\")","v":""},{"$f":"IF(申込みフォーム!AB141<>\"\",\"子宮　\",\"\")&IF(申込みフォーム!AC141<>\"\",\"ﾏﾝﾓ　\",\"\")&IF(申込みフォーム!AD141<>\"\",\"乳ｴｺｰ\",\"\")","v":""},{"$f":"IF(申込みフォーム!AE141<>\"\",\"ﾏｰｶｰ　\",\"\")&IF(申込みフォーム!AF141<>\"\",\"心機能　\",\"\")&IF(申込みフォーム!AG141<>\"\",\"ABC　\",\"\")&IF(申込みフォーム!AH141<>\"\",\"Lox　\",\"\")&IF(申込みフォーム!AI141<>\"\",\"甲状腺　\",\"\")&IF(申込みフォーム!AJ141<>\"\",\"肝炎\",\"\")","v":""},{"$f":"IF(申込みフォーム!AK141<>\"\",\"脳　\",\"\")&IF(申込みフォーム!AL141<>\"\",\"胸部CT　\",\"\")&IF(申込みフォーム!AM141<>\"\",\"肺機能　\",\"\")&IF(申込みフォーム!AN141<>\"\",\"腹ｴｺｰ　\",\"\")&IF(申込みフォーム!AO141<>\"\",\"心ｴｺｰ　\",\"\")&IF(申込みフォーム!AP141<>\"\",\"ﾌﾛｰﾗ　\",\"\")&IF(申込みフォーム!AQ141<>\"\",\"OCT　\",\"\")&IF(申込みフォーム!AR141<>\"\",\"検便　\",\"\")&IF(申込みフォーム!AS141<>\"\",\"骨　\",\"\")&IF(申込みフォーム!AT141<>\"\",\"骨＋ﾛｺﾓ\",\"\")","v":""},{"$f":"IF(申込みフォーム!AU141<>\"\",申込みフォーム!AU141&\"　　\",\"\")&IF(申込みフォーム!AV141<>\"\",申込みフォーム!AV141&\"　　\",\"\")&IF(申込みフォーム!AW141<>\"\",申込みフォーム!AW141&\"　　\",\"\")","v":""},{"$f":"IF(申込みフォーム!BJ141<>\"\",申込みフォーム!BJ141,\"\")","v":""},{"$f":"IF(申込みフォーム!BK141<>\"\",申込みフォーム!BK141,\"\")","v":""},{"$f":"IF(申込みフォーム!BL141<>\"\",申込みフォーム!BL141&\"　　\",\"\")&IF(申込みフォーム!BM141<>\"\",申込みフォーム!BM141&\"　　\",\"\")&IF(申込みフォーム!BN141<>\"\",申込みフォーム!BN141&\"　　\",\"\")","v":{"$error":"#VALUE!"}},{"$f":"申込みフォーム!$Z141","v":""}]
[132,null,null,null,null,{"$f":"IF(申込みフォーム!B142<>\"\",申込みフォーム!B142&\"　\"&申込みフォーム!C142,\"\")","v":""},{"$f":"IF(申込みフォーム!E142<>\"\",申込みフォーム!E142&\"　\"&申込みフォーム!F142,\"\")","v":""},{"$f":"IF(申込みフォーム!G142<>\"\",申込みフォーム!G142,\"\")","v":""},{"$f":"IF(申込みフォーム!H142<>\"\",申込みフォーム!H142,\"\")","v":""},{"$f":"IF(申込みフォーム!D142<>\"\",申込みフォーム!D142,\"\")","v":""},{"$f":"IF(申込みフォーム!I142<>\"\",REPLACE(申込みフォーム!I142,4,,\"-\"),\"\")","v":""},{"$f":"IF(申込みフォーム!J142<>\"\",申込みフォーム!J142,\"\")","v":""},{"$f":"IF(申込みフォーム!K142<>\"\",申込みフォーム!K142,\"\")","v":""},{"$f":"IF(申込みフォーム!L142<>\"\",MID(申込みフォーム!L142,1,3)&\"-\"&MID(申込みフォーム!L142,4,4)&\"-\"&MID(申込みフォーム!L142,8,4),\"\")","v":""},{"$f":"IF(申込みフォーム!M142<>\"\",申込みフォーム!M142,\"\")","v":""},{"$f":"IF(申込みフォーム!N142<>\"\",申込みフォーム!N142,\"\")","v":""},{"$f":"IF(申込みフォーム!O142<>\"\",申込みフォーム!O142,\"\")","v":""},{"$f":"IF(申込みフォーム!P142<>\"\",申込みフォーム!P142,\"\")","v":""},{"$f":"IF(申込みフォーム!Q142<>\"\",申込みフォーム!Q142,\"\")","v":""},{"$f":"IF(申込みフォーム!R142<>\"\",申込みフォーム!R142,\"\")","v":""},{"$f":"IF(申込みフォーム!S142<>\"\",申込みフォーム!S142,\"\")","v":""},{"$f":"IF(申込みフォーム!U142=\"細胞診のみ\",\"協会子宮　\",IF(申込みフォーム!U142=\"細胞診＋（自費）膣エコー\",\"協会子宮＋自費膣エコー　\",\"\"))&IF(申込みフォーム!W142<>\"\",\"協会ﾏﾝﾓ　\",\"\")&IF(申込みフォーム!Y142<>\"\",\"協会骨　\",\"\")&IF(申込みフォーム!AA142<>\"\",\"協会肝炎　\",\"\")","v":""},{"$f":"IF(申込みフォーム!AB142<>\"\",\"子宮　\",\"\")&IF(申込みフォーム!AC142<>\"\",\"ﾏﾝﾓ　\",\"\")&IF(申込みフォーム!AD142<>\"\",\"乳ｴｺｰ\",\"\")","v":""},{"$f":"IF(申込みフォーム!AE142<>\"\",\"ﾏｰｶｰ　\",\"\")&IF(申込みフォーム!AF142<>\"\",\"心機能　\",\"\")&IF(申込みフォーム!AG142<>\"\",\"ABC　\",\"\")&IF(申込みフォーム!AH142<>\"\",\"Lox　\",\"\")&IF(申込みフォーム!AI142<>\"\",\"甲状腺　\",\"\")&IF(申込みフォーム!AJ142<>\"\",\"肝炎\",\"\")","v":""},{"$f":"IF(申込みフォーム!AK142<>\"\",\"脳　\",\"\")&IF(申込みフォーム!AL142<>\"\",\"胸部CT　\",\"\")&IF(申込みフォーム!AM142<>\"\",\"肺機能　\",\"\")&IF(申込みフォーム!AN142<>\"\",\"腹ｴｺｰ　\",\"\")&IF(申込みフォーム!AO142<>\"\",\"心ｴｺｰ　\",\"\")&IF(申込みフォーム!AP142<>\"\",\"ﾌﾛｰﾗ　\",\"\")&IF(申込みフォーム!AQ142<>\"\",\"OCT　\",\"\")&IF(申込みフォーム!AR142<>\"\",\"検便　\",\"\")&IF(申込みフォーム!AS142<>\"\",\"骨　\",\"\")&IF(申込みフォーム!AT142<>\"\",\"骨＋ﾛｺﾓ\",\"\")","v":""},{"$f":"IF(申込みフォーム!AU142<>\"\",申込みフォーム!AU142&\"　　\",\"\")&IF(申込みフォーム!AV142<>\"\",申込みフォーム!AV142&\"　　\",\"\")&IF(申込みフォーム!AW142<>\"\",申込みフォーム!AW142&\"　　\",\"\")","v":""},{"$f":"IF(申込みフォーム!BJ142<>\"\",申込みフォーム!BJ142,\"\")","v":""},{"$f":"IF(申込みフォーム!BK142<>\"\",申込みフォーム!BK142,\"\")","v":""},{"$f":"IF(申込みフォーム!BL142<>\"\",申込みフォーム!BL142&\"　　\",\"\")&IF(申込みフォーム!BM142<>\"\",申込みフォーム!BM142&\"　　\",\"\")&IF(申込みフォーム!BN142<>\"\",申込みフォーム!BN142&\"　　\",\"\")","v":{"$error":"#VALUE!"}},{"$f":"申込みフォーム!$Z142","v":""}]
[133,null,null,null,null,{"$f":"IF(申込みフォーム!B143<>\"\",申込みフォーム!B143&\"　\"&申込みフォーム!C143,\"\")","v":""},{"$f":"IF(申込みフォーム!E143<>\"\",申込みフォーム!E143&\"　\"&申込みフォーム!F143,\"\")","v":""},{"$f":"IF(申込みフォーム!G143<>\"\",申込みフォーム!G143,\"\")","v":""},{"$f":"IF(申込みフォーム!H143<>\"\",申込みフォーム!H143,\"\")","v":""},{"$f":"IF(申込みフォーム!D143<>\"\",申込みフォーム!D143,\"\")","v":""},{"$f":"IF(申込みフォーム!I143<>\"\",REPLACE(申込みフォーム!I143,4,,\"-\"),\"\")","v":""},{"$f":"IF(申込みフォーム!J143<>\"\",申込みフォーム!J143,\"\")","v":""},{"$f":"IF(申込みフォーム!K143<>\"\",申込みフォーム!K143,\"\")","v":""},{"$f":"IF(申込みフォーム!L143<>\"\",MID(申込みフォーム!L143,1,3)&\"-\"&MID(申込みフォーム!L143,4,4)&\"-\"&MID(申込みフォーム!L143,8,4),\"\")","v":""},{"$f":"IF(申込みフォーム!M143<>\"\",申込みフォーム!M143,\"\")","v":""},{"$f":"IF(申込みフォーム!N143<>\"\",申込みフォーム!N143,\"\")","v":""},{"$f":"IF(申込みフォーム!O143<>\"\",申込みフォーム!O143,\"\")","v":""},{"$f":"IF(申込みフォーム!P143<>\"\",申込みフォーム!P143,\"\")","v":""},{"$f":"IF(申込みフォーム!Q143<>\"\",申込みフォーム!Q143,\"\")","v":""},{"$f":"IF(申込みフォーム!R143<>\"\",申込みフォーム!R143,\"\")","v":""},{"$f":"IF(申込みフォーム!S143<>\"\",申込みフォーム!S143,\"\")","v":""},{"$f":"IF(申込みフォーム!U143=\"細胞診のみ\",\"協会子宮　\",IF(申込みフォーム!U143=\"細胞診＋（自費）膣エコー\",\"協会子宮＋自費膣エコー　\",\"\"))&IF(申込みフォーム!W143<>\"\",\"協会ﾏﾝﾓ　\",\"\")&IF(申込みフォーム!Y143<>\"\",\"協会骨　\",\"\")&IF(申込みフォーム!AA143<>\"\",\"協会肝炎　\",\"\")","v":""},{"$f":"IF(申込みフォーム!AB143<>\"\",\"子宮　\",\"\")&IF(申込みフォーム!AC143<>\"\",\"ﾏﾝﾓ　\",\"\")&IF(申込みフォーム!AD143<>\"\",\"乳ｴｺｰ\",\"\")","v":""},{"$f":"IF(申込みフォーム!AE143<>\"\",\"ﾏｰｶｰ　\",\"\")&IF(申込みフォーム!AF143<>\"\",\"心機能　\",\"\")&IF(申込みフォーム!AG143<>\"\",\"ABC　\",\"\")&IF(申込みフォーム!AH143<>\"\",\"Lox　\",\"\")&IF(申込みフォーム!AI143<>\"\",\"甲状腺　\",\"\")&IF(申込みフォーム!AJ143<>\"\",\"肝炎\",\"\")","v":""},{"$f":"IF(申込みフォーム!AK143<>\"\",\"脳　\",\"\")&IF(申込みフォーム!AL143<>\"\",\"胸部CT　\",\"\")&IF(申込みフォーム!AM143<>\"\",\"肺機能　\",\"\")&IF(申込みフォーム!AN143<>\"\",\"腹ｴｺｰ　\",\"\")&IF(申込みフォーム!AO143<>\"\",\"心ｴｺｰ　\",\"\")&IF(申込みフォーム!AP143<>\"\",\"ﾌﾛｰﾗ　\",\"\")&IF(申込みフォーム!AQ143<>\"\",\"OCT　\",\"\")&IF(申込みフォーム!AR143<>\"\",\"検便　\",\"\")&IF(申込みフォーム!AS143<>\"\",\"骨　\",\"\")&IF(申込みフォーム!AT143<>\"\",\"骨＋ﾛｺﾓ\",\"\")","v":""},{"$f":"IF(申込みフォーム!AU143<>\"\",申込みフォーム!AU143&\"　　\",\"\")&IF(申込みフォーム!AV143<>\"\",申込みフォーム!AV143&\"　　\",\"\")&IF(申込みフォーム!AW143<>\"\",申込みフォーム!AW143&\"　　\",\"\")","v":""},{"$f":"IF(申込みフォーム!BJ143<>\"\",申込みフォーム!BJ143,\"\")","v":""},{"$f":"IF(申込みフォーム!BK143<>\"\",申込みフォーム!BK143,\"\")","v":""},{"$f":"IF(申込みフォーム!BL143<>\"\",申込みフォーム!BL143&\"　　\",\"\")&IF(申込みフォーム!BM143<>\"\",申込みフォーム!BM143&\"　　\",\"\")&IF(申込みフォーム!BN143<>\"\",申込みフォーム!BN143&\"　　\",\"\")","v":{"$error":"#VALUE!"}},{"$f":"申込みフォーム!$Z143","v":""}]
[134,null,null,null,null,{"$f":"IF(申込みフォーム!B144<>\"\",申込みフォーム!B144&\"　\"&申込みフォーム!C144,\"\")","v":""},{"$f":"IF(申込みフォーム!E144<>\"\",申込みフォーム!E144&\"　\"&申込みフォーム!F144,\"\")","v":""},{"$f":"IF(申込みフォーム!G144<>\"\",申込みフォーム!G144,\"\")","v":""},{"$f":"IF(申込みフォーム!H144<>\"\",申込みフォーム!H144,\"\")","v":""},{"$f":"IF(申込みフォーム!D144<>\"\",申込みフォーム!D144,\"\")","v":""},{"$f":"IF(申込みフォーム!I144<>\"\",REPLACE(申込みフォーム!I144,4,,\"-\"),\"\")","v":""},{"$f":"IF(申込みフォーム!J144<>\"\",申込みフォーム!J144,\"\")","v":""},{"$f":"IF(申込みフォーム!K144<>\"\",申込みフォーム!K144,\"\")","v":""},{"$f":"IF(申込みフォーム!L144<>\"\",MID(申込みフォーム!L144,1,3)&\"-\"&MID(申込みフォーム!L144,4,4)&\"-\"&MID(申込みフォーム!L144,8,4),\"\")","v":""},{"$f":"IF(申込みフォーム!M144<>\"\",申込みフォーム!M144,\"\")","v":""},{"$f":"IF(申込みフォーム!N144<>\"\",申込みフォーム!N144,\"\")","v":""},{"$f":"IF(申込みフォーム!O144<>\"\",申込みフォーム!O144,\"\")","v":""},{"$f":"IF(申込みフォーム!P144<>\"\",申込みフォーム!P144,\"\")","v":""},{"$f":"IF(申込みフォーム!Q144<>\"\",申込みフォーム!Q144,\"\")","v":""},{"$f":"IF(申込みフォーム!R144<>\"\",申込みフォーム!R144,\"\")","v":""},{"$f":"IF(申込みフォーム!S144<>\"\",申込みフォーム!S144,\"\")","v":""},{"$f":"IF(申込みフォーム!U144=\"細胞診のみ\",\"協会子宮　\",IF(申込みフォーム!U144=\"細胞診＋（自費）膣エコー\",\"協会子宮＋自費膣エコー　\",\"\"))&IF(申込みフォーム!W144<>\"\",\"協会ﾏﾝﾓ　\",\"\")&IF(申込みフォーム!Y144<>\"\",\"協会骨　\",\"\")&IF(申込みフォーム!AA144<>\"\",\"協会肝炎　\",\"\")","v":""},{"$f":"IF(申込みフォーム!AB144<>\"\",\"子宮　\",\"\")&IF(申込みフォーム!AC144<>\"\",\"ﾏﾝﾓ　\",\"\")&IF(申込みフォーム!AD144<>\"\",\"乳ｴｺｰ\",\"\")","v":""},{"$f":"IF(申込みフォーム!AE144<>\"\",\"ﾏｰｶｰ　\",\"\")&IF(申込みフォーム!AF144<>\"\",\"心機能　\",\"\")&IF(申込みフォーム!AG144<>\"\",\"ABC　\",\"\")&IF(申込みフォーム!AH144<>\"\",\"Lox　\",\"\")&IF(申込みフォーム!AI144<>\"\",\"甲状腺　\",\"\")&IF(申込みフォーム!AJ144<>\"\",\"肝炎\",\"\")","v":""},{"$f":"IF(申込みフォーム!AK144<>\"\",\"脳　\",\"\")&IF(申込みフォーム!AL144<>\"\",\"胸部CT　\",\"\")&IF(申込みフォーム!AM144<>\"\",\"肺機能　\",\"\")&IF(申込みフォーム!AN144<>\"\",\"腹ｴｺｰ　\",\"\")&IF(申込みフォーム!AO144<>\"\",\"心ｴｺｰ　\",\"\")&IF(申込みフォーム!AP144<>\"\",\"ﾌﾛｰﾗ　\",\"\")&IF(申込みフォーム!AQ144<>\"\",\"OCT　\",\"\")&IF(申込みフォーム!AR144<>\"\",\"検便　\",\"\")&IF(申込みフォーム!AS144<>\"\",\"骨　\",\"\")&IF(申込みフォーム!AT144<>\"\",\"骨＋ﾛｺﾓ\",\"\")","v":""},{"$f":"IF(申込みフォーム!AU144<>\"\",申込みフォーム!AU144&\"　　\",\"\")&IF(申込みフォーム!AV144<>\"\",申込みフォーム!AV144&\"　　\",\"\")&IF(申込みフォーム!AW144<>\"\",申込みフォーム!AW144&\"　　\",\"\")","v":""},{"$f":"IF(申込みフォーム!BJ144<>\"\",申込みフォーム!BJ144,\"\")","v":""},{"$f":"IF(申込みフォーム!BK144<>\"\",申込みフォーム!BK144,\"\")","v":""},{"$f":"IF(申込みフォーム!BL144<>\"\",申込みフォーム!BL144&\"　　\",\"\")&IF(申込みフォーム!BM144<>\"\",申込みフォーム!BM144&\"　　\",\"\")&IF(申込みフォーム!BN144<>\"\",申込みフォーム!BN144&\"　　\",\"\")","v":{"$error":"#VALUE!"}},{"$f":"申込みフォーム!$Z144","v":""}]
[135,null,null,null,null,{"$f":"IF(申込みフォーム!B145<>\"\",申込みフォーム!B145&\"　\"&申込みフォーム!C145,\"\")","v":""},{"$f":"IF(申込みフォーム!E145<>\"\",申込みフォーム!E145&\"　\"&申込みフォーム!F145,\"\")","v":""},{"$f":"IF(申込みフォーム!G145<>\"\",申込みフォーム!G145,\"\")","v":""},{"$f":"IF(申込みフォーム!H145<>\"\",申込みフォーム!H145,\"\")","v":""},{"$f":"IF(申込みフォーム!D145<>\"\",申込みフォーム!D145,\"\")","v":""},{"$f":"IF(申込みフォーム!I145<>\"\",REPLACE(申込みフォーム!I145,4,,\"-\"),\"\")","v":""},{"$f":"IF(申込みフォーム!J145<>\"\",申込みフォーム!J145,\"\")","v":""},{"$f":"IF(申込みフォーム!K145<>\"\",申込みフォーム!K145,\"\")","v":""},{"$f":"IF(申込みフォーム!L145<>\"\",MID(申込みフォーム!L145,1,3)&\"-\"&MID(申込みフォーム!L145,4,4)&\"-\"&MID(申込みフォーム!L145,8,4),\"\")","v":""},{"$f":"IF(申込みフォーム!M145<>\"\",申込みフォーム!M145,\"\")","v":""},{"$f":"IF(申込みフォーム!N145<>\"\",申込みフォーム!N145,\"\")","v":""},{"$f":"IF(申込みフォーム!O145<>\"\",申込みフォーム!O145,\"\")","v":""},{"$f":"IF(申込みフォーム!P145<>\"\",申込みフォーム!P145,\"\")","v":""},{"$f":"IF(申込みフォーム!Q145<>\"\",申込みフォーム!Q145,\"\")","v":""},{"$f":"IF(申込みフォーム!R145<>\"\",申込みフォーム!R145,\"\")","v":""},{"$f":"IF(申込みフォーム!S145<>\"\",申込みフォーム!S145,\"\")","v":""},{"$f":"IF(申込みフォーム!U145=\"細胞診のみ\",\"協会子宮　\",IF(申込みフォーム!U145=\"細胞診＋（自費）膣エコー\",\"協会子宮＋自費膣エコー　\",\"\"))&IF(申込みフォーム!W145<>\"\",\"協会ﾏﾝﾓ　\",\"\")&IF(申込みフォーム!Y145<>\"\",\"協会骨　\",\"\")&IF(申込みフォーム!AA145<>\"\",\"協会肝炎　\",\"\")","v":""},{"$f":"IF(申込みフォーム!AB145<>\"\",\"子宮　\",\"\")&IF(申込みフォーム!AC145<>\"\",\"ﾏﾝﾓ　\",\"\")&IF(申込みフォーム!AD145<>\"\",\"乳ｴｺｰ\",\"\")","v":""},{"$f":"IF(申込みフォーム!AE145<>\"\",\"ﾏｰｶｰ　\",\"\")&IF(申込みフォーム!AF145<>\"\",\"心機能　\",\"\")&IF(申込みフォーム!AG145<>\"\",\"ABC　\",\"\")&IF(申込みフォーム!AH145<>\"\",\"Lox　\",\"\")&IF(申込みフォーム!AI145<>\"\",\"甲状腺　\",\"\")&IF(申込みフォーム!AJ145<>\"\",\"肝炎\",\"\")","v":""},{"$f":"IF(申込みフォーム!AK145<>\"\",\"脳　\",\"\")&IF(申込みフォーム!AL145<>\"\",\"胸部CT　\",\"\")&IF(申込みフォーム!AM145<>\"\",\"肺機能　\",\"\")&IF(申込みフォーム!AN145<>\"\",\"腹ｴｺｰ　\",\"\")&IF(申込みフォーム!AO145<>\"\",\"心ｴｺｰ　\",\"\")&IF(申込みフォーム!AP145<>\"\",\"ﾌﾛｰﾗ　\",\"\")&IF(申込みフォーム!AQ145<>\"\",\"OCT　\",\"\")&IF(申込みフォーム!AR145<>\"\",\"検便　\",\"\")&IF(申込みフォーム!AS145<>\"\",\"骨　\",\"\")&IF(申込みフォーム!AT145<>\"\",\"骨＋ﾛｺﾓ\",\"\")","v":""},{"$f":"IF(申込みフォーム!AU145<>\"\",申込みフォーム!AU145&\"　　\",\"\")&IF(申込みフォーム!AV145<>\"\",申込みフォーム!AV145&\"　　\",\"\")&IF(申込みフォーム!AW145<>\"\",申込みフォーム!AW145&\"　　\",\"\")","v":""},{"$f":"IF(申込みフォーム!BJ145<>\"\",申込みフォーム!BJ145,\"\")","v":""},{"$f":"IF(申込みフォーム!BK145<>\"\",申込みフォーム!BK145,\"\")","v":""},{"$f":"IF(申込みフォーム!BL145<>\"\",申込みフォーム!BL145&\"　　\",\"\")&IF(申込みフォーム!BM145<>\"\",申込みフォーム!BM145&\"　　\",\"\")&IF(申込みフォーム!BN145<>\"\",申込みフォーム!BN145&\"　　\",\"\")","v":{"$error":"#VALUE!"}},{"$f":"申込みフォーム!$Z145","v":""}]
[136,null,null,null,null,{"$f":"IF(申込みフォーム!B146<>\"\",申込みフォーム!B146&\"　\"&申込みフォーム!C146,\"\")","v":""},{"$f":"IF(申込みフォーム!E146<>\"\",申込みフォーム!E146&\"　\"&申込みフォーム!F146,\"\")","v":""},{"$f":"IF(申込みフォーム!G146<>\"\",申込みフォーム!G146,\"\")","v":""},{"$f":"IF(申込みフォーム!H146<>\"\",申込みフォーム!H146,\"\")","v":""},{"$f":"IF(申込みフォーム!D146<>\"\",申込みフォーム!D146,\"\")","v":""},{"$f":"IF(申込みフォーム!I146<>\"\",REPLACE(申込みフォーム!I146,4,,\"-\"),\"\")","v":""},{"$f":"IF(申込みフォーム!J146<>\"\",申込みフォーム!J146,\"\")","v":""},{"$f":"IF(申込みフォーム!K146<>\"\",申込みフォーム!K146,\"\")","v":""},{"$f":"IF(申込みフォーム!L146<>\"\",MID(申込みフォーム!L146,1,3)&\"-\"&MID(申込みフォーム!L146,4,4)&\"-\"&MID(申込みフォーム!L146,8,4),\"\")","v":""},{"$f":"IF(申込みフォーム!M146<>\"\",申込みフォーム!M146,\"\")","v":""},{"$f":"IF(申込みフォーム!N146<>\"\",申込みフォーム!N146,\"\")","v":""},{"$f":"IF(申込みフォーム!O146<>\"\",申込みフォーム!O146,\"\")","v":""},{"$f":"IF(申込みフォーム!P146<>\"\",申込みフォーム!P146,\"\")","v":""},{"$f":"IF(申込みフォーム!Q146<>\"\",申込みフォーム!Q146,\"\")","v":""},{"$f":"IF(申込みフォーム!R146<>\"\",申込みフォーム!R146,\"\")","v":""},{"$f":"IF(申込みフォーム!S146<>\"\",申込みフォーム!S146,\"\")","v":""},{"$f":"IF(申込みフォーム!U146=\"細胞診のみ\",\"協会子宮　\",IF(申込みフォーム!U146=\"細胞診＋（自費）膣エコー\",\"協会子宮＋自費膣エコー　\",\"\"))&IF(申込みフォーム!W146<>\"\",\"協会ﾏﾝﾓ　\",\"\")&IF(申込みフォーム!Y146<>\"\",\"協会骨　\",\"\")&IF(申込みフォーム!AA146<>\"\",\"協会肝炎　\",\"\")","v":""},{"$f":"IF(申込みフォーム!AB146<>\"\",\"子宮　\",\"\")&IF(申込みフォーム!AC146<>\"\",\"ﾏﾝﾓ　\",\"\")&IF(申込みフォーム!AD146<>\"\",\"乳ｴｺｰ\",\"\")","v":""},{"$f":"IF(申込みフォーム!AE146<>\"\",\"ﾏｰｶｰ　\",\"\")&IF(申込みフォーム!AF146<>\"\",\"心機能　\",\"\")&IF(申込みフォーム!AG146<>\"\",\"ABC　\",\"\")&IF(申込みフォーム!AH146<>\"\",\"Lox　\",\"\")&IF(申込みフォーム!AI146<>\"\",\"甲状腺　\",\"\")&IF(申込みフォーム!AJ146<>\"\",\"肝炎\",\"\")","v":""},{"$f":"IF(申込みフォーム!AK146<>\"\",\"脳　\",\"\")&IF(申込みフォーム!AL146<>\"\",\"胸部CT　\",\"\")&IF(申込みフォーム!AM146<>\"\",\"肺機能　\",\"\")&IF(申込みフォーム!AN146<>\"\",\"腹ｴｺｰ　\",\"\")&IF(申込みフォーム!AO146<>\"\",\"心ｴｺｰ　\",\"\")&IF(申込みフォーム!AP146<>\"\",\"ﾌﾛｰﾗ　\",\"\")&IF(申込みフォーム!AQ146<>\"\",\"OCT　\",\"\")&IF(申込みフォーム!AR146<>\"\",\"検便　\",\"\")&IF(申込みフォーム!AS146<>\"\",\"骨　\",\"\")&IF(申込みフォーム!AT146<>\"\",\"骨＋ﾛｺﾓ\",\"\")","v":""},{"$f":"IF(申込みフォーム!AU146<>\"\",申込みフォーム!AU146&\"　　\",\"\")&IF(申込みフォーム!AV146<>\"\",申込みフォーム!AV146&\"　　\",\"\")&IF(申込みフォーム!AW146<>\"\",申込みフォーム!AW146&\"　　\",\"\")","v":""},{"$f":"IF(申込みフォーム!BJ146<>\"\",申込みフォーム!BJ146,\"\")","v":""},{"$f":"IF(申込みフォーム!BK146<>\"\",申込みフォーム!BK146,\"\")","v":""},{"$f":"IF(申込みフォーム!BL146<>\"\",申込みフォーム!BL146&\"　　\",\"\")&IF(申込みフォーム!BM146<>\"\",申込みフォーム!BM146&\"　　\",\"\")&IF(申込みフォーム!BN146<>\"\",申込みフォーム!BN146&\"　　\",\"\")","v":{"$error":"#VALUE!"}},{"$f":"申込みフォーム!$Z146","v":""}]
[137,null,null,null,null,{"$f":"IF(申込みフォーム!B147<>\"\",申込みフォーム!B147&\"　\"&申込みフォーム!C147,\"\")","v":""},{"$f":"IF(申込みフォーム!E147<>\"\",申込みフォーム!E147&\"　\"&申込みフォーム!F147,\"\")","v":""},{"$f":"IF(申込みフォーム!G147<>\"\",申込みフォーム!G147,\"\")","v":""},{"$f":"IF(申込みフォーム!H147<>\"\",申込みフォーム!H147,\"\")","v":""},{"$f":"IF(申込みフォーム!D147<>\"\",申込みフォーム!D147,\"\")","v":""},{"$f":"IF(申込みフォーム!I147<>\"\",REPLACE(申込みフォーム!I147,4,,\"-\"),\"\")","v":""},{"$f":"IF(申込みフォーム!J147<>\"\",申込みフォーム!J147,\"\")","v":""},{"$f":"IF(申込みフォーム!K147<>\"\",申込みフォーム!K147,\"\")","v":""},{"$f":"IF(申込みフォーム!L147<>\"\",MID(申込みフォーム!L147,1,3)&\"-\"&MID(申込みフォーム!L147,4,4)&\"-\"&MID(申込みフォーム!L147,8,4),\"\")","v":""},{"$f":"IF(申込みフォーム!M147<>\"\",申込みフォーム!M147,\"\")","v":""},{"$f":"IF(申込みフォーム!N147<>\"\",申込みフォーム!N147,\"\")","v":""},{"$f":"IF(申込みフォーム!O147<>\"\",申込みフォーム!O147,\"\")","v":""},{"$f":"IF(申込みフォーム!P147<>\"\",申込みフォーム!P147,\"\")","v":""},{"$f":"IF(申込みフォーム!Q147<>\"\",申込みフォーム!Q147,\"\")","v":""},{"$f":"IF(申込みフォーム!R147<>\"\",申込みフォーム!R147,\"\")","v":""},{"$f":"IF(申込みフォーム!S147<>\"\",申込みフォーム!S147,\"\")","v":""},{"$f":"IF(申込みフォーム!U147=\"細胞診のみ\",\"協会子宮　\",IF(申込みフォーム!U147=\"細胞診＋（自費）膣エコー\",\"協会子宮＋自費膣エコー　\",\"\"))&IF(申込みフォーム!W147<>\"\",\"協会ﾏﾝﾓ　\",\"\")&IF(申込みフォーム!Y147<>\"\",\"協会骨　\",\"\")&IF(申込みフォーム!AA147<>\"\",\"協会肝炎　\",\"\")","v":""},{"$f":"IF(申込みフォーム!AB147<>\"\",\"子宮　\",\"\")&IF(申込みフォーム!AC147<>\"\",\"ﾏﾝﾓ　\",\"\")&IF(申込みフォーム!AD147<>\"\",\"乳ｴｺｰ\",\"\")","v":""},{"$f":"IF(申込みフォーム!AE147<>\"\",\"ﾏｰｶｰ　\",\"\")&IF(申込みフォーム!AF147<>\"\",\"心機能　\",\"\")&IF(申込みフォーム!AG147<>\"\",\"ABC　\",\"\")&IF(申込みフォーム!AH147<>\"\",\"Lox　\",\"\")&IF(申込みフォーム!AI147<>\"\",\"甲状腺　\",\"\")&IF(申込みフォーム!AJ147<>\"\",\"肝炎\",\"\")","v":""},{"$f":"IF(申込みフォーム!AK147<>\"\",\"脳　\",\"\")&IF(申込みフォーム!AL147<>\"\",\"胸部CT　\",\"\")&IF(申込みフォーム!AM147<>\"\",\"肺機能　\",\"\")&IF(申込みフォーム!AN147<>\"\",\"腹ｴｺｰ　\",\"\")&IF(申込みフォーム!AO147<>\"\",\"心ｴｺｰ　\",\"\")&IF(申込みフォーム!AP147<>\"\",\"ﾌﾛｰﾗ　\",\"\")&IF(申込みフォーム!AQ147<>\"\",\"OCT　\",\"\")&IF(申込みフォーム!AR147<>\"\",\"検便　\",\"\")&IF(申込みフォーム!AS147<>\"\",\"骨　\",\"\")&IF(申込みフォーム!AT147<>\"\",\"骨＋ﾛｺﾓ\",\"\")","v":""},{"$f":"IF(申込みフォーム!AU147<>\"\",申込みフォーム!AU147&\"　　\",\"\")&IF(申込みフォーム!AV147<>\"\",申込みフォーム!AV147&\"　　\",\"\")&IF(申込みフォーム!AW147<>\"\",申込みフォーム!AW147&\"　　\",\"\")","v":""},{"$f":"IF(申込みフォーム!BJ147<>\"\",申込みフォーム!BJ147,\"\")","v":""},{"$f":"IF(申込みフォーム!BK147<>\"\",申込みフォーム!BK147,\"\")","v":""},{"$f":"IF(申込みフォーム!BL147<>\"\",申込みフォーム!BL147&\"　　\",\"\")&IF(申込みフォーム!BM147<>\"\",申込みフォーム!BM147&\"　　\",\"\")&IF(申込みフォーム!BN147<>\"\",申込みフォーム!BN147&\"　　\",\"\")","v":{"$error":"#VALUE!"}},{"$f":"申込みフォーム!$Z147","v":""}]
[138,null,null,null,null,{"$f":"IF(申込みフォーム!B148<>\"\",申込みフォーム!B148&\"　\"&申込みフォーム!C148,\"\")","v":""},{"$f":"IF(申込みフォーム!E148<>\"\",申込みフォーム!E148&\"　\"&申込みフォーム!F148,\"\")","v":""},{"$f":"IF(申込みフォーム!G148<>\"\",申込みフォーム!G148,\"\")","v":""},{"$f":"IF(申込みフォーム!H148<>\"\",申込みフォーム!H148,\"\")","v":""},{"$f":"IF(申込みフォーム!D148<>\"\",申込みフォーム!D148,\"\")","v":""},{"$f":"IF(申込みフォーム!I148<>\"\",REPLACE(申込みフォーム!I148,4,,\"-\"),\"\")","v":""},{"$f":"IF(申込みフォーム!J148<>\"\",申込みフォーム!J148,\"\")","v":""},{"$f":"IF(申込みフォーム!K148<>\"\",申込みフォーム!K148,\"\")","v":""},{"$f":"IF(申込みフォーム!L148<>\"\",MID(申込みフォーム!L148,1,3)&\"-\"&MID(申込みフォーム!L148,4,4)&\"-\"&MID(申込みフォーム!L148,8,4),\"\")","v":""},{"$f":"IF(申込みフォーム!M148<>\"\",申込みフォーム!M148,\"\")","v":""},{"$f":"IF(申込みフォーム!N148<>\"\",申込みフォーム!N148,\"\")","v":""},{"$f":"IF(申込みフォーム!O148<>\"\",申込みフォーム!O148,\"\")","v":""},{"$f":"IF(申込みフォーム!P148<>\"\",申込みフォーム!P148,\"\")","v":""},{"$f":"IF(申込みフォーム!Q148<>\"\",申込みフォーム!Q148,\"\")","v":""},{"$f":"IF(申込みフォーム!R148<>\"\",申込みフォーム!R148,\"\")","v":""},{"$f":"IF(申込みフォーム!S148<>\"\",申込みフォーム!S148,\"\")","v":""},{"$f":"IF(申込みフォーム!U148=\"細胞診のみ\",\"協会子宮　\",IF(申込みフォーム!U148=\"細胞診＋（自費）膣エコー\",\"協会子宮＋自費膣エコー　\",\"\"))&IF(申込みフォーム!W148<>\"\",\"協会ﾏﾝﾓ　\",\"\")&IF(申込みフォーム!Y148<>\"\",\"協会骨　\",\"\")&IF(申込みフォーム!AA148<>\"\",\"協会肝炎　\",\"\")","v":""},{"$f":"IF(申込みフォーム!AB148<>\"\",\"子宮　\",\"\")&IF(申込みフォーム!AC148<>\"\",\"ﾏﾝﾓ　\",\"\")&IF(申込みフォーム!AD148<>\"\",\"乳ｴｺｰ\",\"\")","v":""},{"$f":"IF(申込みフォーム!AE148<>\"\",\"ﾏｰｶｰ　\",\"\")&IF(申込みフォーム!AF148<>\"\",\"心機能　\",\"\")&IF(申込みフォーム!AG148<>\"\",\"ABC　\",\"\")&IF(申込みフォーム!AH148<>\"\",\"Lox　\",\"\")&IF(申込みフォーム!AI148<>\"\",\"甲状腺　\",\"\")&IF(申込みフォーム!AJ148<>\"\",\"肝炎\",\"\")","v":""},{"$f":"IF(申込みフォーム!AK148<>\"\",\"脳　\",\"\")&IF(申込みフォーム!AL148<>\"\",\"胸部CT　\",\"\")&IF(申込みフォーム!AM148<>\"\",\"肺機能　\",\"\")&IF(申込みフォーム!AN148<>\"\",\"腹ｴｺｰ　\",\"\")&IF(申込みフォーム!AO148<>\"\",\"心ｴｺｰ　\",\"\")&IF(申込みフォーム!AP148<>\"\",\"ﾌﾛｰﾗ　\",\"\")&IF(申込みフォーム!AQ148<>\"\",\"OCT　\",\"\")&IF(申込みフォーム!AR148<>\"\",\"検便　\",\"\")&IF(申込みフォーム!AS148<>\"\",\"骨　\",\"\")&IF(申込みフォーム!AT148<>\"\",\"骨＋ﾛｺﾓ\",\"\")","v":""},{"$f":"IF(申込みフォーム!AU148<>\"\",申込みフォーム!AU148&\"　　\",\"\")&IF(申込みフォーム!AV148<>\"\",申込みフォーム!AV148&\"　　\",\"\")&IF(申込みフォーム!AW148<>\"\",申込みフォーム!AW148&\"　　\",\"\")","v":""},{"$f":"IF(申込みフォーム!BJ148<>\"\",申込みフォーム!BJ148,\"\")","v":""},{"$f":"IF(申込みフォーム!BK148<>\"\",申込みフォーム!BK148,\"\")","v":""},{"$f":"IF(申込みフォーム!BL148<>\"\",申込みフォーム!BL148&\"　　\",\"\")&IF(申込みフォーム!BM148<>\"\",申込みフォーム!BM148&\"　　\",\"\")&IF(申込みフォーム!BN148<>\"\",申込みフォーム!BN148&\"　　\",\"\")","v":{"$error":"#VALUE!"}},{"$f":"申込みフォーム!$Z148","v":""}]
[139,null,null,null,null,{"$f":"IF(申込みフォーム!B149<>\"\",申込みフォーム!B149&\"　\"&申込みフォーム!C149,\"\")","v":""},{"$f":"IF(申込みフォーム!E149<>\"\",申込みフォーム!E149&\"　\"&申込みフォーム!F149,\"\")","v":""},{"$f":"IF(申込みフォーム!G149<>\"\",申込みフォーム!G149,\"\")","v":""},{"$f":"IF(申込みフォーム!H149<>\"\",申込みフォーム!H149,\"\")","v":""},{"$f":"IF(申込みフォーム!D149<>\"\",申込みフォーム!D149,\"\")","v":""},{"$f":"IF(申込みフォーム!I149<>\"\",REPLACE(申込みフォーム!I149,4,,\"-\"),\"\")","v":""},{"$f":"IF(申込みフォーム!J149<>\"\",申込みフォーム!J149,\"\")","v":""},{"$f":"IF(申込みフォーム!K149<>\"\",申込みフォーム!K149,\"\")","v":""},{"$f":"IF(申込みフォーム!L149<>\"\",MID(申込みフォーム!L149,1,3)&\"-\"&MID(申込みフォーム!L149,4,4)&\"-\"&MID(申込みフォーム!L149,8,4),\"\")","v":""},{"$f":"IF(申込みフォーム!M149<>\"\",申込みフォーム!M149,\"\")","v":""},{"$f":"IF(申込みフォーム!N149<>\"\",申込みフォーム!N149,\"\")","v":""},{"$f":"IF(申込みフォーム!O149<>\"\",申込みフォーム!O149,\"\")","v":""},{"$f":"IF(申込みフォーム!P149<>\"\",申込みフォーム!P149,\"\")","v":""},{"$f":"IF(申込みフォーム!Q149<>\"\",申込みフォーム!Q149,\"\")","v":""},{"$f":"IF(申込みフォーム!R149<>\"\",申込みフォーム!R149,\"\")","v":""},{"$f":"IF(申込みフォーム!S149<>\"\",申込みフォーム!S149,\"\")","v":""},{"$f":"IF(申込みフォーム!U149=\"細胞診のみ\",\"協会子宮　\",IF(申込みフォーム!U149=\"細胞診＋（自費）膣エコー\",\"協会子宮＋自費膣エコー　\",\"\"))&IF(申込みフォーム!W149<>\"\",\"協会ﾏﾝﾓ　\",\"\")&IF(申込みフォーム!Y149<>\"\",\"協会骨　\",\"\")&IF(申込みフォーム!AA149<>\"\",\"協会肝炎　\",\"\")","v":""},{"$f":"IF(申込みフォーム!AB149<>\"\",\"子宮　\",\"\")&IF(申込みフォーム!AC149<>\"\",\"ﾏﾝﾓ　\",\"\")&IF(申込みフォーム!AD149<>\"\",\"乳ｴｺｰ\",\"\")","v":""},{"$f":"IF(申込みフォーム!AE149<>\"\",\"ﾏｰｶｰ　\",\"\")&IF(申込みフォーム!AF149<>\"\",\"心機能　\",\"\")&IF(申込みフォーム!AG149<>\"\",\"ABC　\",\"\")&IF(申込みフォーム!AH149<>\"\",\"Lox　\",\"\")&IF(申込みフォーム!AI149<>\"\",\"甲状腺　\",\"\")&IF(申込みフォーム!AJ149<>\"\",\"肝炎\",\"\")","v":""},{"$f":"IF(申込みフォーム!AK149<>\"\",\"脳　\",\"\")&IF(申込みフォーム!AL149<>\"\",\"胸部CT　\",\"\")&IF(申込みフォーム!AM149<>\"\",\"肺機能　\",\"\")&IF(申込みフォーム!AN149<>\"\",\"腹ｴｺｰ　\",\"\")&IF(申込みフォーム!AO149<>\"\",\"心ｴｺｰ　\",\"\")&IF(申込みフォーム!AP149<>\"\",\"ﾌﾛｰﾗ　\",\"\")&IF(申込みフォーム!AQ149<>\"\",\"OCT　\",\"\")&IF(申込みフォーム!AR149<>\"\",\"検便　\",\"\")&IF(申込みフォーム!AS149<>\"\",\"骨　\",\"\")&IF(申込みフォーム!AT149<>\"\",\"骨＋ﾛｺﾓ\",\"\")","v":""},{"$f":"IF(申込みフォーム!AU149<>\"\",申込みフォーム!AU149&\"　　\",\"\")&IF(申込みフォーム!AV149<>\"\",申込みフォーム!AV149&\"　　\",\"\")&IF(申込みフォーム!AW149<>\"\",申込みフォーム!AW149&\"　　\",\"\")","v":""},{"$f":"IF(申込みフォーム!BJ149<>\"\",申込みフォーム!BJ149,\"\")","v":""},{"$f":"IF(申込みフォーム!BK149<>\"\",申込みフォーム!BK149,\"\")","v":""},{"$f":"IF(申込みフォーム!BL149<>\"\",申込みフォーム!BL149&\"　　\",\"\")&IF(申込みフォーム!BM149<>\"\",申込みフォーム!BM149&\"　　\",\"\")&IF(申込みフォーム!BN149<>\"\",申込みフォーム!BN149&\"　　\",\"\")","v":{"$error":"#VALUE!"}},{"$f":"申込みフォーム!$Z149","v":""}]
[140,null,null,null,null,{"$f":"IF(申込みフォーム!B150<>\"\",申込みフォーム!B150&\"　\"&申込みフォーム!C150,\"\")","v":""},{"$f":"IF(申込みフォーム!E150<>\"\",申込みフォーム!E150&\"　\"&申込みフォーム!F150,\"\")","v":""},{"$f":"IF(申込みフォーム!G150<>\"\",申込みフォーム!G150,\"\")","v":""},{"$f":"IF(申込みフォーム!H150<>\"\",申込みフォーム!H150,\"\")","v":""},{"$f":"IF(申込みフォーム!D150<>\"\",申込みフォーム!D150,\"\")","v":""},{"$f":"IF(申込みフォーム!I150<>\"\",REPLACE(申込みフォーム!I150,4,,\"-\"),\"\")","v":""},{"$f":"IF(申込みフォーム!J150<>\"\",申込みフォーム!J150,\"\")","v":""},{"$f":"IF(申込みフォーム!K150<>\"\",申込みフォーム!K150,\"\")","v":""},{"$f":"IF(申込みフォーム!L150<>\"\",MID(申込みフォーム!L150,1,3)&\"-\"&MID(申込みフォーム!L150,4,4)&\"-\"&MID(申込みフォーム!L150,8,4),\"\")","v":""},{"$f":"IF(申込みフォーム!M150<>\"\",申込みフォーム!M150,\"\")","v":""},{"$f":"IF(申込みフォーム!N150<>\"\",申込みフォーム!N150,\"\")","v":""},{"$f":"IF(申込みフォーム!O150<>\"\",申込みフォーム!O150,\"\")","v":""},{"$f":"IF(申込みフォーム!P150<>\"\",申込みフォーム!P150,\"\")","v":""},{"$f":"IF(申込みフォーム!Q150<>\"\",申込みフォーム!Q150,\"\")","v":""},{"$f":"IF(申込みフォーム!R150<>\"\",申込みフォーム!R150,\"\")","v":""},{"$f":"IF(申込みフォーム!S150<>\"\",申込みフォーム!S150,\"\")","v":""},{"$f":"IF(申込みフォーム!U150=\"細胞診のみ\",\"協会子宮　\",IF(申込みフォーム!U150=\"細胞診＋（自費）膣エコー\",\"協会子宮＋自費膣エコー　\",\"\"))&IF(申込みフォーム!W150<>\"\",\"協会ﾏﾝﾓ　\",\"\")&IF(申込みフォーム!Y150<>\"\",\"協会骨　\",\"\")&IF(申込みフォーム!AA150<>\"\",\"協会肝炎　\",\"\")","v":""},{"$f":"IF(申込みフォーム!AB150<>\"\",\"子宮　\",\"\")&IF(申込みフォーム!AC150<>\"\",\"ﾏﾝﾓ　\",\"\")&IF(申込みフォーム!AD150<>\"\",\"乳ｴｺｰ\",\"\")","v":""},{"$f":"IF(申込みフォーム!AE150<>\"\",\"ﾏｰｶｰ　\",\"\")&IF(申込みフォーム!AF150<>\"\",\"心機能　\",\"\")&IF(申込みフォーム!AG150<>\"\",\"ABC　\",\"\")&IF(申込みフォーム!AH150<>\"\",\"Lox　\",\"\")&IF(申込みフォーム!AI150<>\"\",\"甲状腺　\",\"\")&IF(申込みフォーム!AJ150<>\"\",\"肝炎\",\"\")","v":""},{"$f":"IF(申込みフォーム!AK150<>\"\",\"脳　\",\"\")&IF(申込みフォーム!AL150<>\"\",\"胸部CT　\",\"\")&IF(申込みフォーム!AM150<>\"\",\"肺機能　\",\"\")&IF(申込みフォーム!AN150<>\"\",\"腹ｴｺｰ　\",\"\")&IF(申込みフォーム!AO150<>\"\",\"心ｴｺｰ　\",\"\")&IF(申込みフォーム!AP150<>\"\",\"ﾌﾛｰﾗ　\",\"\")&IF(申込みフォーム!AQ150<>\"\",\"OCT　\",\"\")&IF(申込みフォーム!AR150<>\"\",\"検便　\",\"\")&IF(申込みフォーム!AS150<>\"\",\"骨　\",\"\")&IF(申込みフォーム!AT150<>\"\",\"骨＋ﾛｺﾓ\",\"\")","v":""},{"$f":"IF(申込みフォーム!AU150<>\"\",申込みフォーム!AU150&\"　　\",\"\")&IF(申込みフォーム!AV150<>\"\",申込みフォーム!AV150&\"　　\",\"\")&IF(申込みフォーム!AW150<>\"\",申込みフォーム!AW150&\"　　\",\"\")","v":""},{"$f":"IF(申込みフォーム!BJ150<>\"\",申込みフォーム!BJ150,\"\")","v":""},{"$f":"IF(申込みフォーム!BK150<>\"\",申込みフォーム!BK150,\"\")","v":""},{"$f":"IF(申込みフォーム!BL150<>\"\",申込みフォーム!BL150&\"　　\",\"\")&IF(申込みフォーム!BM150<>\"\",申込みフォーム!BM150&\"　　\",\"\")&IF(申込みフォーム!BN150<>\"\",申込みフォーム!BN150&\"　　\",\"\")","v":{"$error":"#VALUE!"}},{"$f":"申込みフォーム!$Z150","v":""}]
[141,null,null,null,null,{"$f":"IF(申込みフォーム!B151<>\"\",申込みフォーム!B151&\"　\"&申込みフォーム!C151,\"\")","v":""},{"$f":"IF(申込みフォーム!E151<>\"\",申込みフォーム!E151&\"　\"&申込みフォーム!F151,\"\")","v":""},{"$f":"IF(申込みフォーム!G151<>\"\",申込みフォーム!G151,\"\")","v":""},{"$f":"IF(申込みフォーム!H151<>\"\",申込みフォーム!H151,\"\")","v":""},{"$f":"IF(申込みフォーム!D151<>\"\",申込みフォーム!D151,\"\")","v":""},{"$f":"IF(申込みフォーム!I151<>\"\",REPLACE(申込みフォーム!I151,4,,\"-\"),\"\")","v":""},{"$f":"IF(申込みフォーム!J151<>\"\",申込みフォーム!J151,\"\")","v":""},{"$f":"IF(申込みフォーム!K151<>\"\",申込みフォーム!K151,\"\")","v":""},{"$f":"IF(申込みフォーム!L151<>\"\",MID(申込みフォーム!L151,1,3)&\"-\"&MID(申込みフォーム!L151,4,4)&\"-\"&MID(申込みフォーム!L151,8,4),\"\")","v":""},{"$f":"IF(申込みフォーム!M151<>\"\",申込みフォーム!M151,\"\")","v":""},{"$f":"IF(申込みフォーム!N151<>\"\",申込みフォーム!N151,\"\")","v":""},{"$f":"IF(申込みフォーム!O151<>\"\",申込みフォーム!O151,\"\")","v":""},{"$f":"IF(申込みフォーム!P151<>\"\",申込みフォーム!P151,\"\")","v":""},{"$f":"IF(申込みフォーム!Q151<>\"\",申込みフォーム!Q151,\"\")","v":""},{"$f":"IF(申込みフォーム!R151<>\"\",申込みフォーム!R151,\"\")","v":""},{"$f":"IF(申込みフォーム!S151<>\"\",申込みフォーム!S151,\"\")","v":""},{"$f":"IF(申込みフォーム!U151=\"細胞診のみ\",\"協会子宮　\",IF(申込みフォーム!U151=\"細胞診＋（自費）膣エコー\",\"協会子宮＋自費膣エコー　\",\"\"))&IF(申込みフォーム!W151<>\"\",\"協会ﾏﾝﾓ　\",\"\")&IF(申込みフォーム!Y151<>\"\",\"協会骨　\",\"\")&IF(申込みフォーム!AA151<>\"\",\"協会肝炎　\",\"\")","v":""},{"$f":"IF(申込みフォーム!AB151<>\"\",\"子宮　\",\"\")&IF(申込みフォーム!AC151<>\"\",\"ﾏﾝﾓ　\",\"\")&IF(申込みフォーム!AD151<>\"\",\"乳ｴｺｰ\",\"\")","v":""},{"$f":"IF(申込みフォーム!AE151<>\"\",\"ﾏｰｶｰ　\",\"\")&IF(申込みフォーム!AF151<>\"\",\"心機能　\",\"\")&IF(申込みフォーム!AG151<>\"\",\"ABC　\",\"\")&IF(申込みフォーム!AH151<>\"\",\"Lox　\",\"\")&IF(申込みフォーム!AI151<>\"\",\"甲状腺　\",\"\")&IF(申込みフォーム!AJ151<>\"\",\"肝炎\",\"\")","v":""},{"$f":"IF(申込みフォーム!AK151<>\"\",\"脳　\",\"\")&IF(申込みフォーム!AL151<>\"\",\"胸部CT　\",\"\")&IF(申込みフォーム!AM151<>\"\",\"肺機能　\",\"\")&IF(申込みフォーム!AN151<>\"\",\"腹ｴｺｰ　\",\"\")&IF(申込みフォーム!AO151<>\"\",\"心ｴｺｰ　\",\"\")&IF(申込みフォーム!AP151<>\"\",\"ﾌﾛｰﾗ　\",\"\")&IF(申込みフォーム!AQ151<>\"\",\"OCT　\",\"\")&IF(申込みフォーム!AR151<>\"\",\"検便　\",\"\")&IF(申込みフォーム!AS151<>\"\",\"骨　\",\"\")&IF(申込みフォーム!AT151<>\"\",\"骨＋ﾛｺﾓ\",\"\")","v":""},{"$f":"IF(申込みフォーム!AU151<>\"\",申込みフォーム!AU151&\"　　\",\"\")&IF(申込みフォーム!AV151<>\"\",申込みフォーム!AV151&\"　　\",\"\")&IF(申込みフォーム!AW151<>\"\",申込みフォーム!AW151&\"　　\",\"\")","v":""},{"$f":"IF(申込みフォーム!BJ151<>\"\",申込みフォーム!BJ151,\"\")","v":""},{"$f":"IF(申込みフォーム!BK151<>\"\",申込みフォーム!BK151,\"\")","v":""},{"$f":"IF(申込みフォーム!BL151<>\"\",申込みフォーム!BL151&\"　　\",\"\")&IF(申込みフォーム!BM151<>\"\",申込みフォーム!BM151&\"　　\",\"\")&IF(申込みフォーム!BN151<>\"\",申込みフォーム!BN151&\"　　\",\"\")","v":{"$error":"#VALUE!"}},{"$f":"申込みフォーム!$Z151","v":""}]
[142,null,null,null,null,{"$f":"IF(申込みフォーム!B152<>\"\",申込みフォーム!B152&\"　\"&申込みフォーム!C152,\"\")","v":""},{"$f":"IF(申込みフォーム!E152<>\"\",申込みフォーム!E152&\"　\"&申込みフォーム!F152,\"\")","v":""},{"$f":"IF(申込みフォーム!G152<>\"\",申込みフォーム!G152,\"\")","v":""},{"$f":"IF(申込みフォーム!H152<>\"\",申込みフォーム!H152,\"\")","v":""},{"$f":"IF(申込みフォーム!D152<>\"\",申込みフォーム!D152,\"\")","v":""},{"$f":"IF(申込みフォーム!I152<>\"\",REPLACE(申込みフォーム!I152,4,,\"-\"),\"\")","v":""},{"$f":"IF(申込みフォーム!J152<>\"\",申込みフォーム!J152,\"\")","v":""},{"$f":"IF(申込みフォーム!K152<>\"\",申込みフォーム!K152,\"\")","v":""},{"$f":"IF(申込みフォーム!L152<>\"\",MID(申込みフォーム!L152,1,3)&\"-\"&MID(申込みフォーム!L152,4,4)&\"-\"&MID(申込みフォーム!L152,8,4),\"\")","v":""},{"$f":"IF(申込みフォーム!M152<>\"\",申込みフォーム!M152,\"\")","v":""},{"$f":"IF(申込みフォーム!N152<>\"\",申込みフォーム!N152,\"\")","v":""},{"$f":"IF(申込みフォーム!O152<>\"\",申込みフォーム!O152,\"\")","v":""},{"$f":"IF(申込みフォーム!P152<>\"\",申込みフォーム!P152,\"\")","v":""},{"$f":"IF(申込みフォーム!Q152<>\"\",申込みフォーム!Q152,\"\")","v":""},{"$f":"IF(申込みフォーム!R152<>\"\",申込みフォーム!R152,\"\")","v":""},{"$f":"IF(申込みフォーム!S152<>\"\",申込みフォーム!S152,\"\")","v":""},{"$f":"IF(申込みフォーム!U152=\"細胞診のみ\",\"協会子宮　\",IF(申込みフォーム!U152=\"細胞診＋（自費）膣エコー\",\"協会子宮＋自費膣エコー　\",\"\"))&IF(申込みフォーム!W152<>\"\",\"協会ﾏﾝﾓ　\",\"\")&IF(申込みフォーム!Y152<>\"\",\"協会骨　\",\"\")&IF(申込みフォーム!AA152<>\"\",\"協会肝炎　\",\"\")","v":""},{"$f":"IF(申込みフォーム!AB152<>\"\",\"子宮　\",\"\")&IF(申込みフォーム!AC152<>\"\",\"ﾏﾝﾓ　\",\"\")&IF(申込みフォーム!AD152<>\"\",\"乳ｴｺｰ\",\"\")","v":""},{"$f":"IF(申込みフォーム!AE152<>\"\",\"ﾏｰｶｰ　\",\"\")&IF(申込みフォーム!AF152<>\"\",\"心機能　\",\"\")&IF(申込みフォーム!AG152<>\"\",\"ABC　\",\"\")&IF(申込みフォーム!AH152<>\"\",\"Lox　\",\"\")&IF(申込みフォーム!AI152<>\"\",\"甲状腺　\",\"\")&IF(申込みフォーム!AJ152<>\"\",\"肝炎\",\"\")","v":""},{"$f":"IF(申込みフォーム!AK152<>\"\",\"脳　\",\"\")&IF(申込みフォーム!AL152<>\"\",\"胸部CT　\",\"\")&IF(申込みフォーム!AM152<>\"\",\"肺機能　\",\"\")&IF(申込みフォーム!AN152<>\"\",\"腹ｴｺｰ　\",\"\")&IF(申込みフォーム!AO152<>\"\",\"心ｴｺｰ　\",\"\")&IF(申込みフォーム!AP152<>\"\",\"ﾌﾛｰﾗ　\",\"\")&IF(申込みフォーム!AQ152<>\"\",\"OCT　\",\"\")&IF(申込みフォーム!AR152<>\"\",\"検便　\",\"\")&IF(申込みフォーム!AS152<>\"\",\"骨　\",\"\")&IF(申込みフォーム!AT152<>\"\",\"骨＋ﾛｺﾓ\",\"\")","v":""},{"$f":"IF(申込みフォーム!AU152<>\"\",申込みフォーム!AU152&\"　　\",\"\")&IF(申込みフォーム!AV152<>\"\",申込みフォーム!AV152&\"　　\",\"\")&IF(申込みフォーム!AW152<>\"\",申込みフォーム!AW152&\"　　\",\"\")","v":""},{"$f":"IF(申込みフォーム!BJ152<>\"\",申込みフォーム!BJ152,\"\")","v":""},{"$f":"IF(申込みフォーム!BK152<>\"\",申込みフォーム!BK152,\"\")","v":""},{"$f":"IF(申込みフォーム!BL152<>\"\",申込みフォーム!BL152&\"　　\",\"\")&IF(申込みフォーム!BM152<>\"\",申込みフォーム!BM152&\"　　\",\"\")&IF(申込みフォーム!BN152<>\"\",申込みフォーム!BN152&\"　　\",\"\")","v":{"$error":"#VALUE!"}},{"$f":"申込みフォーム!$Z152","v":""}]
[143,null,null,null,null,{"$f":"IF(申込みフォーム!B153<>\"\",申込みフォーム!B153&\"　\"&申込みフォーム!C153,\"\")","v":""},{"$f":"IF(申込みフォーム!E153<>\"\",申込みフォーム!E153&\"　\"&申込みフォーム!F153,\"\")","v":""},{"$f":"IF(申込みフォーム!G153<>\"\",申込みフォーム!G153,\"\")","v":""},{"$f":"IF(申込みフォーム!H153<>\"\",申込みフォーム!H153,\"\")","v":""},{"$f":"IF(申込みフォーム!D153<>\"\",申込みフォーム!D153,\"\")","v":""},{"$f":"IF(申込みフォーム!I153<>\"\",REPLACE(申込みフォーム!I153,4,,\"-\"),\"\")","v":""},{"$f":"IF(申込みフォーム!J153<>\"\",申込みフォーム!J153,\"\")","v":""},{"$f":"IF(申込みフォーム!K153<>\"\",申込みフォーム!K153,\"\")","v":""},{"$f":"IF(申込みフォーム!L153<>\"\",MID(申込みフォーム!L153,1,3)&\"-\"&MID(申込みフォーム!L153,4,4)&\"-\"&MID(申込みフォーム!L153,8,4),\"\")","v":""},{"$f":"IF(申込みフォーム!M153<>\"\",申込みフォーム!M153,\"\")","v":""},{"$f":"IF(申込みフォーム!N153<>\"\",申込みフォーム!N153,\"\")","v":""},{"$f":"IF(申込みフォーム!O153<>\"\",申込みフォーム!O153,\"\")","v":""},{"$f":"IF(申込みフォーム!P153<>\"\",申込みフォーム!P153,\"\")","v":""},{"$f":"IF(申込みフォーム!Q153<>\"\",申込みフォーム!Q153,\"\")","v":""},{"$f":"IF(申込みフォーム!R153<>\"\",申込みフォーム!R153,\"\")","v":""},{"$f":"IF(申込みフォーム!S153<>\"\",申込みフォーム!S153,\"\")","v":""},{"$f":"IF(申込みフォーム!U153=\"細胞診のみ\",\"協会子宮　\",IF(申込みフォーム!U153=\"細胞診＋（自費）膣エコー\",\"協会子宮＋自費膣エコー　\",\"\"))&IF(申込みフォーム!W153<>\"\",\"協会ﾏﾝﾓ　\",\"\")&IF(申込みフォーム!Y153<>\"\",\"協会骨　\",\"\")&IF(申込みフォーム!AA153<>\"\",\"協会肝炎　\",\"\")","v":""},{"$f":"IF(申込みフォーム!AB153<>\"\",\"子宮　\",\"\")&IF(申込みフォーム!AC153<>\"\",\"ﾏﾝﾓ　\",\"\")&IF(申込みフォーム!AD153<>\"\",\"乳ｴｺｰ\",\"\")","v":""},{"$f":"IF(申込みフォーム!AE153<>\"\",\"ﾏｰｶｰ　\",\"\")&IF(申込みフォーム!AF153<>\"\",\"心機能　\",\"\")&IF(申込みフォーム!AG153<>\"\",\"ABC　\",\"\")&IF(申込みフォーム!AH153<>\"\",\"Lox　\",\"\")&IF(申込みフォーム!AI153<>\"\",\"甲状腺　\",\"\")&IF(申込みフォーム!AJ153<>\"\",\"肝炎\",\"\")","v":""},{"$f":"IF(申込みフォーム!AK153<>\"\",\"脳　\",\"\")&IF(申込みフォーム!AL153<>\"\",\"胸部CT　\",\"\")&IF(申込みフォーム!AM153<>\"\",\"肺機能　\",\"\")&IF(申込みフォーム!AN153<>\"\",\"腹ｴｺｰ　\",\"\")&IF(申込みフォーム!AO153<>\"\",\"心ｴｺｰ　\",\"\")&IF(申込みフォーム!AP153<>\"\",\"ﾌﾛｰﾗ　\",\"\")&IF(申込みフォーム!AQ153<>\"\",\"OCT　\",\"\")&IF(申込みフォーム!AR153<>\"\",\"検便　\",\"\")&IF(申込みフォーム!AS153<>\"\",\"骨　\",\"\")&IF(申込みフォーム!AT153<>\"\",\"骨＋ﾛｺﾓ\",\"\")","v":""},{"$f":"IF(申込みフォーム!AU153<>\"\",申込みフォーム!AU153&\"　　\",\"\")&IF(申込みフォーム!AV153<>\"\",申込みフォーム!AV153&\"　　\",\"\")&IF(申込みフォーム!AW153<>\"\",申込みフォーム!AW153&\"　　\",\"\")","v":""},{"$f":"IF(申込みフォーム!BJ153<>\"\",申込みフォーム!BJ153,\"\")","v":""},{"$f":"IF(申込みフォーム!BK153<>\"\",申込みフォーム!BK153,\"\")","v":""},{"$f":"IF(申込みフォーム!BL153<>\"\",申込みフォーム!BL153&\"　　\",\"\")&IF(申込みフォーム!BM153<>\"\",申込みフォーム!BM153&\"　　\",\"\")&IF(申込みフォーム!BN153<>\"\",申込みフォーム!BN153&\"　　\",\"\")","v":{"$error":"#VALUE!"}},{"$f":"申込みフォーム!$Z153","v":""}]
[144,null,null,null,null,{"$f":"IF(申込みフォーム!B154<>\"\",申込みフォーム!B154&\"　\"&申込みフォーム!C154,\"\")","v":""},{"$f":"IF(申込みフォーム!E154<>\"\",申込みフォーム!E154&\"　\"&申込みフォーム!F154,\"\")","v":""},{"$f":"IF(申込みフォーム!G154<>\"\",申込みフォーム!G154,\"\")","v":""},{"$f":"IF(申込みフォーム!H154<>\"\",申込みフォーム!H154,\"\")","v":""},{"$f":"IF(申込みフォーム!D154<>\"\",申込みフォーム!D154,\"\")","v":""},{"$f":"IF(申込みフォーム!I154<>\"\",REPLACE(申込みフォーム!I154,4,,\"-\"),\"\")","v":""},{"$f":"IF(申込みフォーム!J154<>\"\",申込みフォーム!J154,\"\")","v":""},{"$f":"IF(申込みフォーム!K154<>\"\",申込みフォーム!K154,\"\")","v":""},{"$f":"IF(申込みフォーム!L154<>\"\",MID(申込みフォーム!L154,1,3)&\"-\"&MID(申込みフォーム!L154,4,4)&\"-\"&MID(申込みフォーム!L154,8,4),\"\")","v":""},{"$f":"IF(申込みフォーム!M154<>\"\",申込みフォーム!M154,\"\")","v":""},{"$f":"IF(申込みフォーム!N154<>\"\",申込みフォーム!N154,\"\")","v":""},{"$f":"IF(申込みフォーム!O154<>\"\",申込みフォーム!O154,\"\")","v":""},{"$f":"IF(申込みフォーム!P154<>\"\",申込みフォーム!P154,\"\")","v":""},{"$f":"IF(申込みフォーム!Q154<>\"\",申込みフォーム!Q154,\"\")","v":""},{"$f":"IF(申込みフォーム!R154<>\"\",申込みフォーム!R154,\"\")","v":""},{"$f":"IF(申込みフォーム!S154<>\"\",申込みフォーム!S154,\"\")","v":""},{"$f":"IF(申込みフォーム!U154=\"細胞診のみ\",\"協会子宮　\",IF(申込みフォーム!U154=\"細胞診＋（自費）膣エコー\",\"協会子宮＋自費膣エコー　\",\"\"))&IF(申込みフォーム!W154<>\"\",\"協会ﾏﾝﾓ　\",\"\")&IF(申込みフォーム!Y154<>\"\",\"協会骨　\",\"\")&IF(申込みフォーム!AA154<>\"\",\"協会肝炎　\",\"\")","v":""},{"$f":"IF(申込みフォーム!AB154<>\"\",\"子宮　\",\"\")&IF(申込みフォーム!AC154<>\"\",\"ﾏﾝﾓ　\",\"\")&IF(申込みフォーム!AD154<>\"\",\"乳ｴｺｰ\",\"\")","v":""},{"$f":"IF(申込みフォーム!AE154<>\"\",\"ﾏｰｶｰ　\",\"\")&IF(申込みフォーム!AF154<>\"\",\"心機能　\",\"\")&IF(申込みフォーム!AG154<>\"\",\"ABC　\",\"\")&IF(申込みフォーム!AH154<>\"\",\"Lox　\",\"\")&IF(申込みフォーム!AI154<>\"\",\"甲状腺　\",\"\")&IF(申込みフォーム!AJ154<>\"\",\"肝炎\",\"\")","v":""},{"$f":"IF(申込みフォーム!AK154<>\"\",\"脳　\",\"\")&IF(申込みフォーム!AL154<>\"\",\"胸部CT　\",\"\")&IF(申込みフォーム!AM154<>\"\",\"肺機能　\",\"\")&IF(申込みフォーム!AN154<>\"\",\"腹ｴｺｰ　\",\"\")&IF(申込みフォーム!AO154<>\"\",\"心ｴｺｰ　\",\"\")&IF(申込みフォーム!AP154<>\"\",\"ﾌﾛｰﾗ　\",\"\")&IF(申込みフォーム!AQ154<>\"\",\"OCT　\",\"\")&IF(申込みフォーム!AR154<>\"\",\"検便　\",\"\")&IF(申込みフォーム!AS154<>\"\",\"骨　\",\"\")&IF(申込みフォーム!AT154<>\"\",\"骨＋ﾛｺﾓ\",\"\")","v":""},{"$f":"IF(申込みフォーム!AU154<>\"\",申込みフォーム!AU154&\"　　\",\"\")&IF(申込みフォーム!AV154<>\"\",申込みフォーム!AV154&\"　　\",\"\")&IF(申込みフォーム!AW154<>\"\",申込みフォーム!AW154&\"　　\",\"\")","v":""},{"$f":"IF(申込みフォーム!BJ154<>\"\",申込みフォーム!BJ154,\"\")","v":""},{"$f":"IF(申込みフォーム!BK154<>\"\",申込みフォーム!BK154,\"\")","v":""},{"$f":"IF(申込みフォーム!BL154<>\"\",申込みフォーム!BL154&\"　　\",\"\")&IF(申込みフォーム!BM154<>\"\",申込みフォーム!BM154&\"　　\",\"\")&IF(申込みフォーム!BN154<>\"\",申込みフォーム!BN154&\"　　\",\"\")","v":{"$error":"#VALUE!"}},{"$f":"申込みフォーム!$Z154","v":""}]
[145,null,null,null,null,{"$f":"IF(申込みフォーム!B155<>\"\",申込みフォーム!B155&\"　\"&申込みフォーム!C155,\"\")","v":""},{"$f":"IF(申込みフォーム!E155<>\"\",申込みフォーム!E155&\"　\"&申込みフォーム!F155,\"\")","v":""},{"$f":"IF(申込みフォーム!G155<>\"\",申込みフォーム!G155,\"\")","v":""},{"$f":"IF(申込みフォーム!H155<>\"\",申込みフォーム!H155,\"\")","v":""},{"$f":"IF(申込みフォーム!D155<>\"\",申込みフォーム!D155,\"\")","v":""},{"$f":"IF(申込みフォーム!I155<>\"\",REPLACE(申込みフォーム!I155,4,,\"-\"),\"\")","v":""},{"$f":"IF(申込みフォーム!J155<>\"\",申込みフォーム!J155,\"\")","v":""},{"$f":"IF(申込みフォーム!K155<>\"\",申込みフォーム!K155,\"\")","v":""},{"$f":"IF(申込みフォーム!L155<>\"\",MID(申込みフォーム!L155,1,3)&\"-\"&MID(申込みフォーム!L155,4,4)&\"-\"&MID(申込みフォーム!L155,8,4),\"\")","v":""},{"$f":"IF(申込みフォーム!M155<>\"\",申込みフォーム!M155,\"\")","v":""},{"$f":"IF(申込みフォーム!N155<>\"\",申込みフォーム!N155,\"\")","v":""},{"$f":"IF(申込みフォーム!O155<>\"\",申込みフォーム!O155,\"\")","v":""},{"$f":"IF(申込みフォーム!P155<>\"\",申込みフォーム!P155,\"\")","v":""},{"$f":"IF(申込みフォーム!Q155<>\"\",申込みフォーム!Q155,\"\")","v":""},{"$f":"IF(申込みフォーム!R155<>\"\",申込みフォーム!R155,\"\")","v":""},{"$f":"IF(申込みフォーム!S155<>\"\",申込みフォーム!S155,\"\")","v":""},{"$f":"IF(申込みフォーム!U155=\"細胞診のみ\",\"協会子宮　\",IF(申込みフォーム!U155=\"細胞診＋（自費）膣エコー\",\"協会子宮＋自費膣エコー　\",\"\"))&IF(申込みフォーム!W155<>\"\",\"協会ﾏﾝﾓ　\",\"\")&IF(申込みフォーム!Y155<>\"\",\"協会骨　\",\"\")&IF(申込みフォーム!AA155<>\"\",\"協会肝炎　\",\"\")","v":""},{"$f":"IF(申込みフォーム!AB155<>\"\",\"子宮　\",\"\")&IF(申込みフォーム!AC155<>\"\",\"ﾏﾝﾓ　\",\"\")&IF(申込みフォーム!AD155<>\"\",\"乳ｴｺｰ\",\"\")","v":""},{"$f":"IF(申込みフォーム!AE155<>\"\",\"ﾏｰｶｰ　\",\"\")&IF(申込みフォーム!AF155<>\"\",\"心機能　\",\"\")&IF(申込みフォーム!AG155<>\"\",\"ABC　\",\"\")&IF(申込みフォーム!AH155<>\"\",\"Lox　\",\"\")&IF(申込みフォーム!AI155<>\"\",\"甲状腺　\",\"\")&IF(申込みフォーム!AJ155<>\"\",\"肝炎\",\"\")","v":""},{"$f":"IF(申込みフォーム!AK155<>\"\",\"脳　\",\"\")&IF(申込みフォーム!AL155<>\"\",\"胸部CT　\",\"\")&IF(申込みフォーム!AM155<>\"\",\"肺機能　\",\"\")&IF(申込みフォーム!AN155<>\"\",\"腹ｴｺｰ　\",\"\")&IF(申込みフォーム!AO155<>\"\",\"心ｴｺｰ　\",\"\")&IF(申込みフォーム!AP155<>\"\",\"ﾌﾛｰﾗ　\",\"\")&IF(申込みフォーム!AQ155<>\"\",\"OCT　\",\"\")&IF(申込みフォーム!AR155<>\"\",\"検便　\",\"\")&IF(申込みフォーム!AS155<>\"\",\"骨　\",\"\")&IF(申込みフォーム!AT155<>\"\",\"骨＋ﾛｺﾓ\",\"\")","v":""},{"$f":"IF(申込みフォーム!AU155<>\"\",申込みフォーム!AU155&\"　　\",\"\")&IF(申込みフォーム!AV155<>\"\",申込みフォーム!AV155&\"　　\",\"\")&IF(申込みフォーム!AW155<>\"\",申込みフォーム!AW155&\"　　\",\"\")","v":""},{"$f":"IF(申込みフォーム!BJ155<>\"\",申込みフォーム!BJ155,\"\")","v":""},{"$f":"IF(申込みフォーム!BK155<>\"\",申込みフォーム!BK155,\"\")","v":""},{"$f":"IF(申込みフォーム!BL155<>\"\",申込みフォーム!BL155&\"　　\",\"\")&IF(申込みフォーム!BM155<>\"\",申込みフォーム!BM155&\"　　\",\"\")&IF(申込みフォーム!BN155<>\"\",申込みフォーム!BN155&\"　　\",\"\")","v":{"$error":"#VALUE!"}},{"$f":"申込みフォーム!$Z155","v":""}]
[146,null,null,null,null,{"$f":"IF(申込みフォーム!B156<>\"\",申込みフォーム!B156&\"　\"&申込みフォーム!C156,\"\")","v":""},{"$f":"IF(申込みフォーム!E156<>\"\",申込みフォーム!E156&\"　\"&申込みフォーム!F156,\"\")","v":""},{"$f":"IF(申込みフォーム!G156<>\"\",申込みフォーム!G156,\"\")","v":""},{"$f":"IF(申込みフォーム!H156<>\"\",申込みフォーム!H156,\"\")","v":""},{"$f":"IF(申込みフォーム!D156<>\"\",申込みフォーム!D156,\"\")","v":""},{"$f":"IF(申込みフォーム!I156<>\"\",REPLACE(申込みフォーム!I156,4,,\"-\"),\"\")","v":""},{"$f":"IF(申込みフォーム!J156<>\"\",申込みフォーム!J156,\"\")","v":""},{"$f":"IF(申込みフォーム!K156<>\"\",申込みフォーム!K156,\"\")","v":""},{"$f":"IF(申込みフォーム!L156<>\"\",MID(申込みフォーム!L156,1,3)&\"-\"&MID(申込みフォーム!L156,4,4)&\"-\"&MID(申込みフォーム!L156,8,4),\"\")","v":""},{"$f":"IF(申込みフォーム!M156<>\"\",申込みフォーム!M156,\"\")","v":""},{"$f":"IF(申込みフォーム!N156<>\"\",申込みフォーム!N156,\"\")","v":""},{"$f":"IF(申込みフォーム!O156<>\"\",申込みフォーム!O156,\"\")","v":""},{"$f":"IF(申込みフォーム!P156<>\"\",申込みフォーム!P156,\"\")","v":""},{"$f":"IF(申込みフォーム!Q156<>\"\",申込みフォーム!Q156,\"\")","v":""},{"$f":"IF(申込みフォーム!R156<>\"\",申込みフォーム!R156,\"\")","v":""},{"$f":"IF(申込みフォーム!S156<>\"\",申込みフォーム!S156,\"\")","v":""},{"$f":"IF(申込みフォーム!U156=\"細胞診のみ\",\"協会子宮　\",IF(申込みフォーム!U156=\"細胞診＋（自費）膣エコー\",\"協会子宮＋自費膣エコー　\",\"\"))&IF(申込みフォーム!W156<>\"\",\"協会ﾏﾝﾓ　\",\"\")&IF(申込みフォーム!Y156<>\"\",\"協会骨　\",\"\")&IF(申込みフォーム!AA156<>\"\",\"協会肝炎　\",\"\")","v":""},{"$f":"IF(申込みフォーム!AB156<>\"\",\"子宮　\",\"\")&IF(申込みフォーム!AC156<>\"\",\"ﾏﾝﾓ　\",\"\")&IF(申込みフォーム!AD156<>\"\",\"乳ｴｺｰ\",\"\")","v":""},{"$f":"IF(申込みフォーム!AE156<>\"\",\"ﾏｰｶｰ　\",\"\")&IF(申込みフォーム!AF156<>\"\",\"心機能　\",\"\")&IF(申込みフォーム!AG156<>\"\",\"ABC　\",\"\")&IF(申込みフォーム!AH156<>\"\",\"Lox　\",\"\")&IF(申込みフォーム!AI156<>\"\",\"甲状腺　\",\"\")&IF(申込みフォーム!AJ156<>\"\",\"肝炎\",\"\")","v":""},{"$f":"IF(申込みフォーム!AK156<>\"\",\"脳　\",\"\")&IF(申込みフォーム!AL156<>\"\",\"胸部CT　\",\"\")&IF(申込みフォーム!AM156<>\"\",\"肺機能　\",\"\")&IF(申込みフォーム!AN156<>\"\",\"腹ｴｺｰ　\",\"\")&IF(申込みフォーム!AO156<>\"\",\"心ｴｺｰ　\",\"\")&IF(申込みフォーム!AP156<>\"\",\"ﾌﾛｰﾗ　\",\"\")&IF(申込みフォーム!AQ156<>\"\",\"OCT　\",\"\")&IF(申込みフォーム!AR156<>\"\",\"検便　\",\"\")&IF(申込みフォーム!AS156<>\"\",\"骨　\",\"\")&IF(申込みフォーム!AT156<>\"\",\"骨＋ﾛｺﾓ\",\"\")","v":""},{"$f":"IF(申込みフォーム!AU156<>\"\",申込みフォーム!AU156&\"　　\",\"\")&IF(申込みフォーム!AV156<>\"\",申込みフォーム!AV156&\"　　\",\"\")&IF(申込みフォーム!AW156<>\"\",申込みフォーム!AW156&\"　　\",\"\")","v":""},{"$f":"IF(申込みフォーム!BJ156<>\"\",申込みフォーム!BJ156,\"\")","v":""},{"$f":"IF(申込みフォーム!BK156<>\"\",申込みフォーム!BK156,\"\")","v":""},{"$f":"IF(申込みフォーム!BL156<>\"\",申込みフォーム!BL156&\"　　\",\"\")&IF(申込みフォーム!BM156<>\"\",申込みフォーム!BM156&\"　　\",\"\")&IF(申込みフォーム!BN156<>\"\",申込みフォーム!BN156&\"　　\",\"\")","v":{"$error":"#VALUE!"}},{"$f":"申込みフォーム!$Z156","v":""}]
[147,null,null,null,null,{"$f":"IF(申込みフォーム!B157<>\"\",申込みフォーム!B157&\"　\"&申込みフォーム!C157,\"\")","v":""},{"$f":"IF(申込みフォーム!E157<>\"\",申込みフォーム!E157&\"　\"&申込みフォーム!F157,\"\")","v":""},{"$f":"IF(申込みフォーム!G157<>\"\",申込みフォーム!G157,\"\")","v":""},{"$f":"IF(申込みフォーム!H157<>\"\",申込みフォーム!H157,\"\")","v":""},{"$f":"IF(申込みフォーム!D157<>\"\",申込みフォーム!D157,\"\")","v":""},{"$f":"IF(申込みフォーム!I157<>\"\",REPLACE(申込みフォーム!I157,4,,\"-\"),\"\")","v":""},{"$f":"IF(申込みフォーム!J157<>\"\",申込みフォーム!J157,\"\")","v":""},{"$f":"IF(申込みフォーム!K157<>\"\",申込みフォーム!K157,\"\")","v":""},{"$f":"IF(申込みフォーム!L157<>\"\",MID(申込みフォーム!L157,1,3)&\"-\"&MID(申込みフォーム!L157,4,4)&\"-\"&MID(申込みフォーム!L157,8,4),\"\")","v":""},{"$f":"IF(申込みフォーム!M157<>\"\",申込みフォーム!M157,\"\")","v":""},{"$f":"IF(申込みフォーム!N157<>\"\",申込みフォーム!N157,\"\")","v":""},{"$f":"IF(申込みフォーム!O157<>\"\",申込みフォーム!O157,\"\")","v":""},{"$f":"IF(申込みフォーム!P157<>\"\",申込みフォーム!P157,\"\")","v":""},{"$f":"IF(申込みフォーム!Q157<>\"\",申込みフォーム!Q157,\"\")","v":""},{"$f":"IF(申込みフォーム!R157<>\"\",申込みフォーム!R157,\"\")","v":""},{"$f":"IF(申込みフォーム!S157<>\"\",申込みフォーム!S157,\"\")","v":""},{"$f":"IF(申込みフォーム!U157=\"細胞診のみ\",\"協会子宮　\",IF(申込みフォーム!U157=\"細胞診＋（自費）膣エコー\",\"協会子宮＋自費膣エコー　\",\"\"))&IF(申込みフォーム!W157<>\"\",\"協会ﾏﾝﾓ　\",\"\")&IF(申込みフォーム!Y157<>\"\",\"協会骨　\",\"\")&IF(申込みフォーム!AA157<>\"\",\"協会肝炎　\",\"\")","v":""},{"$f":"IF(申込みフォーム!AB157<>\"\",\"子宮　\",\"\")&IF(申込みフォーム!AC157<>\"\",\"ﾏﾝﾓ　\",\"\")&IF(申込みフォーム!AD157<>\"\",\"乳ｴｺｰ\",\"\")","v":""},{"$f":"IF(申込みフォーム!AE157<>\"\",\"ﾏｰｶｰ　\",\"\")&IF(申込みフォーム!AF157<>\"\",\"心機能　\",\"\")&IF(申込みフォーム!AG157<>\"\",\"ABC　\",\"\")&IF(申込みフォーム!AH157<>\"\",\"Lox　\",\"\")&IF(申込みフォーム!AI157<>\"\",\"甲状腺　\",\"\")&IF(申込みフォーム!AJ157<>\"\",\"肝炎\",\"\")","v":""},{"$f":"IF(申込みフォーム!AK157<>\"\",\"脳　\",\"\")&IF(申込みフォーム!AL157<>\"\",\"胸部CT　\",\"\")&IF(申込みフォーム!AM157<>\"\",\"肺機能　\",\"\")&IF(申込みフォーム!AN157<>\"\",\"腹ｴｺｰ　\",\"\")&IF(申込みフォーム!AO157<>\"\",\"心ｴｺｰ　\",\"\")&IF(申込みフォーム!AP157<>\"\",\"ﾌﾛｰﾗ　\",\"\")&IF(申込みフォーム!AQ157<>\"\",\"OCT　\",\"\")&IF(申込みフォーム!AR157<>\"\",\"検便　\",\"\")&IF(申込みフォーム!AS157<>\"\",\"骨　\",\"\")&IF(申込みフォーム!AT157<>\"\",\"骨＋ﾛｺﾓ\",\"\")","v":""},{"$f":"IF(申込みフォーム!AU157<>\"\",申込みフォーム!AU157&\"　　\",\"\")&IF(申込みフォーム!AV157<>\"\",申込みフォーム!AV157&\"　　\",\"\")&IF(申込みフォーム!AW157<>\"\",申込みフォーム!AW157&\"　　\",\"\")","v":""},{"$f":"IF(申込みフォーム!BJ157<>\"\",申込みフォーム!BJ157,\"\")","v":""},{"$f":"IF(申込みフォーム!BK157<>\"\",申込みフォーム!BK157,\"\")","v":""},{"$f":"IF(申込みフォーム!BL157<>\"\",申込みフォーム!BL157&\"　　\",\"\")&IF(申込みフォーム!BM157<>\"\",申込みフォーム!BM157&\"　　\",\"\")&IF(申込みフォーム!BN157<>\"\",申込みフォーム!BN157&\"　　\",\"\")","v":{"$error":"#VALUE!"}},{"$f":"申込みフォーム!$Z157","v":""}]
[148,null,null,null,null,{"$f":"IF(申込みフォーム!B158<>\"\",申込みフォーム!B158&\"　\"&申込みフォーム!C158,\"\")","v":""},{"$f":"IF(申込みフォーム!E158<>\"\",申込みフォーム!E158&\"　\"&申込みフォーム!F158,\"\")","v":""},{"$f":"IF(申込みフォーム!G158<>\"\",申込みフォーム!G158,\"\")","v":""},{"$f":"IF(申込みフォーム!H158<>\"\",申込みフォーム!H158,\"\")","v":""},{"$f":"IF(申込みフォーム!D158<>\"\",申込みフォーム!D158,\"\")","v":""},{"$f":"IF(申込みフォーム!I158<>\"\",REPLACE(申込みフォーム!I158,4,,\"-\"),\"\")","v":""},{"$f":"IF(申込みフォーム!J158<>\"\",申込みフォーム!J158,\"\")","v":""},{"$f":"IF(申込みフォーム!K158<>\"\",申込みフォーム!K158,\"\")","v":""},{"$f":"IF(申込みフォーム!L158<>\"\",MID(申込みフォーム!L158,1,3)&\"-\"&MID(申込みフォーム!L158,4,4)&\"-\"&MID(申込みフォーム!L158,8,4),\"\")","v":""},{"$f":"IF(申込みフォーム!M158<>\"\",申込みフォーム!M158,\"\")","v":""},{"$f":"IF(申込みフォーム!N158<>\"\",申込みフォーム!N158,\"\")","v":""},{"$f":"IF(申込みフォーム!O158<>\"\",申込みフォーム!O158,\"\")","v":""},{"$f":"IF(申込みフォーム!P158<>\"\",申込みフォーム!P158,\"\")","v":""},{"$f":"IF(申込みフォーム!Q158<>\"\",申込みフォーム!Q158,\"\")","v":""},{"$f":"IF(申込みフォーム!R158<>\"\",申込みフォーム!R158,\"\")","v":""},{"$f":"IF(申込みフォーム!S158<>\"\",申込みフォーム!S158,\"\")","v":""},{"$f":"IF(申込みフォーム!U158=\"細胞診のみ\",\"協会子宮　\",IF(申込みフォーム!U158=\"細胞診＋（自費）膣エコー\",\"協会子宮＋自費膣エコー　\",\"\"))&IF(申込みフォーム!W158<>\"\",\"協会ﾏﾝﾓ　\",\"\")&IF(申込みフォーム!Y158<>\"\",\"協会骨　\",\"\")&IF(申込みフォーム!AA158<>\"\",\"協会肝炎　\",\"\")","v":""},{"$f":"IF(申込みフォーム!AB158<>\"\",\"子宮　\",\"\")&IF(申込みフォーム!AC158<>\"\",\"ﾏﾝﾓ　\",\"\")&IF(申込みフォーム!AD158<>\"\",\"乳ｴｺｰ\",\"\")","v":""},{"$f":"IF(申込みフォーム!AE158<>\"\",\"ﾏｰｶｰ　\",\"\")&IF(申込みフォーム!AF158<>\"\",\"心機能　\",\"\")&IF(申込みフォーム!AG158<>\"\",\"ABC　\",\"\")&IF(申込みフォーム!AH158<>\"\",\"Lox　\",\"\")&IF(申込みフォーム!AI158<>\"\",\"甲状腺　\",\"\")&IF(申込みフォーム!AJ158<>\"\",\"肝炎\",\"\")","v":""},{"$f":"IF(申込みフォーム!AK158<>\"\",\"脳　\",\"\")&IF(申込みフォーム!AL158<>\"\",\"胸部CT　\",\"\")&IF(申込みフォーム!AM158<>\"\",\"肺機能　\",\"\")&IF(申込みフォーム!AN158<>\"\",\"腹ｴｺｰ　\",\"\")&IF(申込みフォーム!AO158<>\"\",\"心ｴｺｰ　\",\"\")&IF(申込みフォーム!AP158<>\"\",\"ﾌﾛｰﾗ　\",\"\")&IF(申込みフォーム!AQ158<>\"\",\"OCT　\",\"\")&IF(申込みフォーム!AR158<>\"\",\"検便　\",\"\")&IF(申込みフォーム!AS158<>\"\",\"骨　\",\"\")&IF(申込みフォーム!AT158<>\"\",\"骨＋ﾛｺﾓ\",\"\")","v":""},{"$f":"IF(申込みフォーム!AU158<>\"\",申込みフォーム!AU158&\"　　\",\"\")&IF(申込みフォーム!AV158<>\"\",申込みフォーム!AV158&\"　　\",\"\")&IF(申込みフォーム!AW158<>\"\",申込みフォーム!AW158&\"　　\",\"\")","v":""},{"$f":"IF(申込みフォーム!BJ158<>\"\",申込みフォーム!BJ158,\"\")","v":""},{"$f":"IF(申込みフォーム!BK158<>\"\",申込みフォーム!BK158,\"\")","v":""},{"$f":"IF(申込みフォーム!BL158<>\"\",申込みフォーム!BL158&\"　　\",\"\")&IF(申込みフォーム!BM158<>\"\",申込みフォーム!BM158&\"　　\",\"\")&IF(申込みフォーム!BN158<>\"\",申込みフォーム!BN158&\"　　\",\"\")","v":{"$error":"#VALUE!"}},{"$f":"申込みフォーム!$Z158","v":""}]
[149,null,null,null,null,{"$f":"IF(申込みフォーム!B159<>\"\",申込みフォーム!B159&\"　\"&申込みフォーム!C159,\"\")","v":""},{"$f":"IF(申込みフォーム!E159<>\"\",申込みフォーム!E159&\"　\"&申込みフォーム!F159,\"\")","v":""},{"$f":"IF(申込みフォーム!G159<>\"\",申込みフォーム!G159,\"\")","v":""},{"$f":"IF(申込みフォーム!H159<>\"\",申込みフォーム!H159,\"\")","v":""},{"$f":"IF(申込みフォーム!D159<>\"\",申込みフォーム!D159,\"\")","v":""},{"$f":"IF(申込みフォーム!I159<>\"\",REPLACE(申込みフォーム!I159,4,,\"-\"),\"\")","v":""},{"$f":"IF(申込みフォーム!J159<>\"\",申込みフォーム!J159,\"\")","v":""},{"$f":"IF(申込みフォーム!K159<>\"\",申込みフォーム!K159,\"\")","v":""},{"$f":"IF(申込みフォーム!L159<>\"\",MID(申込みフォーム!L159,1,3)&\"-\"&MID(申込みフォーム!L159,4,4)&\"-\"&MID(申込みフォーム!L159,8,4),\"\")","v":""},{"$f":"IF(申込みフォーム!M159<>\"\",申込みフォーム!M159,\"\")","v":""},{"$f":"IF(申込みフォーム!N159<>\"\",申込みフォーム!N159,\"\")","v":""},{"$f":"IF(申込みフォーム!O159<>\"\",申込みフォーム!O159,\"\")","v":""},{"$f":"IF(申込みフォーム!P159<>\"\",申込みフォーム!P159,\"\")","v":""},{"$f":"IF(申込みフォーム!Q159<>\"\",申込みフォーム!Q159,\"\")","v":""},{"$f":"IF(申込みフォーム!R159<>\"\",申込みフォーム!R159,\"\")","v":""},{"$f":"IF(申込みフォーム!S159<>\"\",申込みフォーム!S159,\"\")","v":""},{"$f":"IF(申込みフォーム!U159=\"細胞診のみ\",\"協会子宮　\",IF(申込みフォーム!U159=\"細胞診＋（自費）膣エコー\",\"協会子宮＋自費膣エコー　\",\"\"))&IF(申込みフォーム!W159<>\"\",\"協会ﾏﾝﾓ　\",\"\")&IF(申込みフォーム!Y159<>\"\",\"協会骨　\",\"\")&IF(申込みフォーム!AA159<>\"\",\"協会肝炎　\",\"\")","v":""},{"$f":"IF(申込みフォーム!AB159<>\"\",\"子宮　\",\"\")&IF(申込みフォーム!AC159<>\"\",\"ﾏﾝﾓ　\",\"\")&IF(申込みフォーム!AD159<>\"\",\"乳ｴｺｰ\",\"\")","v":""},{"$f":"IF(申込みフォーム!AE159<>\"\",\"ﾏｰｶｰ　\",\"\")&IF(申込みフォーム!AF159<>\"\",\"心機能　\",\"\")&IF(申込みフォーム!AG159<>\"\",\"ABC　\",\"\")&IF(申込みフォーム!AH159<>\"\",\"Lox　\",\"\")&IF(申込みフォーム!AI159<>\"\",\"甲状腺　\",\"\")&IF(申込みフォーム!AJ159<>\"\",\"肝炎\",\"\")","v":""},{"$f":"IF(申込みフォーム!AK159<>\"\",\"脳　\",\"\")&IF(申込みフォーム!AL159<>\"\",\"胸部CT　\",\"\")&IF(申込みフォーム!AM159<>\"\",\"肺機能　\",\"\")&IF(申込みフォーム!AN159<>\"\",\"腹ｴｺｰ　\",\"\")&IF(申込みフォーム!AO159<>\"\",\"心ｴｺｰ　\",\"\")&IF(申込みフォーム!AP159<>\"\",\"ﾌﾛｰﾗ　\",\"\")&IF(申込みフォーム!AQ159<>\"\",\"OCT　\",\"\")&IF(申込みフォーム!AR159<>\"\",\"検便　\",\"\")&IF(申込みフォーム!AS159<>\"\",\"骨　\",\"\")&IF(申込みフォーム!AT159<>\"\",\"骨＋ﾛｺﾓ\",\"\")","v":""},{"$f":"IF(申込みフォーム!AU159<>\"\",申込みフォーム!AU159&\"　　\",\"\")&IF(申込みフォーム!AV159<>\"\",申込みフォーム!AV159&\"　　\",\"\")&IF(申込みフォーム!AW159<>\"\",申込みフォーム!AW159&\"　　\",\"\")","v":""},{"$f":"IF(申込みフォーム!BJ159<>\"\",申込みフォーム!BJ159,\"\")","v":""},{"$f":"IF(申込みフォーム!BK159<>\"\",申込みフォーム!BK159,\"\")","v":""},{"$f":"IF(申込みフォーム!BL159<>\"\",申込みフォーム!BL159&\"　　\",\"\")&IF(申込みフォーム!BM159<>\"\",申込みフォーム!BM159&\"　　\",\"\")&IF(申込みフォーム!BN159<>\"\",申込みフォーム!BN159&\"　　\",\"\")","v":{"$error":"#VALUE!"}},{"$f":"申込みフォーム!$Z159","v":""}]
[150,null,null,null,null,{"$f":"IF(申込みフォーム!B160<>\"\",申込みフォーム!B160&\"　\"&申込みフォーム!C160,\"\")","v":""},{"$f":"IF(申込みフォーム!E160<>\"\",申込みフォーム!E160&\"　\"&申込みフォーム!F160,\"\")","v":""},{"$f":"IF(申込みフォーム!G160<>\"\",申込みフォーム!G160,\"\")","v":""},{"$f":"IF(申込みフォーム!H160<>\"\",申込みフォーム!H160,\"\")","v":""},{"$f":"IF(申込みフォーム!D160<>\"\",申込みフォーム!D160,\"\")","v":""},{"$f":"IF(申込みフォーム!I160<>\"\",REPLACE(申込みフォーム!I160,4,,\"-\"),\"\")","v":""},{"$f":"IF(申込みフォーム!J160<>\"\",申込みフォーム!J160,\"\")","v":""},{"$f":"IF(申込みフォーム!K160<>\"\",申込みフォーム!K160,\"\")","v":""},{"$f":"IF(申込みフォーム!L160<>\"\",MID(申込みフォーム!L160,1,3)&\"-\"&MID(申込みフォーム!L160,4,4)&\"-\"&MID(申込みフォーム!L160,8,4),\"\")","v":""},{"$f":"IF(申込みフォーム!M160<>\"\",申込みフォーム!M160,\"\")","v":""},{"$f":"IF(申込みフォーム!N160<>\"\",申込みフォーム!N160,\"\")","v":""},{"$f":"IF(申込みフォーム!O160<>\"\",申込みフォーム!O160,\"\")","v":""},{"$f":"IF(申込みフォーム!P160<>\"\",申込みフォーム!P160,\"\")","v":""},{"$f":"IF(申込みフォーム!Q160<>\"\",申込みフォーム!Q160,\"\")","v":""},{"$f":"IF(申込みフォーム!R160<>\"\",申込みフォーム!R160,\"\")","v":""},{"$f":"IF(申込みフォーム!S160<>\"\",申込みフォーム!S160,\"\")","v":""},{"$f":"IF(申込みフォーム!U160=\"細胞診のみ\",\"協会子宮　\",IF(申込みフォーム!U160=\"細胞診＋（自費）膣エコー\",\"協会子宮＋自費膣エコー　\",\"\"))&IF(申込みフォーム!W160<>\"\",\"協会ﾏﾝﾓ　\",\"\")&IF(申込みフォーム!Y160<>\"\",\"協会骨　\",\"\")&IF(申込みフォーム!AA160<>\"\",\"協会肝炎　\",\"\")","v":""},{"$f":"IF(申込みフォーム!AB160<>\"\",\"子宮　\",\"\")&IF(申込みフォーム!AC160<>\"\",\"ﾏﾝﾓ　\",\"\")&IF(申込みフォーム!AD160<>\"\",\"乳ｴｺｰ\",\"\")","v":""},{"$f":"IF(申込みフォーム!AE160<>\"\",\"ﾏｰｶｰ　\",\"\")&IF(申込みフォーム!AF160<>\"\",\"心機能　\",\"\")&IF(申込みフォーム!AG160<>\"\",\"ABC　\",\"\")&IF(申込みフォーム!AH160<>\"\",\"Lox　\",\"\")&IF(申込みフォーム!AI160<>\"\",\"甲状腺　\",\"\")&IF(申込みフォーム!AJ160<>\"\",\"肝炎\",\"\")","v":""},{"$f":"IF(申込みフォーム!AK160<>\"\",\"脳　\",\"\")&IF(申込みフォーム!AL160<>\"\",\"胸部CT　\",\"\")&IF(申込みフォーム!AM160<>\"\",\"肺機能　\",\"\")&IF(申込みフォーム!AN160<>\"\",\"腹ｴｺｰ　\",\"\")&IF(申込みフォーム!AO160<>\"\",\"心ｴｺｰ　\",\"\")&IF(申込みフォーム!AP160<>\"\",\"ﾌﾛｰﾗ　\",\"\")&IF(申込みフォーム!AQ160<>\"\",\"OCT　\",\"\")&IF(申込みフォーム!AR160<>\"\",\"検便　\",\"\")&IF(申込みフォーム!AS160<>\"\",\"骨　\",\"\")&IF(申込みフォーム!AT160<>\"\",\"骨＋ﾛｺﾓ\",\"\")","v":""},{"$f":"IF(申込みフォーム!AU160<>\"\",申込みフォーム!AU160&\"　　\",\"\")&IF(申込みフォーム!AV160<>\"\",申込みフォーム!AV160&\"　　\",\"\")&IF(申込みフォーム!AW160<>\"\",申込みフォーム!AW160&\"　　\",\"\")","v":""},{"$f":"IF(申込みフォーム!BJ160<>\"\",申込みフォーム!BJ160,\"\")","v":""},{"$f":"IF(申込みフォーム!BK160<>\"\",申込みフォーム!BK160,\"\")","v":""},{"$f":"IF(申込みフォーム!BL160<>\"\",申込みフォーム!BL160&\"　　\",\"\")&IF(申込みフォーム!BM160<>\"\",申込みフォーム!BM160&\"　　\",\"\")&IF(申込みフォーム!BN160<>\"\",申込みフォーム!BN160&\"　　\",\"\")","v":{"$error":"#VALUE!"}},{"$f":"申込みフォーム!$Z160","v":""}]

{"sheet":"作業用","index":5,"n_rows":51,"n_cols":18,"rows_kept":51,"cut":false,"hidden":true,"merged":[[1,0,1,10],[1,11,1,14]]}
[]
["申込フォーム",null,null,null,null,null,null,null,null,null,null,"【健診センター用】確認シート",null,null,null,null,null,"【健診センター用】受診日決定シート"]
["支払方法（コース）",null,"支払方法（オプション）","保険種別","本人・家族区分","コース","胃検査","子宮がん","選択","表題","年度末年月日","申込No.",null,null,"Vlookup　引用用","協会けんぽ保険者番号"]
["本人支払（現金orｸﾚｼﾞｯﾄ）","本人支払（現金orｸﾚｼﾞｯﾄ）","男","協会けんぽ","本人","協会一般","胃透視（ﾊﾞﾘｳﾑ）","細胞診のみ","〇","令和8年度伊勢病院専用申込書（予約フォーム専用）（８月・９月申込分）","2027-04-01",1,"NO.",1,2,"01010016","北海道支部平成31年1月1日","AM"]
["事業所請求（銀行振込のみ）","事業所請求（銀行振込のみ）","女","その他","家族","協会一般＋節目（40･45･50･55･60･65･70歳）","経口ｶﾒﾗ","細胞診＋（自費）膣エコー",null,null,null,11,"氏名",2,3,"01020015","青森支部平成31年1月1日","PM"]
[null,null,null,null,null,"協会一般＋節目（自費）","経鼻ｶﾒﾗ",null,null,null,null,21,"氏名（カナ）",3,4,"01030014","岩手支部平成31年1月1日","AM+PM"]
[null,null,null,null,null,"協会一般（若年　20・25・30歳）","経鼻ｶﾒﾗ（空き枠なければ、経口ｶﾒﾗでも可）",null,null,null,null,31,"性別",4,5,"01040013","宮城支部平成31年1月1日","AM\nPM"]
[null,null,null,null,null,"協会子宮単独（細胞診のみ)","経鼻ｶﾒﾗ（空き枠なければ、胃透視（ﾊﾞﾘｳﾑ）でも可）",null,null,null,null,41,"生年月日",5,6,"01050012","秋田支部平成31年1月1日"]
[null,null,null,null,null,"協会子宮単独（細胞診）＋膣エコー（自費）","胃検査なし・胃検査ｷｬﾝｾﾙ",null,null,null,null,51,"年度末\n年齢",6,7,"01060011","山形支部平成31年1月1日"]
[null,null,null,null,null,"伊勢病院　人間ドック(ｽﾀﾝﾀﾞｰﾄﾞ)・協会けんぽ併用（協会一般・協会節目）","胃検査なし・胃検査ｷｬﾝｾﾙ（空き枠なければ、経口ｶﾒﾗでも可）",null,null,null,null,61,"郵便番号",7,8,"01070010","福島支部平成31年1月1日"]
[null,null,null,null,null,"伊勢病院　人間ドック(ｽﾀﾝﾀﾞｰﾄﾞ)","胃検査なし・胃検査ｷｬﾝｾﾙ（空き枠なければ、胃透視（ﾊﾞﾘｳﾑ）でも可）",null,null,null,null,71,"住所",8,9,"01080019","茨城支部平成31年1月1日"]
[null,null,null,null,null,"伊勢病院　人間ドック(ｼﾝﾌﾟﾙ）",null,null,null,null,null,81,"固定電話",9,10,"01090018","栃木支部平成31年1月1日"]
[null,null,null,null,null,"伊勢病院　生活習慣病",null,null,null,null,null,91,"携帯電話",10,11,"01100015","群馬支部平成31年1月1日"]
[null,null,null,null,null,"伊勢病院　法定Ａ",null,null,null,null,null,101,"保険種別",11,12,"01110014","埼玉支部平成31年1月1日"]
[null,null,null,null,null,"伊勢病院　法定Ｂ",null,null,null,null,null,111,"本人・家族区分",12,13,"01120013","千葉支部平成31年1月1日"]
[null,null,null,null,null,"伊勢病院　脳ドック(単独)",null,null,null,null,null,121,"保険者番号",13,14,"01130012","東京支部平成31年1月1日"]
[null,null,null,null,null,"協会子宮単独（細胞診のみ)（20～38歳で受診年度の年齢が偶数の方）",null,null,null,null,null,131,"記号",14,15,"01140011","神奈川支部平成31年1月1日"]
[null,null,null,null,null,"協会子宮単独（細胞診のみ)（20・22・24・26・28・30・32・34・36・38歳）",null,null,null,null,null,141,"番号",15,16,"01150010","新潟支部平成31年1月1日"]
[null,null,null,null,null,"協会子宮単独（細胞診）（20～38歳で受診年度の年齢が偶数の方）＋膣エコー（自費）",null,null,null,null,null,null,"受診コース",16,17,"01160019","富山支部平成31年1月1日"]
[null,null,null,null,null,"協会子宮単独（細胞診）（20・22・24・26・28・30・32・34・36・38歳）＋膣エコー（自費）",null,null,null,null,null,null,"胃検査",17,18,"01170018","石川支部平成31年1月1日"]
[null,null,null,null,null,null,null,null,null,null,null,null,"協会けんぽ補助対象（条件あり）オプション",18,19,"01180017","福井支部平成31年1月1日"]
[null,null,null,null,null,null,null,null,null,null,null,null,"婦人科オプション",19,20,"01190016","山梨支部平成31年1月1日"]
[null,null,null,null,null,null,null,null,null,null,null,null,"血液検査オプション",20,21,"01200013","長野支部平成31年1月1日"]
[null,null,null,null,null,null,null,null,null,null,null,null,"その他オプション",21,22,"01210012","岐阜支部平成31年1月1日"]
[null,null,null,null,null,null,null,null,null,null,null,null,"受診希望",22,23,"01220011","静岡支部平成31年1月1日"]
[null,null,null,null,null,null,null,null,null,null,null,null,"備考",23,24,"01230010","愛知支部平成31年1月1日"]
[null,null,null,null,null,null,null,null,null,null,null,null,"（健診申込）　必須項目確認",24,25,"01240019","三重支部平成31年1月1日"]
[null,null,null,null,null,null,null,null,null,null,null,null,"協会けんぽ補助対象（条件あり）オプション　対象外項目",25,26,"01250018","滋賀支部平成31年1月1日"]
[null,null,null,null,null,null,null,null,null,null,null,null,"協会けんぽ補助対象（条件あり）オプション　対象外チェック",26,27,"01260017","京都支部平成31年1月1日"]
[null,null,null,null,null,null,null,null,null,null,null,null,null,null,null,"01270016","大阪支部平成31年1月1日"]
[null,null,null,null,null,null,null,null,null,null,null,null,null,null,null,"01280015","兵庫支部平成31年1月1日"]
[null,null,null,null,null,null,null,null,null,null,null,null,null,null,null,"01290014","奈良支部平成31年1月1日"]
[null,null,null,null,null,null,null,null,null,null,null,null,null,null,null,"01300011","和歌山支部平成31年1月1日"]
[null,null,null,null,null,null,null,null,null,null,null,null,null,null,null,"01310010","鳥取支部平成31年1月1日"]
[null,null,null,null,null,null,null,null,null,null,null,null,null,null,null,"01320019","島根支部平成31年1月1日"]
[null,null,null,null,null,null,null,null,null,null,null,null,null,null,null,"01330018","岡山支部平成31年1月1日"]
[null,null,null,null,null,null,null,null,null,null,null,null,null,null,null,"01340017","広島支部平成31年1月1日"]
[null,null,null,null,null,null,null,null,null,null,null,null,null,null,null,"01350016","山口支部平成31年1月1日"]
[null,null,null,null,null,null,null,null,null,null,null,null,null,null,null,"01360015","徳島支部平成31年1月1日"]
[null,null,null,null,null,null,null,null,null,null,null,null,null,null,null,"01370014","香川支部平成31年1月1日"]
[null,null,null,null,null,null,null,null,null,null,null,null,null,null,null,"01380013","愛媛支部平成31年1月1日"]
[null,null,null,null,null,null,null,null,null,null,null,null,null,null,null,"01390012","高知支部平成31年1月1日"]
[null,null,null,null,null,null,null,null,null,null,null,null,null,null,null,"01400019","福岡支部平成31年1月1日"]
[null,null,null,null,null,null,null,null,null,null,null,null,null,null,null,"01410018","佐賀支部平成31年1月1日"]
[null,null,null,null,null,null,null,null,null,null,null,null,null,null,null,"01420017","長崎支部平成31年1月1日"]
[null,null,null,null,null,null,null,null,null,null,null,null,null,null,null,"01430016","熊本支部平成31年1月1日"]
[null,null,null,null,null,null,null,null,null,null,null,null,null,null,null,"01440015","大分支部平成31年1月1日"]
[null,null,null,null,null,null,null,null,null,null,null,null,null,null,null,"01450014","宮崎支部平成31年1月1日"]
[null,null,null,null,null,null,null,null,null,null,null,null,null,null,null,"01460013","鹿児島支部平成31年1月1日"]
[null,null,null,null,null,null,null,null,null,null,null,null,null,null,null,"01470012","沖縄支部平成31年1月1日"]
[null,null,null,null,null,null,null,null,null,null,null,null,null,null,null,"02130011","船員保険部平成31年1月1日"]

{"sheet":"受診者リスト(抽出用）","index":6,"n_rows":1500,"n_cols":5,"rows_kept":1500,"cut":false,"hidden":true,"merged":[]}
[{"$f":"'→これより右側　健診センター作業シート'!$D1","v":0},{"$f":"'→これより右側　健診センター作業シート'!$B1","v":0},{"$f":"'→これより右側　健診センター作業シート'!$I1","v":0},"団体コード","団体枝番"]
[{"$f":"'→これより右側　健診センター作業シート'!$D2","v":0},{"$f":"'→これより右側　健診センター作業シート'!$B2","v":0},{"$f":"'→これより右側　健診センター作業シート'!$I2","v":0},{"$f":"'→これより右側　健診センター作業シート'!$G2","v":0},{"$f":"'→これより右側　健診センター作業シート'!$H2","v":0}]
[{"$f":"'→これより右側　健診センター作業シート'!$D3","v":0},{"$f":"'→これより右側　健診センター作業シート'!$B3","v":0},{"$f":"'→これより右側　健診センター作業シート'!$I3","v":0},{"$f":"'→これより右側　健診センター作業シート'!$G3","v":0},{"$f":"'→これより右側　健診センター作業シート'!$H3","v":0}]
[{"$f":"'→これより右側　健診センター作業シート'!$D4","v":0},{"$f":"'→これより右側　健診センター作業シート'!$B4","v":0},{"$f":"'→これより右側　健診センター作業シート'!$I4","v":0},{"$f":"'→これより右側　健診センター作業シート'!$G4","v":0},{"$f":"'→これより右側　健診センター作業シート'!$H4","v":0}]
[{"$f":"'→これより右側　健診センター作業シート'!$D5","v":0},{"$f":"'→これより右側　健診センター作業シート'!$B5","v":0},{"$f":"'→これより右側　健診センター作業シート'!$I5","v":0},{"$f":"'→これより右側　健診センター作業シート'!$G5","v":0},{"$f":"'→これより右側　健診センター作業シート'!$H5","v":0}]
[{"$f":"'→これより右側　健診センター作業シート'!$D6","v":0},{"$f":"'→これより右側　健診センター作業シート'!$B6","v":0},{"$f":"'→これより右側　健診センター作業シート'!$I6","v":0},{"$f":"'→これより右側　健診センター作業シート'!$G6","v":0},{"$f":"'→これより右側　健診センター作業シート'!$H6","v":0}]
[{"$f":"'→これより右側　健診センター作業シート'!$D7","v":0},{"$f":"'→これより右側　健診センター作業シート'!$B7","v":0},{"$f":"'→これより右側　健診センター作業シート'!$I7","v":0},{"$f":"'→これより右側　健診センター作業シート'!$G7","v":0},{"$f":"'→これより右側　健診センター作業シート'!$H7","v":0}]
[{"$f":"'→これより右側　健診センター作業シート'!$D8","v":0},{"$f":"'→これより右側　健診センター作業シート'!$B8","v":0},{"$f":"'→これより右側　健診センター作業シート'!$I8","v":0},{"$f":"'→これより右側　健診センター作業シート'!$G8","v":0},{"$f":"'→これより右側　健診センター作業シート'!$H8","v":0}]
[{"$f":"'→これより右側　健診センター作業シート'!$D9","v":0},{"$f":"'→これより右側　健診センター作業シート'!$B9","v":0},{"$f":"'→これより右側　健診センター作業シート'!$I9","v":0},{"$f":"'→これより右側　健診センター作業シート'!$G9","v":0},{"$f":"'→これより右側　健診センター作業シート'!$H9","v":0}]
[{"$f":"'→これより右側　健診センター作業シート'!$D10","v":0},{"$f":"'→これより右側　健診センター作業シート'!$B10","v":0},{"$f":"'→これより右側　健診センター作業シート'!$I10","v":0},{"$f":"'→これより右側　健診センター作業シート'!$G10","v":0},{"$f":"'→これより右側　健診センター作業シート'!$H10","v":0}]
[{"$f":"'→これより右側　健診センター作業シート'!$D11","v":0},{"$f":"'→これより右側　健診センター作業シート'!$B11","v":0},{"$f":"'→これより右側　健診センター作業シート'!$I11","v":0},{"$f":"'→これより右側　健診センター作業シート'!$G11","v":0},{"$f":"'→これより右側　健診センター作業シート'!$H11","v":0}]
[{"$f":"'→これより右側　健診センター作業シート'!$D12","v":0},{"$f":"'→これより右側　健診センター作業シート'!$B12","v":0},{"$f":"'→これより右側　健診センター作業シート'!$I12","v":0},{"$f":"'→これより右側　健診センター作業シート'!$G12","v":0},{"$f":"'→これより右側　健診センター作業シート'!$H12","v":0}]
[{"$f":"'→これより右側　健診センター作業シート'!$D13","v":0},{"$f":"'→これより右側　健診センター作業シート'!$B13","v":0},{"$f":"'→これより右側　健診センター作業シート'!$I13","v":0},{"$f":"'→これより右側　健診センター作業シート'!$G13","v":0},{"$f":"'→これより右側　健診センター作業シート'!$H13","v":0}]
[{"$f":"'→これより右側　健診センター作業シート'!$D14","v":0},{"$f":"'→これより右側　健診センター作業シート'!$B14","v":0},{"$f":"'→これより右側　健診センター作業シート'!$I14","v":0},{"$f":"'→これより右側　健診センター作業シート'!$G14","v":0},{"$f":"'→これより右側　健診センター作業シート'!$H14","v":0}]
[{"$f":"'→これより右側　健診センター作業シート'!$D15","v":0},{"$f":"'→これより右側　健診センター作業シート'!$B15","v":0},{"$f":"'→これより右側　健診センター作業シート'!$I15","v":0},{"$f":"'→これより右側　健診センター作業シート'!$G15","v":0},{"$f":"'→これより右側　健診センター作業シート'!$H15","v":0}]
[{"$f":"'→これより右側　健診センター作業シート'!$D16","v":0},{"$f":"'→これより右側　健診センター作業シート'!$B16","v":0},{"$f":"'→これより右側　健診センター作業シート'!$I16","v":0},{"$f":"'→これより右側　健診センター作業シート'!$G16","v":0},{"$f":"'→これより右側　健診センター作業シート'!$H16","v":0}]
[{"$f":"'→これより右側　健診センター作業シート'!$D17","v":0},{"$f":"'→これより右側　健診センター作業シート'!$B17","v":0},{"$f":"'→これより右側　健診センター作業シート'!$I17","v":0},{"$f":"'→これより右側　健診センター作業シート'!$G17","v":0},{"$f":"'→これより右側　健診センター作業シート'!$H17","v":0}]
[{"$f":"'→これより右側　健診センター作業シート'!$D18","v":0},{"$f":"'→これより右側　健診センター作業シート'!$B18","v":0},{"$f":"'→これより右側　健診センター作業シート'!$I18","v":0},{"$f":"'→これより右側　健診センター作業シート'!$G18","v":0},{"$f":"'→これより右側　健診センター作業シート'!$H18","v":0}]
[{"$f":"'→これより右側　健診センター作業シート'!$D19","v":0},{"$f":"'→これより右側　健診センター作業シート'!$B19","v":0},{"$f":"'→これより右側　健診センター作業シート'!$I19","v":0},{"$f":"'→これより右側　健診センター作業シート'!$G19","v":0},{"$f":"'→これより右側　健診センター作業シート'!$H19","v":0}]
[{"$f":"'→これより右側　健診センター作業シート'!$D20","v":0},{"$f":"'→これより右側　健診センター作業シート'!$B20","v":0},{"$f":"'→これより右側　健診センター作業シート'!$I20","v":0},{"$f":"'→これより右側　健診センター作業シート'!$G20","v":0},{"$f":"'→これより右側　健診センター作業シート'!$H20","v":0}]
[{"$f":"'→これより右側　健診センター作業シート'!$D21","v":0},{"$f":"'→これより右側　健診センター作業シート'!$B21","v":0},{"$f":"'→これより右側　健診センター作業シート'!$I21","v":0},{"$f":"'→これより右側　健診センター作業シート'!$G21","v":0},{"$f":"'→これより右側　健診センター作業シート'!$H21","v":0}]
[{"$f":"'→これより右側　健診センター作業シート'!$D22","v":0},{"$f":"'→これより右側　健診センター作業シート'!$B22","v":0},{"$f":"'→これより右側　健診センター作業シート'!$I22","v":0},{"$f":"'→これより右側　健診センター作業シート'!$G22","v":0},{"$f":"'→これより右側　健診センター作業シート'!$H22","v":0}]
[{"$f":"'→これより右側　健診センター作業シート'!$D23","v":0},{"$f":"'→これより右側　健診センター作業シート'!$B23","v":0},{"$f":"'→これより右側　健診センター作業シート'!$I23","v":0},{"$f":"'→これより右側　健診センター作業シート'!$G23","v":0},{"$f":"'→これより右側　健診センター作業シート'!$H23","v":0}]
[{"$f":"'→これより右側　健診センター作業シート'!$D24","v":0},{"$f":"'→これより右側　健診センター作業シート'!$B24","v":0},{"$f":"'→これより右側　健診センター作業シート'!$I24","v":0},{"$f":"'→これより右側　健診センター作業シート'!$G24","v":0},{"$f":"'→これより右側　健診センター作業シート'!$H24","v":0}]
[{"$f":"'→これより右側　健診センター作業シート'!$D25","v":0},{"$f":"'→これより右側　健診センター作業シート'!$B25","v":0},{"$f":"'→これより右側　健診センター作業シート'!$I25","v":0},{"$f":"'→これより右側　健診センター作業シート'!$G25","v":0},{"$f":"'→これより右側　健診センター作業シート'!$H25","v":0}]
[{"$f":"'→これより右側　健診センター作業シート'!$D26","v":0},{"$f":"'→これより右側　健診センター作業シート'!$B26","v":0},{"$f":"'→これより右側　健診センター作業シート'!$I26","v":0},{"$f":"'→これより右側　健診センター作業シート'!$G26","v":0},{"$f":"'→これより右側　健診センター作業シート'!$H26","v":0}]
[{"$f":"'→これより右側　健診センター作業シート'!$D27","v":0},{"$f":"'→これより右側　健診センター作業シート'!$B27","v":0},{"$f":"'→これより右側　健診センター作業シート'!$I27","v":0},{"$f":"'→これより右側　健診センター作業シート'!$G27","v":0},{"$f":"'→これより右側　健診センター作業シート'!$H27","v":0}]
[{"$f":"'→これより右側　健診センター作業シート'!$D28","v":0},{"$f":"'→これより右側　健診センター作業シート'!$B28","v":0},{"$f":"'→これより右側　健診センター作業シート'!$I28","v":0},{"$f":"'→これより右側　健診センター作業シート'!$G28","v":0},{"$f":"'→これより右側　健診センター作業シート'!$H28","v":0}]
[{"$f":"'→これより右側　健診センター作業シート'!$D29","v":0},{"$f":"'→これより右側　健診センター作業シート'!$B29","v":0},{"$f":"'→これより右側　健診センター作業シート'!$I29","v":0},{"$f":"'→これより右側　健診センター作業シート'!$G29","v":0},{"$f":"'→これより右側　健診センター作業シート'!$H29","v":0}]
[{"$f":"'→これより右側　健診センター作業シート'!$D30","v":0},{"$f":"'→これより右側　健診センター作業シート'!$B30","v":0},{"$f":"'→これより右側　健診センター作業シート'!$I30","v":0},{"$f":"'→これより右側　健診センター作業シート'!$G30","v":0},{"$f":"'→これより右側　健診センター作業シート'!$H30","v":0}]
[{"$f":"'→これより右側　健診センター作業シート'!$D31","v":0},{"$f":"'→これより右側　健診センター作業シート'!$B31","v":0},{"$f":"'→これより右側　健診センター作業シート'!$I31","v":0},{"$f":"'→これより右側　健診センター作業シート'!$G31","v":0},{"$f":"'→これより右側　健診センター作業シート'!$H31","v":0}]
[{"$f":"'→これより右側　健診センター作業シート'!$D32","v":0},{"$f":"'→これより右側　健診センター作業シート'!$B32","v":0},{"$f":"'→これより右側　健診センター作業シート'!$I32","v":0},{"$f":"'→これより右側　健診センター作業シート'!$G32","v":0},{"$f":"'→これより右側　健診センター作業シート'!$H32","v":0}]
[{"$f":"'→これより右側　健診センター作業シート'!$D33","v":0},{"$f":"'→これより右側　健診センター作業シート'!$B33","v":0},{"$f":"'→これより右側　健診センター作業シート'!$I33","v":0},{"$f":"'→これより右側　健診センター作業シート'!$G33","v":0},{"$f":"'→これより右側　健診センター作業シート'!$H33","v":0}]
[{"$f":"'→これより右側　健診センター作業シート'!$D34","v":0},{"$f":"'→これより右側　健診センター作業シート'!$B34","v":0},{"$f":"'→これより右側　健診センター作業シート'!$I34","v":0},{"$f":"'→これより右側　健診センター作業シート'!$G34","v":0},{"$f":"'→これより右側　健診センター作業シート'!$H34","v":0}]
[{"$f":"'→これより右側　健診センター作業シート'!$D35","v":0},{"$f":"'→これより右側　健診センター作業シート'!$B35","v":0},{"$f":"'→これより右側　健診センター作業シート'!$I35","v":0},{"$f":"'→これより右側　健診センター作業シート'!$G35","v":0},{"$f":"'→これより右側　健診センター作業シート'!$H35","v":0}]
[{"$f":"'→これより右側　健診センター作業シート'!$D36","v":0},{"$f":"'→これより右側　健診センター作業シート'!$B36","v":0},{"$f":"'→これより右側　健診センター作業シート'!$I36","v":0},{"$f":"'→これより右側　健診センター作業シート'!$G36","v":0},{"$f":"'→これより右側　健診センター作業シート'!$H36","v":0}]
[{"$f":"'→これより右側　健診センター作業シート'!$D37","v":0},{"$f":"'→これより右側　健診センター作業シート'!$B37","v":0},{"$f":"'→これより右側　健診センター作業シート'!$I37","v":0},{"$f":"'→これより右側　健診センター作業シート'!$G37","v":0},{"$f":"'→これより右側　健診センター作業シート'!$H37","v":0}]
[{"$f":"'→これより右側　健診センター作業シート'!$D38","v":0},{"$f":"'→これより右側　健診センター作業シート'!$B38","v":0},{"$f":"'→これより右側　健診センター作業シート'!$I38","v":0},{"$f":"'→これより右側　健診センター作業シート'!$G38","v":0},{"$f":"'→これより右側　健診センター作業シート'!$H38","v":0}]
[{"$f":"'→これより右側　健診センター作業シート'!$D39","v":0},{"$f":"'→これより右側　健診センター作業シート'!$B39","v":0},{"$f":"'→これより右側　健診センター作業シート'!$I39","v":0},{"$f":"'→これより右側　健診センター作業シート'!$G39","v":0},{"$f":"'→これより右側　健診センター作業シート'!$H39","v":0}]
[{"$f":"'→これより右側　健診センター作業シート'!$D40","v":0},{"$f":"'→これより右側　健診センター作業シート'!$B40","v":0},{"$f":"'→これより右側　健診センター作業シート'!$I40","v":0},{"$f":"'→これより右側　健診センター作業シート'!$G40","v":0},{"$f":"'→これより右側　健診センター作業シート'!$H40","v":0}]
[{"$f":"'→これより右側　健診センター作業シート'!$D41","v":0},{"$f":"'→これより右側　健診センター作業シート'!$B41","v":0},{"$f":"'→これより右側　健診センター作業シート'!$I41","v":0},{"$f":"'→これより右側　健診センター作業シート'!$G41","v":0},{"$f":"'→これより右側　健診センター作業シート'!$H41","v":0}]
[{"$f":"'→これより右側　健診センター作業シート'!$D42","v":0},{"$f":"'→これより右側　健診センター作業シート'!$B42","v":0},{"$f":"'→これより右側　健診センター作業シート'!$I42","v":0},{"$f":"'→これより右側　健診センター作業シート'!$G42","v":0},{"$f":"'→これより右側　健診センター作業シート'!$H42","v":0}]
[{"$f":"'→これより右側　健診センター作業シート'!$D43","v":0},{"$f":"'→これより右側　健診センター作業シート'!$B43","v":0},{"$f":"'→これより右側　健診センター作業シート'!$I43","v":0},{"$f":"'→これより右側　健診センター作業シート'!$G43","v":0},{"$f":"'→これより右側　健診センター作業シート'!$H43","v":0}]
[{"$f":"'→これより右側　健診センター作業シート'!$D44","v":0},{"$f":"'→これより右側　健診センター作業シート'!$B44","v":0},{"$f":"'→これより右側　健診センター作業シート'!$I44","v":0},{"$f":"'→これより右側　健診センター作業シート'!$G44","v":0},{"$f":"'→これより右側　健診センター作業シート'!$H44","v":0}]
[{"$f":"'→これより右側　健診センター作業シート'!$D45","v":0},{"$f":"'→これより右側　健診センター作業シート'!$B45","v":0},{"$f":"'→これより右側　健診センター作業シート'!$I45","v":0},{"$f":"'→これより右側　健診センター作業シート'!$G45","v":0},{"$f":"'→これより右側　健診センター作業シート'!$H45","v":0}]
[{"$f":"'→これより右側　健診センター作業シート'!$D46","v":0},{"$f":"'→これより右側　健診センター作業シート'!$B46","v":0},{"$f":"'→これより右側　健診センター作業シート'!$I46","v":0},{"$f":"'→これより右側　健診センター作業シート'!$G46","v":0},{"$f":"'→これより右側　健診センター作業シート'!$H46","v":0}]
[{"$f":"'→これより右側　健診センター作業シート'!$D47","v":0},{"$f":"'→これより右側　健診センター作業シート'!$B47","v":0},{"$f":"'→これより右側　健診センター作業シート'!$I47","v":0},{"$f":"'→これより右側　健診センター作業シート'!$G47","v":0},{"$f":"'→これより右側　健診センター作業シート'!$H47","v":0}]
[{"$f":"'→これより右側　健診センター作業シート'!$D48","v":0},{"$f":"'→これより右側　健診センター作業シート'!$B48","v":0},{"$f":"'→これより右側　健診センター作業シート'!$I48","v":0},{"$f":"'→これより右側　健診センター作業シート'!$G48","v":0},{"$f":"'→これより右側　健診センター作業シート'!$H48","v":0}]
[{"$f":"'→これより右側　健診センター作業シート'!$D49","v":0},{"$f":"'→これより右側　健診センター作業シート'!$B49","v":0},{"$f":"'→これより右側　健診センター作業シート'!$I49","v":0},{"$f":"'→これより右側　健診センター作業シート'!$G49","v":0},{"$f":"'→これより右側　健診センター作業シート'!$H49","v":0}]
[{"$f":"'→これより右側　健診センター作業シート'!$D50","v":0},{"$f":"'→これより右側　健診センター作業シート'!$B50","v":0},{"$f":"'→これより右側　健診センター作業シート'!$I50","v":0},{"$f":"'→これより右側　健診センター作業シート'!$G50","v":0},{"$f":"'→これより右側　健診センター作業シート'!$H50","v":0}]
[{"$f":"'→これより右側　健診センター作業シート'!$D51","v":0},{"$f":"'→これより右側　健診センター作業シート'!$B51","v":0},{"$f":"'→これより右側　健診センター作業シート'!$I51","v":0},{"$f":"'→これより右側　健診センター作業シート'!$G51","v":0},{"$f":"'→これより右側　健診センター作業シート'!$H51","v":0}]
[{"$f":"'→これより右側　健診センター作業シート'!$D52","v":0},{"$f":"'→これより右側　健診センター作業シート'!$B52","v":0},{"$f":"'→これより右側　健診センター作業シート'!$I52","v":0},{"$f":"'→これより右側　健診センター作業シート'!$G52","v":0},{"$f":"'→これより右側　健診センター作業シート'!$H52","v":0}]
[{"$f":"'→これより右側　健診センター作業シート'!$D53","v":0},{"$f":"'→これより右側　健診センター作業シート'!$B53","v":0},{"$f":"'→これより右側　健診センター作業シート'!$I53","v":0},{"$f":"'→これより右側　健診センター作業シート'!$G53","v":0},{"$f":"'→これより右側　健診センター作業シート'!$H53","v":0}]
[{"$f":"'→これより右側　健診センター作業シート'!$D54","v":0},{"$f":"'→これより右側　健診センター作業シート'!$B54","v":0},{"$f":"'→これより右側　健診センター作業シート'!$I54","v":0},{"$f":"'→これより右側　健診センター作業シート'!$G54","v":0},{"$f":"'→これより右側　健診センター作業シート'!$H54","v":0}]
[{"$f":"'→これより右側　健診センター作業シート'!$D55","v":0},{"$f":"'→これより右側　健診センター作業シート'!$B55","v":0},{"$f":"'→これより右側　健診センター作業シート'!$I55","v":0},{"$f":"'→これより右側　健診センター作業シート'!$G55","v":0},{"$f":"'→これより右側　健診センター作業シート'!$H55","v":0}]
[{"$f":"'→これより右側　健診センター作業シート'!$D56","v":0},{"$f":"'→これより右側　健診センター作業シート'!$B56","v":0},{"$f":"'→これより右側　健診センター作業シート'!$I56","v":0},{"$f":"'→これより右側　健診センター作業シート'!$G56","v":0},{"$f":"'→これより右側　健診センター作業シート'!$H56","v":0}]
[{"$f":"'→これより右側　健診センター作業シート'!$D57","v":0},{"$f":"'→これより右側　健診センター作業シート'!$B57","v":0},{"$f":"'→これより右側　健診センター作業シート'!$I57","v":0},{"$f":"'→これより右側　健診センター作業シート'!$G57","v":0},{"$f":"'→これより右側　健診センター作業シート'!$H57","v":0}]
[{"$f":"'→これより右側　健診センター作業シート'!$D58","v":0},{"$f":"'→これより右側　健診センター作業シート'!$B58","v":0},{"$f":"'→これより右側　健診センター作業シート'!$I58","v":0},{"$f":"'→これより右側　健診センター作業シート'!$G58","v":0},{"$f":"'→これより右側　健診センター作業シート'!$H58","v":0}]
[{"$f":"'→これより右側　健診センター作業シート'!$D59","v":0},{"$f":"'→これより右側　健診センター作業シート'!$B59","v":0},{"$f":"'→これより右側　健診センター作業シート'!$I59","v":0},{"$f":"'→これより右側　健診センター作業シート'!$G59","v":0},{"$f":"'→これより右側　健診センター作業シート'!$H59","v":0}]
[{"$f":"'→これより右側　健診センター作業シート'!$D60","v":0},{"$f":"'→これより右側　健診センター作業シート'!$B60","v":0},{"$f":"'→これより右側　健診センター作業シート'!$I60","v":0},{"$f":"'→これより右側　健診センター作業シート'!$G60","v":0},{"$f":"'→これより右側　健診センター作業シート'!$H60","v":0}]
[{"$f":"'→これより右側　健診センター作業シート'!$D61","v":0},{"$f":"'→これより右側　健診センター作業シート'!$B61","v":0},{"$f":"'→これより右側　健診センター作業シート'!$I61","v":0},{"$f":"'→これより右側　健診センター作業シート'!$G61","v":0},{"$f":"'→これより右側　健診センター作業シート'!$H61","v":0}]
[{"$f":"'→これより右側　健診センター作業シート'!$D62","v":0},{"$f":"'→これより右側　健診センター作業シート'!$B62","v":0},{"$f":"'→これより右側　健診センター作業シート'!$I62","v":0},{"$f":"'→これより右側　健診センター作業シート'!$G62","v":0},{"$f":"'→これより右側　健診センター作業シート'!$H62","v":0}]
[{"$f":"'→これより右側　健診センター作業シート'!$D63","v":0},{"$f":"'→これより右側　健診センター作業シート'!$B63","v":0},{"$f":"'→これより右側　健診センター作業シート'!$I63","v":0},{"$f":"'→これより右側　健診センター作業シート'!$G63","v":0},{"$f":"'→これより右側　健診センター作業シート'!$H63","v":0}]
[{"$f":"'→これより右側　健診センター作業シート'!$D64","v":0},{"$f":"'→これより右側　健診センター作業シート'!$B64","v":0},{"$f":"'→これより右側　健診センター作業シート'!$I64","v":0},{"$f":"'→これより右側　健診センター作業シート'!$G64","v":0},{"$f":"'→これより右側　健診センター作業シート'!$H64","v":0}]
[{"$f":"'→これより右側　健診センター作業シート'!$D65","v":0},{"$f":"'→これより右側　健診センター作業シート'!$B65","v":0},{"$f":"'→これより右側　健診センター作業シート'!$I65","v":0},{"$f":"'→これより右側　健診センター作業シート'!$G65","v":0},{"$f":"'→これより右側　健診センター作業シート'!$H65","v":0}]
[{"$f":"'→これより右側　健診センター作業シート'!$D66","v":0},{"$f":"'→これより右側　健診センター作業シート'!$B66","v":0},{"$f":"'→これより右側　健診センター作業シート'!$I66","v":0},{"$f":"'→これより右側　健診センター作業シート'!$G66","v":0},{"$f":"'→これより右側　健診センター作業シート'!$H66","v":0}]
[{"$f":"'→これより右側　健診センター作業シート'!$D67","v":0},{"$f":"'→これより右側　健診センター作業シート'!$B67","v":0},{"$f":"'→これより右側　健診センター作業シート'!$I67","v":0},{"$f":"'→これより右側　健診センター作業シート'!$G67","v":0},{"$f":"'→これより右側　健診センター作業シート'!$H67","v":0}]
[{"$f":"'→これより右側　健診センター作業シート'!$D68","v":0},{"$f":"'→これより右側　健診センター作業シート'!$B68","v":0},{"$f":"'→これより右側　健診センター作業シート'!$I68","v":0},{"$f":"'→これより右側　健診センター作業シート'!$G68","v":0},{"$f":"'→これより右側　健診センター作業シート'!$H68","v":0}]
[{"$f":"'→これより右側　健診センター作業シート'!$D69","v":0},{"$f":"'→これより右側　健診センター作業シート'!$B69","v":0},{"$f":"'→これより右側　健診センター作業シート'!$I69","v":0},{"$f":"'→これより右側　健診センター作業シート'!$G69","v":0},{"$f":"'→これより右側　健診センター作業シート'!$H69","v":0}]
[{"$f":"'→これより右側　健診センター作業シート'!$D70","v":0},{"$f":"'→これより右側　健診センター作業シート'!$B70","v":0},{"$f":"'→これより右側　健診センター作業シート'!$I70","v":0},{"$f":"'→これより右側　健診センター作業シート'!$G70","v":0},{"$f":"'→これより右側　健診センター作業シート'!$H70","v":0}]
[{"$f":"'→これより右側　健診センター作業シート'!$D71","v":0},{"$f":"'→これより右側　健診センター作業シート'!$B71","v":0},{"$f":"'→これより右側　健診センター作業シート'!$I71","v":0},{"$f":"'→これより右側　健診センター作業シート'!$G71","v":0},{"$f":"'→これより右側　健診センター作業シート'!$H71","v":0}]
[{"$f":"'→これより右側　健診センター作業シート'!$D72","v":0},{"$f":"'→これより右側　健診センター作業シート'!$B72","v":0},{"$f":"'→これより右側　健診センター作業シート'!$I72","v":0},{"$f":"'→これより右側　健診センター作業シート'!$G72","v":0},{"$f":"'→これより右側　健診センター作業シート'!$H72","v":0}]
[{"$f":"'→これより右側　健診センター作業シート'!$D73","v":0},{"$f":"'→これより右側　健診センター作業シート'!$B73","v":0},{"$f":"'→これより右側　健診センター作業シート'!$I73","v":0},{"$f":"'→これより右側　健診センター作業シート'!$G73","v":0},{"$f":"'→これより右側　健診センター作業シート'!$H73","v":0}]
[{"$f":"'→これより右側　健診センター作業シート'!$D74","v":0},{"$f":"'→これより右側　健診センター作業シート'!$B74","v":0},{"$f":"'→これより右側　健診センター作業シート'!$I74","v":0},{"$f":"'→これより右側　健診センター作業シート'!$G74","v":0},{"$f":"'→これより右側　健診センター作業シート'!$H74","v":0}]
[{"$f":"'→これより右側　健診センター作業シート'!$D75","v":0},{"$f":"'→これより右側　健診センター作業シート'!$B75","v":0},{"$f":"'→これより右側　健診センター作業シート'!$I75","v":0},{"$f":"'→これより右側　健診センター作業シート'!$G75","v":0},{"$f":"'→これより右側　健診センター作業シート'!$H75","v":0}]
[{"$f":"'→これより右側　健診センター作業シート'!$D76","v":0},{"$f":"'→これより右側　健診センター作業シート'!$B76","v":0},{"$f":"'→これより右側　健診センター作業シート'!$I76","v":0},{"$f":"'→これより右側　健診センター作業シート'!$G76","v":0},{"$f":"'→これより右側　健診センター作業シート'!$H76","v":0}]
[{"$f":"'→これより右側　健診センター作業シート'!$D77","v":0},{"$f":"'→これより右側　健診センター作業シート'!$B77","v":0},{"$f":"'→これより右側　健診センター作業シート'!$I77","v":0},{"$f":"'→これより右側　健診センター作業シート'!$G77","v":0},{"$f":"'→これより右側　健診センター作業シート'!$H77","v":0}]
[{"$f":"'→これより右側　健診センター作業シート'!$D78","v":0},{"$f":"'→これより右側　健診センター作業シート'!$B78","v":0},{"$f":"'→これより右側　健診センター作業シート'!$I78","v":0},{"$f":"'→これより右側　健診センター作業シート'!$G78","v":0},{"$f":"'→これより右側　健診センター作業シート'!$H78","v":0}]
[{"$f":"'→これより右側　健診センター作業シート'!$D79","v":0},{"$f":"'→これより右側　健診センター作業シート'!$B79","v":0},{"$f":"'→これより右側　健診センター作業シート'!$I79","v":0},{"$f":"'→これより右側　健診センター作業シート'!$G79","v":0},{"$f":"'→これより右側　健診センター作業シート'!$H79","v":0}]
[{"$f":"'→これより右側　健診センター作業シート'!$D80","v":0},{"$f":"'→これより右側　健診センター作業シート'!$B80","v":0},{"$f":"'→これより右側　健診センター作業シート'!$I80","v":0},{"$f":"'→これより右側　健診センター作業シート'!$G80","v":0},{"$f":"'→これより右側　健診センター作業シート'!$H80","v":0}]
[{"$f":"'→これより右側　健診センター作業シート'!$D81","v":0},{"$f":"'→これより右側　健診センター作業シート'!$B81","v":0},{"$f":"'→これより右側　健診センター作業シート'!$I81","v":0},{"$f":"'→これより右側　健診センター作業シート'!$G81","v":0},{"$f":"'→これより右側　健診センター作業シート'!$H81","v":0}]
[{"$f":"'→これより右側　健診センター作業シート'!$D82","v":0},{"$f":"'→これより右側　健診センター作業シート'!$B82","v":0},{"$f":"'→これより右側　健診センター作業シート'!$I82","v":0},{"$f":"'→これより右側　健診センター作業シート'!$G82","v":0},{"$f":"'→これより右側　健診センター作業シート'!$H82","v":0}]
[{"$f":"'→これより右側　健診センター作業シート'!$D83","v":0},{"$f":"'→これより右側　健診センター作業シート'!$B83","v":0},{"$f":"'→これより右側　健診センター作業シート'!$I83","v":0},{"$f":"'→これより右側　健診センター作業シート'!$G83","v":0},{"$f":"'→これより右側　健診センター作業シート'!$H83","v":0}]
[{"$f":"'→これより右側　健診センター作業シート'!$D84","v":0},{"$f":"'→これより右側　健診センター作業シート'!$B84","v":0},{"$f":"'→これより右側　健診センター作業シート'!$I84","v":0},{"$f":"'→これより右側　健診センター作業シート'!$G84","v":0},{"$f":"'→これより右側　健診センター作業シート'!$H84","v":0}]
[{"$f":"'→これより右側　健診センター作業シート'!$D85","v":0},{"$f":"'→これより右側　健診センター作業シート'!$B85","v":0},{"$f":"'→これより右側　健診センター作業シート'!$I85","v":0},{"$f":"'→これより右側　健診センター作業シート'!$G85","v":0},{"$f":"'→これより右側　健診センター作業シート'!$H85","v":0}]
[{"$f":"'→これより右側　健診センター作業シート'!$D86","v":0},{"$f":"'→これより右側　健診センター作業シート'!$B86","v":0},{"$f":"'→これより右側　健診センター作業シート'!$I86","v":0},{"$f":"'→これより右側　健診センター作業シート'!$G86","v":0},{"$f":"'→これより右側　健診センター作業シート'!$H86","v":0}]
[{"$f":"'→これより右側　健診センター作業シート'!$D87","v":0},{"$f":"'→これより右側　健診センター作業シート'!$B87","v":0},{"$f":"'→これより右側　健診センター作業シート'!$I87","v":0},{"$f":"'→これより右側　健診センター作業シート'!$G87","v":0},{"$f":"'→これより右側　健診センター作業シート'!$H87","v":0}]
[{"$f":"'→これより右側　健診センター作業シート'!$D88","v":0},{"$f":"'→これより右側　健診センター作業シート'!$B88","v":0},{"$f":"'→これより右側　健診センター作業シート'!$I88","v":0},{"$f":"'→これより右側　健診センター作業シート'!$G88","v":0},{"$f":"'→これより右側　健診センター作業シート'!$H88","v":0}]
[{"$f":"'→これより右側　健診センター作業シート'!$D89","v":0},{"$f":"'→これより右側　健診センター作業シート'!$B89","v":0},{"$f":"'→これより右側　健診センター作業シート'!$I89","v":0},{"$f":"'→これより右側　健診センター作業シート'!$G89","v":0},{"$f":"'→これより右側　健診センター作業シート'!$H89","v":0}]
[{"$f":"'→これより右側　健診センター作業シート'!$D90","v":0},{"$f":"'→これより右側　健診センター作業シート'!$B90","v":0},{"$f":"'→これより右側　健診センター作業シート'!$I90","v":0},{"$f":"'→これより右側　健診センター作業シート'!$G90","v":0},{"$f":"'→これより右側　健診センター作業シート'!$H90","v":0}]
[{"$f":"'→これより右側　健診センター作業シート'!$D91","v":0},{"$f":"'→これより右側　健診センター作業シート'!$B91","v":0},{"$f":"'→これより右側　健診センター作業シート'!$I91","v":0},{"$f":"'→これより右側　健診センター作業シート'!$G91","v":0},{"$f":"'→これより右側　健診センター作業シート'!$H91","v":0}]
[{"$f":"'→これより右側　健診センター作業シート'!$D92","v":0},{"$f":"'→これより右側　健診センター作業シート'!$B92","v":0},{"$f":"'→これより右側　健診センター作業シート'!$I92","v":0},{"$f":"'→これより右側　健診センター作業シート'!$G92","v":0},{"$f":"'→これより右側　健診センター作業シート'!$H92","v":0}]
[{"$f":"'→これより右側　健診センター作業シート'!$D93","v":0},{"$f":"'→これより右側　健診センター作業シート'!$B93","v":0},{"$f":"'→これより右側　健診センター作業シート'!$I93","v":0},{"$f":"'→これより右側　健診センター作業シート'!$G93","v":0},{"$f":"'→これより右側　健診センター作業シート'!$H93","v":0}]
[{"$f":"'→これより右側　健診センター作業シート'!$D94","v":0},{"$f":"'→これより右側　健診センター作業シート'!$B94","v":0},{"$f":"'→これより右側　健診センター作業シート'!$I94","v":0},{"$f":"'→これより右側　健診センター作業シート'!$G94","v":0},{"$f":"'→これより右側　健診センター作業シート'!$H94","v":0}]
[{"$f":"'→これより右側　健診センター作業シート'!$D95","v":0},{"$f":"'→これより右側　健診センター作業シート'!$B95","v":0},{"$f":"'→これより右側　健診センター作業シート'!$I95","v":0},{"$f":"'→これより右側　健診センター作業シート'!$G95","v":0},{"$f":"'→これより右側　健診センター作業シート'!$H95","v":0}]
[{"$f":"'→これより右側　健診センター作業シート'!$D96","v":0},{"$f":"'→これより右側　健診センター作業シート'!$B96","v":0},{"$f":"'→これより右側　健診センター作業シート'!$I96","v":0},{"$f":"'→これより右側　健診センター作業シート'!$G96","v":0},{"$f":"'→これより右側　健診センター作業シート'!$H96","v":0}]
[{"$f":"'→これより右側　健診センター作業シート'!$D97","v":0},{"$f":"'→これより右側　健診センター作業シート'!$B97","v":0},{"$f":"'→これより右側　健診センター作業シート'!$I97","v":0},{"$f":"'→これより右側　健診センター作業シート'!$G97","v":0},{"$f":"'→これより右側　健診センター作業シート'!$H97","v":0}]
[{"$f":"'→これより右側　健診センター作業シート'!$D98","v":0},{"$f":"'→これより右側　健診センター作業シート'!$B98","v":0},{"$f":"'→これより右側　健診センター作業シート'!$I98","v":0},{"$f":"'→これより右側　健診センター作業シート'!$G98","v":0},{"$f":"'→これより右側　健診センター作業シート'!$H98","v":0}]
[{"$f":"'→これより右側　健診センター作業シート'!$D99","v":0},{"$f":"'→これより右側　健診センター作業シート'!$B99","v":0},{"$f":"'→これより右側　健診センター作業シート'!$I99","v":0},{"$f":"'→これより右側　健診センター作業シート'!$G99","v":0},{"$f":"'→これより右側　健診センター作業シート'!$H99","v":0}]
[{"$f":"'→これより右側　健診センター作業シート'!$D100","v":0},{"$f":"'→これより右側　健診センター作業シート'!$B100","v":0},{"$f":"'→これより右側　健診センター作業シート'!$I100","v":0},{"$f":"'→これより右側　健診センター作業シート'!$G100","v":0},{"$f":"'→これより右側　健診センター作業シート'!$H100","v":0}]
[{"$f":"'→これより右側　健診センター作業シート'!$D101","v":0},{"$f":"'→これより右側　健診センター作業シート'!$B101","v":0},{"$f":"'→これより右側　健診センター作業シート'!$I101","v":0},{"$f":"'→これより右側　健診センター作業シート'!$G101","v":0},{"$f":"'→これより右側　健診センター作業シート'!$H101","v":0}]
[{"$f":"'→これより右側　健診センター作業シート'!$D102","v":0},{"$f":"'→これより右側　健診センター作業シート'!$B102","v":0},{"$f":"'→これより右側　健診センター作業シート'!$I102","v":0},{"$f":"'→これより右側　健診センター作業シート'!$G102","v":0},{"$f":"'→これより右側　健診センター作業シート'!$H102","v":0}]
[{"$f":"'→これより右側　健診センター作業シート'!$D103","v":0},{"$f":"'→これより右側　健診センター作業シート'!$B103","v":0},{"$f":"'→これより右側　健診センター作業シート'!$I103","v":0},{"$f":"'→これより右側　健診センター作業シート'!$G103","v":0},{"$f":"'→これより右側　健診センター作業シート'!$H103","v":0}]
[{"$f":"'→これより右側　健診センター作業シート'!$D104","v":0},{"$f":"'→これより右側　健診センター作業シート'!$B104","v":0},{"$f":"'→これより右側　健診センター作業シート'!$I104","v":0},{"$f":"'→これより右側　健診センター作業シート'!$G104","v":0},{"$f":"'→これより右側　健診センター作業シート'!$H104","v":0}]
[{"$f":"'→これより右側　健診センター作業シート'!$D105","v":0},{"$f":"'→これより右側　健診センター作業シート'!$B105","v":0},{"$f":"'→これより右側　健診センター作業シート'!$I105","v":0},{"$f":"'→これより右側　健診センター作業シート'!$G105","v":0},{"$f":"'→これより右側　健診センター作業シート'!$H105","v":0}]
[{"$f":"'→これより右側　健診センター作業シート'!$D106","v":0},{"$f":"'→これより右側　健診センター作業シート'!$B106","v":0},{"$f":"'→これより右側　健診センター作業シート'!$I106","v":0},{"$f":"'→これより右側　健診センター作業シート'!$G106","v":0},{"$f":"'→これより右側　健診センター作業シート'!$H106","v":0}]
[{"$f":"'→これより右側　健診センター作業シート'!$D107","v":0},{"$f":"'→これより右側　健診センター作業シート'!$B107","v":0},{"$f":"'→これより右側　健診センター作業シート'!$I107","v":0},{"$f":"'→これより右側　健診センター作業シート'!$G107","v":0},{"$f":"'→これより右側　健診センター作業シート'!$H107","v":0}]
[{"$f":"'→これより右側　健診センター作業シート'!$D108","v":0},{"$f":"'→これより右側　健診センター作業シート'!$B108","v":0},{"$f":"'→これより右側　健診センター作業シート'!$I108","v":0},{"$f":"'→これより右側　健診センター作業シート'!$G108","v":0},{"$f":"'→これより右側　健診センター作業シート'!$H108","v":0}]
[{"$f":"'→これより右側　健診センター作業シート'!$D109","v":0},{"$f":"'→これより右側　健診センター作業シート'!$B109","v":0},{"$f":"'→これより右側　健診センター作業シート'!$I109","v":0},{"$f":"'→これより右側　健診センター作業シート'!$G109","v":0},{"$f":"'→これより右側　健診センター作業シート'!$H109","v":0}]
[{"$f":"'→これより右側　健診センター作業シート'!$D110","v":0},{"$f":"'→これより右側　健診センター作業シート'!$B110","v":0},{"$f":"'→これより右側　健診センター作業シート'!$I110","v":0},{"$f":"'→これより右側　健診センター作業シート'!$G110","v":0},{"$f":"'→これより右側　健診センター作業シート'!$H110","v":0}]
[{"$f":"'→これより右側　健診センター作業シート'!$D111","v":0},{"$f":"'→これより右側　健診センター作業シート'!$B111","v":0},{"$f":"'→これより右側　健診センター作業シート'!$I111","v":0},{"$f":"'→これより右側　健診センター作業シート'!$G111","v":0},{"$f":"'→これより右側　健診センター作業シート'!$H111","v":0}]
[{"$f":"'→これより右側　健診センター作業シート'!$D112","v":0},{"$f":"'→これより右側　健診センター作業シート'!$B112","v":0},{"$f":"'→これより右側　健診センター作業シート'!$I112","v":0},{"$f":"'→これより右側　健診センター作業シート'!$G112","v":0},{"$f":"'→これより右側　健診センター作業シート'!$H112","v":0}]
[{"$f":"'→これより右側　健診センター作業シート'!$D113","v":0},{"$f":"'→これより右側　健診センター作業シート'!$B113","v":0},{"$f":"'→これより右側　健診センター作業シート'!$I113","v":0},{"$f":"'→これより右側　健診センター作業シート'!$G113","v":0},{"$f":"'→これより右側　健診センター作業シート'!$H113","v":0}]
[{"$f":"'→これより右側　健診センター作業シート'!$D114","v":0},{"$f":"'→これより右側　健診センター作業シート'!$B114","v":0},{"$f":"'→これより右側　健診センター作業シート'!$I114","v":0},{"$f":"'→これより右側　健診センター作業シート'!$G114","v":0},{"$f":"'→これより右側　健診センター作業シート'!$H114","v":0}]
[{"$f":"'→これより右側　健診センター作業シート'!$D115","v":0},{"$f":"'→これより右側　健診センター作業シート'!$B115","v":0},{"$f":"'→これより右側　健診センター作業シート'!$I115","v":0},{"$f":"'→これより右側　健診センター作業シート'!$G115","v":0},{"$f":"'→これより右側　健診センター作業シート'!$H115","v":0}]
[{"$f":"'→これより右側　健診センター作業シート'!$D116","v":0},{"$f":"'→これより右側　健診センター作業シート'!$B116","v":0},{"$f":"'→これより右側　健診センター作業シート'!$I116","v":0},{"$f":"'→これより右側　健診センター作業シート'!$G116","v":0},{"$f":"'→これより右側　健診センター作業シート'!$H116","v":0}]
[{"$f":"'→これより右側　健診センター作業シート'!$D117","v":0},{"$f":"'→これより右側　健診センター作業シート'!$B117","v":0},{"$f":"'→これより右側　健診センター作業シート'!$I117","v":0},{"$f":"'→これより右側　健診センター作業シート'!$G117","v":0},{"$f":"'→これより右側　健診センター作業シート'!$H117","v":0}]
[{"$f":"'→これより右側　健診センター作業シート'!$D118","v":0},{"$f":"'→これより右側　健診センター作業シート'!$B118","v":0},{"$f":"'→これより右側　健診センター作業シート'!$I118","v":0},{"$f":"'→これより右側　健診センター作業シート'!$G118","v":0},{"$f":"'→これより右側　健診センター作業シート'!$H118","v":0}]
[{"$f":"'→これより右側　健診センター作業シート'!$D119","v":0},{"$f":"'→これより右側　健診センター作業シート'!$B119","v":0},{"$f":"'→これより右側　健診センター作業シート'!$I119","v":0},{"$f":"'→これより右側　健診センター作業シート'!$G119","v":0},{"$f":"'→これより右側　健診センター作業シート'!$H119","v":0}]
[{"$f":"'→これより右側　健診センター作業シート'!$D120","v":0},{"$f":"'→これより右側　健診センター作業シート'!$B120","v":0},{"$f":"'→これより右側　健診センター作業シート'!$I120","v":0},{"$f":"'→これより右側　健診センター作業シート'!$G120","v":0},{"$f":"'→これより右側　健診センター作業シート'!$H120","v":0}]
[{"$f":"'→これより右側　健診センター作業シート'!$D121","v":0},{"$f":"'→これより右側　健診センター作業シート'!$B121","v":0},{"$f":"'→これより右側　健診センター作業シート'!$I121","v":0},{"$f":"'→これより右側　健診センター作業シート'!$G121","v":0},{"$f":"'→これより右側　健診センター作業シート'!$H121","v":0}]
[{"$f":"'→これより右側　健診センター作業シート'!$D122","v":0},{"$f":"'→これより右側　健診センター作業シート'!$B122","v":0},{"$f":"'→これより右側　健診センター作業シート'!$I122","v":0},{"$f":"'→これより右側　健診センター作業シート'!$G122","v":0},{"$f":"'→これより右側　健診センター作業シート'!$H122","v":0}]
[{"$f":"'→これより右側　健診センター作業シート'!$D123","v":0},{"$f":"'→これより右側　健診センター作業シート'!$B123","v":0},{"$f":"'→これより右側　健診センター作業シート'!$I123","v":0},{"$f":"'→これより右側　健診センター作業シート'!$G123","v":0},{"$f":"'→これより右側　健診センター作業シート'!$H123","v":0}]
[{"$f":"'→これより右側　健診センター作業シート'!$D124","v":0},{"$f":"'→これより右側　健診センター作業シート'!$B124","v":0},{"$f":"'→これより右側　健診センター作業シート'!$I124","v":0},{"$f":"'→これより右側　健診センター作業シート'!$G124","v":0},{"$f":"'→これより右側　健診センター作業シート'!$H124","v":0}]
[{"$f":"'→これより右側　健診センター作業シート'!$D125","v":0},{"$f":"'→これより右側　健診センター作業シート'!$B125","v":0},{"$f":"'→これより右側　健診センター作業シート'!$I125","v":0},{"$f":"'→これより右側　健診センター作業シート'!$G125","v":0},{"$f":"'→これより右側　健診センター作業シート'!$H125","v":0}]
[{"$f":"'→これより右側　健診センター作業シート'!$D126","v":0},{"$f":"'→これより右側　健診センター作業シート'!$B126","v":0},{"$f":"'→これより右側　健診センター作業シート'!$I126","v":0},{"$f":"'→これより右側　健診センター作業シート'!$G126","v":0},{"$f":"'→これより右側　健診センター作業シート'!$H126","v":0}]
[{"$f":"'→これより右側　健診センター作業シート'!$D127","v":0},{"$f":"'→これより右側　健診センター作業シート'!$B127","v":0},{"$f":"'→これより右側　健診センター作業シート'!$I127","v":0},{"$f":"'→これより右側　健診センター作業シート'!$G127","v":0},{"$f":"'→これより右側　健診センター作業シート'!$H127","v":0}]
[{"$f":"'→これより右側　健診センター作業シート'!$D128","v":0},{"$f":"'→これより右側　健診センター作業シート'!$B128","v":0},{"$f":"'→これより右側　健診センター作業シート'!$I128","v":0},{"$f":"'→これより右側　健診センター作業シート'!$G128","v":0},{"$f":"'→これより右側　健診センター作業シート'!$H128","v":0}]
[{"$f":"'→これより右側　健診センター作業シート'!$D129","v":0},{"$f":"'→これより右側　健診センター作業シート'!$B129","v":0},{"$f":"'→これより右側　健診センター作業シート'!$I129","v":0},{"$f":"'→これより右側　健診センター作業シート'!$G129","v":0},{"$f":"'→これより右側　健診センター作業シート'!$H129","v":0}]
[{"$f":"'→これより右側　健診センター作業シート'!$D130","v":0},{"$f":"'→これより右側　健診センター作業シート'!$B130","v":0},{"$f":"'→これより右側　健診センター作業シート'!$I130","v":0},{"$f":"'→これより右側　健診センター作業シート'!$G130","v":0},{"$f":"'→これより右側　健診センター作業シート'!$H130","v":0}]
[{"$f":"'→これより右側　健診センター作業シート'!$D131","v":0},{"$f":"'→これより右側　健診センター作業シート'!$B131","v":0},{"$f":"'→これより右側　健診センター作業シート'!$I131","v":0},{"$f":"'→これより右側　健診センター作業シート'!$G131","v":0},{"$f":"'→これより右側　健診センター作業シート'!$H131","v":0}]
[{"$f":"'→これより右側　健診センター作業シート'!$D132","v":0},{"$f":"'→これより右側　健診センター作業シート'!$B132","v":0},{"$f":"'→これより右側　健診センター作業シート'!$I132","v":0},{"$f":"'→これより右側　健診センター作業シート'!$G132","v":0},{"$f":"'→これより右側　健診センター作業シート'!$H132","v":0}]
[{"$f":"'→これより右側　健診センター作業シート'!$D133","v":0},{"$f":"'→これより右側　健診センター作業シート'!$B133","v":0},{"$f":"'→これより右側　健診センター作業シート'!$I133","v":0},{"$f":"'→これより右側　健診センター作業シート'!$G133","v":0},{"$f":"'→これより右側　健診センター作業シート'!$H133","v":0}]
[{"$f":"'→これより右側　健診センター作業シート'!$D134","v":0},{"$f":"'→これより右側　健診センター作業シート'!$B134","v":0},{"$f":"'→これより右側　健診センター作業シート'!$I134","v":0},{"$f":"'→これより右側　健診センター作業シート'!$G134","v":0},{"$f":"'→これより右側　健診センター作業シート'!$H134","v":0}]
[{"$f":"'→これより右側　健診センター作業シート'!$D135","v":0},{"$f":"'→これより右側　健診センター作業シート'!$B135","v":0},{"$f":"'→これより右側　健診センター作業シート'!$I135","v":0},{"$f":"'→これより右側　健診センター作業シート'!$G135","v":0},{"$f":"'→これより右側　健診センター作業シート'!$H135","v":0}]
[{"$f":"'→これより右側　健診センター作業シート'!$D136","v":0},{"$f":"'→これより右側　健診センター作業シート'!$B136","v":0},{"$f":"'→これより右側　健診センター作業シート'!$I136","v":0},{"$f":"'→これより右側　健診センター作業シート'!$G136","v":0},{"$f":"'→これより右側　健診センター作業シート'!$H136","v":0}]
[{"$f":"'→これより右側　健診センター作業シート'!$D137","v":0},{"$f":"'→これより右側　健診センター作業シート'!$B137","v":0},{"$f":"'→これより右側　健診センター作業シート'!$I137","v":0},{"$f":"'→これより右側　健診センター作業シート'!$G137","v":0},{"$f":"'→これより右側　健診センター作業シート'!$H137","v":0}]
[{"$f":"'→これより右側　健診センター作業シート'!$D138","v":0},{"$f":"'→これより右側　健診センター作業シート'!$B138","v":0},{"$f":"'→これより右側　健診センター作業シート'!$I138","v":0},{"$f":"'→これより右側　健診センター作業シート'!$G138","v":0},{"$f":"'→これより右側　健診センター作業シート'!$H138","v":0}]
[{"$f":"'→これより右側　健診センター作業シート'!$D139","v":0},{"$f":"'→これより右側　健診センター作業シート'!$B139","v":0},{"$f":"'→これより右側　健診センター作業シート'!$I139","v":0},{"$f":"'→これより右側　健診センター作業シート'!$G139","v":0},{"$f":"'→これより右側　健診センター作業シート'!$H139","v":0}]
[{"$f":"'→これより右側　健診センター作業シート'!$D140","v":0},{"$f":"'→これより右側　健診センター作業シート'!$B140","v":0},{"$f":"'→これより右側　健診センター作業シート'!$I140","v":0},{"$f":"'→これより右側　健診センター作業シート'!$G140","v":0},{"$f":"'→これより右側　健診センター作業シート'!$H140","v":0}]
[{"$f":"'→これより右側　健診センター作業シート'!$D141","v":0},{"$f":"'→これより右側　健診センター作業シート'!$B141","v":0},{"$f":"'→これより右側　健診センター作業シート'!$I141","v":0},{"$f":"'→これより右側　健診センター作業シート'!$G141","v":0},{"$f":"'→これより右側　健診センター作業シート'!$H141","v":0}]
[{"$f":"'→これより右側　健診センター作業シート'!$D142","v":0},{"$f":"'→これより右側　健診センター作業シート'!$B142","v":0},{"$f":"'→これより右側　健診センター作業シート'!$I142","v":0},{"$f":"'→これより右側　健診センター作業シート'!$G142","v":0},{"$f":"'→これより右側　健診センター作業シート'!$H142","v":0}]
[{"$f":"'→これより右側　健診センター作業シート'!$D143","v":0},{"$f":"'→これより右側　健診センター作業シート'!$B143","v":0},{"$f":"'→これより右側　健診センター作業シート'!$I143","v":0},{"$f":"'→これより右側　健診センター作業シート'!$G143","v":0},{"$f":"'→これより右側　健診センター作業シート'!$H143","v":0}]
[{"$f":"'→これより右側　健診センター作業シート'!$D144","v":0},{"$f":"'→これより右側　健診センター作業シート'!$B144","v":0},{"$f":"'→これより右側　健診センター作業シート'!$I144","v":0},{"$f":"'→これより右側　健診センター作業シート'!$G144","v":0},{"$f":"'→これより右側　健診センター作業シート'!$H144","v":0}]
[{"$f":"'→これより右側　健診センター作業シート'!$D145","v":0},{"$f":"'→これより右側　健診センター作業シート'!$B145","v":0},{"$f":"'→これより右側　健診センター作業シート'!$I145","v":0},{"$f":"'→これより右側　健診センター作業シート'!$G145","v":0},{"$f":"'→これより右側　健診センター作業シート'!$H145","v":0}]
[{"$f":"'→これより右側　健診センター作業シート'!$D146","v":0},{"$f":"'→これより右側　健診センター作業シート'!$B146","v":0},{"$f":"'→これより右側　健診センター作業シート'!$I146","v":0},{"$f":"'→これより右側　健診センター作業シート'!$G146","v":0},{"$f":"'→これより右側　健診センター作業シート'!$H146","v":0}]
[{"$f":"'→これより右側　健診センター作業シート'!$D147","v":0},{"$f":"'→これより右側　健診センター作業シート'!$B147","v":0},{"$f":"'→これより右側　健診センター作業シート'!$I147","v":0},{"$f":"'→これより右側　健診センター作業シート'!$G147","v":0},{"$f":"'→これより右側　健診センター作業シート'!$H147","v":0}]
[{"$f":"'→これより右側　健診センター作業シート'!$D148","v":0},{"$f":"'→これより右側　健診センター作業シート'!$B148","v":0},{"$f":"'→これより右側　健診センター作業シート'!$I148","v":0},{"$f":"'→これより右側　健診センター作業シート'!$G148","v":0},{"$f":"'→これより右側　健診センター作業シート'!$H148","v":0}]
[{"$f":"'→これより右側　健診センター作業シート'!$D149","v":0},{"$f":"'→これより右側　健診センター作業シート'!$B149","v":0},{"$f":"'→これより右側　健診センター作業シート'!$I149","v":0},{"$f":"'→これより右側　健診センター作業シート'!$G149","v":0},{"$f":"'→これより右側　健診センター作業シート'!$H149","v":0}]
[{"$f":"'→これより右側　健診センター作業シート'!$D150","v":0},{"$f":"'→これより右側　健診センター作業シート'!$B150","v":0},{"$f":"'→これより右側　健診センター作業シート'!$I150","v":0},{"$f":"'→これより右側　健診センター作業シート'!$G150","v":0},{"$f":"'→これより右側　健診センター作業シート'!$H150","v":0}]
[{"$f":"'→これより右側　健診センター作業シート'!$D151","v":0},{"$f":"'→これより右側　健診センター作業シート'!$B151","v":0},{"$f":"'→これより右側　健診センター作業シート'!$I151","v":0},{"$f":"'→これより右側　健診センター作業シート'!$G151","v":0},{"$f":"'→これより右側　健診センター作業シート'!$H151","v":0}]
[{"$f":"'→これより右側　健診センター作業シート'!$D152","v":0},{"$f":"'→これより右側　健診センター作業シート'!$B152","v":0},{"$f":"'→これより右側　健診センター作業シート'!$I152","v":0},{"$f":"'→これより右側　健診センター作業シート'!$G152","v":0},{"$f":"'→これより右側　健診センター作業シート'!$H152","v":0}]
[{"$f":"'→これより右側　健診センター作業シート'!$D153","v":0},{"$f":"'→これより右側　健診センター作業シート'!$B153","v":0},{"$f":"'→これより右側　健診センター作業シート'!$I153","v":0},{"$f":"'→これより右側　健診センター作業シート'!$G153","v":0},{"$f":"'→これより右側　健診センター作業シート'!$H153","v":0}]
[{"$f":"'→これより右側　健診センター作業シート'!$D154","v":0},{"$f":"'→これより右側　健診センター作業シート'!$B154","v":0},{"$f":"'→これより右側　健診センター作業シート'!$I154","v":0},{"$f":"'→これより右側　健診センター作業シート'!$G154","v":0},{"$f":"'→これより右側　健診センター作業シート'!$H154","v":0}]
[{"$f":"'→これより右側　健診センター作業シート'!$D155","v":0},{"$f":"'→これより右側　健診センター作業シート'!$B155","v":0},{"$f":"'→これより右側　健診センター作業シート'!$I155","v":0},{"$f":"'→これより右側　健診センター作業シート'!$G155","v":0},{"$f":"'→これより右側　健診センター作業シート'!$H155","v":0}]
[{"$f":"'→これより右側　健診センター作業シート'!$D156","v":0},{"$f":"'→これより右側　健診センター作業シート'!$B156","v":0},{"$f":"'→これより右側　健診センター作業シート'!$I156","v":0},{"$f":"'→これより右側　健診センター作業シート'!$G156","v":0},{"$f":"'→これより右側　健診センター作業シート'!$H156","v":0}]
[{"$f":"'→これより右側　健診センター作業シート'!$D157","v":0},{"$f":"'→これより右側　健診センター作業シート'!$B157","v":0},{"$f":"'→これより右側　健診センター作業シート'!$I157","v":0},{"$f":"'→これより右側　健診センター作業シート'!$G157","v":0},{"$f":"'→これより右側　健診センター作業シート'!$H157","v":0}]
[{"$f":"'→これより右側　健診センター作業シート'!$D158","v":0},{"$f":"'→これより右側　健診センター作業シート'!$B158","v":0},{"$f":"'→これより右側　健診センター作業シート'!$I158","v":0},{"$f":"'→これより右側　健診センター作業シート'!$G158","v":0},{"$f":"'→これより右側　健診センター作業シート'!$H158","v":0}]
[{"$f":"'→これより右側　健診センター作業シート'!$D159","v":0},{"$f":"'→これより右側　健診センター作業シート'!$B159","v":0},{"$f":"'→これより右側　健診センター作業シート'!$I159","v":0},{"$f":"'→これより右側　健診センター作業シート'!$G159","v":0},{"$f":"'→これより右側　健診センター作業シート'!$H159","v":0}]
[{"$f":"'→これより右側　健診センター作業シート'!$D160","v":0},{"$f":"'→これより右側　健診センター作業シート'!$B160","v":0},{"$f":"'→これより右側　健診センター作業シート'!$I160","v":0},{"$f":"'→これより右側　健診センター作業シート'!$G160","v":0},{"$f":"'→これより右側　健診センター作業シート'!$H160","v":0}]
[{"$f":"'→これより右側　健診センター作業シート'!$D161","v":0},{"$f":"'→これより右側　健診センター作業シート'!$B161","v":0},{"$f":"'→これより右側　健診センター作業シート'!$I161","v":0},{"$f":"'→これより右側　健診センター作業シート'!$G161","v":0},{"$f":"'→これより右側　健診センター作業シート'!$H161","v":0}]
[{"$f":"'→これより右側　健診センター作業シート'!$D162","v":0},{"$f":"'→これより右側　健診センター作業シート'!$B162","v":0},{"$f":"'→これより右側　健診センター作業シート'!$I162","v":0},{"$f":"'→これより右側　健診センター作業シート'!$G162","v":0},{"$f":"'→これより右側　健診センター作業シート'!$H162","v":0}]
[{"$f":"'→これより右側　健診センター作業シート'!$D163","v":0},{"$f":"'→これより右側　健診センター作業シート'!$B163","v":0},{"$f":"'→これより右側　健診センター作業シート'!$I163","v":0},{"$f":"'→これより右側　健診センター作業シート'!$G163","v":0},{"$f":"'→これより右側　健診センター作業シート'!$H163","v":0}]
[{"$f":"'→これより右側　健診センター作業シート'!$D164","v":0},{"$f":"'→これより右側　健診センター作業シート'!$B164","v":0},{"$f":"'→これより右側　健診センター作業シート'!$I164","v":0},{"$f":"'→これより右側　健診センター作業シート'!$G164","v":0},{"$f":"'→これより右側　健診センター作業シート'!$H164","v":0}]
[{"$f":"'→これより右側　健診センター作業シート'!$D165","v":0},{"$f":"'→これより右側　健診センター作業シート'!$B165","v":0},{"$f":"'→これより右側　健診センター作業シート'!$I165","v":0},{"$f":"'→これより右側　健診センター作業シート'!$G165","v":0},{"$f":"'→これより右側　健診センター作業シート'!$H165","v":0}]
[{"$f":"'→これより右側　健診センター作業シート'!$D166","v":0},{"$f":"'→これより右側　健診センター作業シート'!$B166","v":0},{"$f":"'→これより右側　健診センター作業シート'!$I166","v":0},{"$f":"'→これより右側　健診センター作業シート'!$G166","v":0},{"$f":"'→これより右側　健診センター作業シート'!$H166","v":0}]
[{"$f":"'→これより右側　健診センター作業シート'!$D167","v":0},{"$f":"'→これより右側　健診センター作業シート'!$B167","v":0},{"$f":"'→これより右側　健診センター作業シート'!$I167","v":0},{"$f":"'→これより右側　健診センター作業シート'!$G167","v":0},{"$f":"'→これより右側　健診センター作業シート'!$H167","v":0}]
[{"$f":"'→これより右側　健診センター作業シート'!$D168","v":0},{"$f":"'→これより右側　健診センター作業シート'!$B168","v":0},{"$f":"'→これより右側　健診センター作業シート'!$I168","v":0},{"$f":"'→これより右側　健診センター作業シート'!$G168","v":0},{"$f":"'→これより右側　健診センター作業シート'!$H168","v":0}]
[{"$f":"'→これより右側　健診センター作業シート'!$D169","v":0},{"$f":"'→これより右側　健診センター作業シート'!$B169","v":0},{"$f":"'→これより右側　健診センター作業シート'!$I169","v":0},{"$f":"'→これより右側　健診センター作業シート'!$G169","v":0},{"$f":"'→これより右側　健診センター作業シート'!$H169","v":0}]
[{"$f":"'→これより右側　健診センター作業シート'!$D170","v":0},{"$f":"'→これより右側　健診センター作業シート'!$B170","v":0},{"$f":"'→これより右側　健診センター作業シート'!$I170","v":0},{"$f":"'→これより右側　健診センター作業シート'!$G170","v":0},{"$f":"'→これより右側　健診センター作業シート'!$H170","v":0}]
[{"$f":"'→これより右側　健診センター作業シート'!$D171","v":0},{"$f":"'→これより右側　健診センター作業シート'!$B171","v":0},{"$f":"'→これより右側　健診センター作業シート'!$I171","v":0},{"$f":"'→これより右側　健診センター作業シート'!$G171","v":0},{"$f":"'→これより右側　健診センター作業シート'!$H171","v":0}]
[{"$f":"'→これより右側　健診センター作業シート'!$D172","v":0},{"$f":"'→これより右側　健診センター作業シート'!$B172","v":0},{"$f":"'→これより右側　健診センター作業シート'!$I172","v":0},{"$f":"'→これより右側　健診センター作業シート'!$G172","v":0},{"$f":"'→これより右側　健診センター作業シート'!$H172","v":0}]
[{"$f":"'→これより右側　健診センター作業シート'!$D173","v":0},{"$f":"'→これより右側　健診センター作業シート'!$B173","v":0},{"$f":"'→これより右側　健診センター作業シート'!$I173","v":0},{"$f":"'→これより右側　健診センター作業シート'!$G173","v":0},{"$f":"'→これより右側　健診センター作業シート'!$H173","v":0}]
[{"$f":"'→これより右側　健診センター作業シート'!$D174","v":0},{"$f":"'→これより右側　健診センター作業シート'!$B174","v":0},{"$f":"'→これより右側　健診センター作業シート'!$I174","v":0},{"$f":"'→これより右側　健診センター作業シート'!$G174","v":0},{"$f":"'→これより右側　健診センター作業シート'!$H174","v":0}]
[{"$f":"'→これより右側　健診センター作業シート'!$D175","v":0},{"$f":"'→これより右側　健診センター作業シート'!$B175","v":0},{"$f":"'→これより右側　健診センター作業シート'!$I175","v":0},{"$f":"'→これより右側　健診センター作業シート'!$G175","v":0},{"$f":"'→これより右側　健診センター作業シート'!$H175","v":0}]
[{"$f":"'→これより右側　健診センター作業シート'!$D176","v":0},{"$f":"'→これより右側　健診センター作業シート'!$B176","v":0},{"$f":"'→これより右側　健診センター作業シート'!$I176","v":0},{"$f":"'→これより右側　健診センター作業シート'!$G176","v":0},{"$f":"'→これより右側　健診センター作業シート'!$H176","v":0}]
[{"$f":"'→これより右側　健診センター作業シート'!$D177","v":0},{"$f":"'→これより右側　健診センター作業シート'!$B177","v":0},{"$f":"'→これより右側　健診センター作業シート'!$I177","v":0},{"$f":"'→これより右側　健診センター作業シート'!$G177","v":0},{"$f":"'→これより右側　健診センター作業シート'!$H177","v":0}]
[{"$f":"'→これより右側　健診センター作業シート'!$D178","v":0},{"$f":"'→これより右側　健診センター作業シート'!$B178","v":0},{"$f":"'→これより右側　健診センター作業シート'!$I178","v":0},{"$f":"'→これより右側　健診センター作業シート'!$G178","v":0},{"$f":"'→これより右側　健診センター作業シート'!$H178","v":0}]
[{"$f":"'→これより右側　健診センター作業シート'!$D179","v":0},{"$f":"'→これより右側　健診センター作業シート'!$B179","v":0},{"$f":"'→これより右側　健診センター作業シート'!$I179","v":0},{"$f":"'→これより右側　健診センター作業シート'!$G179","v":0},{"$f":"'→これより右側　健診センター作業シート'!$H179","v":0}]
[{"$f":"'→これより右側　健診センター作業シート'!$D180","v":0},{"$f":"'→これより右側　健診センター作業シート'!$B180","v":0},{"$f":"'→これより右側　健診センター作業シート'!$I180","v":0},{"$f":"'→これより右側　健診センター作業シート'!$G180","v":0},{"$f":"'→これより右側　健診センター作業シート'!$H180","v":0}]
[{"$f":"'→これより右側　健診センター作業シート'!$D181","v":0},{"$f":"'→これより右側　健診センター作業シート'!$B181","v":0},{"$f":"'→これより右側　健診センター作業シート'!$I181","v":0},{"$f":"'→これより右側　健診センター作業シート'!$G181","v":0},{"$f":"'→これより右側　健診センター作業シート'!$H181","v":0}]
[{"$f":"'→これより右側　健診センター作業シート'!$D182","v":0},{"$f":"'→これより右側　健診センター作業シート'!$B182","v":0},{"$f":"'→これより右側　健診センター作業シート'!$I182","v":0},{"$f":"'→これより右側　健診センター作業シート'!$G182","v":0},{"$f":"'→これより右側　健診センター作業シート'!$H182","v":0}]
[{"$f":"'→これより右側　健診センター作業シート'!$D183","v":0},{"$f":"'→これより右側　健診センター作業シート'!$B183","v":0},{"$f":"'→これより右側　健診センター作業シート'!$I183","v":0},{"$f":"'→これより右側　健診センター作業シート'!$G183","v":0},{"$f":"'→これより右側　健診センター作業シート'!$H183","v":0}]
[{"$f":"'→これより右側　健診センター作業シート'!$D184","v":0},{"$f":"'→これより右側　健診センター作業シート'!$B184","v":0},{"$f":"'→これより右側　健診センター作業シート'!$I184","v":0},{"$f":"'→これより右側　健診センター作業シート'!$G184","v":0},{"$f":"'→これより右側　健診センター作業シート'!$H184","v":0}]
[{"$f":"'→これより右側　健診センター作業シート'!$D185","v":0},{"$f":"'→これより右側　健診センター作業シート'!$B185","v":0},{"$f":"'→これより右側　健診センター作業シート'!$I185","v":0},{"$f":"'→これより右側　健診センター作業シート'!$G185","v":0},{"$f":"'→これより右側　健診センター作業シート'!$H185","v":0}]
[{"$f":"'→これより右側　健診センター作業シート'!$D186","v":0},{"$f":"'→これより右側　健診センター作業シート'!$B186","v":0},{"$f":"'→これより右側　健診センター作業シート'!$I186","v":0},{"$f":"'→これより右側　健診センター作業シート'!$G186","v":0},{"$f":"'→これより右側　健診センター作業シート'!$H186","v":0}]
[{"$f":"'→これより右側　健診センター作業シート'!$D187","v":0},{"$f":"'→これより右側　健診センター作業シート'!$B187","v":0},{"$f":"'→これより右側　健診センター作業シート'!$I187","v":0},{"$f":"'→これより右側　健診センター作業シート'!$G187","v":0},{"$f":"'→これより右側　健診センター作業シート'!$H187","v":0}]
[{"$f":"'→これより右側　健診センター作業シート'!$D188","v":0},{"$f":"'→これより右側　健診センター作業シート'!$B188","v":0},{"$f":"'→これより右側　健診センター作業シート'!$I188","v":0},{"$f":"'→これより右側　健診センター作業シート'!$G188","v":0},{"$f":"'→これより右側　健診センター作業シート'!$H188","v":0}]
[{"$f":"'→これより右側　健診センター作業シート'!$D189","v":0},{"$f":"'→これより右側　健診センター作業シート'!$B189","v":0},{"$f":"'→これより右側　健診センター作業シート'!$I189","v":0},{"$f":"'→これより右側　健診センター作業シート'!$G189","v":0},{"$f":"'→これより右側　健診センター作業シート'!$H189","v":0}]
[{"$f":"'→これより右側　健診センター作業シート'!$D190","v":0},{"$f":"'→これより右側　健診センター作業シート'!$B190","v":0},{"$f":"'→これより右側　健診センター作業シート'!$I190","v":0},{"$f":"'→これより右側　健診センター作業シート'!$G190","v":0},{"$f":"'→これより右側　健診センター作業シート'!$H190","v":0}]
[{"$f":"'→これより右側　健診センター作業シート'!$D191","v":0},{"$f":"'→これより右側　健診センター作業シート'!$B191","v":0},{"$f":"'→これより右側　健診センター作業シート'!$I191","v":0},{"$f":"'→これより右側　健診センター作業シート'!$G191","v":0},{"$f":"'→これより右側　健診センター作業シート'!$H191","v":0}]
[{"$f":"'→これより右側　健診センター作業シート'!$D192","v":0},{"$f":"'→これより右側　健診センター作業シート'!$B192","v":0},{"$f":"'→これより右側　健診センター作業シート'!$I192","v":0},{"$f":"'→これより右側　健診センター作業シート'!$G192","v":0},{"$f":"'→これより右側　健診センター作業シート'!$H192","v":0}]
[{"$f":"'→これより右側　健診センター作業シート'!$D193","v":0},{"$f":"'→これより右側　健診センター作業シート'!$B193","v":0},{"$f":"'→これより右側　健診センター作業シート'!$I193","v":0},{"$f":"'→これより右側　健診センター作業シート'!$G193","v":0},{"$f":"'→これより右側　健診センター作業シート'!$H193","v":0}]
[{"$f":"'→これより右側　健診センター作業シート'!$D194","v":0},{"$f":"'→これより右側　健診センター作業シート'!$B194","v":0},{"$f":"'→これより右側　健診センター作業シート'!$I194","v":0},{"$f":"'→これより右側　健診センター作業シート'!$G194","v":0},{"$f":"'→これより右側　健診センター作業シート'!$H194","v":0}]
[{"$f":"'→これより右側　健診センター作業シート'!$D195","v":0},{"$f":"'→これより右側　健診センター作業シート'!$B195","v":0},{"$f":"'→これより右側　健診センター作業シート'!$I195","v":0},{"$f":"'→これより右側　健診センター作業シート'!$G195","v":0},{"$f":"'→これより右側　健診センター作業シート'!$H195","v":0}]
[{"$f":"'→これより右側　健診センター作業シート'!$D196","v":0},{"$f":"'→これより右側　健診センター作業シート'!$B196","v":0},{"$f":"'→これより右側　健診センター作業シート'!$I196","v":0},{"$f":"'→これより右側　健診センター作業シート'!$G196","v":0},{"$f":"'→これより右側　健診センター作業シート'!$H196","v":0}]
[{"$f":"'→これより右側　健診センター作業シート'!$D197","v":0},{"$f":"'→これより右側　健診センター作業シート'!$B197","v":0},{"$f":"'→これより右側　健診センター作業シート'!$I197","v":0},{"$f":"'→これより右側　健診センター作業シート'!$G197","v":0},{"$f":"'→これより右側　健診センター作業シート'!$H197","v":0}]
[{"$f":"'→これより右側　健診センター作業シート'!$D198","v":0},{"$f":"'→これより右側　健診センター作業シート'!$B198","v":0},{"$f":"'→これより右側　健診センター作業シート'!$I198","v":0},{"$f":"'→これより右側　健診センター作業シート'!$G198","v":0},{"$f":"'→これより右側　健診センター作業シート'!$H198","v":0}]
[{"$f":"'→これより右側　健診センター作業シート'!$D199","v":0},{"$f":"'→これより右側　健診センター作業シート'!$B199","v":0},{"$f":"'→これより右側　健診センター作業シート'!$I199","v":0},{"$f":"'→これより右側　健診センター作業シート'!$G199","v":0},{"$f":"'→これより右側　健診センター作業シート'!$H199","v":0}]
[{"$f":"'→これより右側　健診センター作業シート'!$D200","v":0},{"$f":"'→これより右側　健診センター作業シート'!$B200","v":0},{"$f":"'→これより右側　健診センター作業シート'!$I200","v":0},{"$f":"'→これより右側　健診センター作業シート'!$G200","v":0},{"$f":"'→これより右側　健診センター作業シート'!$H200","v":0}]
[{"$f":"'→これより右側　健診センター作業シート'!$D201","v":0},{"$f":"'→これより右側　健診センター作業シート'!$B201","v":0},{"$f":"'→これより右側　健診センター作業シート'!$I201","v":0},{"$f":"'→これより右側　健診センター作業シート'!$G201","v":0},{"$f":"'→これより右側　健診センター作業シート'!$H201","v":0}]
[{"$f":"'→これより右側　健診センター作業シート'!$D202","v":0},{"$f":"'→これより右側　健診センター作業シート'!$B202","v":0},{"$f":"'→これより右側　健診センター作業シート'!$I202","v":0},{"$f":"'→これより右側　健診センター作業シート'!$G202","v":0},{"$f":"'→これより右側　健診センター作業シート'!$H202","v":0}]
[{"$f":"'→これより右側　健診センター作業シート'!$D203","v":0},{"$f":"'→これより右側　健診センター作業シート'!$B203","v":0},{"$f":"'→これより右側　健診センター作業シート'!$I203","v":0},{"$f":"'→これより右側　健診センター作業シート'!$G203","v":0},{"$f":"'→これより右側　健診センター作業シート'!$H203","v":0}]
[{"$f":"'→これより右側　健診センター作業シート'!$D204","v":0},{"$f":"'→これより右側　健診センター作業シート'!$B204","v":0},{"$f":"'→これより右側　健診センター作業シート'!$I204","v":0},{"$f":"'→これより右側　健診センター作業シート'!$G204","v":0},{"$f":"'→これより右側　健診センター作業シート'!$H204","v":0}]
[{"$f":"'→これより右側　健診センター作業シート'!$D205","v":0},{"$f":"'→これより右側　健診センター作業シート'!$B205","v":0},{"$f":"'→これより右側　健診センター作業シート'!$I205","v":0},{"$f":"'→これより右側　健診センター作業シート'!$G205","v":0},{"$f":"'→これより右側　健診センター作業シート'!$H205","v":0}]
[{"$f":"'→これより右側　健診センター作業シート'!$D206","v":0},{"$f":"'→これより右側　健診センター作業シート'!$B206","v":0},{"$f":"'→これより右側　健診センター作業シート'!$I206","v":0},{"$f":"'→これより右側　健診センター作業シート'!$G206","v":0},{"$f":"'→これより右側　健診センター作業シート'!$H206","v":0}]
[{"$f":"'→これより右側　健診センター作業シート'!$D207","v":0},{"$f":"'→これより右側　健診センター作業シート'!$B207","v":0},{"$f":"'→これより右側　健診センター作業シート'!$I207","v":0},{"$f":"'→これより右側　健診センター作業シート'!$G207","v":0},{"$f":"'→これより右側　健診センター作業シート'!$H207","v":0}]
[{"$f":"'→これより右側　健診センター作業シート'!$D208","v":0},{"$f":"'→これより右側　健診センター作業シート'!$B208","v":0},{"$f":"'→これより右側　健診センター作業シート'!$I208","v":0},{"$f":"'→これより右側　健診センター作業シート'!$G208","v":0},{"$f":"'→これより右側　健診センター作業シート'!$H208","v":0}]
[{"$f":"'→これより右側　健診センター作業シート'!$D209","v":0},{"$f":"'→これより右側　健診センター作業シート'!$B209","v":0},{"$f":"'→これより右側　健診センター作業シート'!$I209","v":0},{"$f":"'→これより右側　健診センター作業シート'!$G209","v":0},{"$f":"'→これより右側　健診センター作業シート'!$H209","v":0}]
[{"$f":"'→これより右側　健診センター作業シート'!$D210","v":0},{"$f":"'→これより右側　健診センター作業シート'!$B210","v":0},{"$f":"'→これより右側　健診センター作業シート'!$I210","v":0},{"$f":"'→これより右側　健診センター作業シート'!$G210","v":0},{"$f":"'→これより右側　健診センター作業シート'!$H210","v":0}]
[{"$f":"'→これより右側　健診センター作業シート'!$D211","v":0},{"$f":"'→これより右側　健診センター作業シート'!$B211","v":0},{"$f":"'→これより右側　健診センター作業シート'!$I211","v":0},{"$f":"'→これより右側　健診センター作業シート'!$G211","v":0},{"$f":"'→これより右側　健診センター作業シート'!$H211","v":0}]
[{"$f":"'→これより右側　健診センター作業シート'!$D212","v":0},{"$f":"'→これより右側　健診センター作業シート'!$B212","v":0},{"$f":"'→これより右側　健診センター作業シート'!$I212","v":0},{"$f":"'→これより右側　健診センター作業シート'!$G212","v":0},{"$f":"'→これより右側　健診センター作業シート'!$H212","v":0}]
[{"$f":"'→これより右側　健診センター作業シート'!$D213","v":0},{"$f":"'→これより右側　健診センター作業シート'!$B213","v":0},{"$f":"'→これより右側　健診センター作業シート'!$I213","v":0},{"$f":"'→これより右側　健診センター作業シート'!$G213","v":0},{"$f":"'→これより右側　健診センター作業シート'!$H213","v":0}]
[{"$f":"'→これより右側　健診センター作業シート'!$D214","v":0},{"$f":"'→これより右側　健診センター作業シート'!$B214","v":0},{"$f":"'→これより右側　健診センター作業シート'!$I214","v":0},{"$f":"'→これより右側　健診センター作業シート'!$G214","v":0},{"$f":"'→これより右側　健診センター作業シート'!$H214","v":0}]
[{"$f":"'→これより右側　健診センター作業シート'!$D215","v":0},{"$f":"'→これより右側　健診センター作業シート'!$B215","v":0},{"$f":"'→これより右側　健診センター作業シート'!$I215","v":0},{"$f":"'→これより右側　健診センター作業シート'!$G215","v":0},{"$f":"'→これより右側　健診センター作業シート'!$H215","v":0}]
[{"$f":"'→これより右側　健診センター作業シート'!$D216","v":0},{"$f":"'→これより右側　健診センター作業シート'!$B216","v":0},{"$f":"'→これより右側　健診センター作業シート'!$I216","v":0},{"$f":"'→これより右側　健診センター作業シート'!$G216","v":0},{"$f":"'→これより右側　健診センター作業シート'!$H216","v":0}]
[{"$f":"'→これより右側　健診センター作業シート'!$D217","v":0},{"$f":"'→これより右側　健診センター作業シート'!$B217","v":0},{"$f":"'→これより右側　健診センター作業シート'!$I217","v":0},{"$f":"'→これより右側　健診センター作業シート'!$G217","v":0},{"$f":"'→これより右側　健診センター作業シート'!$H217","v":0}]
[{"$f":"'→これより右側　健診センター作業シート'!$D218","v":0},{"$f":"'→これより右側　健診センター作業シート'!$B218","v":0},{"$f":"'→これより右側　健診センター作業シート'!$I218","v":0},{"$f":"'→これより右側　健診センター作業シート'!$G218","v":0},{"$f":"'→これより右側　健診センター作業シート'!$H218","v":0}]
[{"$f":"'→これより右側　健診センター作業シート'!$D219","v":0},{"$f":"'→これより右側　健診センター作業シート'!$B219","v":0},{"$f":"'→これより右側　健診センター作業シート'!$I219","v":0},{"$f":"'→これより右側　健診センター作業シート'!$G219","v":0},{"$f":"'→これより右側　健診センター作業シート'!$H219","v":0}]
[{"$f":"'→これより右側　健診センター作業シート'!$D220","v":0},{"$f":"'→これより右側　健診センター作業シート'!$B220","v":0},{"$f":"'→これより右側　健診センター作業シート'!$I220","v":0},{"$f":"'→これより右側　健診センター作業シート'!$G220","v":0},{"$f":"'→これより右側　健診センター作業シート'!$H220","v":0}]
[{"$f":"'→これより右側　健診センター作業シート'!$D221","v":0},{"$f":"'→これより右側　健診センター作業シート'!$B221","v":0},{"$f":"'→これより右側　健診センター作業シート'!$I221","v":0},{"$f":"'→これより右側　健診センター作業シート'!$G221","v":0},{"$f":"'→これより右側　健診センター作業シート'!$H221","v":0}]
[{"$f":"'→これより右側　健診センター作業シート'!$D222","v":0},{"$f":"'→これより右側　健診センター作業シート'!$B222","v":0},{"$f":"'→これより右側　健診センター作業シート'!$I222","v":0},{"$f":"'→これより右側　健診センター作業シート'!$G222","v":0},{"$f":"'→これより右側　健診センター作業シート'!$H222","v":0}]
[{"$f":"'→これより右側　健診センター作業シート'!$D223","v":0},{"$f":"'→これより右側　健診センター作業シート'!$B223","v":0},{"$f":"'→これより右側　健診センター作業シート'!$I223","v":0},{"$f":"'→これより右側　健診センター作業シート'!$G223","v":0},{"$f":"'→これより右側　健診センター作業シート'!$H223","v":0}]
[{"$f":"'→これより右側　健診センター作業シート'!$D224","v":0},{"$f":"'→これより右側　健診センター作業シート'!$B224","v":0},{"$f":"'→これより右側　健診センター作業シート'!$I224","v":0},{"$f":"'→これより右側　健診センター作業シート'!$G224","v":0},{"$f":"'→これより右側　健診センター作業シート'!$H224","v":0}]
[{"$f":"'→これより右側　健診センター作業シート'!$D225","v":0},{"$f":"'→これより右側　健診センター作業シート'!$B225","v":0},{"$f":"'→これより右側　健診センター作業シート'!$I225","v":0},{"$f":"'→これより右側　健診センター作業シート'!$G225","v":0},{"$f":"'→これより右側　健診センター作業シート'!$H225","v":0}]
[{"$f":"'→これより右側　健診センター作業シート'!$D226","v":0},{"$f":"'→これより右側　健診センター作業シート'!$B226","v":0},{"$f":"'→これより右側　健診センター作業シート'!$I226","v":0},{"$f":"'→これより右側　健診センター作業シート'!$G226","v":0},{"$f":"'→これより右側　健診センター作業シート'!$H226","v":0}]
[{"$f":"'→これより右側　健診センター作業シート'!$D227","v":0},{"$f":"'→これより右側　健診センター作業シート'!$B227","v":0},{"$f":"'→これより右側　健診センター作業シート'!$I227","v":0},{"$f":"'→これより右側　健診センター作業シート'!$G227","v":0},{"$f":"'→これより右側　健診センター作業シート'!$H227","v":0}]
[{"$f":"'→これより右側　健診センター作業シート'!$D228","v":0},{"$f":"'→これより右側　健診センター作業シート'!$B228","v":0},{"$f":"'→これより右側　健診センター作業シート'!$I228","v":0},{"$f":"'→これより右側　健診センター作業シート'!$G228","v":0},{"$f":"'→これより右側　健診センター作業シート'!$H228","v":0}]
[{"$f":"'→これより右側　健診センター作業シート'!$D229","v":0},{"$f":"'→これより右側　健診センター作業シート'!$B229","v":0},{"$f":"'→これより右側　健診センター作業シート'!$I229","v":0},{"$f":"'→これより右側　健診センター作業シート'!$G229","v":0},{"$f":"'→これより右側　健診センター作業シート'!$H229","v":0}]
[{"$f":"'→これより右側　健診センター作業シート'!$D230","v":0},{"$f":"'→これより右側　健診センター作業シート'!$B230","v":0},{"$f":"'→これより右側　健診センター作業シート'!$I230","v":0},{"$f":"'→これより右側　健診センター作業シート'!$G230","v":0},{"$f":"'→これより右側　健診センター作業シート'!$H230","v":0}]
[{"$f":"'→これより右側　健診センター作業シート'!$D231","v":0},{"$f":"'→これより右側　健診センター作業シート'!$B231","v":0},{"$f":"'→これより右側　健診センター作業シート'!$I231","v":0},{"$f":"'→これより右側　健診センター作業シート'!$G231","v":0},{"$f":"'→これより右側　健診センター作業シート'!$H231","v":0}]
[{"$f":"'→これより右側　健診センター作業シート'!$D232","v":0},{"$f":"'→これより右側　健診センター作業シート'!$B232","v":0},{"$f":"'→これより右側　健診センター作業シート'!$I232","v":0},{"$f":"'→これより右側　健診センター作業シート'!$G232","v":0},{"$f":"'→これより右側　健診センター作業シート'!$H232","v":0}]
[{"$f":"'→これより右側　健診センター作業シート'!$D233","v":0},{"$f":"'→これより右側　健診センター作業シート'!$B233","v":0},{"$f":"'→これより右側　健診センター作業シート'!$I233","v":0},{"$f":"'→これより右側　健診センター作業シート'!$G233","v":0},{"$f":"'→これより右側　健診センター作業シート'!$H233","v":0}]
[{"$f":"'→これより右側　健診センター作業シート'!$D234","v":0},{"$f":"'→これより右側　健診センター作業シート'!$B234","v":0},{"$f":"'→これより右側　健診センター作業シート'!$I234","v":0},{"$f":"'→これより右側　健診センター作業シート'!$G234","v":0},{"$f":"'→これより右側　健診センター作業シート'!$H234","v":0}]
[{"$f":"'→これより右側　健診センター作業シート'!$D235","v":0},{"$f":"'→これより右側　健診センター作業シート'!$B235","v":0},{"$f":"'→これより右側　健診センター作業シート'!$I235","v":0},{"$f":"'→これより右側　健診センター作業シート'!$G235","v":0},{"$f":"'→これより右側　健診センター作業シート'!$H235","v":0}]
[{"$f":"'→これより右側　健診センター作業シート'!$D236","v":0},{"$f":"'→これより右側　健診センター作業シート'!$B236","v":0},{"$f":"'→これより右側　健診センター作業シート'!$I236","v":0},{"$f":"'→これより右側　健診センター作業シート'!$G236","v":0},{"$f":"'→これより右側　健診センター作業シート'!$H236","v":0}]
[{"$f":"'→これより右側　健診センター作業シート'!$D237","v":0},{"$f":"'→これより右側　健診センター作業シート'!$B237","v":0},{"$f":"'→これより右側　健診センター作業シート'!$I237","v":0},{"$f":"'→これより右側　健診センター作業シート'!$G237","v":0},{"$f":"'→これより右側　健診センター作業シート'!$H237","v":0}]
[{"$f":"'→これより右側　健診センター作業シート'!$D238","v":0},{"$f":"'→これより右側　健診センター作業シート'!$B238","v":0},{"$f":"'→これより右側　健診センター作業シート'!$I238","v":0},{"$f":"'→これより右側　健診センター作業シート'!$G238","v":0},{"$f":"'→これより右側　健診センター作業シート'!$H238","v":0}]
[{"$f":"'→これより右側　健診センター作業シート'!$D239","v":0},{"$f":"'→これより右側　健診センター作業シート'!$B239","v":0},{"$f":"'→これより右側　健診センター作業シート'!$I239","v":0},{"$f":"'→これより右側　健診センター作業シート'!$G239","v":0},{"$f":"'→これより右側　健診センター作業シート'!$H239","v":0}]
[{"$f":"'→これより右側　健診センター作業シート'!$D240","v":0},{"$f":"'→これより右側　健診センター作業シート'!$B240","v":0},{"$f":"'→これより右側　健診センター作業シート'!$I240","v":0},{"$f":"'→これより右側　健診センター作業シート'!$G240","v":0},{"$f":"'→これより右側　健診センター作業シート'!$H240","v":0}]
[{"$f":"'→これより右側　健診センター作業シート'!$D241","v":0},{"$f":"'→これより右側　健診センター作業シート'!$B241","v":0},{"$f":"'→これより右側　健診センター作業シート'!$I241","v":0},{"$f":"'→これより右側　健診センター作業シート'!$G241","v":0},{"$f":"'→これより右側　健診センター作業シート'!$H241","v":0}]
[{"$f":"'→これより右側　健診センター作業シート'!$D242","v":0},{"$f":"'→これより右側　健診センター作業シート'!$B242","v":0},{"$f":"'→これより右側　健診センター作業シート'!$I242","v":0},{"$f":"'→これより右側　健診センター作業シート'!$G242","v":0},{"$f":"'→これより右側　健診センター作業シート'!$H242","v":0}]
[{"$f":"'→これより右側　健診センター作業シート'!$D243","v":0},{"$f":"'→これより右側　健診センター作業シート'!$B243","v":0},{"$f":"'→これより右側　健診センター作業シート'!$I243","v":0},{"$f":"'→これより右側　健診センター作業シート'!$G243","v":0},{"$f":"'→これより右側　健診センター作業シート'!$H243","v":0}]
[{"$f":"'→これより右側　健診センター作業シート'!$D244","v":0},{"$f":"'→これより右側　健診センター作業シート'!$B244","v":0},{"$f":"'→これより右側　健診センター作業シート'!$I244","v":0},{"$f":"'→これより右側　健診センター作業シート'!$G244","v":0},{"$f":"'→これより右側　健診センター作業シート'!$H244","v":0}]
[{"$f":"'→これより右側　健診センター作業シート'!$D245","v":0},{"$f":"'→これより右側　健診センター作業シート'!$B245","v":0},{"$f":"'→これより右側　健診センター作業シート'!$I245","v":0},{"$f":"'→これより右側　健診センター作業シート'!$G245","v":0},{"$f":"'→これより右側　健診センター作業シート'!$H245","v":0}]
[{"$f":"'→これより右側　健診センター作業シート'!$D246","v":0},{"$f":"'→これより右側　健診センター作業シート'!$B246","v":0},{"$f":"'→これより右側　健診センター作業シート'!$I246","v":0},{"$f":"'→これより右側　健診センター作業シート'!$G246","v":0},{"$f":"'→これより右側　健診センター作業シート'!$H246","v":0}]
[{"$f":"'→これより右側　健診センター作業シート'!$D247","v":0},{"$f":"'→これより右側　健診センター作業シート'!$B247","v":0},{"$f":"'→これより右側　健診センター作業シート'!$I247","v":0},{"$f":"'→これより右側　健診センター作業シート'!$G247","v":0},{"$f":"'→これより右側　健診センター作業シート'!$H247","v":0}]
[{"$f":"'→これより右側　健診センター作業シート'!$D248","v":0},{"$f":"'→これより右側　健診センター作業シート'!$B248","v":0},{"$f":"'→これより右側　健診センター作業シート'!$I248","v":0},{"$f":"'→これより右側　健診センター作業シート'!$G248","v":0},{"$f":"'→これより右側　健診センター作業シート'!$H248","v":0}]
[{"$f":"'→これより右側　健診センター作業シート'!$D249","v":0},{"$f":"'→これより右側　健診センター作業シート'!$B249","v":0},{"$f":"'→これより右側　健診センター作業シート'!$I249","v":0},{"$f":"'→これより右側　健診センター作業シート'!$G249","v":0},{"$f":"'→これより右側　健診センター作業シート'!$H249","v":0}]
[{"$f":"'→これより右側　健診センター作業シート'!$D250","v":0},{"$f":"'→これより右側　健診センター作業シート'!$B250","v":0},{"$f":"'→これより右側　健診センター作業シート'!$I250","v":0},{"$f":"'→これより右側　健診センター作業シート'!$G250","v":0},{"$f":"'→これより右側　健診センター作業シート'!$H250","v":0}]
[{"$f":"'→これより右側　健診センター作業シート'!$D251","v":0},{"$f":"'→これより右側　健診センター作業シート'!$B251","v":0},{"$f":"'→これより右側　健診センター作業シート'!$I251","v":0},{"$f":"'→これより右側　健診センター作業シート'!$G251","v":0},{"$f":"'→これより右側　健診センター作業シート'!$H251","v":0}]
[{"$f":"'→これより右側　健診センター作業シート'!$D252","v":0},{"$f":"'→これより右側　健診センター作業シート'!$B252","v":0},{"$f":"'→これより右側　健診センター作業シート'!$I252","v":0},{"$f":"'→これより右側　健診センター作業シート'!$G252","v":0},{"$f":"'→これより右側　健診センター作業シート'!$H252","v":0}]
[{"$f":"'→これより右側　健診センター作業シート'!$D253","v":0},{"$f":"'→これより右側　健診センター作業シート'!$B253","v":0},{"$f":"'→これより右側　健診センター作業シート'!$I253","v":0},{"$f":"'→これより右側　健診センター作業シート'!$G253","v":0},{"$f":"'→これより右側　健診センター作業シート'!$H253","v":0}]
[{"$f":"'→これより右側　健診センター作業シート'!$D254","v":0},{"$f":"'→これより右側　健診センター作業シート'!$B254","v":0},{"$f":"'→これより右側　健診センター作業シート'!$I254","v":0},{"$f":"'→これより右側　健診センター作業シート'!$G254","v":0},{"$f":"'→これより右側　健診センター作業シート'!$H254","v":0}]
[{"$f":"'→これより右側　健診センター作業シート'!$D255","v":0},{"$f":"'→これより右側　健診センター作業シート'!$B255","v":0},{"$f":"'→これより右側　健診センター作業シート'!$I255","v":0},{"$f":"'→これより右側　健診センター作業シート'!$G255","v":0},{"$f":"'→これより右側　健診センター作業シート'!$H255","v":0}]
[{"$f":"'→これより右側　健診センター作業シート'!$D256","v":0},{"$f":"'→これより右側　健診センター作業シート'!$B256","v":0},{"$f":"'→これより右側　健診センター作業シート'!$I256","v":0},{"$f":"'→これより右側　健診センター作業シート'!$G256","v":0},{"$f":"'→これより右側　健診センター作業シート'!$H256","v":0}]
[{"$f":"'→これより右側　健診センター作業シート'!$D257","v":0},{"$f":"'→これより右側　健診センター作業シート'!$B257","v":0},{"$f":"'→これより右側　健診センター作業シート'!$I257","v":0},{"$f":"'→これより右側　健診センター作業シート'!$G257","v":0},{"$f":"'→これより右側　健診センター作業シート'!$H257","v":0}]
[{"$f":"'→これより右側　健診センター作業シート'!$D258","v":0},{"$f":"'→これより右側　健診センター作業シート'!$B258","v":0},{"$f":"'→これより右側　健診センター作業シート'!$I258","v":0},{"$f":"'→これより右側　健診センター作業シート'!$G258","v":0},{"$f":"'→これより右側　健診センター作業シート'!$H258","v":0}]
[{"$f":"'→これより右側　健診センター作業シート'!$D259","v":0},{"$f":"'→これより右側　健診センター作業シート'!$B259","v":0},{"$f":"'→これより右側　健診センター作業シート'!$I259","v":0},{"$f":"'→これより右側　健診センター作業シート'!$G259","v":0},{"$f":"'→これより右側　健診センター作業シート'!$H259","v":0}]
[{"$f":"'→これより右側　健診センター作業シート'!$D260","v":0},{"$f":"'→これより右側　健診センター作業シート'!$B260","v":0},{"$f":"'→これより右側　健診センター作業シート'!$I260","v":0},{"$f":"'→これより右側　健診センター作業シート'!$G260","v":0},{"$f":"'→これより右側　健診センター作業シート'!$H260","v":0}]
[{"$f":"'→これより右側　健診センター作業シート'!$D261","v":0},{"$f":"'→これより右側　健診センター作業シート'!$B261","v":0},{"$f":"'→これより右側　健診センター作業シート'!$I261","v":0},{"$f":"'→これより右側　健診センター作業シート'!$G261","v":0},{"$f":"'→これより右側　健診センター作業シート'!$H261","v":0}]
[{"$f":"'→これより右側　健診センター作業シート'!$D262","v":0},{"$f":"'→これより右側　健診センター作業シート'!$B262","v":0},{"$f":"'→これより右側　健診センター作業シート'!$I262","v":0},{"$f":"'→これより右側　健診センター作業シート'!$G262","v":0},{"$f":"'→これより右側　健診センター作業シート'!$H262","v":0}]
[{"$f":"'→これより右側　健診センター作業シート'!$D263","v":0},{"$f":"'→これより右側　健診センター作業シート'!$B263","v":0},{"$f":"'→これより右側　健診センター作業シート'!$I263","v":0},{"$f":"'→これより右側　健診センター作業シート'!$G263","v":0},{"$f":"'→これより右側　健診センター作業シート'!$H263","v":0}]
[{"$f":"'→これより右側　健診センター作業シート'!$D264","v":0},{"$f":"'→これより右側　健診センター作業シート'!$B264","v":0},{"$f":"'→これより右側　健診センター作業シート'!$I264","v":0},{"$f":"'→これより右側　健診センター作業シート'!$G264","v":0},{"$f":"'→これより右側　健診センター作業シート'!$H264","v":0}]
[{"$f":"'→これより右側　健診センター作業シート'!$D265","v":0},{"$f":"'→これより右側　健診センター作業シート'!$B265","v":0},{"$f":"'→これより右側　健診センター作業シート'!$I265","v":0},{"$f":"'→これより右側　健診センター作業シート'!$G265","v":0},{"$f":"'→これより右側　健診センター作業シート'!$H265","v":0}]
[{"$f":"'→これより右側　健診センター作業シート'!$D266","v":0},{"$f":"'→これより右側　健診センター作業シート'!$B266","v":0},{"$f":"'→これより右側　健診センター作業シート'!$I266","v":0},{"$f":"'→これより右側　健診センター作業シート'!$G266","v":0},{"$f":"'→これより右側　健診センター作業シート'!$H266","v":0}]
[{"$f":"'→これより右側　健診センター作業シート'!$D267","v":0},{"$f":"'→これより右側　健診センター作業シート'!$B267","v":0},{"$f":"'→これより右側　健診センター作業シート'!$I267","v":0},{"$f":"'→これより右側　健診センター作業シート'!$G267","v":0},{"$f":"'→これより右側　健診センター作業シート'!$H267","v":0}]
[{"$f":"'→これより右側　健診センター作業シート'!$D268","v":0},{"$f":"'→これより右側　健診センター作業シート'!$B268","v":0},{"$f":"'→これより右側　健診センター作業シート'!$I268","v":0},{"$f":"'→これより右側　健診センター作業シート'!$G268","v":0},{"$f":"'→これより右側　健診センター作業シート'!$H268","v":0}]
[{"$f":"'→これより右側　健診センター作業シート'!$D269","v":0},{"$f":"'→これより右側　健診センター作業シート'!$B269","v":0},{"$f":"'→これより右側　健診センター作業シート'!$I269","v":0},{"$f":"'→これより右側　健診センター作業シート'!$G269","v":0},{"$f":"'→これより右側　健診センター作業シート'!$H269","v":0}]
[{"$f":"'→これより右側　健診センター作業シート'!$D270","v":0},{"$f":"'→これより右側　健診センター作業シート'!$B270","v":0},{"$f":"'→これより右側　健診センター作業シート'!$I270","v":0},{"$f":"'→これより右側　健診センター作業シート'!$G270","v":0},{"$f":"'→これより右側　健診センター作業シート'!$H270","v":0}]
[{"$f":"'→これより右側　健診センター作業シート'!$D271","v":0},{"$f":"'→これより右側　健診センター作業シート'!$B271","v":0},{"$f":"'→これより右側　健診センター作業シート'!$I271","v":0},{"$f":"'→これより右側　健診センター作業シート'!$G271","v":0},{"$f":"'→これより右側　健診センター作業シート'!$H271","v":0}]
[{"$f":"'→これより右側　健診センター作業シート'!$D272","v":0},{"$f":"'→これより右側　健診センター作業シート'!$B272","v":0},{"$f":"'→これより右側　健診センター作業シート'!$I272","v":0},{"$f":"'→これより右側　健診センター作業シート'!$G272","v":0},{"$f":"'→これより右側　健診センター作業シート'!$H272","v":0}]
[{"$f":"'→これより右側　健診センター作業シート'!$D273","v":0},{"$f":"'→これより右側　健診センター作業シート'!$B273","v":0},{"$f":"'→これより右側　健診センター作業シート'!$I273","v":0},{"$f":"'→これより右側　健診センター作業シート'!$G273","v":0},{"$f":"'→これより右側　健診センター作業シート'!$H273","v":0}]
[{"$f":"'→これより右側　健診センター作業シート'!$D274","v":0},{"$f":"'→これより右側　健診センター作業シート'!$B274","v":0},{"$f":"'→これより右側　健診センター作業シート'!$I274","v":0},{"$f":"'→これより右側　健診センター作業シート'!$G274","v":0},{"$f":"'→これより右側　健診センター作業シート'!$H274","v":0}]
[{"$f":"'→これより右側　健診センター作業シート'!$D275","v":0},{"$f":"'→これより右側　健診センター作業シート'!$B275","v":0},{"$f":"'→これより右側　健診センター作業シート'!$I275","v":0},{"$f":"'→これより右側　健診センター作業シート'!$G275","v":0},{"$f":"'→これより右側　健診センター作業シート'!$H275","v":0}]
[{"$f":"'→これより右側　健診センター作業シート'!$D276","v":0},{"$f":"'→これより右側　健診センター作業シート'!$B276","v":0},{"$f":"'→これより右側　健診センター作業シート'!$I276","v":0},{"$f":"'→これより右側　健診センター作業シート'!$G276","v":0},{"$f":"'→これより右側　健診センター作業シート'!$H276","v":0}]
[{"$f":"'→これより右側　健診センター作業シート'!$D277","v":0},{"$f":"'→これより右側　健診センター作業シート'!$B277","v":0},{"$f":"'→これより右側　健診センター作業シート'!$I277","v":0},{"$f":"'→これより右側　健診センター作業シート'!$G277","v":0},{"$f":"'→これより右側　健診センター作業シート'!$H277","v":0}]
[{"$f":"'→これより右側　健診センター作業シート'!$D278","v":0},{"$f":"'→これより右側　健診センター作業シート'!$B278","v":0},{"$f":"'→これより右側　健診センター作業シート'!$I278","v":0},{"$f":"'→これより右側　健診センター作業シート'!$G278","v":0},{"$f":"'→これより右側　健診センター作業シート'!$H278","v":0}]
[{"$f":"'→これより右側　健診センター作業シート'!$D279","v":0},{"$f":"'→これより右側　健診センター作業シート'!$B279","v":0},{"$f":"'→これより右側　健診センター作業シート'!$I279","v":0},{"$f":"'→これより右側　健診センター作業シート'!$G279","v":0},{"$f":"'→これより右側　健診センター作業シート'!$H279","v":0}]
[{"$f":"'→これより右側　健診センター作業シート'!$D280","v":0},{"$f":"'→これより右側　健診センター作業シート'!$B280","v":0},{"$f":"'→これより右側　健診センター作業シート'!$I280","v":0},{"$f":"'→これより右側　健診センター作業シート'!$G280","v":0},{"$f":"'→これより右側　健診センター作業シート'!$H280","v":0}]
[{"$f":"'→これより右側　健診センター作業シート'!$D281","v":0},{"$f":"'→これより右側　健診センター作業シート'!$B281","v":0},{"$f":"'→これより右側　健診センター作業シート'!$I281","v":0},{"$f":"'→これより右側　健診センター作業シート'!$G281","v":0},{"$f":"'→これより右側　健診センター作業シート'!$H281","v":0}]
[{"$f":"'→これより右側　健診センター作業シート'!$D282","v":0},{"$f":"'→これより右側　健診センター作業シート'!$B282","v":0},{"$f":"'→これより右側　健診センター作業シート'!$I282","v":0},{"$f":"'→これより右側　健診センター作業シート'!$G282","v":0},{"$f":"'→これより右側　健診センター作業シート'!$H282","v":0}]
[{"$f":"'→これより右側　健診センター作業シート'!$D283","v":0},{"$f":"'→これより右側　健診センター作業シート'!$B283","v":0},{"$f":"'→これより右側　健診センター作業シート'!$I283","v":0},{"$f":"'→これより右側　健診センター作業シート'!$G283","v":0},{"$f":"'→これより右側　健診センター作業シート'!$H283","v":0}]
[{"$f":"'→これより右側　健診センター作業シート'!$D284","v":0},{"$f":"'→これより右側　健診センター作業シート'!$B284","v":0},{"$f":"'→これより右側　健診センター作業シート'!$I284","v":0},{"$f":"'→これより右側　健診センター作業シート'!$G284","v":0},{"$f":"'→これより右側　健診センター作業シート'!$H284","v":0}]
[{"$f":"'→これより右側　健診センター作業シート'!$D285","v":0},{"$f":"'→これより右側　健診センター作業シート'!$B285","v":0},{"$f":"'→これより右側　健診センター作業シート'!$I285","v":0},{"$f":"'→これより右側　健診センター作業シート'!$G285","v":0},{"$f":"'→これより右側　健診センター作業シート'!$H285","v":0}]
[{"$f":"'→これより右側　健診センター作業シート'!$D286","v":0},{"$f":"'→これより右側　健診センター作業シート'!$B286","v":0},{"$f":"'→これより右側　健診センター作業シート'!$I286","v":0},{"$f":"'→これより右側　健診センター作業シート'!$G286","v":0},{"$f":"'→これより右側　健診センター作業シート'!$H286","v":0}]
[{"$f":"'→これより右側　健診センター作業シート'!$D287","v":0},{"$f":"'→これより右側　健診センター作業シート'!$B287","v":0},{"$f":"'→これより右側　健診センター作業シート'!$I287","v":0},{"$f":"'→これより右側　健診センター作業シート'!$G287","v":0},{"$f":"'→これより右側　健診センター作業シート'!$H287","v":0}]
[{"$f":"'→これより右側　健診センター作業シート'!$D288","v":0},{"$f":"'→これより右側　健診センター作業シート'!$B288","v":0},{"$f":"'→これより右側　健診センター作業シート'!$I288","v":0},{"$f":"'→これより右側　健診センター作業シート'!$G288","v":0},{"$f":"'→これより右側　健診センター作業シート'!$H288","v":0}]
[{"$f":"'→これより右側　健診センター作業シート'!$D289","v":0},{"$f":"'→これより右側　健診センター作業シート'!$B289","v":0},{"$f":"'→これより右側　健診センター作業シート'!$I289","v":0},{"$f":"'→これより右側　健診センター作業シート'!$G289","v":0},{"$f":"'→これより右側　健診センター作業シート'!$H289","v":0}]
[{"$f":"'→これより右側　健診センター作業シート'!$D290","v":0},{"$f":"'→これより右側　健診センター作業シート'!$B290","v":0},{"$f":"'→これより右側　健診センター作業シート'!$I290","v":0},{"$f":"'→これより右側　健診センター作業シート'!$G290","v":0},{"$f":"'→これより右側　健診センター作業シート'!$H290","v":0}]
[{"$f":"'→これより右側　健診センター作業シート'!$D291","v":0},{"$f":"'→これより右側　健診センター作業シート'!$B291","v":0},{"$f":"'→これより右側　健診センター作業シート'!$I291","v":0},{"$f":"'→これより右側　健診センター作業シート'!$G291","v":0},{"$f":"'→これより右側　健診センター作業シート'!$H291","v":0}]
[{"$f":"'→これより右側　健診センター作業シート'!$D292","v":0},{"$f":"'→これより右側　健診センター作業シート'!$B292","v":0},{"$f":"'→これより右側　健診センター作業シート'!$I292","v":0},{"$f":"'→これより右側　健診センター作業シート'!$G292","v":0},{"$f":"'→これより右側　健診センター作業シート'!$H292","v":0}]
[{"$f":"'→これより右側　健診センター作業シート'!$D293","v":0},{"$f":"'→これより右側　健診センター作業シート'!$B293","v":0},{"$f":"'→これより右側　健診センター作業シート'!$I293","v":0},{"$f":"'→これより右側　健診センター作業シート'!$G293","v":0},{"$f":"'→これより右側　健診センター作業シート'!$H293","v":0}]
[{"$f":"'→これより右側　健診センター作業シート'!$D294","v":0},{"$f":"'→これより右側　健診センター作業シート'!$B294","v":0},{"$f":"'→これより右側　健診センター作業シート'!$I294","v":0},{"$f":"'→これより右側　健診センター作業シート'!$G294","v":0},{"$f":"'→これより右側　健診センター作業シート'!$H294","v":0}]
[{"$f":"'→これより右側　健診センター作業シート'!$D295","v":0},{"$f":"'→これより右側　健診センター作業シート'!$B295","v":0},{"$f":"'→これより右側　健診センター作業シート'!$I295","v":0},{"$f":"'→これより右側　健診センター作業シート'!$G295","v":0},{"$f":"'→これより右側　健診センター作業シート'!$H295","v":0}]
[{"$f":"'→これより右側　健診センター作業シート'!$D296","v":0},{"$f":"'→これより右側　健診センター作業シート'!$B296","v":0},{"$f":"'→これより右側　健診センター作業シート'!$I296","v":0},{"$f":"'→これより右側　健診センター作業シート'!$G296","v":0},{"$f":"'→これより右側　健診センター作業シート'!$H296","v":0}]
[{"$f":"'→これより右側　健診センター作業シート'!$D297","v":0},{"$f":"'→これより右側　健診センター作業シート'!$B297","v":0},{"$f":"'→これより右側　健診センター作業シート'!$I297","v":0},{"$f":"'→これより右側　健診センター作業シート'!$G297","v":0},{"$f":"'→これより右側　健診センター作業シート'!$H297","v":0}]
[{"$f":"'→これより右側　健診センター作業シート'!$D298","v":0},{"$f":"'→これより右側　健診センター作業シート'!$B298","v":0},{"$f":"'→これより右側　健診センター作業シート'!$I298","v":0},{"$f":"'→これより右側　健診センター作業シート'!$G298","v":0},{"$f":"'→これより右側　健診センター作業シート'!$H298","v":0}]
[{"$f":"'→これより右側　健診センター作業シート'!$D299","v":0},{"$f":"'→これより右側　健診センター作業シート'!$B299","v":0},{"$f":"'→これより右側　健診センター作業シート'!$I299","v":0},{"$f":"'→これより右側　健診センター作業シート'!$G299","v":0},{"$f":"'→これより右側　健診センター作業シート'!$H299","v":0}]
[{"$f":"'→これより右側　健診センター作業シート'!$D300","v":0},{"$f":"'→これより右側　健診センター作業シート'!$B300","v":0},{"$f":"'→これより右側　健診センター作業シート'!$I300","v":0},{"$f":"'→これより右側　健診センター作業シート'!$G300","v":0},{"$f":"'→これより右側　健診センター作業シート'!$H300","v":0}]
[{"$f":"'→これより右側　健診センター作業シート'!$D301","v":0},{"$f":"'→これより右側　健診センター作業シート'!$B301","v":0},{"$f":"'→これより右側　健診センター作業シート'!$I301","v":0},{"$f":"'→これより右側　健診センター作業シート'!$G301","v":0},{"$f":"'→これより右側　健診センター作業シート'!$H301","v":0}]
[{"$f":"'→これより右側　健診センター作業シート'!$D302","v":0},{"$f":"'→これより右側　健診センター作業シート'!$B302","v":0},{"$f":"'→これより右側　健診センター作業シート'!$I302","v":0},{"$f":"'→これより右側　健診センター作業シート'!$G302","v":0},{"$f":"'→これより右側　健診センター作業シート'!$H302","v":0}]
[{"$f":"'→これより右側　健診センター作業シート'!$D303","v":0},{"$f":"'→これより右側　健診センター作業シート'!$B303","v":0},{"$f":"'→これより右側　健診センター作業シート'!$I303","v":0},{"$f":"'→これより右側　健診センター作業シート'!$G303","v":0},{"$f":"'→これより右側　健診センター作業シート'!$H303","v":0}]
[{"$f":"'→これより右側　健診センター作業シート'!$D304","v":0},{"$f":"'→これより右側　健診センター作業シート'!$B304","v":0},{"$f":"'→これより右側　健診センター作業シート'!$I304","v":0},{"$f":"'→これより右側　健診センター作業シート'!$G304","v":0},{"$f":"'→これより右側　健診センター作業シート'!$H304","v":0}]
[{"$f":"'→これより右側　健診センター作業シート'!$D305","v":0},{"$f":"'→これより右側　健診センター作業シート'!$B305","v":0},{"$f":"'→これより右側　健診センター作業シート'!$I305","v":0},{"$f":"'→これより右側　健診センター作業シート'!$G305","v":0},{"$f":"'→これより右側　健診センター作業シート'!$H305","v":0}]
[{"$f":"'→これより右側　健診センター作業シート'!$D306","v":0},{"$f":"'→これより右側　健診センター作業シート'!$B306","v":0},{"$f":"'→これより右側　健診センター作業シート'!$I306","v":0},{"$f":"'→これより右側　健診センター作業シート'!$G306","v":0},{"$f":"'→これより右側　健診センター作業シート'!$H306","v":0}]
[{"$f":"'→これより右側　健診センター作業シート'!$D307","v":0},{"$f":"'→これより右側　健診センター作業シート'!$B307","v":0},{"$f":"'→これより右側　健診センター作業シート'!$I307","v":0},{"$f":"'→これより右側　健診センター作業シート'!$G307","v":0},{"$f":"'→これより右側　健診センター作業シート'!$H307","v":0}]
[{"$f":"'→これより右側　健診センター作業シート'!$D308","v":0},{"$f":"'→これより右側　健診センター作業シート'!$B308","v":0},{"$f":"'→これより右側　健診センター作業シート'!$I308","v":0},{"$f":"'→これより右側　健診センター作業シート'!$G308","v":0},{"$f":"'→これより右側　健診センター作業シート'!$H308","v":0}]
[{"$f":"'→これより右側　健診センター作業シート'!$D309","v":0},{"$f":"'→これより右側　健診センター作業シート'!$B309","v":0},{"$f":"'→これより右側　健診センター作業シート'!$I309","v":0},{"$f":"'→これより右側　健診センター作業シート'!$G309","v":0},{"$f":"'→これより右側　健診センター作業シート'!$H309","v":0}]
[{"$f":"'→これより右側　健診センター作業シート'!$D310","v":0},{"$f":"'→これより右側　健診センター作業シート'!$B310","v":0},{"$f":"'→これより右側　健診センター作業シート'!$I310","v":0},{"$f":"'→これより右側　健診センター作業シート'!$G310","v":0},{"$f":"'→これより右側　健診センター作業シート'!$H310","v":0}]
[{"$f":"'→これより右側　健診センター作業シート'!$D311","v":0},{"$f":"'→これより右側　健診センター作業シート'!$B311","v":0},{"$f":"'→これより右側　健診センター作業シート'!$I311","v":0},{"$f":"'→これより右側　健診センター作業シート'!$G311","v":0},{"$f":"'→これより右側　健診センター作業シート'!$H311","v":0}]
[{"$f":"'→これより右側　健診センター作業シート'!$D312","v":0},{"$f":"'→これより右側　健診センター作業シート'!$B312","v":0},{"$f":"'→これより右側　健診センター作業シート'!$I312","v":0},{"$f":"'→これより右側　健診センター作業シート'!$G312","v":0},{"$f":"'→これより右側　健診センター作業シート'!$H312","v":0}]
[{"$f":"'→これより右側　健診センター作業シート'!$D313","v":0},{"$f":"'→これより右側　健診センター作業シート'!$B313","v":0},{"$f":"'→これより右側　健診センター作業シート'!$I313","v":0},{"$f":"'→これより右側　健診センター作業シート'!$G313","v":0},{"$f":"'→これより右側　健診センター作業シート'!$H313","v":0}]
[{"$f":"'→これより右側　健診センター作業シート'!$D314","v":0},{"$f":"'→これより右側　健診センター作業シート'!$B314","v":0},{"$f":"'→これより右側　健診センター作業シート'!$I314","v":0},{"$f":"'→これより右側　健診センター作業シート'!$G314","v":0},{"$f":"'→これより右側　健診センター作業シート'!$H314","v":0}]
[{"$f":"'→これより右側　健診センター作業シート'!$D315","v":0},{"$f":"'→これより右側　健診センター作業シート'!$B315","v":0},{"$f":"'→これより右側　健診センター作業シート'!$I315","v":0},{"$f":"'→これより右側　健診センター作業シート'!$G315","v":0},{"$f":"'→これより右側　健診センター作業シート'!$H315","v":0}]
[{"$f":"'→これより右側　健診センター作業シート'!$D316","v":0},{"$f":"'→これより右側　健診センター作業シート'!$B316","v":0},{"$f":"'→これより右側　健診センター作業シート'!$I316","v":0},{"$f":"'→これより右側　健診センター作業シート'!$G316","v":0},{"$f":"'→これより右側　健診センター作業シート'!$H316","v":0}]
[{"$f":"'→これより右側　健診センター作業シート'!$D317","v":0},{"$f":"'→これより右側　健診センター作業シート'!$B317","v":0},{"$f":"'→これより右側　健診センター作業シート'!$I317","v":0},{"$f":"'→これより右側　健診センター作業シート'!$G317","v":0},{"$f":"'→これより右側　健診センター作業シート'!$H317","v":0}]
[{"$f":"'→これより右側　健診センター作業シート'!$D318","v":0},{"$f":"'→これより右側　健診センター作業シート'!$B318","v":0},{"$f":"'→これより右側　健診センター作業シート'!$I318","v":0},{"$f":"'→これより右側　健診センター作業シート'!$G318","v":0},{"$f":"'→これより右側　健診センター作業シート'!$H318","v":0}]
[{"$f":"'→これより右側　健診センター作業シート'!$D319","v":0},{"$f":"'→これより右側　健診センター作業シート'!$B319","v":0},{"$f":"'→これより右側　健診センター作業シート'!$I319","v":0},{"$f":"'→これより右側　健診センター作業シート'!$G319","v":0},{"$f":"'→これより右側　健診センター作業シート'!$H319","v":0}]
[{"$f":"'→これより右側　健診センター作業シート'!$D320","v":0},{"$f":"'→これより右側　健診センター作業シート'!$B320","v":0},{"$f":"'→これより右側　健診センター作業シート'!$I320","v":0},{"$f":"'→これより右側　健診センター作業シート'!$G320","v":0},{"$f":"'→これより右側　健診センター作業シート'!$H320","v":0}]
[{"$f":"'→これより右側　健診センター作業シート'!$D321","v":0},{"$f":"'→これより右側　健診センター作業シート'!$B321","v":0},{"$f":"'→これより右側　健診センター作業シート'!$I321","v":0},{"$f":"'→これより右側　健診センター作業シート'!$G321","v":0},{"$f":"'→これより右側　健診センター作業シート'!$H321","v":0}]
[{"$f":"'→これより右側　健診センター作業シート'!$D322","v":0},{"$f":"'→これより右側　健診センター作業シート'!$B322","v":0},{"$f":"'→これより右側　健診センター作業シート'!$I322","v":0},{"$f":"'→これより右側　健診センター作業シート'!$G322","v":0},{"$f":"'→これより右側　健診センター作業シート'!$H322","v":0}]
[{"$f":"'→これより右側　健診センター作業シート'!$D323","v":0},{"$f":"'→これより右側　健診センター作業シート'!$B323","v":0},{"$f":"'→これより右側　健診センター作業シート'!$I323","v":0},{"$f":"'→これより右側　健診センター作業シート'!$G323","v":0},{"$f":"'→これより右側　健診センター作業シート'!$H323","v":0}]
[{"$f":"'→これより右側　健診センター作業シート'!$D324","v":0},{"$f":"'→これより右側　健診センター作業シート'!$B324","v":0},{"$f":"'→これより右側　健診センター作業シート'!$I324","v":0},{"$f":"'→これより右側　健診センター作業シート'!$G324","v":0},{"$f":"'→これより右側　健診センター作業シート'!$H324","v":0}]
[{"$f":"'→これより右側　健診センター作業シート'!$D325","v":0},{"$f":"'→これより右側　健診センター作業シート'!$B325","v":0},{"$f":"'→これより右側　健診センター作業シート'!$I325","v":0},{"$f":"'→これより右側　健診センター作業シート'!$G325","v":0},{"$f":"'→これより右側　健診センター作業シート'!$H325","v":0}]
[{"$f":"'→これより右側　健診センター作業シート'!$D326","v":0},{"$f":"'→これより右側　健診センター作業シート'!$B326","v":0},{"$f":"'→これより右側　健診センター作業シート'!$I326","v":0},{"$f":"'→これより右側　健診センター作業シート'!$G326","v":0},{"$f":"'→これより右側　健診センター作業シート'!$H326","v":0}]
[{"$f":"'→これより右側　健診センター作業シート'!$D327","v":0},{"$f":"'→これより右側　健診センター作業シート'!$B327","v":0},{"$f":"'→これより右側　健診センター作業シート'!$I327","v":0},{"$f":"'→これより右側　健診センター作業シート'!$G327","v":0},{"$f":"'→これより右側　健診センター作業シート'!$H327","v":0}]
[{"$f":"'→これより右側　健診センター作業シート'!$D328","v":0},{"$f":"'→これより右側　健診センター作業シート'!$B328","v":0},{"$f":"'→これより右側　健診センター作業シート'!$I328","v":0},{"$f":"'→これより右側　健診センター作業シート'!$G328","v":0},{"$f":"'→これより右側　健診センター作業シート'!$H328","v":0}]
[{"$f":"'→これより右側　健診センター作業シート'!$D329","v":0},{"$f":"'→これより右側　健診センター作業シート'!$B329","v":0},{"$f":"'→これより右側　健診センター作業シート'!$I329","v":0},{"$f":"'→これより右側　健診センター作業シート'!$G329","v":0},{"$f":"'→これより右側　健診センター作業シート'!$H329","v":0}]
[{"$f":"'→これより右側　健診センター作業シート'!$D330","v":0},{"$f":"'→これより右側　健診センター作業シート'!$B330","v":0},{"$f":"'→これより右側　健診センター作業シート'!$I330","v":0},{"$f":"'→これより右側　健診センター作業シート'!$G330","v":0},{"$f":"'→これより右側　健診センター作業シート'!$H330","v":0}]
[{"$f":"'→これより右側　健診センター作業シート'!$D331","v":0},{"$f":"'→これより右側　健診センター作業シート'!$B331","v":0},{"$f":"'→これより右側　健診センター作業シート'!$I331","v":0},{"$f":"'→これより右側　健診センター作業シート'!$G331","v":0},{"$f":"'→これより右側　健診センター作業シート'!$H331","v":0}]
[{"$f":"'→これより右側　健診センター作業シート'!$D332","v":0},{"$f":"'→これより右側　健診センター作業シート'!$B332","v":0},{"$f":"'→これより右側　健診センター作業シート'!$I332","v":0},{"$f":"'→これより右側　健診センター作業シート'!$G332","v":0},{"$f":"'→これより右側　健診センター作業シート'!$H332","v":0}]
[{"$f":"'→これより右側　健診センター作業シート'!$D333","v":0},{"$f":"'→これより右側　健診センター作業シート'!$B333","v":0},{"$f":"'→これより右側　健診センター作業シート'!$I333","v":0},{"$f":"'→これより右側　健診センター作業シート'!$G333","v":0},{"$f":"'→これより右側　健診センター作業シート'!$H333","v":0}]
[{"$f":"'→これより右側　健診センター作業シート'!$D334","v":0},{"$f":"'→これより右側　健診センター作業シート'!$B334","v":0},{"$f":"'→これより右側　健診センター作業シート'!$I334","v":0},{"$f":"'→これより右側　健診センター作業シート'!$G334","v":0},{"$f":"'→これより右側　健診センター作業シート'!$H334","v":0}]
[{"$f":"'→これより右側　健診センター作業シート'!$D335","v":0},{"$f":"'→これより右側　健診センター作業シート'!$B335","v":0},{"$f":"'→これより右側　健診センター作業シート'!$I335","v":0},{"$f":"'→これより右側　健診センター作業シート'!$G335","v":0},{"$f":"'→これより右側　健診センター作業シート'!$H335","v":0}]
[{"$f":"'→これより右側　健診センター作業シート'!$D336","v":0},{"$f":"'→これより右側　健診センター作業シート'!$B336","v":0},{"$f":"'→これより右側　健診センター作業シート'!$I336","v":0},{"$f":"'→これより右側　健診センター作業シート'!$G336","v":0},{"$f":"'→これより右側　健診センター作業シート'!$H336","v":0}]
[{"$f":"'→これより右側　健診センター作業シート'!$D337","v":0},{"$f":"'→これより右側　健診センター作業シート'!$B337","v":0},{"$f":"'→これより右側　健診センター作業シート'!$I337","v":0},{"$f":"'→これより右側　健診センター作業シート'!$G337","v":0},{"$f":"'→これより右側　健診センター作業シート'!$H337","v":0}]
[{"$f":"'→これより右側　健診センター作業シート'!$D338","v":0},{"$f":"'→これより右側　健診センター作業シート'!$B338","v":0},{"$f":"'→これより右側　健診センター作業シート'!$I338","v":0},{"$f":"'→これより右側　健診センター作業シート'!$G338","v":0},{"$f":"'→これより右側　健診センター作業シート'!$H338","v":0}]
[{"$f":"'→これより右側　健診センター作業シート'!$D339","v":0},{"$f":"'→これより右側　健診センター作業シート'!$B339","v":0},{"$f":"'→これより右側　健診センター作業シート'!$I339","v":0},{"$f":"'→これより右側　健診センター作業シート'!$G339","v":0},{"$f":"'→これより右側　健診センター作業シート'!$H339","v":0}]
[{"$f":"'→これより右側　健診センター作業シート'!$D340","v":0},{"$f":"'→これより右側　健診センター作業シート'!$B340","v":0},{"$f":"'→これより右側　健診センター作業シート'!$I340","v":0},{"$f":"'→これより右側　健診センター作業シート'!$G340","v":0},{"$f":"'→これより右側　健診センター作業シート'!$H340","v":0}]
[{"$f":"'→これより右側　健診センター作業シート'!$D341","v":0},{"$f":"'→これより右側　健診センター作業シート'!$B341","v":0},{"$f":"'→これより右側　健診センター作業シート'!$I341","v":0},{"$f":"'→これより右側　健診センター作業シート'!$G341","v":0},{"$f":"'→これより右側　健診センター作業シート'!$H341","v":0}]
[{"$f":"'→これより右側　健診センター作業シート'!$D342","v":0},{"$f":"'→これより右側　健診センター作業シート'!$B342","v":0},{"$f":"'→これより右側　健診センター作業シート'!$I342","v":0},{"$f":"'→これより右側　健診センター作業シート'!$G342","v":0},{"$f":"'→これより右側　健診センター作業シート'!$H342","v":0}]
[{"$f":"'→これより右側　健診センター作業シート'!$D343","v":0},{"$f":"'→これより右側　健診センター作業シート'!$B343","v":0},{"$f":"'→これより右側　健診センター作業シート'!$I343","v":0},{"$f":"'→これより右側　健診センター作業シート'!$G343","v":0},{"$f":"'→これより右側　健診センター作業シート'!$H343","v":0}]
[{"$f":"'→これより右側　健診センター作業シート'!$D344","v":0},{"$f":"'→これより右側　健診センター作業シート'!$B344","v":0},{"$f":"'→これより右側　健診センター作業シート'!$I344","v":0},{"$f":"'→これより右側　健診センター作業シート'!$G344","v":0},{"$f":"'→これより右側　健診センター作業シート'!$H344","v":0}]
[{"$f":"'→これより右側　健診センター作業シート'!$D345","v":0},{"$f":"'→これより右側　健診センター作業シート'!$B345","v":0},{"$f":"'→これより右側　健診センター作業シート'!$I345","v":0},{"$f":"'→これより右側　健診センター作業シート'!$G345","v":0},{"$f":"'→これより右側　健診センター作業シート'!$H345","v":0}]
[{"$f":"'→これより右側　健診センター作業シート'!$D346","v":0},{"$f":"'→これより右側　健診センター作業シート'!$B346","v":0},{"$f":"'→これより右側　健診センター作業シート'!$I346","v":0},{"$f":"'→これより右側　健診センター作業シート'!$G346","v":0},{"$f":"'→これより右側　健診センター作業シート'!$H346","v":0}]
[{"$f":"'→これより右側　健診センター作業シート'!$D347","v":0},{"$f":"'→これより右側　健診センター作業シート'!$B347","v":0},{"$f":"'→これより右側　健診センター作業シート'!$I347","v":0},{"$f":"'→これより右側　健診センター作業シート'!$G347","v":0},{"$f":"'→これより右側　健診センター作業シート'!$H347","v":0}]
[{"$f":"'→これより右側　健診センター作業シート'!$D348","v":0},{"$f":"'→これより右側　健診センター作業シート'!$B348","v":0},{"$f":"'→これより右側　健診センター作業シート'!$I348","v":0},{"$f":"'→これより右側　健診センター作業シート'!$G348","v":0},{"$f":"'→これより右側　健診センター作業シート'!$H348","v":0}]
[{"$f":"'→これより右側　健診センター作業シート'!$D349","v":0},{"$f":"'→これより右側　健診センター作業シート'!$B349","v":0},{"$f":"'→これより右側　健診センター作業シート'!$I349","v":0},{"$f":"'→これより右側　健診センター作業シート'!$G349","v":0},{"$f":"'→これより右側　健診センター作業シート'!$H349","v":0}]
[{"$f":"'→これより右側　健診センター作業シート'!$D350","v":0},{"$f":"'→これより右側　健診センター作業シート'!$B350","v":0},{"$f":"'→これより右側　健診センター作業シート'!$I350","v":0},{"$f":"'→これより右側　健診センター作業シート'!$G350","v":0},{"$f":"'→これより右側　健診センター作業シート'!$H350","v":0}]
[{"$f":"'→これより右側　健診センター作業シート'!$D351","v":0},{"$f":"'→これより右側　健診センター作業シート'!$B351","v":0},{"$f":"'→これより右側　健診センター作業シート'!$I351","v":0},{"$f":"'→これより右側　健診センター作業シート'!$G351","v":0},{"$f":"'→これより右側　健診センター作業シート'!$H351","v":0}]
[{"$f":"'→これより右側　健診センター作業シート'!$D352","v":0},{"$f":"'→これより右側　健診センター作業シート'!$B352","v":0},{"$f":"'→これより右側　健診センター作業シート'!$I352","v":0},{"$f":"'→これより右側　健診センター作業シート'!$G352","v":0},{"$f":"'→これより右側　健診センター作業シート'!$H352","v":0}]
[{"$f":"'→これより右側　健診センター作業シート'!$D353","v":0},{"$f":"'→これより右側　健診センター作業シート'!$B353","v":0},{"$f":"'→これより右側　健診センター作業シート'!$I353","v":0},{"$f":"'→これより右側　健診センター作業シート'!$G353","v":0},{"$f":"'→これより右側　健診センター作業シート'!$H353","v":0}]
[{"$f":"'→これより右側　健診センター作業シート'!$D354","v":0},{"$f":"'→これより右側　健診センター作業シート'!$B354","v":0},{"$f":"'→これより右側　健診センター作業シート'!$I354","v":0},{"$f":"'→これより右側　健診センター作業シート'!$G354","v":0},{"$f":"'→これより右側　健診センター作業シート'!$H354","v":0}]
[{"$f":"'→これより右側　健診センター作業シート'!$D355","v":0},{"$f":"'→これより右側　健診センター作業シート'!$B355","v":0},{"$f":"'→これより右側　健診センター作業シート'!$I355","v":0},{"$f":"'→これより右側　健診センター作業シート'!$G355","v":0},{"$f":"'→これより右側　健診センター作業シート'!$H355","v":0}]
[{"$f":"'→これより右側　健診センター作業シート'!$D356","v":0},{"$f":"'→これより右側　健診センター作業シート'!$B356","v":0},{"$f":"'→これより右側　健診センター作業シート'!$I356","v":0},{"$f":"'→これより右側　健診センター作業シート'!$G356","v":0},{"$f":"'→これより右側　健診センター作業シート'!$H356","v":0}]
[{"$f":"'→これより右側　健診センター作業シート'!$D357","v":0},{"$f":"'→これより右側　健診センター作業シート'!$B357","v":0},{"$f":"'→これより右側　健診センター作業シート'!$I357","v":0},{"$f":"'→これより右側　健診センター作業シート'!$G357","v":0},{"$f":"'→これより右側　健診センター作業シート'!$H357","v":0}]
[{"$f":"'→これより右側　健診センター作業シート'!$D358","v":0},{"$f":"'→これより右側　健診センター作業シート'!$B358","v":0},{"$f":"'→これより右側　健診センター作業シート'!$I358","v":0},{"$f":"'→これより右側　健診センター作業シート'!$G358","v":0},{"$f":"'→これより右側　健診センター作業シート'!$H358","v":0}]
[{"$f":"'→これより右側　健診センター作業シート'!$D359","v":0},{"$f":"'→これより右側　健診センター作業シート'!$B359","v":0},{"$f":"'→これより右側　健診センター作業シート'!$I359","v":0},{"$f":"'→これより右側　健診センター作業シート'!$G359","v":0},{"$f":"'→これより右側　健診センター作業シート'!$H359","v":0}]
[{"$f":"'→これより右側　健診センター作業シート'!$D360","v":0},{"$f":"'→これより右側　健診センター作業シート'!$B360","v":0},{"$f":"'→これより右側　健診センター作業シート'!$I360","v":0},{"$f":"'→これより右側　健診センター作業シート'!$G360","v":0},{"$f":"'→これより右側　健診センター作業シート'!$H360","v":0}]
[{"$f":"'→これより右側　健診センター作業シート'!$D361","v":0},{"$f":"'→これより右側　健診センター作業シート'!$B361","v":0},{"$f":"'→これより右側　健診センター作業シート'!$I361","v":0},{"$f":"'→これより右側　健診センター作業シート'!$G361","v":0},{"$f":"'→これより右側　健診センター作業シート'!$H361","v":0}]
[{"$f":"'→これより右側　健診センター作業シート'!$D362","v":0},{"$f":"'→これより右側　健診センター作業シート'!$B362","v":0},{"$f":"'→これより右側　健診センター作業シート'!$I362","v":0},{"$f":"'→これより右側　健診センター作業シート'!$G362","v":0},{"$f":"'→これより右側　健診センター作業シート'!$H362","v":0}]
[{"$f":"'→これより右側　健診センター作業シート'!$D363","v":0},{"$f":"'→これより右側　健診センター作業シート'!$B363","v":0},{"$f":"'→これより右側　健診センター作業シート'!$I363","v":0},{"$f":"'→これより右側　健診センター作業シート'!$G363","v":0},{"$f":"'→これより右側　健診センター作業シート'!$H363","v":0}]
[{"$f":"'→これより右側　健診センター作業シート'!$D364","v":0},{"$f":"'→これより右側　健診センター作業シート'!$B364","v":0},{"$f":"'→これより右側　健診センター作業シート'!$I364","v":0},{"$f":"'→これより右側　健診センター作業シート'!$G364","v":0},{"$f":"'→これより右側　健診センター作業シート'!$H364","v":0}]
[{"$f":"'→これより右側　健診センター作業シート'!$D365","v":0},{"$f":"'→これより右側　健診センター作業シート'!$B365","v":0},{"$f":"'→これより右側　健診センター作業シート'!$I365","v":0},{"$f":"'→これより右側　健診センター作業シート'!$G365","v":0},{"$f":"'→これより右側　健診センター作業シート'!$H365","v":0}]
[{"$f":"'→これより右側　健診センター作業シート'!$D366","v":0},{"$f":"'→これより右側　健診センター作業シート'!$B366","v":0},{"$f":"'→これより右側　健診センター作業シート'!$I366","v":0},{"$f":"'→これより右側　健診センター作業シート'!$G366","v":0},{"$f":"'→これより右側　健診センター作業シート'!$H366","v":0}]
[{"$f":"'→これより右側　健診センター作業シート'!$D367","v":0},{"$f":"'→これより右側　健診センター作業シート'!$B367","v":0},{"$f":"'→これより右側　健診センター作業シート'!$I367","v":0},{"$f":"'→これより右側　健診センター作業シート'!$G367","v":0},{"$f":"'→これより右側　健診センター作業シート'!$H367","v":0}]
[{"$f":"'→これより右側　健診センター作業シート'!$D368","v":0},{"$f":"'→これより右側　健診センター作業シート'!$B368","v":0},{"$f":"'→これより右側　健診センター作業シート'!$I368","v":0},{"$f":"'→これより右側　健診センター作業シート'!$G368","v":0},{"$f":"'→これより右側　健診センター作業シート'!$H368","v":0}]
[{"$f":"'→これより右側　健診センター作業シート'!$D369","v":0},{"$f":"'→これより右側　健診センター作業シート'!$B369","v":0},{"$f":"'→これより右側　健診センター作業シート'!$I369","v":0},{"$f":"'→これより右側　健診センター作業シート'!$G369","v":0},{"$f":"'→これより右側　健診センター作業シート'!$H369","v":0}]
[{"$f":"'→これより右側　健診センター作業シート'!$D370","v":0},{"$f":"'→これより右側　健診センター作業シート'!$B370","v":0},{"$f":"'→これより右側　健診センター作業シート'!$I370","v":0},{"$f":"'→これより右側　健診センター作業シート'!$G370","v":0},{"$f":"'→これより右側　健診センター作業シート'!$H370","v":0}]
[{"$f":"'→これより右側　健診センター作業シート'!$D371","v":0},{"$f":"'→これより右側　健診センター作業シート'!$B371","v":0},{"$f":"'→これより右側　健診センター作業シート'!$I371","v":0},{"$f":"'→これより右側　健診センター作業シート'!$G371","v":0},{"$f":"'→これより右側　健診センター作業シート'!$H371","v":0}]
[{"$f":"'→これより右側　健診センター作業シート'!$D372","v":0},{"$f":"'→これより右側　健診センター作業シート'!$B372","v":0},{"$f":"'→これより右側　健診センター作業シート'!$I372","v":0},{"$f":"'→これより右側　健診センター作業シート'!$G372","v":0},{"$f":"'→これより右側　健診センター作業シート'!$H372","v":0}]
[{"$f":"'→これより右側　健診センター作業シート'!$D373","v":0},{"$f":"'→これより右側　健診センター作業シート'!$B373","v":0},{"$f":"'→これより右側　健診センター作業シート'!$I373","v":0},{"$f":"'→これより右側　健診センター作業シート'!$G373","v":0},{"$f":"'→これより右側　健診センター作業シート'!$H373","v":0}]
[{"$f":"'→これより右側　健診センター作業シート'!$D374","v":0},{"$f":"'→これより右側　健診センター作業シート'!$B374","v":0},{"$f":"'→これより右側　健診センター作業シート'!$I374","v":0},{"$f":"'→これより右側　健診センター作業シート'!$G374","v":0},{"$f":"'→これより右側　健診センター作業シート'!$H374","v":0}]
[{"$f":"'→これより右側　健診センター作業シート'!$D375","v":0},{"$f":"'→これより右側　健診センター作業シート'!$B375","v":0},{"$f":"'→これより右側　健診センター作業シート'!$I375","v":0},{"$f":"'→これより右側　健診センター作業シート'!$G375","v":0},{"$f":"'→これより右側　健診センター作業シート'!$H375","v":0}]
[{"$f":"'→これより右側　健診センター作業シート'!$D376","v":0},{"$f":"'→これより右側　健診センター作業シート'!$B376","v":0},{"$f":"'→これより右側　健診センター作業シート'!$I376","v":0},{"$f":"'→これより右側　健診センター作業シート'!$G376","v":0},{"$f":"'→これより右側　健診センター作業シート'!$H376","v":0}]
[{"$f":"'→これより右側　健診センター作業シート'!$D377","v":0},{"$f":"'→これより右側　健診センター作業シート'!$B377","v":0},{"$f":"'→これより右側　健診センター作業シート'!$I377","v":0},{"$f":"'→これより右側　健診センター作業シート'!$G377","v":0},{"$f":"'→これより右側　健診センター作業シート'!$H377","v":0}]
[{"$f":"'→これより右側　健診センター作業シート'!$D378","v":0},{"$f":"'→これより右側　健診センター作業シート'!$B378","v":0},{"$f":"'→これより右側　健診センター作業シート'!$I378","v":0},{"$f":"'→これより右側　健診センター作業シート'!$G378","v":0},{"$f":"'→これより右側　健診センター作業シート'!$H378","v":0}]
[{"$f":"'→これより右側　健診センター作業シート'!$D379","v":0},{"$f":"'→これより右側　健診センター作業シート'!$B379","v":0},{"$f":"'→これより右側　健診センター作業シート'!$I379","v":0},{"$f":"'→これより右側　健診センター作業シート'!$G379","v":0},{"$f":"'→これより右側　健診センター作業シート'!$H379","v":0}]
[{"$f":"'→これより右側　健診センター作業シート'!$D380","v":0},{"$f":"'→これより右側　健診センター作業シート'!$B380","v":0},{"$f":"'→これより右側　健診センター作業シート'!$I380","v":0},{"$f":"'→これより右側　健診センター作業シート'!$G380","v":0},{"$f":"'→これより右側　健診センター作業シート'!$H380","v":0}]
[{"$f":"'→これより右側　健診センター作業シート'!$D381","v":0},{"$f":"'→これより右側　健診センター作業シート'!$B381","v":0},{"$f":"'→これより右側　健診センター作業シート'!$I381","v":0},{"$f":"'→これより右側　健診センター作業シート'!$G381","v":0},{"$f":"'→これより右側　健診センター作業シート'!$H381","v":0}]
[{"$f":"'→これより右側　健診センター作業シート'!$D382","v":0},{"$f":"'→これより右側　健診センター作業シート'!$B382","v":0},{"$f":"'→これより右側　健診センター作業シート'!$I382","v":0},{"$f":"'→これより右側　健診センター作業シート'!$G382","v":0},{"$f":"'→これより右側　健診センター作業シート'!$H382","v":0}]
[{"$f":"'→これより右側　健診センター作業シート'!$D383","v":0},{"$f":"'→これより右側　健診センター作業シート'!$B383","v":0},{"$f":"'→これより右側　健診センター作業シート'!$I383","v":0},{"$f":"'→これより右側　健診センター作業シート'!$G383","v":0},{"$f":"'→これより右側　健診センター作業シート'!$H383","v":0}]
[{"$f":"'→これより右側　健診センター作業シート'!$D384","v":0},{"$f":"'→これより右側　健診センター作業シート'!$B384","v":0},{"$f":"'→これより右側　健診センター作業シート'!$I384","v":0},{"$f":"'→これより右側　健診センター作業シート'!$G384","v":0},{"$f":"'→これより右側　健診センター作業シート'!$H384","v":0}]
[{"$f":"'→これより右側　健診センター作業シート'!$D385","v":0},{"$f":"'→これより右側　健診センター作業シート'!$B385","v":0},{"$f":"'→これより右側　健診センター作業シート'!$I385","v":0},{"$f":"'→これより右側　健診センター作業シート'!$G385","v":0},{"$f":"'→これより右側　健診センター作業シート'!$H385","v":0}]
[{"$f":"'→これより右側　健診センター作業シート'!$D386","v":0},{"$f":"'→これより右側　健診センター作業シート'!$B386","v":0},{"$f":"'→これより右側　健診センター作業シート'!$I386","v":0},{"$f":"'→これより右側　健診センター作業シート'!$G386","v":0},{"$f":"'→これより右側　健診センター作業シート'!$H386","v":0}]
[{"$f":"'→これより右側　健診センター作業シート'!$D387","v":0},{"$f":"'→これより右側　健診センター作業シート'!$B387","v":0},{"$f":"'→これより右側　健診センター作業シート'!$I387","v":0},{"$f":"'→これより右側　健診センター作業シート'!$G387","v":0},{"$f":"'→これより右側　健診センター作業シート'!$H387","v":0}]
[{"$f":"'→これより右側　健診センター作業シート'!$D388","v":0},{"$f":"'→これより右側　健診センター作業シート'!$B388","v":0},{"$f":"'→これより右側　健診センター作業シート'!$I388","v":0},{"$f":"'→これより右側　健診センター作業シート'!$G388","v":0},{"$f":"'→これより右側　健診センター作業シート'!$H388","v":0}]
[{"$f":"'→これより右側　健診センター作業シート'!$D389","v":0},{"$f":"'→これより右側　健診センター作業シート'!$B389","v":0},{"$f":"'→これより右側　健診センター作業シート'!$I389","v":0},{"$f":"'→これより右側　健診センター作業シート'!$G389","v":0},{"$f":"'→これより右側　健診センター作業シート'!$H389","v":0}]
[{"$f":"'→これより右側　健診センター作業シート'!$D390","v":0},{"$f":"'→これより右側　健診センター作業シート'!$B390","v":0},{"$f":"'→これより右側　健診センター作業シート'!$I390","v":0},{"$f":"'→これより右側　健診センター作業シート'!$G390","v":0},{"$f":"'→これより右側　健診センター作業シート'!$H390","v":0}]
[{"$f":"'→これより右側　健診センター作業シート'!$D391","v":0},{"$f":"'→これより右側　健診センター作業シート'!$B391","v":0},{"$f":"'→これより右側　健診センター作業シート'!$I391","v":0},{"$f":"'→これより右側　健診センター作業シート'!$G391","v":0},{"$f":"'→これより右側　健診センター作業シート'!$H391","v":0}]
[{"$f":"'→これより右側　健診センター作業シート'!$D392","v":0},{"$f":"'→これより右側　健診センター作業シート'!$B392","v":0},{"$f":"'→これより右側　健診センター作業シート'!$I392","v":0},{"$f":"'→これより右側　健診センター作業シート'!$G392","v":0},{"$f":"'→これより右側　健診センター作業シート'!$H392","v":0}]
[{"$f":"'→これより右側　健診センター作業シート'!$D393","v":0},{"$f":"'→これより右側　健診センター作業シート'!$B393","v":0},{"$f":"'→これより右側　健診センター作業シート'!$I393","v":0},{"$f":"'→これより右側　健診センター作業シート'!$G393","v":0},{"$f":"'→これより右側　健診センター作業シート'!$H393","v":0}]
[{"$f":"'→これより右側　健診センター作業シート'!$D394","v":0},{"$f":"'→これより右側　健診センター作業シート'!$B394","v":0},{"$f":"'→これより右側　健診センター作業シート'!$I394","v":0},{"$f":"'→これより右側　健診センター作業シート'!$G394","v":0},{"$f":"'→これより右側　健診センター作業シート'!$H394","v":0}]
[{"$f":"'→これより右側　健診センター作業シート'!$D395","v":0},{"$f":"'→これより右側　健診センター作業シート'!$B395","v":0},{"$f":"'→これより右側　健診センター作業シート'!$I395","v":0},{"$f":"'→これより右側　健診センター作業シート'!$G395","v":0},{"$f":"'→これより右側　健診センター作業シート'!$H395","v":0}]
[{"$f":"'→これより右側　健診センター作業シート'!$D396","v":0},{"$f":"'→これより右側　健診センター作業シート'!$B396","v":0},{"$f":"'→これより右側　健診センター作業シート'!$I396","v":0},{"$f":"'→これより右側　健診センター作業シート'!$G396","v":0},{"$f":"'→これより右側　健診センター作業シート'!$H396","v":0}]
[{"$f":"'→これより右側　健診センター作業シート'!$D397","v":0},{"$f":"'→これより右側　健診センター作業シート'!$B397","v":0},{"$f":"'→これより右側　健診センター作業シート'!$I397","v":0},{"$f":"'→これより右側　健診センター作業シート'!$G397","v":0},{"$f":"'→これより右側　健診センター作業シート'!$H397","v":0}]
[{"$f":"'→これより右側　健診センター作業シート'!$D398","v":0},{"$f":"'→これより右側　健診センター作業シート'!$B398","v":0},{"$f":"'→これより右側　健診センター作業シート'!$I398","v":0},{"$f":"'→これより右側　健診センター作業シート'!$G398","v":0},{"$f":"'→これより右側　健診センター作業シート'!$H398","v":0}]
[{"$f":"'→これより右側　健診センター作業シート'!$D399","v":0},{"$f":"'→これより右側　健診センター作業シート'!$B399","v":0},{"$f":"'→これより右側　健診センター作業シート'!$I399","v":0},{"$f":"'→これより右側　健診センター作業シート'!$G399","v":0},{"$f":"'→これより右側　健診センター作業シート'!$H399","v":0}]
[{"$f":"'→これより右側　健診センター作業シート'!$D400","v":0},{"$f":"'→これより右側　健診センター作業シート'!$B400","v":0},{"$f":"'→これより右側　健診センター作業シート'!$I400","v":0},{"$f":"'→これより右側　健診センター作業シート'!$G400","v":0},{"$f":"'→これより右側　健診センター作業シート'!$H400","v":0}]
[{"$f":"'→これより右側　健診センター作業シート'!$D401","v":0},{"$f":"'→これより右側　健診センター作業シート'!$B401","v":0},{"$f":"'→これより右側　健診センター作業シート'!$I401","v":0},{"$f":"'→これより右側　健診センター作業シート'!$G401","v":0},{"$f":"'→これより右側　健診センター作業シート'!$H401","v":0}]
[{"$f":"'→これより右側　健診センター作業シート'!$D402","v":0},{"$f":"'→これより右側　健診センター作業シート'!$B402","v":0},{"$f":"'→これより右側　健診センター作業シート'!$I402","v":0},{"$f":"'→これより右側　健診センター作業シート'!$G402","v":0},{"$f":"'→これより右側　健診センター作業シート'!$H402","v":0}]
[{"$f":"'→これより右側　健診センター作業シート'!$D403","v":0},{"$f":"'→これより右側　健診センター作業シート'!$B403","v":0},{"$f":"'→これより右側　健診センター作業シート'!$I403","v":0},{"$f":"'→これより右側　健診センター作業シート'!$G403","v":0},{"$f":"'→これより右側　健診センター作業シート'!$H403","v":0}]
[{"$f":"'→これより右側　健診センター作業シート'!$D404","v":0},{"$f":"'→これより右側　健診センター作業シート'!$B404","v":0},{"$f":"'→これより右側　健診センター作業シート'!$I404","v":0},{"$f":"'→これより右側　健診センター作業シート'!$G404","v":0},{"$f":"'→これより右側　健診センター作業シート'!$H404","v":0}]
[{"$f":"'→これより右側　健診センター作業シート'!$D405","v":0},{"$f":"'→これより右側　健診センター作業シート'!$B405","v":0},{"$f":"'→これより右側　健診センター作業シート'!$I405","v":0},{"$f":"'→これより右側　健診センター作業シート'!$G405","v":0},{"$f":"'→これより右側　健診センター作業シート'!$H405","v":0}]
[{"$f":"'→これより右側　健診センター作業シート'!$D406","v":0},{"$f":"'→これより右側　健診センター作業シート'!$B406","v":0},{"$f":"'→これより右側　健診センター作業シート'!$I406","v":0},{"$f":"'→これより右側　健診センター作業シート'!$G406","v":0},{"$f":"'→これより右側　健診センター作業シート'!$H406","v":0}]
[{"$f":"'→これより右側　健診センター作業シート'!$D407","v":0},{"$f":"'→これより右側　健診センター作業シート'!$B407","v":0},{"$f":"'→これより右側　健診センター作業シート'!$I407","v":0},{"$f":"'→これより右側　健診センター作業シート'!$G407","v":0},{"$f":"'→これより右側　健診センター作業シート'!$H407","v":0}]
[{"$f":"'→これより右側　健診センター作業シート'!$D408","v":0},{"$f":"'→これより右側　健診センター作業シート'!$B408","v":0},{"$f":"'→これより右側　健診センター作業シート'!$I408","v":0},{"$f":"'→これより右側　健診センター作業シート'!$G408","v":0},{"$f":"'→これより右側　健診センター作業シート'!$H408","v":0}]
[{"$f":"'→これより右側　健診センター作業シート'!$D409","v":0},{"$f":"'→これより右側　健診センター作業シート'!$B409","v":0},{"$f":"'→これより右側　健診センター作業シート'!$I409","v":0},{"$f":"'→これより右側　健診センター作業シート'!$G409","v":0},{"$f":"'→これより右側　健診センター作業シート'!$H409","v":0}]
[{"$f":"'→これより右側　健診センター作業シート'!$D410","v":0},{"$f":"'→これより右側　健診センター作業シート'!$B410","v":0},{"$f":"'→これより右側　健診センター作業シート'!$I410","v":0},{"$f":"'→これより右側　健診センター作業シート'!$G410","v":0},{"$f":"'→これより右側　健診センター作業シート'!$H410","v":0}]
[{"$f":"'→これより右側　健診センター作業シート'!$D411","v":0},{"$f":"'→これより右側　健診センター作業シート'!$B411","v":0},{"$f":"'→これより右側　健診センター作業シート'!$I411","v":0},{"$f":"'→これより右側　健診センター作業シート'!$G411","v":0},{"$f":"'→これより右側　健診センター作業シート'!$H411","v":0}]
[{"$f":"'→これより右側　健診センター作業シート'!$D412","v":0},{"$f":"'→これより右側　健診センター作業シート'!$B412","v":0},{"$f":"'→これより右側　健診センター作業シート'!$I412","v":0},{"$f":"'→これより右側　健診センター作業シート'!$G412","v":0},{"$f":"'→これより右側　健診センター作業シート'!$H412","v":0}]
[{"$f":"'→これより右側　健診センター作業シート'!$D413","v":0},{"$f":"'→これより右側　健診センター作業シート'!$B413","v":0},{"$f":"'→これより右側　健診センター作業シート'!$I413","v":0},{"$f":"'→これより右側　健診センター作業シート'!$G413","v":0},{"$f":"'→これより右側　健診センター作業シート'!$H413","v":0}]
[{"$f":"'→これより右側　健診センター作業シート'!$D414","v":0},{"$f":"'→これより右側　健診センター作業シート'!$B414","v":0},{"$f":"'→これより右側　健診センター作業シート'!$I414","v":0},{"$f":"'→これより右側　健診センター作業シート'!$G414","v":0},{"$f":"'→これより右側　健診センター作業シート'!$H414","v":0}]
[{"$f":"'→これより右側　健診センター作業シート'!$D415","v":0},{"$f":"'→これより右側　健診センター作業シート'!$B415","v":0},{"$f":"'→これより右側　健診センター作業シート'!$I415","v":0},{"$f":"'→これより右側　健診センター作業シート'!$G415","v":0},{"$f":"'→これより右側　健診センター作業シート'!$H415","v":0}]
[{"$f":"'→これより右側　健診センター作業シート'!$D416","v":0},{"$f":"'→これより右側　健診センター作業シート'!$B416","v":0},{"$f":"'→これより右側　健診センター作業シート'!$I416","v":0},{"$f":"'→これより右側　健診センター作業シート'!$G416","v":0},{"$f":"'→これより右側　健診センター作業シート'!$H416","v":0}]
[{"$f":"'→これより右側　健診センター作業シート'!$D417","v":0},{"$f":"'→これより右側　健診センター作業シート'!$B417","v":0},{"$f":"'→これより右側　健診センター作業シート'!$I417","v":0},{"$f":"'→これより右側　健診センター作業シート'!$G417","v":0},{"$f":"'→これより右側　健診センター作業シート'!$H417","v":0}]
[{"$f":"'→これより右側　健診センター作業シート'!$D418","v":0},{"$f":"'→これより右側　健診センター作業シート'!$B418","v":0},{"$f":"'→これより右側　健診センター作業シート'!$I418","v":0},{"$f":"'→これより右側　健診センター作業シート'!$G418","v":0},{"$f":"'→これより右側　健診センター作業シート'!$H418","v":0}]
[{"$f":"'→これより右側　健診センター作業シート'!$D419","v":0},{"$f":"'→これより右側　健診センター作業シート'!$B419","v":0},{"$f":"'→これより右側　健診センター作業シート'!$I419","v":0},{"$f":"'→これより右側　健診センター作業シート'!$G419","v":0},{"$f":"'→これより右側　健診センター作業シート'!$H419","v":0}]
[{"$f":"'→これより右側　健診センター作業シート'!$D420","v":0},{"$f":"'→これより右側　健診センター作業シート'!$B420","v":0},{"$f":"'→これより右側　健診センター作業シート'!$I420","v":0},{"$f":"'→これより右側　健診センター作業シート'!$G420","v":0},{"$f":"'→これより右側　健診センター作業シート'!$H420","v":0}]
[{"$f":"'→これより右側　健診センター作業シート'!$D421","v":0},{"$f":"'→これより右側　健診センター作業シート'!$B421","v":0},{"$f":"'→これより右側　健診センター作業シート'!$I421","v":0},{"$f":"'→これより右側　健診センター作業シート'!$G421","v":0},{"$f":"'→これより右側　健診センター作業シート'!$H421","v":0}]
[{"$f":"'→これより右側　健診センター作業シート'!$D422","v":0},{"$f":"'→これより右側　健診センター作業シート'!$B422","v":0},{"$f":"'→これより右側　健診センター作業シート'!$I422","v":0},{"$f":"'→これより右側　健診センター作業シート'!$G422","v":0},{"$f":"'→これより右側　健診センター作業シート'!$H422","v":0}]
[{"$f":"'→これより右側　健診センター作業シート'!$D423","v":0},{"$f":"'→これより右側　健診センター作業シート'!$B423","v":0},{"$f":"'→これより右側　健診センター作業シート'!$I423","v":0},{"$f":"'→これより右側　健診センター作業シート'!$G423","v":0},{"$f":"'→これより右側　健診センター作業シート'!$H423","v":0}]
[{"$f":"'→これより右側　健診センター作業シート'!$D424","v":0},{"$f":"'→これより右側　健診センター作業シート'!$B424","v":0},{"$f":"'→これより右側　健診センター作業シート'!$I424","v":0},{"$f":"'→これより右側　健診センター作業シート'!$G424","v":0},{"$f":"'→これより右側　健診センター作業シート'!$H424","v":0}]
[{"$f":"'→これより右側　健診センター作業シート'!$D425","v":0},{"$f":"'→これより右側　健診センター作業シート'!$B425","v":0},{"$f":"'→これより右側　健診センター作業シート'!$I425","v":0},{"$f":"'→これより右側　健診センター作業シート'!$G425","v":0},{"$f":"'→これより右側　健診センター作業シート'!$H425","v":0}]
[{"$f":"'→これより右側　健診センター作業シート'!$D426","v":0},{"$f":"'→これより右側　健診センター作業シート'!$B426","v":0},{"$f":"'→これより右側　健診センター作業シート'!$I426","v":0},{"$f":"'→これより右側　健診センター作業シート'!$G426","v":0},{"$f":"'→これより右側　健診センター作業シート'!$H426","v":0}]
[{"$f":"'→これより右側　健診センター作業シート'!$D427","v":0},{"$f":"'→これより右側　健診センター作業シート'!$B427","v":0},{"$f":"'→これより右側　健診センター作業シート'!$I427","v":0},{"$f":"'→これより右側　健診センター作業シート'!$G427","v":0},{"$f":"'→これより右側　健診センター作業シート'!$H427","v":0}]
[{"$f":"'→これより右側　健診センター作業シート'!$D428","v":0},{"$f":"'→これより右側　健診センター作業シート'!$B428","v":0},{"$f":"'→これより右側　健診センター作業シート'!$I428","v":0},{"$f":"'→これより右側　健診センター作業シート'!$G428","v":0},{"$f":"'→これより右側　健診センター作業シート'!$H428","v":0}]
[{"$f":"'→これより右側　健診センター作業シート'!$D429","v":0},{"$f":"'→これより右側　健診センター作業シート'!$B429","v":0},{"$f":"'→これより右側　健診センター作業シート'!$I429","v":0},{"$f":"'→これより右側　健診センター作業シート'!$G429","v":0},{"$f":"'→これより右側　健診センター作業シート'!$H429","v":0}]
[{"$f":"'→これより右側　健診センター作業シート'!$D430","v":0},{"$f":"'→これより右側　健診センター作業シート'!$B430","v":0},{"$f":"'→これより右側　健診センター作業シート'!$I430","v":0},{"$f":"'→これより右側　健診センター作業シート'!$G430","v":0},{"$f":"'→これより右側　健診センター作業シート'!$H430","v":0}]
[{"$f":"'→これより右側　健診センター作業シート'!$D431","v":0},{"$f":"'→これより右側　健診センター作業シート'!$B431","v":0},{"$f":"'→これより右側　健診センター作業シート'!$I431","v":0},{"$f":"'→これより右側　健診センター作業シート'!$G431","v":0},{"$f":"'→これより右側　健診センター作業シート'!$H431","v":0}]
[{"$f":"'→これより右側　健診センター作業シート'!$D432","v":0},{"$f":"'→これより右側　健診センター作業シート'!$B432","v":0},{"$f":"'→これより右側　健診センター作業シート'!$I432","v":0},{"$f":"'→これより右側　健診センター作業シート'!$G432","v":0},{"$f":"'→これより右側　健診センター作業シート'!$H432","v":0}]
[{"$f":"'→これより右側　健診センター作業シート'!$D433","v":0},{"$f":"'→これより右側　健診センター作業シート'!$B433","v":0},{"$f":"'→これより右側　健診センター作業シート'!$I433","v":0},{"$f":"'→これより右側　健診センター作業シート'!$G433","v":0},{"$f":"'→これより右側　健診センター作業シート'!$H433","v":0}]
[{"$f":"'→これより右側　健診センター作業シート'!$D434","v":0},{"$f":"'→これより右側　健診センター作業シート'!$B434","v":0},{"$f":"'→これより右側　健診センター作業シート'!$I434","v":0},{"$f":"'→これより右側　健診センター作業シート'!$G434","v":0},{"$f":"'→これより右側　健診センター作業シート'!$H434","v":0}]
[{"$f":"'→これより右側　健診センター作業シート'!$D435","v":0},{"$f":"'→これより右側　健診センター作業シート'!$B435","v":0},{"$f":"'→これより右側　健診センター作業シート'!$I435","v":0},{"$f":"'→これより右側　健診センター作業シート'!$G435","v":0},{"$f":"'→これより右側　健診センター作業シート'!$H435","v":0}]
[{"$f":"'→これより右側　健診センター作業シート'!$D436","v":0},{"$f":"'→これより右側　健診センター作業シート'!$B436","v":0},{"$f":"'→これより右側　健診センター作業シート'!$I436","v":0},{"$f":"'→これより右側　健診センター作業シート'!$G436","v":0},{"$f":"'→これより右側　健診センター作業シート'!$H436","v":0}]
[{"$f":"'→これより右側　健診センター作業シート'!$D437","v":0},{"$f":"'→これより右側　健診センター作業シート'!$B437","v":0},{"$f":"'→これより右側　健診センター作業シート'!$I437","v":0},{"$f":"'→これより右側　健診センター作業シート'!$G437","v":0},{"$f":"'→これより右側　健診センター作業シート'!$H437","v":0}]
[{"$f":"'→これより右側　健診センター作業シート'!$D438","v":0},{"$f":"'→これより右側　健診センター作業シート'!$B438","v":0},{"$f":"'→これより右側　健診センター作業シート'!$I438","v":0},{"$f":"'→これより右側　健診センター作業シート'!$G438","v":0},{"$f":"'→これより右側　健診センター作業シート'!$H438","v":0}]
[{"$f":"'→これより右側　健診センター作業シート'!$D439","v":0},{"$f":"'→これより右側　健診センター作業シート'!$B439","v":0},{"$f":"'→これより右側　健診センター作業シート'!$I439","v":0},{"$f":"'→これより右側　健診センター作業シート'!$G439","v":0},{"$f":"'→これより右側　健診センター作業シート'!$H439","v":0}]
[{"$f":"'→これより右側　健診センター作業シート'!$D440","v":0},{"$f":"'→これより右側　健診センター作業シート'!$B440","v":0},{"$f":"'→これより右側　健診センター作業シート'!$I440","v":0},{"$f":"'→これより右側　健診センター作業シート'!$G440","v":0},{"$f":"'→これより右側　健診センター作業シート'!$H440","v":0}]
[{"$f":"'→これより右側　健診センター作業シート'!$D441","v":0},{"$f":"'→これより右側　健診センター作業シート'!$B441","v":0},{"$f":"'→これより右側　健診センター作業シート'!$I441","v":0},{"$f":"'→これより右側　健診センター作業シート'!$G441","v":0},{"$f":"'→これより右側　健診センター作業シート'!$H441","v":0}]
[{"$f":"'→これより右側　健診センター作業シート'!$D442","v":0},{"$f":"'→これより右側　健診センター作業シート'!$B442","v":0},{"$f":"'→これより右側　健診センター作業シート'!$I442","v":0},{"$f":"'→これより右側　健診センター作業シート'!$G442","v":0},{"$f":"'→これより右側　健診センター作業シート'!$H442","v":0}]
[{"$f":"'→これより右側　健診センター作業シート'!$D443","v":0},{"$f":"'→これより右側　健診センター作業シート'!$B443","v":0},{"$f":"'→これより右側　健診センター作業シート'!$I443","v":0},{"$f":"'→これより右側　健診センター作業シート'!$G443","v":0},{"$f":"'→これより右側　健診センター作業シート'!$H443","v":0}]
[{"$f":"'→これより右側　健診センター作業シート'!$D444","v":0},{"$f":"'→これより右側　健診センター作業シート'!$B444","v":0},{"$f":"'→これより右側　健診センター作業シート'!$I444","v":0},{"$f":"'→これより右側　健診センター作業シート'!$G444","v":0},{"$f":"'→これより右側　健診センター作業シート'!$H444","v":0}]
[{"$f":"'→これより右側　健診センター作業シート'!$D445","v":0},{"$f":"'→これより右側　健診センター作業シート'!$B445","v":0},{"$f":"'→これより右側　健診センター作業シート'!$I445","v":0},{"$f":"'→これより右側　健診センター作業シート'!$G445","v":0},{"$f":"'→これより右側　健診センター作業シート'!$H445","v":0}]
[{"$f":"'→これより右側　健診センター作業シート'!$D446","v":0},{"$f":"'→これより右側　健診センター作業シート'!$B446","v":0},{"$f":"'→これより右側　健診センター作業シート'!$I446","v":0},{"$f":"'→これより右側　健診センター作業シート'!$G446","v":0},{"$f":"'→これより右側　健診センター作業シート'!$H446","v":0}]
[{"$f":"'→これより右側　健診センター作業シート'!$D447","v":0},{"$f":"'→これより右側　健診センター作業シート'!$B447","v":0},{"$f":"'→これより右側　健診センター作業シート'!$I447","v":0},{"$f":"'→これより右側　健診センター作業シート'!$G447","v":0},{"$f":"'→これより右側　健診センター作業シート'!$H447","v":0}]
[{"$f":"'→これより右側　健診センター作業シート'!$D448","v":0},{"$f":"'→これより右側　健診センター作業シート'!$B448","v":0},{"$f":"'→これより右側　健診センター作業シート'!$I448","v":0},{"$f":"'→これより右側　健診センター作業シート'!$G448","v":0},{"$f":"'→これより右側　健診センター作業シート'!$H448","v":0}]
[{"$f":"'→これより右側　健診センター作業シート'!$D449","v":0},{"$f":"'→これより右側　健診センター作業シート'!$B449","v":0},{"$f":"'→これより右側　健診センター作業シート'!$I449","v":0},{"$f":"'→これより右側　健診センター作業シート'!$G449","v":0},{"$f":"'→これより右側　健診センター作業シート'!$H449","v":0}]
[{"$f":"'→これより右側　健診センター作業シート'!$D450","v":0},{"$f":"'→これより右側　健診センター作業シート'!$B450","v":0},{"$f":"'→これより右側　健診センター作業シート'!$I450","v":0},{"$f":"'→これより右側　健診センター作業シート'!$G450","v":0},{"$f":"'→これより右側　健診センター作業シート'!$H450","v":0}]
[{"$f":"'→これより右側　健診センター作業シート'!$D451","v":0},{"$f":"'→これより右側　健診センター作業シート'!$B451","v":0},{"$f":"'→これより右側　健診センター作業シート'!$I451","v":0},{"$f":"'→これより右側　健診センター作業シート'!$G451","v":0},{"$f":"'→これより右側　健診センター作業シート'!$H451","v":0}]
[{"$f":"'→これより右側　健診センター作業シート'!$D452","v":0},{"$f":"'→これより右側　健診センター作業シート'!$B452","v":0},{"$f":"'→これより右側　健診センター作業シート'!$I452","v":0},{"$f":"'→これより右側　健診センター作業シート'!$G452","v":0},{"$f":"'→これより右側　健診センター作業シート'!$H452","v":0}]
[{"$f":"'→これより右側　健診センター作業シート'!$D453","v":0},{"$f":"'→これより右側　健診センター作業シート'!$B453","v":0},{"$f":"'→これより右側　健診センター作業シート'!$I453","v":0},{"$f":"'→これより右側　健診センター作業シート'!$G453","v":0},{"$f":"'→これより右側　健診センター作業シート'!$H453","v":0}]
[{"$f":"'→これより右側　健診センター作業シート'!$D454","v":0},{"$f":"'→これより右側　健診センター作業シート'!$B454","v":0},{"$f":"'→これより右側　健診センター作業シート'!$I454","v":0},{"$f":"'→これより右側　健診センター作業シート'!$G454","v":0},{"$f":"'→これより右側　健診センター作業シート'!$H454","v":0}]
[{"$f":"'→これより右側　健診センター作業シート'!$D455","v":0},{"$f":"'→これより右側　健診センター作業シート'!$B455","v":0},{"$f":"'→これより右側　健診センター作業シート'!$I455","v":0},{"$f":"'→これより右側　健診センター作業シート'!$G455","v":0},{"$f":"'→これより右側　健診センター作業シート'!$H455","v":0}]
[{"$f":"'→これより右側　健診センター作業シート'!$D456","v":0},{"$f":"'→これより右側　健診センター作業シート'!$B456","v":0},{"$f":"'→これより右側　健診センター作業シート'!$I456","v":0},{"$f":"'→これより右側　健診センター作業シート'!$G456","v":0},{"$f":"'→これより右側　健診センター作業シート'!$H456","v":0}]
[{"$f":"'→これより右側　健診センター作業シート'!$D457","v":0},{"$f":"'→これより右側　健診センター作業シート'!$B457","v":0},{"$f":"'→これより右側　健診センター作業シート'!$I457","v":0},{"$f":"'→これより右側　健診センター作業シート'!$G457","v":0},{"$f":"'→これより右側　健診センター作業シート'!$H457","v":0}]
[{"$f":"'→これより右側　健診センター作業シート'!$D458","v":0},{"$f":"'→これより右側　健診センター作業シート'!$B458","v":0},{"$f":"'→これより右側　健診センター作業シート'!$I458","v":0},{"$f":"'→これより右側　健診センター作業シート'!$G458","v":0},{"$f":"'→これより右側　健診センター作業シート'!$H458","v":0}]
[{"$f":"'→これより右側　健診センター作業シート'!$D459","v":0},{"$f":"'→これより右側　健診センター作業シート'!$B459","v":0},{"$f":"'→これより右側　健診センター作業シート'!$I459","v":0},{"$f":"'→これより右側　健診センター作業シート'!$G459","v":0},{"$f":"'→これより右側　健診センター作業シート'!$H459","v":0}]
[{"$f":"'→これより右側　健診センター作業シート'!$D460","v":0},{"$f":"'→これより右側　健診センター作業シート'!$B460","v":0},{"$f":"'→これより右側　健診センター作業シート'!$I460","v":0},{"$f":"'→これより右側　健診センター作業シート'!$G460","v":0},{"$f":"'→これより右側　健診センター作業シート'!$H460","v":0}]
[{"$f":"'→これより右側　健診センター作業シート'!$D461","v":0},{"$f":"'→これより右側　健診センター作業シート'!$B461","v":0},{"$f":"'→これより右側　健診センター作業シート'!$I461","v":0},{"$f":"'→これより右側　健診センター作業シート'!$G461","v":0},{"$f":"'→これより右側　健診センター作業シート'!$H461","v":0}]
[{"$f":"'→これより右側　健診センター作業シート'!$D462","v":0},{"$f":"'→これより右側　健診センター作業シート'!$B462","v":0},{"$f":"'→これより右側　健診センター作業シート'!$I462","v":0},{"$f":"'→これより右側　健診センター作業シート'!$G462","v":0},{"$f":"'→これより右側　健診センター作業シート'!$H462","v":0}]
[{"$f":"'→これより右側　健診センター作業シート'!$D463","v":0},{"$f":"'→これより右側　健診センター作業シート'!$B463","v":0},{"$f":"'→これより右側　健診センター作業シート'!$I463","v":0},{"$f":"'→これより右側　健診センター作業シート'!$G463","v":0},{"$f":"'→これより右側　健診センター作業シート'!$H463","v":0}]
[{"$f":"'→これより右側　健診センター作業シート'!$D464","v":0},{"$f":"'→これより右側　健診センター作業シート'!$B464","v":0},{"$f":"'→これより右側　健診センター作業シート'!$I464","v":0},{"$f":"'→これより右側　健診センター作業シート'!$G464","v":0},{"$f":"'→これより右側　健診センター作業シート'!$H464","v":0}]
[{"$f":"'→これより右側　健診センター作業シート'!$D465","v":0},{"$f":"'→これより右側　健診センター作業シート'!$B465","v":0},{"$f":"'→これより右側　健診センター作業シート'!$I465","v":0},{"$f":"'→これより右側　健診センター作業シート'!$G465","v":0},{"$f":"'→これより右側　健診センター作業シート'!$H465","v":0}]
[{"$f":"'→これより右側　健診センター作業シート'!$D466","v":0},{"$f":"'→これより右側　健診センター作業シート'!$B466","v":0},{"$f":"'→これより右側　健診センター作業シート'!$I466","v":0},{"$f":"'→これより右側　健診センター作業シート'!$G466","v":0},{"$f":"'→これより右側　健診センター作業シート'!$H466","v":0}]
[{"$f":"'→これより右側　健診センター作業シート'!$D467","v":0},{"$f":"'→これより右側　健診センター作業シート'!$B467","v":0},{"$f":"'→これより右側　健診センター作業シート'!$I467","v":0},{"$f":"'→これより右側　健診センター作業シート'!$G467","v":0},{"$f":"'→これより右側　健診センター作業シート'!$H467","v":0}]
[{"$f":"'→これより右側　健診センター作業シート'!$D468","v":0},{"$f":"'→これより右側　健診センター作業シート'!$B468","v":0},{"$f":"'→これより右側　健診センター作業シート'!$I468","v":0},{"$f":"'→これより右側　健診センター作業シート'!$G468","v":0},{"$f":"'→これより右側　健診センター作業シート'!$H468","v":0}]
[{"$f":"'→これより右側　健診センター作業シート'!$D469","v":0},{"$f":"'→これより右側　健診センター作業シート'!$B469","v":0},{"$f":"'→これより右側　健診センター作業シート'!$I469","v":0},{"$f":"'→これより右側　健診センター作業シート'!$G469","v":0},{"$f":"'→これより右側　健診センター作業シート'!$H469","v":0}]
[{"$f":"'→これより右側　健診センター作業シート'!$D470","v":0},{"$f":"'→これより右側　健診センター作業シート'!$B470","v":0},{"$f":"'→これより右側　健診センター作業シート'!$I470","v":0},{"$f":"'→これより右側　健診センター作業シート'!$G470","v":0},{"$f":"'→これより右側　健診センター作業シート'!$H470","v":0}]
[{"$f":"'→これより右側　健診センター作業シート'!$D471","v":0},{"$f":"'→これより右側　健診センター作業シート'!$B471","v":0},{"$f":"'→これより右側　健診センター作業シート'!$I471","v":0},{"$f":"'→これより右側　健診センター作業シート'!$G471","v":0},{"$f":"'→これより右側　健診センター作業シート'!$H471","v":0}]
[{"$f":"'→これより右側　健診センター作業シート'!$D472","v":0},{"$f":"'→これより右側　健診センター作業シート'!$B472","v":0},{"$f":"'→これより右側　健診センター作業シート'!$I472","v":0},{"$f":"'→これより右側　健診センター作業シート'!$G472","v":0},{"$f":"'→これより右側　健診センター作業シート'!$H472","v":0}]
[{"$f":"'→これより右側　健診センター作業シート'!$D473","v":0},{"$f":"'→これより右側　健診センター作業シート'!$B473","v":0},{"$f":"'→これより右側　健診センター作業シート'!$I473","v":0},{"$f":"'→これより右側　健診センター作業シート'!$G473","v":0},{"$f":"'→これより右側　健診センター作業シート'!$H473","v":0}]
[{"$f":"'→これより右側　健診センター作業シート'!$D474","v":0},{"$f":"'→これより右側　健診センター作業シート'!$B474","v":0},{"$f":"'→これより右側　健診センター作業シート'!$I474","v":0},{"$f":"'→これより右側　健診センター作業シート'!$G474","v":0},{"$f":"'→これより右側　健診センター作業シート'!$H474","v":0}]
[{"$f":"'→これより右側　健診センター作業シート'!$D475","v":0},{"$f":"'→これより右側　健診センター作業シート'!$B475","v":0},{"$f":"'→これより右側　健診センター作業シート'!$I475","v":0},{"$f":"'→これより右側　健診センター作業シート'!$G475","v":0},{"$f":"'→これより右側　健診センター作業シート'!$H475","v":0}]
[{"$f":"'→これより右側　健診センター作業シート'!$D476","v":0},{"$f":"'→これより右側　健診センター作業シート'!$B476","v":0},{"$f":"'→これより右側　健診センター作業シート'!$I476","v":0},{"$f":"'→これより右側　健診センター作業シート'!$G476","v":0},{"$f":"'→これより右側　健診センター作業シート'!$H476","v":0}]
[{"$f":"'→これより右側　健診センター作業シート'!$D477","v":0},{"$f":"'→これより右側　健診センター作業シート'!$B477","v":0},{"$f":"'→これより右側　健診センター作業シート'!$I477","v":0},{"$f":"'→これより右側　健診センター作業シート'!$G477","v":0},{"$f":"'→これより右側　健診センター作業シート'!$H477","v":0}]
[{"$f":"'→これより右側　健診センター作業シート'!$D478","v":0},{"$f":"'→これより右側　健診センター作業シート'!$B478","v":0},{"$f":"'→これより右側　健診センター作業シート'!$I478","v":0},{"$f":"'→これより右側　健診センター作業シート'!$G478","v":0},{"$f":"'→これより右側　健診センター作業シート'!$H478","v":0}]
[{"$f":"'→これより右側　健診センター作業シート'!$D479","v":0},{"$f":"'→これより右側　健診センター作業シート'!$B479","v":0},{"$f":"'→これより右側　健診センター作業シート'!$I479","v":0},{"$f":"'→これより右側　健診センター作業シート'!$G479","v":0},{"$f":"'→これより右側　健診センター作業シート'!$H479","v":0}]
[{"$f":"'→これより右側　健診センター作業シート'!$D480","v":0},{"$f":"'→これより右側　健診センター作業シート'!$B480","v":0},{"$f":"'→これより右側　健診センター作業シート'!$I480","v":0},{"$f":"'→これより右側　健診センター作業シート'!$G480","v":0},{"$f":"'→これより右側　健診センター作業シート'!$H480","v":0}]
[{"$f":"'→これより右側　健診センター作業シート'!$D481","v":0},{"$f":"'→これより右側　健診センター作業シート'!$B481","v":0},{"$f":"'→これより右側　健診センター作業シート'!$I481","v":0},{"$f":"'→これより右側　健診センター作業シート'!$G481","v":0},{"$f":"'→これより右側　健診センター作業シート'!$H481","v":0}]
[{"$f":"'→これより右側　健診センター作業シート'!$D482","v":0},{"$f":"'→これより右側　健診センター作業シート'!$B482","v":0},{"$f":"'→これより右側　健診センター作業シート'!$I482","v":0},{"$f":"'→これより右側　健診センター作業シート'!$G482","v":0},{"$f":"'→これより右側　健診センター作業シート'!$H482","v":0}]
[{"$f":"'→これより右側　健診センター作業シート'!$D483","v":0},{"$f":"'→これより右側　健診センター作業シート'!$B483","v":0},{"$f":"'→これより右側　健診センター作業シート'!$I483","v":0},{"$f":"'→これより右側　健診センター作業シート'!$G483","v":0},{"$f":"'→これより右側　健診センター作業シート'!$H483","v":0}]
[{"$f":"'→これより右側　健診センター作業シート'!$D484","v":0},{"$f":"'→これより右側　健診センター作業シート'!$B484","v":0},{"$f":"'→これより右側　健診センター作業シート'!$I484","v":0},{"$f":"'→これより右側　健診センター作業シート'!$G484","v":0},{"$f":"'→これより右側　健診センター作業シート'!$H484","v":0}]
[{"$f":"'→これより右側　健診センター作業シート'!$D485","v":0},{"$f":"'→これより右側　健診センター作業シート'!$B485","v":0},{"$f":"'→これより右側　健診センター作業シート'!$I485","v":0},{"$f":"'→これより右側　健診センター作業シート'!$G485","v":0},{"$f":"'→これより右側　健診センター作業シート'!$H485","v":0}]
[{"$f":"'→これより右側　健診センター作業シート'!$D486","v":0},{"$f":"'→これより右側　健診センター作業シート'!$B486","v":0},{"$f":"'→これより右側　健診センター作業シート'!$I486","v":0},{"$f":"'→これより右側　健診センター作業シート'!$G486","v":0},{"$f":"'→これより右側　健診センター作業シート'!$H486","v":0}]
[{"$f":"'→これより右側　健診センター作業シート'!$D487","v":0},{"$f":"'→これより右側　健診センター作業シート'!$B487","v":0},{"$f":"'→これより右側　健診センター作業シート'!$I487","v":0},{"$f":"'→これより右側　健診センター作業シート'!$G487","v":0},{"$f":"'→これより右側　健診センター作業シート'!$H487","v":0}]
[{"$f":"'→これより右側　健診センター作業シート'!$D488","v":0},{"$f":"'→これより右側　健診センター作業シート'!$B488","v":0},{"$f":"'→これより右側　健診センター作業シート'!$I488","v":0},{"$f":"'→これより右側　健診センター作業シート'!$G488","v":0},{"$f":"'→これより右側　健診センター作業シート'!$H488","v":0}]
[{"$f":"'→これより右側　健診センター作業シート'!$D489","v":0},{"$f":"'→これより右側　健診センター作業シート'!$B489","v":0},{"$f":"'→これより右側　健診センター作業シート'!$I489","v":0},{"$f":"'→これより右側　健診センター作業シート'!$G489","v":0},{"$f":"'→これより右側　健診センター作業シート'!$H489","v":0}]
[{"$f":"'→これより右側　健診センター作業シート'!$D490","v":0},{"$f":"'→これより右側　健診センター作業シート'!$B490","v":0},{"$f":"'→これより右側　健診センター作業シート'!$I490","v":0},{"$f":"'→これより右側　健診センター作業シート'!$G490","v":0},{"$f":"'→これより右側　健診センター作業シート'!$H490","v":0}]
[{"$f":"'→これより右側　健診センター作業シート'!$D491","v":0},{"$f":"'→これより右側　健診センター作業シート'!$B491","v":0},{"$f":"'→これより右側　健診センター作業シート'!$I491","v":0},{"$f":"'→これより右側　健診センター作業シート'!$G491","v":0},{"$f":"'→これより右側　健診センター作業シート'!$H491","v":0}]
[{"$f":"'→これより右側　健診センター作業シート'!$D492","v":0},{"$f":"'→これより右側　健診センター作業シート'!$B492","v":0},{"$f":"'→これより右側　健診センター作業シート'!$I492","v":0},{"$f":"'→これより右側　健診センター作業シート'!$G492","v":0},{"$f":"'→これより右側　健診センター作業シート'!$H492","v":0}]
[{"$f":"'→これより右側　健診センター作業シート'!$D493","v":0},{"$f":"'→これより右側　健診センター作業シート'!$B493","v":0},{"$f":"'→これより右側　健診センター作業シート'!$I493","v":0},{"$f":"'→これより右側　健診センター作業シート'!$G493","v":0},{"$f":"'→これより右側　健診センター作業シート'!$H493","v":0}]
[{"$f":"'→これより右側　健診センター作業シート'!$D494","v":0},{"$f":"'→これより右側　健診センター作業シート'!$B494","v":0},{"$f":"'→これより右側　健診センター作業シート'!$I494","v":0},{"$f":"'→これより右側　健診センター作業シート'!$G494","v":0},{"$f":"'→これより右側　健診センター作業シート'!$H494","v":0}]
[{"$f":"'→これより右側　健診センター作業シート'!$D495","v":0},{"$f":"'→これより右側　健診センター作業シート'!$B495","v":0},{"$f":"'→これより右側　健診センター作業シート'!$I495","v":0},{"$f":"'→これより右側　健診センター作業シート'!$G495","v":0},{"$f":"'→これより右側　健診センター作業シート'!$H495","v":0}]
[{"$f":"'→これより右側　健診センター作業シート'!$D496","v":0},{"$f":"'→これより右側　健診センター作業シート'!$B496","v":0},{"$f":"'→これより右側　健診センター作業シート'!$I496","v":0},{"$f":"'→これより右側　健診センター作業シート'!$G496","v":0},{"$f":"'→これより右側　健診センター作業シート'!$H496","v":0}]
[{"$f":"'→これより右側　健診センター作業シート'!$D497","v":0},{"$f":"'→これより右側　健診センター作業シート'!$B497","v":0},{"$f":"'→これより右側　健診センター作業シート'!$I497","v":0},{"$f":"'→これより右側　健診センター作業シート'!$G497","v":0},{"$f":"'→これより右側　健診センター作業シート'!$H497","v":0}]
[{"$f":"'→これより右側　健診センター作業シート'!$D498","v":0},{"$f":"'→これより右側　健診センター作業シート'!$B498","v":0},{"$f":"'→これより右側　健診センター作業シート'!$I498","v":0},{"$f":"'→これより右側　健診センター作業シート'!$G498","v":0},{"$f":"'→これより右側　健診センター作業シート'!$H498","v":0}]
[{"$f":"'→これより右側　健診センター作業シート'!$D499","v":0},{"$f":"'→これより右側　健診センター作業シート'!$B499","v":0},{"$f":"'→これより右側　健診センター作業シート'!$I499","v":0},{"$f":"'→これより右側　健診センター作業シート'!$G499","v":0},{"$f":"'→これより右側　健診センター作業シート'!$H499","v":0}]
[{"$f":"'→これより右側　健診センター作業シート'!$D500","v":0},{"$f":"'→これより右側　健診センター作業シート'!$B500","v":0},{"$f":"'→これより右側　健診センター作業シート'!$I500","v":0},{"$f":"'→これより右側　健診センター作業シート'!$G500","v":0},{"$f":"'→これより右側　健診センター作業シート'!$H500","v":0}]
[{"$f":"'→これより右側　健診センター作業シート'!$D501","v":0},{"$f":"'→これより右側　健診センター作業シート'!$B501","v":0},{"$f":"'→これより右側　健診センター作業シート'!$I501","v":0},{"$f":"'→これより右側　健診センター作業シート'!$G501","v":0},{"$f":"'→これより右側　健診センター作業シート'!$H501","v":0}]
[{"$f":"'→これより右側　健診センター作業シート'!$D502","v":0},{"$f":"'→これより右側　健診センター作業シート'!$B502","v":0},{"$f":"'→これより右側　健診センター作業シート'!$I502","v":0},{"$f":"'→これより右側　健診センター作業シート'!$G502","v":0},{"$f":"'→これより右側　健診センター作業シート'!$H502","v":0}]
[{"$f":"'→これより右側　健診センター作業シート'!$D503","v":0},{"$f":"'→これより右側　健診センター作業シート'!$B503","v":0},{"$f":"'→これより右側　健診センター作業シート'!$I503","v":0},{"$f":"'→これより右側　健診センター作業シート'!$G503","v":0},{"$f":"'→これより右側　健診センター作業シート'!$H503","v":0}]
[{"$f":"'→これより右側　健診センター作業シート'!$D504","v":0},{"$f":"'→これより右側　健診センター作業シート'!$B504","v":0},{"$f":"'→これより右側　健診センター作業シート'!$I504","v":0},{"$f":"'→これより右側　健診センター作業シート'!$G504","v":0},{"$f":"'→これより右側　健診センター作業シート'!$H504","v":0}]
[{"$f":"'→これより右側　健診センター作業シート'!$D505","v":0},{"$f":"'→これより右側　健診センター作業シート'!$B505","v":0},{"$f":"'→これより右側　健診センター作業シート'!$I505","v":0},{"$f":"'→これより右側　健診センター作業シート'!$G505","v":0},{"$f":"'→これより右側　健診センター作業シート'!$H505","v":0}]
[{"$f":"'→これより右側　健診センター作業シート'!$D506","v":0},{"$f":"'→これより右側　健診センター作業シート'!$B506","v":0},{"$f":"'→これより右側　健診センター作業シート'!$I506","v":0},{"$f":"'→これより右側　健診センター作業シート'!$G506","v":0},{"$f":"'→これより右側　健診センター作業シート'!$H506","v":0}]
[{"$f":"'→これより右側　健診センター作業シート'!$D507","v":0},{"$f":"'→これより右側　健診センター作業シート'!$B507","v":0},{"$f":"'→これより右側　健診センター作業シート'!$I507","v":0},{"$f":"'→これより右側　健診センター作業シート'!$G507","v":0},{"$f":"'→これより右側　健診センター作業シート'!$H507","v":0}]
[{"$f":"'→これより右側　健診センター作業シート'!$D508","v":0},{"$f":"'→これより右側　健診センター作業シート'!$B508","v":0},{"$f":"'→これより右側　健診センター作業シート'!$I508","v":0},{"$f":"'→これより右側　健診センター作業シート'!$G508","v":0},{"$f":"'→これより右側　健診センター作業シート'!$H508","v":0}]
[{"$f":"'→これより右側　健診センター作業シート'!$D509","v":0},{"$f":"'→これより右側　健診センター作業シート'!$B509","v":0},{"$f":"'→これより右側　健診センター作業シート'!$I509","v":0},{"$f":"'→これより右側　健診センター作業シート'!$G509","v":0},{"$f":"'→これより右側　健診センター作業シート'!$H509","v":0}]
[{"$f":"'→これより右側　健診センター作業シート'!$D510","v":0},{"$f":"'→これより右側　健診センター作業シート'!$B510","v":0},{"$f":"'→これより右側　健診センター作業シート'!$I510","v":0},{"$f":"'→これより右側　健診センター作業シート'!$G510","v":0},{"$f":"'→これより右側　健診センター作業シート'!$H510","v":0}]
[{"$f":"'→これより右側　健診センター作業シート'!$D511","v":0},{"$f":"'→これより右側　健診センター作業シート'!$B511","v":0},{"$f":"'→これより右側　健診センター作業シート'!$I511","v":0},{"$f":"'→これより右側　健診センター作業シート'!$G511","v":0},{"$f":"'→これより右側　健診センター作業シート'!$H511","v":0}]
[{"$f":"'→これより右側　健診センター作業シート'!$D512","v":0},{"$f":"'→これより右側　健診センター作業シート'!$B512","v":0},{"$f":"'→これより右側　健診センター作業シート'!$I512","v":0},{"$f":"'→これより右側　健診センター作業シート'!$G512","v":0},{"$f":"'→これより右側　健診センター作業シート'!$H512","v":0}]
[{"$f":"'→これより右側　健診センター作業シート'!$D513","v":0},{"$f":"'→これより右側　健診センター作業シート'!$B513","v":0},{"$f":"'→これより右側　健診センター作業シート'!$I513","v":0},{"$f":"'→これより右側　健診センター作業シート'!$G513","v":0},{"$f":"'→これより右側　健診センター作業シート'!$H513","v":0}]
[{"$f":"'→これより右側　健診センター作業シート'!$D514","v":0},{"$f":"'→これより右側　健診センター作業シート'!$B514","v":0},{"$f":"'→これより右側　健診センター作業シート'!$I514","v":0},{"$f":"'→これより右側　健診センター作業シート'!$G514","v":0},{"$f":"'→これより右側　健診センター作業シート'!$H514","v":0}]
[{"$f":"'→これより右側　健診センター作業シート'!$D515","v":0},{"$f":"'→これより右側　健診センター作業シート'!$B515","v":0},{"$f":"'→これより右側　健診センター作業シート'!$I515","v":0},{"$f":"'→これより右側　健診センター作業シート'!$G515","v":0},{"$f":"'→これより右側　健診センター作業シート'!$H515","v":0}]
[{"$f":"'→これより右側　健診センター作業シート'!$D516","v":0},{"$f":"'→これより右側　健診センター作業シート'!$B516","v":0},{"$f":"'→これより右側　健診センター作業シート'!$I516","v":0},{"$f":"'→これより右側　健診センター作業シート'!$G516","v":0},{"$f":"'→これより右側　健診センター作業シート'!$H516","v":0}]
[{"$f":"'→これより右側　健診センター作業シート'!$D517","v":0},{"$f":"'→これより右側　健診センター作業シート'!$B517","v":0},{"$f":"'→これより右側　健診センター作業シート'!$I517","v":0},{"$f":"'→これより右側　健診センター作業シート'!$G517","v":0},{"$f":"'→これより右側　健診センター作業シート'!$H517","v":0}]
[{"$f":"'→これより右側　健診センター作業シート'!$D518","v":0},{"$f":"'→これより右側　健診センター作業シート'!$B518","v":0},{"$f":"'→これより右側　健診センター作業シート'!$I518","v":0},{"$f":"'→これより右側　健診センター作業シート'!$G518","v":0},{"$f":"'→これより右側　健診センター作業シート'!$H518","v":0}]
[{"$f":"'→これより右側　健診センター作業シート'!$D519","v":0},{"$f":"'→これより右側　健診センター作業シート'!$B519","v":0},{"$f":"'→これより右側　健診センター作業シート'!$I519","v":0},{"$f":"'→これより右側　健診センター作業シート'!$G519","v":0},{"$f":"'→これより右側　健診センター作業シート'!$H519","v":0}]
[{"$f":"'→これより右側　健診センター作業シート'!$D520","v":0},{"$f":"'→これより右側　健診センター作業シート'!$B520","v":0},{"$f":"'→これより右側　健診センター作業シート'!$I520","v":0},{"$f":"'→これより右側　健診センター作業シート'!$G520","v":0},{"$f":"'→これより右側　健診センター作業シート'!$H520","v":0}]
[{"$f":"'→これより右側　健診センター作業シート'!$D521","v":0},{"$f":"'→これより右側　健診センター作業シート'!$B521","v":0},{"$f":"'→これより右側　健診センター作業シート'!$I521","v":0},{"$f":"'→これより右側　健診センター作業シート'!$G521","v":0},{"$f":"'→これより右側　健診センター作業シート'!$H521","v":0}]
[{"$f":"'→これより右側　健診センター作業シート'!$D522","v":0},{"$f":"'→これより右側　健診センター作業シート'!$B522","v":0},{"$f":"'→これより右側　健診センター作業シート'!$I522","v":0},{"$f":"'→これより右側　健診センター作業シート'!$G522","v":0},{"$f":"'→これより右側　健診センター作業シート'!$H522","v":0}]
[{"$f":"'→これより右側　健診センター作業シート'!$D523","v":0},{"$f":"'→これより右側　健診センター作業シート'!$B523","v":0},{"$f":"'→これより右側　健診センター作業シート'!$I523","v":0},{"$f":"'→これより右側　健診センター作業シート'!$G523","v":0},{"$f":"'→これより右側　健診センター作業シート'!$H523","v":0}]
[{"$f":"'→これより右側　健診センター作業シート'!$D524","v":0},{"$f":"'→これより右側　健診センター作業シート'!$B524","v":0},{"$f":"'→これより右側　健診センター作業シート'!$I524","v":0},{"$f":"'→これより右側　健診センター作業シート'!$G524","v":0},{"$f":"'→これより右側　健診センター作業シート'!$H524","v":0}]
[{"$f":"'→これより右側　健診センター作業シート'!$D525","v":0},{"$f":"'→これより右側　健診センター作業シート'!$B525","v":0},{"$f":"'→これより右側　健診センター作業シート'!$I525","v":0},{"$f":"'→これより右側　健診センター作業シート'!$G525","v":0},{"$f":"'→これより右側　健診センター作業シート'!$H525","v":0}]
[{"$f":"'→これより右側　健診センター作業シート'!$D526","v":0},{"$f":"'→これより右側　健診センター作業シート'!$B526","v":0},{"$f":"'→これより右側　健診センター作業シート'!$I526","v":0},{"$f":"'→これより右側　健診センター作業シート'!$G526","v":0},{"$f":"'→これより右側　健診センター作業シート'!$H526","v":0}]
[{"$f":"'→これより右側　健診センター作業シート'!$D527","v":0},{"$f":"'→これより右側　健診センター作業シート'!$B527","v":0},{"$f":"'→これより右側　健診センター作業シート'!$I527","v":0},{"$f":"'→これより右側　健診センター作業シート'!$G527","v":0},{"$f":"'→これより右側　健診センター作業シート'!$H527","v":0}]
[{"$f":"'→これより右側　健診センター作業シート'!$D528","v":0},{"$f":"'→これより右側　健診センター作業シート'!$B528","v":0},{"$f":"'→これより右側　健診センター作業シート'!$I528","v":0},{"$f":"'→これより右側　健診センター作業シート'!$G528","v":0},{"$f":"'→これより右側　健診センター作業シート'!$H528","v":0}]
[{"$f":"'→これより右側　健診センター作業シート'!$D529","v":0},{"$f":"'→これより右側　健診センター作業シート'!$B529","v":0},{"$f":"'→これより右側　健診センター作業シート'!$I529","v":0},{"$f":"'→これより右側　健診センター作業シート'!$G529","v":0},{"$f":"'→これより右側　健診センター作業シート'!$H529","v":0}]
[{"$f":"'→これより右側　健診センター作業シート'!$D530","v":0},{"$f":"'→これより右側　健診センター作業シート'!$B530","v":0},{"$f":"'→これより右側　健診センター作業シート'!$I530","v":0},{"$f":"'→これより右側　健診センター作業シート'!$G530","v":0},{"$f":"'→これより右側　健診センター作業シート'!$H530","v":0}]
[{"$f":"'→これより右側　健診センター作業シート'!$D531","v":0},{"$f":"'→これより右側　健診センター作業シート'!$B531","v":0},{"$f":"'→これより右側　健診センター作業シート'!$I531","v":0},{"$f":"'→これより右側　健診センター作業シート'!$G531","v":0},{"$f":"'→これより右側　健診センター作業シート'!$H531","v":0}]
[{"$f":"'→これより右側　健診センター作業シート'!$D532","v":0},{"$f":"'→これより右側　健診センター作業シート'!$B532","v":0},{"$f":"'→これより右側　健診センター作業シート'!$I532","v":0},{"$f":"'→これより右側　健診センター作業シート'!$G532","v":0},{"$f":"'→これより右側　健診センター作業シート'!$H532","v":0}]
[{"$f":"'→これより右側　健診センター作業シート'!$D533","v":0},{"$f":"'→これより右側　健診センター作業シート'!$B533","v":0},{"$f":"'→これより右側　健診センター作業シート'!$I533","v":0},{"$f":"'→これより右側　健診センター作業シート'!$G533","v":0},{"$f":"'→これより右側　健診センター作業シート'!$H533","v":0}]
[{"$f":"'→これより右側　健診センター作業シート'!$D534","v":0},{"$f":"'→これより右側　健診センター作業シート'!$B534","v":0},{"$f":"'→これより右側　健診センター作業シート'!$I534","v":0},{"$f":"'→これより右側　健診センター作業シート'!$G534","v":0},{"$f":"'→これより右側　健診センター作業シート'!$H534","v":0}]
[{"$f":"'→これより右側　健診センター作業シート'!$D535","v":0},{"$f":"'→これより右側　健診センター作業シート'!$B535","v":0},{"$f":"'→これより右側　健診センター作業シート'!$I535","v":0},{"$f":"'→これより右側　健診センター作業シート'!$G535","v":0},{"$f":"'→これより右側　健診センター作業シート'!$H535","v":0}]
[{"$f":"'→これより右側　健診センター作業シート'!$D536","v":0},{"$f":"'→これより右側　健診センター作業シート'!$B536","v":0},{"$f":"'→これより右側　健診センター作業シート'!$I536","v":0},{"$f":"'→これより右側　健診センター作業シート'!$G536","v":0},{"$f":"'→これより右側　健診センター作業シート'!$H536","v":0}]
[{"$f":"'→これより右側　健診センター作業シート'!$D537","v":0},{"$f":"'→これより右側　健診センター作業シート'!$B537","v":0},{"$f":"'→これより右側　健診センター作業シート'!$I537","v":0},{"$f":"'→これより右側　健診センター作業シート'!$G537","v":0},{"$f":"'→これより右側　健診センター作業シート'!$H537","v":0}]
[{"$f":"'→これより右側　健診センター作業シート'!$D538","v":0},{"$f":"'→これより右側　健診センター作業シート'!$B538","v":0},{"$f":"'→これより右側　健診センター作業シート'!$I538","v":0},{"$f":"'→これより右側　健診センター作業シート'!$G538","v":0},{"$f":"'→これより右側　健診センター作業シート'!$H538","v":0}]
[{"$f":"'→これより右側　健診センター作業シート'!$D539","v":0},{"$f":"'→これより右側　健診センター作業シート'!$B539","v":0},{"$f":"'→これより右側　健診センター作業シート'!$I539","v":0},{"$f":"'→これより右側　健診センター作業シート'!$G539","v":0},{"$f":"'→これより右側　健診センター作業シート'!$H539","v":0}]
[{"$f":"'→これより右側　健診センター作業シート'!$D540","v":0},{"$f":"'→これより右側　健診センター作業シート'!$B540","v":0},{"$f":"'→これより右側　健診センター作業シート'!$I540","v":0},{"$f":"'→これより右側　健診センター作業シート'!$G540","v":0},{"$f":"'→これより右側　健診センター作業シート'!$H540","v":0}]
[{"$f":"'→これより右側　健診センター作業シート'!$D541","v":0},{"$f":"'→これより右側　健診センター作業シート'!$B541","v":0},{"$f":"'→これより右側　健診センター作業シート'!$I541","v":0},{"$f":"'→これより右側　健診センター作業シート'!$G541","v":0},{"$f":"'→これより右側　健診センター作業シート'!$H541","v":0}]
[{"$f":"'→これより右側　健診センター作業シート'!$D542","v":0},{"$f":"'→これより右側　健診センター作業シート'!$B542","v":0},{"$f":"'→これより右側　健診センター作業シート'!$I542","v":0},{"$f":"'→これより右側　健診センター作業シート'!$G542","v":0},{"$f":"'→これより右側　健診センター作業シート'!$H542","v":0}]
[{"$f":"'→これより右側　健診センター作業シート'!$D543","v":0},{"$f":"'→これより右側　健診センター作業シート'!$B543","v":0},{"$f":"'→これより右側　健診センター作業シート'!$I543","v":0},{"$f":"'→これより右側　健診センター作業シート'!$G543","v":0},{"$f":"'→これより右側　健診センター作業シート'!$H543","v":0}]
[{"$f":"'→これより右側　健診センター作業シート'!$D544","v":0},{"$f":"'→これより右側　健診センター作業シート'!$B544","v":0},{"$f":"'→これより右側　健診センター作業シート'!$I544","v":0},{"$f":"'→これより右側　健診センター作業シート'!$G544","v":0},{"$f":"'→これより右側　健診センター作業シート'!$H544","v":0}]
[{"$f":"'→これより右側　健診センター作業シート'!$D545","v":0},{"$f":"'→これより右側　健診センター作業シート'!$B545","v":0},{"$f":"'→これより右側　健診センター作業シート'!$I545","v":0},{"$f":"'→これより右側　健診センター作業シート'!$G545","v":0},{"$f":"'→これより右側　健診センター作業シート'!$H545","v":0}]
[{"$f":"'→これより右側　健診センター作業シート'!$D546","v":0},{"$f":"'→これより右側　健診センター作業シート'!$B546","v":0},{"$f":"'→これより右側　健診センター作業シート'!$I546","v":0},{"$f":"'→これより右側　健診センター作業シート'!$G546","v":0},{"$f":"'→これより右側　健診センター作業シート'!$H546","v":0}]
[{"$f":"'→これより右側　健診センター作業シート'!$D547","v":0},{"$f":"'→これより右側　健診センター作業シート'!$B547","v":0},{"$f":"'→これより右側　健診センター作業シート'!$I547","v":0},{"$f":"'→これより右側　健診センター作業シート'!$G547","v":0},{"$f":"'→これより右側　健診センター作業シート'!$H547","v":0}]
[{"$f":"'→これより右側　健診センター作業シート'!$D548","v":0},{"$f":"'→これより右側　健診センター作業シート'!$B548","v":0},{"$f":"'→これより右側　健診センター作業シート'!$I548","v":0},{"$f":"'→これより右側　健診センター作業シート'!$G548","v":0},{"$f":"'→これより右側　健診センター作業シート'!$H548","v":0}]
[{"$f":"'→これより右側　健診センター作業シート'!$D549","v":0},{"$f":"'→これより右側　健診センター作業シート'!$B549","v":0},{"$f":"'→これより右側　健診センター作業シート'!$I549","v":0},{"$f":"'→これより右側　健診センター作業シート'!$G549","v":0},{"$f":"'→これより右側　健診センター作業シート'!$H549","v":0}]
[{"$f":"'→これより右側　健診センター作業シート'!$D550","v":0},{"$f":"'→これより右側　健診センター作業シート'!$B550","v":0},{"$f":"'→これより右側　健診センター作業シート'!$I550","v":0},{"$f":"'→これより右側　健診センター作業シート'!$G550","v":0},{"$f":"'→これより右側　健診センター作業シート'!$H550","v":0}]
[{"$f":"'→これより右側　健診センター作業シート'!$D551","v":0},{"$f":"'→これより右側　健診センター作業シート'!$B551","v":0},{"$f":"'→これより右側　健診センター作業シート'!$I551","v":0},{"$f":"'→これより右側　健診センター作業シート'!$G551","v":0},{"$f":"'→これより右側　健診センター作業シート'!$H551","v":0}]
[{"$f":"'→これより右側　健診センター作業シート'!$D552","v":0},{"$f":"'→これより右側　健診センター作業シート'!$B552","v":0},{"$f":"'→これより右側　健診センター作業シート'!$I552","v":0},{"$f":"'→これより右側　健診センター作業シート'!$G552","v":0},{"$f":"'→これより右側　健診センター作業シート'!$H552","v":0}]
[{"$f":"'→これより右側　健診センター作業シート'!$D553","v":0},{"$f":"'→これより右側　健診センター作業シート'!$B553","v":0},{"$f":"'→これより右側　健診センター作業シート'!$I553","v":0},{"$f":"'→これより右側　健診センター作業シート'!$G553","v":0},{"$f":"'→これより右側　健診センター作業シート'!$H553","v":0}]
[{"$f":"'→これより右側　健診センター作業シート'!$D554","v":0},{"$f":"'→これより右側　健診センター作業シート'!$B554","v":0},{"$f":"'→これより右側　健診センター作業シート'!$I554","v":0},{"$f":"'→これより右側　健診センター作業シート'!$G554","v":0},{"$f":"'→これより右側　健診センター作業シート'!$H554","v":0}]
[{"$f":"'→これより右側　健診センター作業シート'!$D555","v":0},{"$f":"'→これより右側　健診センター作業シート'!$B555","v":0},{"$f":"'→これより右側　健診センター作業シート'!$I555","v":0},{"$f":"'→これより右側　健診センター作業シート'!$G555","v":0},{"$f":"'→これより右側　健診センター作業シート'!$H555","v":0}]
[{"$f":"'→これより右側　健診センター作業シート'!$D556","v":0},{"$f":"'→これより右側　健診センター作業シート'!$B556","v":0},{"$f":"'→これより右側　健診センター作業シート'!$I556","v":0},{"$f":"'→これより右側　健診センター作業シート'!$G556","v":0},{"$f":"'→これより右側　健診センター作業シート'!$H556","v":0}]
[{"$f":"'→これより右側　健診センター作業シート'!$D557","v":0},{"$f":"'→これより右側　健診センター作業シート'!$B557","v":0},{"$f":"'→これより右側　健診センター作業シート'!$I557","v":0},{"$f":"'→これより右側　健診センター作業シート'!$G557","v":0},{"$f":"'→これより右側　健診センター作業シート'!$H557","v":0}]
[{"$f":"'→これより右側　健診センター作業シート'!$D558","v":0},{"$f":"'→これより右側　健診センター作業シート'!$B558","v":0},{"$f":"'→これより右側　健診センター作業シート'!$I558","v":0},{"$f":"'→これより右側　健診センター作業シート'!$G558","v":0},{"$f":"'→これより右側　健診センター作業シート'!$H558","v":0}]
[{"$f":"'→これより右側　健診センター作業シート'!$D559","v":0},{"$f":"'→これより右側　健診センター作業シート'!$B559","v":0},{"$f":"'→これより右側　健診センター作業シート'!$I559","v":0},{"$f":"'→これより右側　健診センター作業シート'!$G559","v":0},{"$f":"'→これより右側　健診センター作業シート'!$H559","v":0}]
[{"$f":"'→これより右側　健診センター作業シート'!$D560","v":0},{"$f":"'→これより右側　健診センター作業シート'!$B560","v":0},{"$f":"'→これより右側　健診センター作業シート'!$I560","v":0},{"$f":"'→これより右側　健診センター作業シート'!$G560","v":0},{"$f":"'→これより右側　健診センター作業シート'!$H560","v":0}]
[{"$f":"'→これより右側　健診センター作業シート'!$D561","v":0},{"$f":"'→これより右側　健診センター作業シート'!$B561","v":0},{"$f":"'→これより右側　健診センター作業シート'!$I561","v":0},{"$f":"'→これより右側　健診センター作業シート'!$G561","v":0},{"$f":"'→これより右側　健診センター作業シート'!$H561","v":0}]
[{"$f":"'→これより右側　健診センター作業シート'!$D562","v":0},{"$f":"'→これより右側　健診センター作業シート'!$B562","v":0},{"$f":"'→これより右側　健診センター作業シート'!$I562","v":0},{"$f":"'→これより右側　健診センター作業シート'!$G562","v":0},{"$f":"'→これより右側　健診センター作業シート'!$H562","v":0}]
[{"$f":"'→これより右側　健診センター作業シート'!$D563","v":0},{"$f":"'→これより右側　健診センター作業シート'!$B563","v":0},{"$f":"'→これより右側　健診センター作業シート'!$I563","v":0},{"$f":"'→これより右側　健診センター作業シート'!$G563","v":0},{"$f":"'→これより右側　健診センター作業シート'!$H563","v":0}]
[{"$f":"'→これより右側　健診センター作業シート'!$D564","v":0},{"$f":"'→これより右側　健診センター作業シート'!$B564","v":0},{"$f":"'→これより右側　健診センター作業シート'!$I564","v":0},{"$f":"'→これより右側　健診センター作業シート'!$G564","v":0},{"$f":"'→これより右側　健診センター作業シート'!$H564","v":0}]
[{"$f":"'→これより右側　健診センター作業シート'!$D565","v":0},{"$f":"'→これより右側　健診センター作業シート'!$B565","v":0},{"$f":"'→これより右側　健診センター作業シート'!$I565","v":0},{"$f":"'→これより右側　健診センター作業シート'!$G565","v":0},{"$f":"'→これより右側　健診センター作業シート'!$H565","v":0}]
[{"$f":"'→これより右側　健診センター作業シート'!$D566","v":0},{"$f":"'→これより右側　健診センター作業シート'!$B566","v":0},{"$f":"'→これより右側　健診センター作業シート'!$I566","v":0},{"$f":"'→これより右側　健診センター作業シート'!$G566","v":0},{"$f":"'→これより右側　健診センター作業シート'!$H566","v":0}]
[{"$f":"'→これより右側　健診センター作業シート'!$D567","v":0},{"$f":"'→これより右側　健診センター作業シート'!$B567","v":0},{"$f":"'→これより右側　健診センター作業シート'!$I567","v":0},{"$f":"'→これより右側　健診センター作業シート'!$G567","v":0},{"$f":"'→これより右側　健診センター作業シート'!$H567","v":0}]
[{"$f":"'→これより右側　健診センター作業シート'!$D568","v":0},{"$f":"'→これより右側　健診センター作業シート'!$B568","v":0},{"$f":"'→これより右側　健診センター作業シート'!$I568","v":0},{"$f":"'→これより右側　健診センター作業シート'!$G568","v":0},{"$f":"'→これより右側　健診センター作業シート'!$H568","v":0}]
[{"$f":"'→これより右側　健診センター作業シート'!$D569","v":0},{"$f":"'→これより右側　健診センター作業シート'!$B569","v":0},{"$f":"'→これより右側　健診センター作業シート'!$I569","v":0},{"$f":"'→これより右側　健診センター作業シート'!$G569","v":0},{"$f":"'→これより右側　健診センター作業シート'!$H569","v":0}]
[{"$f":"'→これより右側　健診センター作業シート'!$D570","v":0},{"$f":"'→これより右側　健診センター作業シート'!$B570","v":0},{"$f":"'→これより右側　健診センター作業シート'!$I570","v":0},{"$f":"'→これより右側　健診センター作業シート'!$G570","v":0},{"$f":"'→これより右側　健診センター作業シート'!$H570","v":0}]
[{"$f":"'→これより右側　健診センター作業シート'!$D571","v":0},{"$f":"'→これより右側　健診センター作業シート'!$B571","v":0},{"$f":"'→これより右側　健診センター作業シート'!$I571","v":0},{"$f":"'→これより右側　健診センター作業シート'!$G571","v":0},{"$f":"'→これより右側　健診センター作業シート'!$H571","v":0}]
[{"$f":"'→これより右側　健診センター作業シート'!$D572","v":0},{"$f":"'→これより右側　健診センター作業シート'!$B572","v":0},{"$f":"'→これより右側　健診センター作業シート'!$I572","v":0},{"$f":"'→これより右側　健診センター作業シート'!$G572","v":0},{"$f":"'→これより右側　健診センター作業シート'!$H572","v":0}]
[{"$f":"'→これより右側　健診センター作業シート'!$D573","v":0},{"$f":"'→これより右側　健診センター作業シート'!$B573","v":0},{"$f":"'→これより右側　健診センター作業シート'!$I573","v":0},{"$f":"'→これより右側　健診センター作業シート'!$G573","v":0},{"$f":"'→これより右側　健診センター作業シート'!$H573","v":0}]
[{"$f":"'→これより右側　健診センター作業シート'!$D574","v":0},{"$f":"'→これより右側　健診センター作業シート'!$B574","v":0},{"$f":"'→これより右側　健診センター作業シート'!$I574","v":0},{"$f":"'→これより右側　健診センター作業シート'!$G574","v":0},{"$f":"'→これより右側　健診センター作業シート'!$H574","v":0}]
[{"$f":"'→これより右側　健診センター作業シート'!$D575","v":0},{"$f":"'→これより右側　健診センター作業シート'!$B575","v":0},{"$f":"'→これより右側　健診センター作業シート'!$I575","v":0},{"$f":"'→これより右側　健診センター作業シート'!$G575","v":0},{"$f":"'→これより右側　健診センター作業シート'!$H575","v":0}]
[{"$f":"'→これより右側　健診センター作業シート'!$D576","v":0},{"$f":"'→これより右側　健診センター作業シート'!$B576","v":0},{"$f":"'→これより右側　健診センター作業シート'!$I576","v":0},{"$f":"'→これより右側　健診センター作業シート'!$G576","v":0},{"$f":"'→これより右側　健診センター作業シート'!$H576","v":0}]
[{"$f":"'→これより右側　健診センター作業シート'!$D577","v":0},{"$f":"'→これより右側　健診センター作業シート'!$B577","v":0},{"$f":"'→これより右側　健診センター作業シート'!$I577","v":0},{"$f":"'→これより右側　健診センター作業シート'!$G577","v":0},{"$f":"'→これより右側　健診センター作業シート'!$H577","v":0}]
[{"$f":"'→これより右側　健診センター作業シート'!$D578","v":0},{"$f":"'→これより右側　健診センター作業シート'!$B578","v":0},{"$f":"'→これより右側　健診センター作業シート'!$I578","v":0},{"$f":"'→これより右側　健診センター作業シート'!$G578","v":0},{"$f":"'→これより右側　健診センター作業シート'!$H578","v":0}]
[{"$f":"'→これより右側　健診センター作業シート'!$D579","v":0},{"$f":"'→これより右側　健診センター作業シート'!$B579","v":0},{"$f":"'→これより右側　健診センター作業シート'!$I579","v":0},{"$f":"'→これより右側　健診センター作業シート'!$G579","v":0},{"$f":"'→これより右側　健診センター作業シート'!$H579","v":0}]
[{"$f":"'→これより右側　健診センター作業シート'!$D580","v":0},{"$f":"'→これより右側　健診センター作業シート'!$B580","v":0},{"$f":"'→これより右側　健診センター作業シート'!$I580","v":0},{"$f":"'→これより右側　健診センター作業シート'!$G580","v":0},{"$f":"'→これより右側　健診センター作業シート'!$H580","v":0}]
[{"$f":"'→これより右側　健診センター作業シート'!$D581","v":0},{"$f":"'→これより右側　健診センター作業シート'!$B581","v":0},{"$f":"'→これより右側　健診センター作業シート'!$I581","v":0},{"$f":"'→これより右側　健診センター作業シート'!$G581","v":0},{"$f":"'→これより右側　健診センター作業シート'!$H581","v":0}]
[{"$f":"'→これより右側　健診センター作業シート'!$D582","v":0},{"$f":"'→これより右側　健診センター作業シート'!$B582","v":0},{"$f":"'→これより右側　健診センター作業シート'!$I582","v":0},{"$f":"'→これより右側　健診センター作業シート'!$G582","v":0},{"$f":"'→これより右側　健診センター作業シート'!$H582","v":0}]
[{"$f":"'→これより右側　健診センター作業シート'!$D583","v":0},{"$f":"'→これより右側　健診センター作業シート'!$B583","v":0},{"$f":"'→これより右側　健診センター作業シート'!$I583","v":0},{"$f":"'→これより右側　健診センター作業シート'!$G583","v":0},{"$f":"'→これより右側　健診センター作業シート'!$H583","v":0}]
[{"$f":"'→これより右側　健診センター作業シート'!$D584","v":0},{"$f":"'→これより右側　健診センター作業シート'!$B584","v":0},{"$f":"'→これより右側　健診センター作業シート'!$I584","v":0},{"$f":"'→これより右側　健診センター作業シート'!$G584","v":0},{"$f":"'→これより右側　健診センター作業シート'!$H584","v":0}]
[{"$f":"'→これより右側　健診センター作業シート'!$D585","v":0},{"$f":"'→これより右側　健診センター作業シート'!$B585","v":0},{"$f":"'→これより右側　健診センター作業シート'!$I585","v":0},{"$f":"'→これより右側　健診センター作業シート'!$G585","v":0},{"$f":"'→これより右側　健診センター作業シート'!$H585","v":0}]
[{"$f":"'→これより右側　健診センター作業シート'!$D586","v":0},{"$f":"'→これより右側　健診センター作業シート'!$B586","v":0},{"$f":"'→これより右側　健診センター作業シート'!$I586","v":0},{"$f":"'→これより右側　健診センター作業シート'!$G586","v":0},{"$f":"'→これより右側　健診センター作業シート'!$H586","v":0}]
[{"$f":"'→これより右側　健診センター作業シート'!$D587","v":0},{"$f":"'→これより右側　健診センター作業シート'!$B587","v":0},{"$f":"'→これより右側　健診センター作業シート'!$I587","v":0},{"$f":"'→これより右側　健診センター作業シート'!$G587","v":0},{"$f":"'→これより右側　健診センター作業シート'!$H587","v":0}]
[{"$f":"'→これより右側　健診センター作業シート'!$D588","v":0},{"$f":"'→これより右側　健診センター作業シート'!$B588","v":0},{"$f":"'→これより右側　健診センター作業シート'!$I588","v":0},{"$f":"'→これより右側　健診センター作業シート'!$G588","v":0},{"$f":"'→これより右側　健診センター作業シート'!$H588","v":0}]
[{"$f":"'→これより右側　健診センター作業シート'!$D589","v":0},{"$f":"'→これより右側　健診センター作業シート'!$B589","v":0},{"$f":"'→これより右側　健診センター作業シート'!$I589","v":0},{"$f":"'→これより右側　健診センター作業シート'!$G589","v":0},{"$f":"'→これより右側　健診センター作業シート'!$H589","v":0}]
[{"$f":"'→これより右側　健診センター作業シート'!$D590","v":0},{"$f":"'→これより右側　健診センター作業シート'!$B590","v":0},{"$f":"'→これより右側　健診センター作業シート'!$I590","v":0},{"$f":"'→これより右側　健診センター作業シート'!$G590","v":0},{"$f":"'→これより右側　健診センター作業シート'!$H590","v":0}]
[{"$f":"'→これより右側　健診センター作業シート'!$D591","v":0},{"$f":"'→これより右側　健診センター作業シート'!$B591","v":0},{"$f":"'→これより右側　健診センター作業シート'!$I591","v":0},{"$f":"'→これより右側　健診センター作業シート'!$G591","v":0},{"$f":"'→これより右側　健診センター作業シート'!$H591","v":0}]
[{"$f":"'→これより右側　健診センター作業シート'!$D592","v":0},{"$f":"'→これより右側　健診センター作業シート'!$B592","v":0},{"$f":"'→これより右側　健診センター作業シート'!$I592","v":0},{"$f":"'→これより右側　健診センター作業シート'!$G592","v":0},{"$f":"'→これより右側　健診センター作業シート'!$H592","v":0}]
[{"$f":"'→これより右側　健診センター作業シート'!$D593","v":0},{"$f":"'→これより右側　健診センター作業シート'!$B593","v":0},{"$f":"'→これより右側　健診センター作業シート'!$I593","v":0},{"$f":"'→これより右側　健診センター作業シート'!$G593","v":0},{"$f":"'→これより右側　健診センター作業シート'!$H593","v":0}]
[{"$f":"'→これより右側　健診センター作業シート'!$D594","v":0},{"$f":"'→これより右側　健診センター作業シート'!$B594","v":0},{"$f":"'→これより右側　健診センター作業シート'!$I594","v":0},{"$f":"'→これより右側　健診センター作業シート'!$G594","v":0},{"$f":"'→これより右側　健診センター作業シート'!$H594","v":0}]
[{"$f":"'→これより右側　健診センター作業シート'!$D595","v":0},{"$f":"'→これより右側　健診センター作業シート'!$B595","v":0},{"$f":"'→これより右側　健診センター作業シート'!$I595","v":0},{"$f":"'→これより右側　健診センター作業シート'!$G595","v":0},{"$f":"'→これより右側　健診センター作業シート'!$H595","v":0}]
[{"$f":"'→これより右側　健診センター作業シート'!$D596","v":0},{"$f":"'→これより右側　健診センター作業シート'!$B596","v":0},{"$f":"'→これより右側　健診センター作業シート'!$I596","v":0},{"$f":"'→これより右側　健診センター作業シート'!$G596","v":0},{"$f":"'→これより右側　健診センター作業シート'!$H596","v":0}]
[{"$f":"'→これより右側　健診センター作業シート'!$D597","v":0},{"$f":"'→これより右側　健診センター作業シート'!$B597","v":0},{"$f":"'→これより右側　健診センター作業シート'!$I597","v":0},{"$f":"'→これより右側　健診センター作業シート'!$G597","v":0},{"$f":"'→これより右側　健診センター作業シート'!$H597","v":0}]
[{"$f":"'→これより右側　健診センター作業シート'!$D598","v":0},{"$f":"'→これより右側　健診センター作業シート'!$B598","v":0},{"$f":"'→これより右側　健診センター作業シート'!$I598","v":0},{"$f":"'→これより右側　健診センター作業シート'!$G598","v":0},{"$f":"'→これより右側　健診センター作業シート'!$H598","v":0}]
[{"$f":"'→これより右側　健診センター作業シート'!$D599","v":0},{"$f":"'→これより右側　健診センター作業シート'!$B599","v":0},{"$f":"'→これより右側　健診センター作業シート'!$I599","v":0},{"$f":"'→これより右側　健診センター作業シート'!$G599","v":0},{"$f":"'→これより右側　健診センター作業シート'!$H599","v":0}]
[{"$f":"'→これより右側　健診センター作業シート'!$D600","v":0},{"$f":"'→これより右側　健診センター作業シート'!$B600","v":0},{"$f":"'→これより右側　健診センター作業シート'!$I600","v":0},{"$f":"'→これより右側　健診センター作業シート'!$G600","v":0},{"$f":"'→これより右側　健診センター作業シート'!$H600","v":0}]
[{"$f":"'→これより右側　健診センター作業シート'!$D601","v":0},{"$f":"'→これより右側　健診センター作業シート'!$B601","v":0},{"$f":"'→これより右側　健診センター作業シート'!$I601","v":0},{"$f":"'→これより右側　健診センター作業シート'!$G601","v":0},{"$f":"'→これより右側　健診センター作業シート'!$H601","v":0}]
[{"$f":"'→これより右側　健診センター作業シート'!$D602","v":0},{"$f":"'→これより右側　健診センター作業シート'!$B602","v":0},{"$f":"'→これより右側　健診センター作業シート'!$I602","v":0},{"$f":"'→これより右側　健診センター作業シート'!$G602","v":0},{"$f":"'→これより右側　健診センター作業シート'!$H602","v":0}]
[{"$f":"'→これより右側　健診センター作業シート'!$D603","v":0},{"$f":"'→これより右側　健診センター作業シート'!$B603","v":0},{"$f":"'→これより右側　健診センター作業シート'!$I603","v":0},{"$f":"'→これより右側　健診センター作業シート'!$G603","v":0},{"$f":"'→これより右側　健診センター作業シート'!$H603","v":0}]
[{"$f":"'→これより右側　健診センター作業シート'!$D604","v":0},{"$f":"'→これより右側　健診センター作業シート'!$B604","v":0},{"$f":"'→これより右側　健診センター作業シート'!$I604","v":0},{"$f":"'→これより右側　健診センター作業シート'!$G604","v":0},{"$f":"'→これより右側　健診センター作業シート'!$H604","v":0}]
[{"$f":"'→これより右側　健診センター作業シート'!$D605","v":0},{"$f":"'→これより右側　健診センター作業シート'!$B605","v":0},{"$f":"'→これより右側　健診センター作業シート'!$I605","v":0},{"$f":"'→これより右側　健診センター作業シート'!$G605","v":0},{"$f":"'→これより右側　健診センター作業シート'!$H605","v":0}]
[{"$f":"'→これより右側　健診センター作業シート'!$D606","v":0},{"$f":"'→これより右側　健診センター作業シート'!$B606","v":0},{"$f":"'→これより右側　健診センター作業シート'!$I606","v":0},{"$f":"'→これより右側　健診センター作業シート'!$G606","v":0},{"$f":"'→これより右側　健診センター作業シート'!$H606","v":0}]
[{"$f":"'→これより右側　健診センター作業シート'!$D607","v":0},{"$f":"'→これより右側　健診センター作業シート'!$B607","v":0},{"$f":"'→これより右側　健診センター作業シート'!$I607","v":0},{"$f":"'→これより右側　健診センター作業シート'!$G607","v":0},{"$f":"'→これより右側　健診センター作業シート'!$H607","v":0}]
[{"$f":"'→これより右側　健診センター作業シート'!$D608","v":0},{"$f":"'→これより右側　健診センター作業シート'!$B608","v":0},{"$f":"'→これより右側　健診センター作業シート'!$I608","v":0},{"$f":"'→これより右側　健診センター作業シート'!$G608","v":0},{"$f":"'→これより右側　健診センター作業シート'!$H608","v":0}]
[{"$f":"'→これより右側　健診センター作業シート'!$D609","v":0},{"$f":"'→これより右側　健診センター作業シート'!$B609","v":0},{"$f":"'→これより右側　健診センター作業シート'!$I609","v":0},{"$f":"'→これより右側　健診センター作業シート'!$G609","v":0},{"$f":"'→これより右側　健診センター作業シート'!$H609","v":0}]
[{"$f":"'→これより右側　健診センター作業シート'!$D610","v":0},{"$f":"'→これより右側　健診センター作業シート'!$B610","v":0},{"$f":"'→これより右側　健診センター作業シート'!$I610","v":0},{"$f":"'→これより右側　健診センター作業シート'!$G610","v":0},{"$f":"'→これより右側　健診センター作業シート'!$H610","v":0}]
[{"$f":"'→これより右側　健診センター作業シート'!$D611","v":0},{"$f":"'→これより右側　健診センター作業シート'!$B611","v":0},{"$f":"'→これより右側　健診センター作業シート'!$I611","v":0},{"$f":"'→これより右側　健診センター作業シート'!$G611","v":0},{"$f":"'→これより右側　健診センター作業シート'!$H611","v":0}]
[{"$f":"'→これより右側　健診センター作業シート'!$D612","v":0},{"$f":"'→これより右側　健診センター作業シート'!$B612","v":0},{"$f":"'→これより右側　健診センター作業シート'!$I612","v":0},{"$f":"'→これより右側　健診センター作業シート'!$G612","v":0},{"$f":"'→これより右側　健診センター作業シート'!$H612","v":0}]
[{"$f":"'→これより右側　健診センター作業シート'!$D613","v":0},{"$f":"'→これより右側　健診センター作業シート'!$B613","v":0},{"$f":"'→これより右側　健診センター作業シート'!$I613","v":0},{"$f":"'→これより右側　健診センター作業シート'!$G613","v":0},{"$f":"'→これより右側　健診センター作業シート'!$H613","v":0}]
[{"$f":"'→これより右側　健診センター作業シート'!$D614","v":0},{"$f":"'→これより右側　健診センター作業シート'!$B614","v":0},{"$f":"'→これより右側　健診センター作業シート'!$I614","v":0},{"$f":"'→これより右側　健診センター作業シート'!$G614","v":0},{"$f":"'→これより右側　健診センター作業シート'!$H614","v":0}]
[{"$f":"'→これより右側　健診センター作業シート'!$D615","v":0},{"$f":"'→これより右側　健診センター作業シート'!$B615","v":0},{"$f":"'→これより右側　健診センター作業シート'!$I615","v":0},{"$f":"'→これより右側　健診センター作業シート'!$G615","v":0},{"$f":"'→これより右側　健診センター作業シート'!$H615","v":0}]
[{"$f":"'→これより右側　健診センター作業シート'!$D616","v":0},{"$f":"'→これより右側　健診センター作業シート'!$B616","v":0},{"$f":"'→これより右側　健診センター作業シート'!$I616","v":0},{"$f":"'→これより右側　健診センター作業シート'!$G616","v":0},{"$f":"'→これより右側　健診センター作業シート'!$H616","v":0}]
[{"$f":"'→これより右側　健診センター作業シート'!$D617","v":0},{"$f":"'→これより右側　健診センター作業シート'!$B617","v":0},{"$f":"'→これより右側　健診センター作業シート'!$I617","v":0},{"$f":"'→これより右側　健診センター作業シート'!$G617","v":0},{"$f":"'→これより右側　健診センター作業シート'!$H617","v":0}]
[{"$f":"'→これより右側　健診センター作業シート'!$D618","v":0},{"$f":"'→これより右側　健診センター作業シート'!$B618","v":0},{"$f":"'→これより右側　健診センター作業シート'!$I618","v":0},{"$f":"'→これより右側　健診センター作業シート'!$G618","v":0},{"$f":"'→これより右側　健診センター作業シート'!$H618","v":0}]
[{"$f":"'→これより右側　健診センター作業シート'!$D619","v":0},{"$f":"'→これより右側　健診センター作業シート'!$B619","v":0},{"$f":"'→これより右側　健診センター作業シート'!$I619","v":0},{"$f":"'→これより右側　健診センター作業シート'!$G619","v":0},{"$f":"'→これより右側　健診センター作業シート'!$H619","v":0}]
[{"$f":"'→これより右側　健診センター作業シート'!$D620","v":0},{"$f":"'→これより右側　健診センター作業シート'!$B620","v":0},{"$f":"'→これより右側　健診センター作業シート'!$I620","v":0},{"$f":"'→これより右側　健診センター作業シート'!$G620","v":0},{"$f":"'→これより右側　健診センター作業シート'!$H620","v":0}]
[{"$f":"'→これより右側　健診センター作業シート'!$D621","v":0},{"$f":"'→これより右側　健診センター作業シート'!$B621","v":0},{"$f":"'→これより右側　健診センター作業シート'!$I621","v":0},{"$f":"'→これより右側　健診センター作業シート'!$G621","v":0},{"$f":"'→これより右側　健診センター作業シート'!$H621","v":0}]
[{"$f":"'→これより右側　健診センター作業シート'!$D622","v":0},{"$f":"'→これより右側　健診センター作業シート'!$B622","v":0},{"$f":"'→これより右側　健診センター作業シート'!$I622","v":0},{"$f":"'→これより右側　健診センター作業シート'!$G622","v":0},{"$f":"'→これより右側　健診センター作業シート'!$H622","v":0}]
[{"$f":"'→これより右側　健診センター作業シート'!$D623","v":0},{"$f":"'→これより右側　健診センター作業シート'!$B623","v":0},{"$f":"'→これより右側　健診センター作業シート'!$I623","v":0},{"$f":"'→これより右側　健診センター作業シート'!$G623","v":0},{"$f":"'→これより右側　健診センター作業シート'!$H623","v":0}]
[{"$f":"'→これより右側　健診センター作業シート'!$D624","v":0},{"$f":"'→これより右側　健診センター作業シート'!$B624","v":0},{"$f":"'→これより右側　健診センター作業シート'!$I624","v":0},{"$f":"'→これより右側　健診センター作業シート'!$G624","v":0},{"$f":"'→これより右側　健診センター作業シート'!$H624","v":0}]
[{"$f":"'→これより右側　健診センター作業シート'!$D625","v":0},{"$f":"'→これより右側　健診センター作業シート'!$B625","v":0},{"$f":"'→これより右側　健診センター作業シート'!$I625","v":0},{"$f":"'→これより右側　健診センター作業シート'!$G625","v":0},{"$f":"'→これより右側　健診センター作業シート'!$H625","v":0}]
[{"$f":"'→これより右側　健診センター作業シート'!$D626","v":0},{"$f":"'→これより右側　健診センター作業シート'!$B626","v":0},{"$f":"'→これより右側　健診センター作業シート'!$I626","v":0},{"$f":"'→これより右側　健診センター作業シート'!$G626","v":0},{"$f":"'→これより右側　健診センター作業シート'!$H626","v":0}]
[{"$f":"'→これより右側　健診センター作業シート'!$D627","v":0},{"$f":"'→これより右側　健診センター作業シート'!$B627","v":0},{"$f":"'→これより右側　健診センター作業シート'!$I627","v":0},{"$f":"'→これより右側　健診センター作業シート'!$G627","v":0},{"$f":"'→これより右側　健診センター作業シート'!$H627","v":0}]
[{"$f":"'→これより右側　健診センター作業シート'!$D628","v":0},{"$f":"'→これより右側　健診センター作業シート'!$B628","v":0},{"$f":"'→これより右側　健診センター作業シート'!$I628","v":0},{"$f":"'→これより右側　健診センター作業シート'!$G628","v":0},{"$f":"'→これより右側　健診センター作業シート'!$H628","v":0}]
[{"$f":"'→これより右側　健診センター作業シート'!$D629","v":0},{"$f":"'→これより右側　健診センター作業シート'!$B629","v":0},{"$f":"'→これより右側　健診センター作業シート'!$I629","v":0},{"$f":"'→これより右側　健診センター作業シート'!$G629","v":0},{"$f":"'→これより右側　健診センター作業シート'!$H629","v":0}]
[{"$f":"'→これより右側　健診センター作業シート'!$D630","v":0},{"$f":"'→これより右側　健診センター作業シート'!$B630","v":0},{"$f":"'→これより右側　健診センター作業シート'!$I630","v":0},{"$f":"'→これより右側　健診センター作業シート'!$G630","v":0},{"$f":"'→これより右側　健診センター作業シート'!$H630","v":0}]
[{"$f":"'→これより右側　健診センター作業シート'!$D631","v":0},{"$f":"'→これより右側　健診センター作業シート'!$B631","v":0},{"$f":"'→これより右側　健診センター作業シート'!$I631","v":0},{"$f":"'→これより右側　健診センター作業シート'!$G631","v":0},{"$f":"'→これより右側　健診センター作業シート'!$H631","v":0}]
[{"$f":"'→これより右側　健診センター作業シート'!$D632","v":0},{"$f":"'→これより右側　健診センター作業シート'!$B632","v":0},{"$f":"'→これより右側　健診センター作業シート'!$I632","v":0},{"$f":"'→これより右側　健診センター作業シート'!$G632","v":0},{"$f":"'→これより右側　健診センター作業シート'!$H632","v":0}]
[{"$f":"'→これより右側　健診センター作業シート'!$D633","v":0},{"$f":"'→これより右側　健診センター作業シート'!$B633","v":0},{"$f":"'→これより右側　健診センター作業シート'!$I633","v":0},{"$f":"'→これより右側　健診センター作業シート'!$G633","v":0},{"$f":"'→これより右側　健診センター作業シート'!$H633","v":0}]
[{"$f":"'→これより右側　健診センター作業シート'!$D634","v":0},{"$f":"'→これより右側　健診センター作業シート'!$B634","v":0},{"$f":"'→これより右側　健診センター作業シート'!$I634","v":0},{"$f":"'→これより右側　健診センター作業シート'!$G634","v":0},{"$f":"'→これより右側　健診センター作業シート'!$H634","v":0}]
[{"$f":"'→これより右側　健診センター作業シート'!$D635","v":0},{"$f":"'→これより右側　健診センター作業シート'!$B635","v":0},{"$f":"'→これより右側　健診センター作業シート'!$I635","v":0},{"$f":"'→これより右側　健診センター作業シート'!$G635","v":0},{"$f":"'→これより右側　健診センター作業シート'!$H635","v":0}]
[{"$f":"'→これより右側　健診センター作業シート'!$D636","v":0},{"$f":"'→これより右側　健診センター作業シート'!$B636","v":0},{"$f":"'→これより右側　健診センター作業シート'!$I636","v":0},{"$f":"'→これより右側　健診センター作業シート'!$G636","v":0},{"$f":"'→これより右側　健診センター作業シート'!$H636","v":0}]
[{"$f":"'→これより右側　健診センター作業シート'!$D637","v":0},{"$f":"'→これより右側　健診センター作業シート'!$B637","v":0},{"$f":"'→これより右側　健診センター作業シート'!$I637","v":0},{"$f":"'→これより右側　健診センター作業シート'!$G637","v":0},{"$f":"'→これより右側　健診センター作業シート'!$H637","v":0}]
[{"$f":"'→これより右側　健診センター作業シート'!$D638","v":0},{"$f":"'→これより右側　健診センター作業シート'!$B638","v":0},{"$f":"'→これより右側　健診センター作業シート'!$I638","v":0},{"$f":"'→これより右側　健診センター作業シート'!$G638","v":0},{"$f":"'→これより右側　健診センター作業シート'!$H638","v":0}]
[{"$f":"'→これより右側　健診センター作業シート'!$D639","v":0},{"$f":"'→これより右側　健診センター作業シート'!$B639","v":0},{"$f":"'→これより右側　健診センター作業シート'!$I639","v":0},{"$f":"'→これより右側　健診センター作業シート'!$G639","v":0},{"$f":"'→これより右側　健診センター作業シート'!$H639","v":0}]
[{"$f":"'→これより右側　健診センター作業シート'!$D640","v":0},{"$f":"'→これより右側　健診センター作業シート'!$B640","v":0},{"$f":"'→これより右側　健診センター作業シート'!$I640","v":0},{"$f":"'→これより右側　健診センター作業シート'!$G640","v":0},{"$f":"'→これより右側　健診センター作業シート'!$H640","v":0}]
[{"$f":"'→これより右側　健診センター作業シート'!$D641","v":0},{"$f":"'→これより右側　健診センター作業シート'!$B641","v":0},{"$f":"'→これより右側　健診センター作業シート'!$I641","v":0},{"$f":"'→これより右側　健診センター作業シート'!$G641","v":0},{"$f":"'→これより右側　健診センター作業シート'!$H641","v":0}]
[{"$f":"'→これより右側　健診センター作業シート'!$D642","v":0},{"$f":"'→これより右側　健診センター作業シート'!$B642","v":0},{"$f":"'→これより右側　健診センター作業シート'!$I642","v":0},{"$f":"'→これより右側　健診センター作業シート'!$G642","v":0},{"$f":"'→これより右側　健診センター作業シート'!$H642","v":0}]
[{"$f":"'→これより右側　健診センター作業シート'!$D643","v":0},{"$f":"'→これより右側　健診センター作業シート'!$B643","v":0},{"$f":"'→これより右側　健診センター作業シート'!$I643","v":0},{"$f":"'→これより右側　健診センター作業シート'!$G643","v":0},{"$f":"'→これより右側　健診センター作業シート'!$H643","v":0}]
[{"$f":"'→これより右側　健診センター作業シート'!$D644","v":0},{"$f":"'→これより右側　健診センター作業シート'!$B644","v":0},{"$f":"'→これより右側　健診センター作業シート'!$I644","v":0},{"$f":"'→これより右側　健診センター作業シート'!$G644","v":0},{"$f":"'→これより右側　健診センター作業シート'!$H644","v":0}]
[{"$f":"'→これより右側　健診センター作業シート'!$D645","v":0},{"$f":"'→これより右側　健診センター作業シート'!$B645","v":0},{"$f":"'→これより右側　健診センター作業シート'!$I645","v":0},{"$f":"'→これより右側　健診センター作業シート'!$G645","v":0},{"$f":"'→これより右側　健診センター作業シート'!$H645","v":0}]
[{"$f":"'→これより右側　健診センター作業シート'!$D646","v":0},{"$f":"'→これより右側　健診センター作業シート'!$B646","v":0},{"$f":"'→これより右側　健診センター作業シート'!$I646","v":0},{"$f":"'→これより右側　健診センター作業シート'!$G646","v":0},{"$f":"'→これより右側　健診センター作業シート'!$H646","v":0}]
[{"$f":"'→これより右側　健診センター作業シート'!$D647","v":0},{"$f":"'→これより右側　健診センター作業シート'!$B647","v":0},{"$f":"'→これより右側　健診センター作業シート'!$I647","v":0},{"$f":"'→これより右側　健診センター作業シート'!$G647","v":0},{"$f":"'→これより右側　健診センター作業シート'!$H647","v":0}]
[{"$f":"'→これより右側　健診センター作業シート'!$D648","v":0},{"$f":"'→これより右側　健診センター作業シート'!$B648","v":0},{"$f":"'→これより右側　健診センター作業シート'!$I648","v":0},{"$f":"'→これより右側　健診センター作業シート'!$G648","v":0},{"$f":"'→これより右側　健診センター作業シート'!$H648","v":0}]
[{"$f":"'→これより右側　健診センター作業シート'!$D649","v":0},{"$f":"'→これより右側　健診センター作業シート'!$B649","v":0},{"$f":"'→これより右側　健診センター作業シート'!$I649","v":0},{"$f":"'→これより右側　健診センター作業シート'!$G649","v":0},{"$f":"'→これより右側　健診センター作業シート'!$H649","v":0}]
[{"$f":"'→これより右側　健診センター作業シート'!$D650","v":0},{"$f":"'→これより右側　健診センター作業シート'!$B650","v":0},{"$f":"'→これより右側　健診センター作業シート'!$I650","v":0},{"$f":"'→これより右側　健診センター作業シート'!$G650","v":0},{"$f":"'→これより右側　健診センター作業シート'!$H650","v":0}]
[{"$f":"'→これより右側　健診センター作業シート'!$D651","v":0},{"$f":"'→これより右側　健診センター作業シート'!$B651","v":0},{"$f":"'→これより右側　健診センター作業シート'!$I651","v":0},{"$f":"'→これより右側　健診センター作業シート'!$G651","v":0},{"$f":"'→これより右側　健診センター作業シート'!$H651","v":0}]
[{"$f":"'→これより右側　健診センター作業シート'!$D652","v":0},{"$f":"'→これより右側　健診センター作業シート'!$B652","v":0},{"$f":"'→これより右側　健診センター作業シート'!$I652","v":0},{"$f":"'→これより右側　健診センター作業シート'!$G652","v":0},{"$f":"'→これより右側　健診センター作業シート'!$H652","v":0}]
[{"$f":"'→これより右側　健診センター作業シート'!$D653","v":0},{"$f":"'→これより右側　健診センター作業シート'!$B653","v":0},{"$f":"'→これより右側　健診センター作業シート'!$I653","v":0},{"$f":"'→これより右側　健診センター作業シート'!$G653","v":0},{"$f":"'→これより右側　健診センター作業シート'!$H653","v":0}]
[{"$f":"'→これより右側　健診センター作業シート'!$D654","v":0},{"$f":"'→これより右側　健診センター作業シート'!$B654","v":0},{"$f":"'→これより右側　健診センター作業シート'!$I654","v":0},{"$f":"'→これより右側　健診センター作業シート'!$G654","v":0},{"$f":"'→これより右側　健診センター作業シート'!$H654","v":0}]
[{"$f":"'→これより右側　健診センター作業シート'!$D655","v":0},{"$f":"'→これより右側　健診センター作業シート'!$B655","v":0},{"$f":"'→これより右側　健診センター作業シート'!$I655","v":0},{"$f":"'→これより右側　健診センター作業シート'!$G655","v":0},{"$f":"'→これより右側　健診センター作業シート'!$H655","v":0}]
[{"$f":"'→これより右側　健診センター作業シート'!$D656","v":0},{"$f":"'→これより右側　健診センター作業シート'!$B656","v":0},{"$f":"'→これより右側　健診センター作業シート'!$I656","v":0},{"$f":"'→これより右側　健診センター作業シート'!$G656","v":0},{"$f":"'→これより右側　健診センター作業シート'!$H656","v":0}]
[{"$f":"'→これより右側　健診センター作業シート'!$D657","v":0},{"$f":"'→これより右側　健診センター作業シート'!$B657","v":0},{"$f":"'→これより右側　健診センター作業シート'!$I657","v":0},{"$f":"'→これより右側　健診センター作業シート'!$G657","v":0},{"$f":"'→これより右側　健診センター作業シート'!$H657","v":0}]
[{"$f":"'→これより右側　健診センター作業シート'!$D658","v":0},{"$f":"'→これより右側　健診センター作業シート'!$B658","v":0},{"$f":"'→これより右側　健診センター作業シート'!$I658","v":0},{"$f":"'→これより右側　健診センター作業シート'!$G658","v":0},{"$f":"'→これより右側　健診センター作業シート'!$H658","v":0}]
[{"$f":"'→これより右側　健診センター作業シート'!$D659","v":0},{"$f":"'→これより右側　健診センター作業シート'!$B659","v":0},{"$f":"'→これより右側　健診センター作業シート'!$I659","v":0},{"$f":"'→これより右側　健診センター作業シート'!$G659","v":0},{"$f":"'→これより右側　健診センター作業シート'!$H659","v":0}]
[{"$f":"'→これより右側　健診センター作業シート'!$D660","v":0},{"$f":"'→これより右側　健診センター作業シート'!$B660","v":0},{"$f":"'→これより右側　健診センター作業シート'!$I660","v":0},{"$f":"'→これより右側　健診センター作業シート'!$G660","v":0},{"$f":"'→これより右側　健診センター作業シート'!$H660","v":0}]
[{"$f":"'→これより右側　健診センター作業シート'!$D661","v":0},{"$f":"'→これより右側　健診センター作業シート'!$B661","v":0},{"$f":"'→これより右側　健診センター作業シート'!$I661","v":0},{"$f":"'→これより右側　健診センター作業シート'!$G661","v":0},{"$f":"'→これより右側　健診センター作業シート'!$H661","v":0}]
[{"$f":"'→これより右側　健診センター作業シート'!$D662","v":0},{"$f":"'→これより右側　健診センター作業シート'!$B662","v":0},{"$f":"'→これより右側　健診センター作業シート'!$I662","v":0},{"$f":"'→これより右側　健診センター作業シート'!$G662","v":0},{"$f":"'→これより右側　健診センター作業シート'!$H662","v":0}]
[{"$f":"'→これより右側　健診センター作業シート'!$D663","v":0},{"$f":"'→これより右側　健診センター作業シート'!$B663","v":0},{"$f":"'→これより右側　健診センター作業シート'!$I663","v":0},{"$f":"'→これより右側　健診センター作業シート'!$G663","v":0},{"$f":"'→これより右側　健診センター作業シート'!$H663","v":0}]
[{"$f":"'→これより右側　健診センター作業シート'!$D664","v":0},{"$f":"'→これより右側　健診センター作業シート'!$B664","v":0},{"$f":"'→これより右側　健診センター作業シート'!$I664","v":0},{"$f":"'→これより右側　健診センター作業シート'!$G664","v":0},{"$f":"'→これより右側　健診センター作業シート'!$H664","v":0}]
[{"$f":"'→これより右側　健診センター作業シート'!$D665","v":0},{"$f":"'→これより右側　健診センター作業シート'!$B665","v":0},{"$f":"'→これより右側　健診センター作業シート'!$I665","v":0},{"$f":"'→これより右側　健診センター作業シート'!$G665","v":0},{"$f":"'→これより右側　健診センター作業シート'!$H665","v":0}]
[{"$f":"'→これより右側　健診センター作業シート'!$D666","v":0},{"$f":"'→これより右側　健診センター作業シート'!$B666","v":0},{"$f":"'→これより右側　健診センター作業シート'!$I666","v":0},{"$f":"'→これより右側　健診センター作業シート'!$G666","v":0},{"$f":"'→これより右側　健診センター作業シート'!$H666","v":0}]
[{"$f":"'→これより右側　健診センター作業シート'!$D667","v":0},{"$f":"'→これより右側　健診センター作業シート'!$B667","v":0},{"$f":"'→これより右側　健診センター作業シート'!$I667","v":0},{"$f":"'→これより右側　健診センター作業シート'!$G667","v":0},{"$f":"'→これより右側　健診センター作業シート'!$H667","v":0}]
[{"$f":"'→これより右側　健診センター作業シート'!$D668","v":0},{"$f":"'→これより右側　健診センター作業シート'!$B668","v":0},{"$f":"'→これより右側　健診センター作業シート'!$I668","v":0},{"$f":"'→これより右側　健診センター作業シート'!$G668","v":0},{"$f":"'→これより右側　健診センター作業シート'!$H668","v":0}]
[{"$f":"'→これより右側　健診センター作業シート'!$D669","v":0},{"$f":"'→これより右側　健診センター作業シート'!$B669","v":0},{"$f":"'→これより右側　健診センター作業シート'!$I669","v":0},{"$f":"'→これより右側　健診センター作業シート'!$G669","v":0},{"$f":"'→これより右側　健診センター作業シート'!$H669","v":0}]
[{"$f":"'→これより右側　健診センター作業シート'!$D670","v":0},{"$f":"'→これより右側　健診センター作業シート'!$B670","v":0},{"$f":"'→これより右側　健診センター作業シート'!$I670","v":0},{"$f":"'→これより右側　健診センター作業シート'!$G670","v":0},{"$f":"'→これより右側　健診センター作業シート'!$H670","v":0}]
[{"$f":"'→これより右側　健診センター作業シート'!$D671","v":0},{"$f":"'→これより右側　健診センター作業シート'!$B671","v":0},{"$f":"'→これより右側　健診センター作業シート'!$I671","v":0},{"$f":"'→これより右側　健診センター作業シート'!$G671","v":0},{"$f":"'→これより右側　健診センター作業シート'!$H671","v":0}]
[{"$f":"'→これより右側　健診センター作業シート'!$D672","v":0},{"$f":"'→これより右側　健診センター作業シート'!$B672","v":0},{"$f":"'→これより右側　健診センター作業シート'!$I672","v":0},{"$f":"'→これより右側　健診センター作業シート'!$G672","v":0},{"$f":"'→これより右側　健診センター作業シート'!$H672","v":0}]
[{"$f":"'→これより右側　健診センター作業シート'!$D673","v":0},{"$f":"'→これより右側　健診センター作業シート'!$B673","v":0},{"$f":"'→これより右側　健診センター作業シート'!$I673","v":0},{"$f":"'→これより右側　健診センター作業シート'!$G673","v":0},{"$f":"'→これより右側　健診センター作業シート'!$H673","v":0}]
[{"$f":"'→これより右側　健診センター作業シート'!$D674","v":0},{"$f":"'→これより右側　健診センター作業シート'!$B674","v":0},{"$f":"'→これより右側　健診センター作業シート'!$I674","v":0},{"$f":"'→これより右側　健診センター作業シート'!$G674","v":0},{"$f":"'→これより右側　健診センター作業シート'!$H674","v":0}]
[{"$f":"'→これより右側　健診センター作業シート'!$D675","v":0},{"$f":"'→これより右側　健診センター作業シート'!$B675","v":0},{"$f":"'→これより右側　健診センター作業シート'!$I675","v":0},{"$f":"'→これより右側　健診センター作業シート'!$G675","v":0},{"$f":"'→これより右側　健診センター作業シート'!$H675","v":0}]
[{"$f":"'→これより右側　健診センター作業シート'!$D676","v":0},{"$f":"'→これより右側　健診センター作業シート'!$B676","v":0},{"$f":"'→これより右側　健診センター作業シート'!$I676","v":0},{"$f":"'→これより右側　健診センター作業シート'!$G676","v":0},{"$f":"'→これより右側　健診センター作業シート'!$H676","v":0}]
[{"$f":"'→これより右側　健診センター作業シート'!$D677","v":0},{"$f":"'→これより右側　健診センター作業シート'!$B677","v":0},{"$f":"'→これより右側　健診センター作業シート'!$I677","v":0},{"$f":"'→これより右側　健診センター作業シート'!$G677","v":0},{"$f":"'→これより右側　健診センター作業シート'!$H677","v":0}]
[{"$f":"'→これより右側　健診センター作業シート'!$D678","v":0},{"$f":"'→これより右側　健診センター作業シート'!$B678","v":0},{"$f":"'→これより右側　健診センター作業シート'!$I678","v":0},{"$f":"'→これより右側　健診センター作業シート'!$G678","v":0},{"$f":"'→これより右側　健診センター作業シート'!$H678","v":0}]
[{"$f":"'→これより右側　健診センター作業シート'!$D679","v":0},{"$f":"'→これより右側　健診センター作業シート'!$B679","v":0},{"$f":"'→これより右側　健診センター作業シート'!$I679","v":0},{"$f":"'→これより右側　健診センター作業シート'!$G679","v":0},{"$f":"'→これより右側　健診センター作業シート'!$H679","v":0}]
[{"$f":"'→これより右側　健診センター作業シート'!$D680","v":0},{"$f":"'→これより右側　健診センター作業シート'!$B680","v":0},{"$f":"'→これより右側　健診センター作業シート'!$I680","v":0},{"$f":"'→これより右側　健診センター作業シート'!$G680","v":0},{"$f":"'→これより右側　健診センター作業シート'!$H680","v":0}]
[{"$f":"'→これより右側　健診センター作業シート'!$D681","v":0},{"$f":"'→これより右側　健診センター作業シート'!$B681","v":0},{"$f":"'→これより右側　健診センター作業シート'!$I681","v":0},{"$f":"'→これより右側　健診センター作業シート'!$G681","v":0},{"$f":"'→これより右側　健診センター作業シート'!$H681","v":0}]
[{"$f":"'→これより右側　健診センター作業シート'!$D682","v":0},{"$f":"'→これより右側　健診センター作業シート'!$B682","v":0},{"$f":"'→これより右側　健診センター作業シート'!$I682","v":0},{"$f":"'→これより右側　健診センター作業シート'!$G682","v":0},{"$f":"'→これより右側　健診センター作業シート'!$H682","v":0}]
[{"$f":"'→これより右側　健診センター作業シート'!$D683","v":0},{"$f":"'→これより右側　健診センター作業シート'!$B683","v":0},{"$f":"'→これより右側　健診センター作業シート'!$I683","v":0},{"$f":"'→これより右側　健診センター作業シート'!$G683","v":0},{"$f":"'→これより右側　健診センター作業シート'!$H683","v":0}]
[{"$f":"'→これより右側　健診センター作業シート'!$D684","v":0},{"$f":"'→これより右側　健診センター作業シート'!$B684","v":0},{"$f":"'→これより右側　健診センター作業シート'!$I684","v":0},{"$f":"'→これより右側　健診センター作業シート'!$G684","v":0},{"$f":"'→これより右側　健診センター作業シート'!$H684","v":0}]
[{"$f":"'→これより右側　健診センター作業シート'!$D685","v":0},{"$f":"'→これより右側　健診センター作業シート'!$B685","v":0},{"$f":"'→これより右側　健診センター作業シート'!$I685","v":0},{"$f":"'→これより右側　健診センター作業シート'!$G685","v":0},{"$f":"'→これより右側　健診センター作業シート'!$H685","v":0}]
[{"$f":"'→これより右側　健診センター作業シート'!$D686","v":0},{"$f":"'→これより右側　健診センター作業シート'!$B686","v":0},{"$f":"'→これより右側　健診センター作業シート'!$I686","v":0},{"$f":"'→これより右側　健診センター作業シート'!$G686","v":0},{"$f":"'→これより右側　健診センター作業シート'!$H686","v":0}]
[{"$f":"'→これより右側　健診センター作業シート'!$D687","v":0},{"$f":"'→これより右側　健診センター作業シート'!$B687","v":0},{"$f":"'→これより右側　健診センター作業シート'!$I687","v":0},{"$f":"'→これより右側　健診センター作業シート'!$G687","v":0},{"$f":"'→これより右側　健診センター作業シート'!$H687","v":0}]
[{"$f":"'→これより右側　健診センター作業シート'!$D688","v":0},{"$f":"'→これより右側　健診センター作業シート'!$B688","v":0},{"$f":"'→これより右側　健診センター作業シート'!$I688","v":0},{"$f":"'→これより右側　健診センター作業シート'!$G688","v":0},{"$f":"'→これより右側　健診センター作業シート'!$H688","v":0}]
[{"$f":"'→これより右側　健診センター作業シート'!$D689","v":0},{"$f":"'→これより右側　健診センター作業シート'!$B689","v":0},{"$f":"'→これより右側　健診センター作業シート'!$I689","v":0},{"$f":"'→これより右側　健診センター作業シート'!$G689","v":0},{"$f":"'→これより右側　健診センター作業シート'!$H689","v":0}]
[{"$f":"'→これより右側　健診センター作業シート'!$D690","v":0},{"$f":"'→これより右側　健診センター作業シート'!$B690","v":0},{"$f":"'→これより右側　健診センター作業シート'!$I690","v":0},{"$f":"'→これより右側　健診センター作業シート'!$G690","v":0},{"$f":"'→これより右側　健診センター作業シート'!$H690","v":0}]
[{"$f":"'→これより右側　健診センター作業シート'!$D691","v":0},{"$f":"'→これより右側　健診センター作業シート'!$B691","v":0},{"$f":"'→これより右側　健診センター作業シート'!$I691","v":0},{"$f":"'→これより右側　健診センター作業シート'!$G691","v":0},{"$f":"'→これより右側　健診センター作業シート'!$H691","v":0}]
[{"$f":"'→これより右側　健診センター作業シート'!$D692","v":0},{"$f":"'→これより右側　健診センター作業シート'!$B692","v":0},{"$f":"'→これより右側　健診センター作業シート'!$I692","v":0},{"$f":"'→これより右側　健診センター作業シート'!$G692","v":0},{"$f":"'→これより右側　健診センター作業シート'!$H692","v":0}]
[{"$f":"'→これより右側　健診センター作業シート'!$D693","v":0},{"$f":"'→これより右側　健診センター作業シート'!$B693","v":0},{"$f":"'→これより右側　健診センター作業シート'!$I693","v":0},{"$f":"'→これより右側　健診センター作業シート'!$G693","v":0},{"$f":"'→これより右側　健診センター作業シート'!$H693","v":0}]
[{"$f":"'→これより右側　健診センター作業シート'!$D694","v":0},{"$f":"'→これより右側　健診センター作業シート'!$B694","v":0},{"$f":"'→これより右側　健診センター作業シート'!$I694","v":0},{"$f":"'→これより右側　健診センター作業シート'!$G694","v":0},{"$f":"'→これより右側　健診センター作業シート'!$H694","v":0}]
[{"$f":"'→これより右側　健診センター作業シート'!$D695","v":0},{"$f":"'→これより右側　健診センター作業シート'!$B695","v":0},{"$f":"'→これより右側　健診センター作業シート'!$I695","v":0},{"$f":"'→これより右側　健診センター作業シート'!$G695","v":0},{"$f":"'→これより右側　健診センター作業シート'!$H695","v":0}]
[{"$f":"'→これより右側　健診センター作業シート'!$D696","v":0},{"$f":"'→これより右側　健診センター作業シート'!$B696","v":0},{"$f":"'→これより右側　健診センター作業シート'!$I696","v":0},{"$f":"'→これより右側　健診センター作業シート'!$G696","v":0},{"$f":"'→これより右側　健診センター作業シート'!$H696","v":0}]
[{"$f":"'→これより右側　健診センター作業シート'!$D697","v":0},{"$f":"'→これより右側　健診センター作業シート'!$B697","v":0},{"$f":"'→これより右側　健診センター作業シート'!$I697","v":0},{"$f":"'→これより右側　健診センター作業シート'!$G697","v":0},{"$f":"'→これより右側　健診センター作業シート'!$H697","v":0}]
[{"$f":"'→これより右側　健診センター作業シート'!$D698","v":0},{"$f":"'→これより右側　健診センター作業シート'!$B698","v":0},{"$f":"'→これより右側　健診センター作業シート'!$I698","v":0},{"$f":"'→これより右側　健診センター作業シート'!$G698","v":0},{"$f":"'→これより右側　健診センター作業シート'!$H698","v":0}]
[{"$f":"'→これより右側　健診センター作業シート'!$D699","v":0},{"$f":"'→これより右側　健診センター作業シート'!$B699","v":0},{"$f":"'→これより右側　健診センター作業シート'!$I699","v":0},{"$f":"'→これより右側　健診センター作業シート'!$G699","v":0},{"$f":"'→これより右側　健診センター作業シート'!$H699","v":0}]
[{"$f":"'→これより右側　健診センター作業シート'!$D700","v":0},{"$f":"'→これより右側　健診センター作業シート'!$B700","v":0},{"$f":"'→これより右側　健診センター作業シート'!$I700","v":0},{"$f":"'→これより右側　健診センター作業シート'!$G700","v":0},{"$f":"'→これより右側　健診センター作業シート'!$H700","v":0}]
[{"$f":"'→これより右側　健診センター作業シート'!$D701","v":0},{"$f":"'→これより右側　健診センター作業シート'!$B701","v":0},{"$f":"'→これより右側　健診センター作業シート'!$I701","v":0},{"$f":"'→これより右側　健診センター作業シート'!$G701","v":0},{"$f":"'→これより右側　健診センター作業シート'!$H701","v":0}]
[{"$f":"'→これより右側　健診センター作業シート'!$D702","v":0},{"$f":"'→これより右側　健診センター作業シート'!$B702","v":0},{"$f":"'→これより右側　健診センター作業シート'!$I702","v":0},{"$f":"'→これより右側　健診センター作業シート'!$G702","v":0},{"$f":"'→これより右側　健診センター作業シート'!$H702","v":0}]
[{"$f":"'→これより右側　健診センター作業シート'!$D703","v":0},{"$f":"'→これより右側　健診センター作業シート'!$B703","v":0},{"$f":"'→これより右側　健診センター作業シート'!$I703","v":0},{"$f":"'→これより右側　健診センター作業シート'!$G703","v":0},{"$f":"'→これより右側　健診センター作業シート'!$H703","v":0}]
[{"$f":"'→これより右側　健診センター作業シート'!$D704","v":0},{"$f":"'→これより右側　健診センター作業シート'!$B704","v":0},{"$f":"'→これより右側　健診センター作業シート'!$I704","v":0},{"$f":"'→これより右側　健診センター作業シート'!$G704","v":0},{"$f":"'→これより右側　健診センター作業シート'!$H704","v":0}]
[{"$f":"'→これより右側　健診センター作業シート'!$D705","v":0},{"$f":"'→これより右側　健診センター作業シート'!$B705","v":0},{"$f":"'→これより右側　健診センター作業シート'!$I705","v":0},{"$f":"'→これより右側　健診センター作業シート'!$G705","v":0},{"$f":"'→これより右側　健診センター作業シート'!$H705","v":0}]
[{"$f":"'→これより右側　健診センター作業シート'!$D706","v":0},{"$f":"'→これより右側　健診センター作業シート'!$B706","v":0},{"$f":"'→これより右側　健診センター作業シート'!$I706","v":0},{"$f":"'→これより右側　健診センター作業シート'!$G706","v":0},{"$f":"'→これより右側　健診センター作業シート'!$H706","v":0}]
[{"$f":"'→これより右側　健診センター作業シート'!$D707","v":0},{"$f":"'→これより右側　健診センター作業シート'!$B707","v":0},{"$f":"'→これより右側　健診センター作業シート'!$I707","v":0},{"$f":"'→これより右側　健診センター作業シート'!$G707","v":0},{"$f":"'→これより右側　健診センター作業シート'!$H707","v":0}]
[{"$f":"'→これより右側　健診センター作業シート'!$D708","v":0},{"$f":"'→これより右側　健診センター作業シート'!$B708","v":0},{"$f":"'→これより右側　健診センター作業シート'!$I708","v":0},{"$f":"'→これより右側　健診センター作業シート'!$G708","v":0},{"$f":"'→これより右側　健診センター作業シート'!$H708","v":0}]
[{"$f":"'→これより右側　健診センター作業シート'!$D709","v":0},{"$f":"'→これより右側　健診センター作業シート'!$B709","v":0},{"$f":"'→これより右側　健診センター作業シート'!$I709","v":0},{"$f":"'→これより右側　健診センター作業シート'!$G709","v":0},{"$f":"'→これより右側　健診センター作業シート'!$H709","v":0}]
[{"$f":"'→これより右側　健診センター作業シート'!$D710","v":0},{"$f":"'→これより右側　健診センター作業シート'!$B710","v":0},{"$f":"'→これより右側　健診センター作業シート'!$I710","v":0},{"$f":"'→これより右側　健診センター作業シート'!$G710","v":0},{"$f":"'→これより右側　健診センター作業シート'!$H710","v":0}]
[{"$f":"'→これより右側　健診センター作業シート'!$D711","v":0},{"$f":"'→これより右側　健診センター作業シート'!$B711","v":0},{"$f":"'→これより右側　健診センター作業シート'!$I711","v":0},{"$f":"'→これより右側　健診センター作業シート'!$G711","v":0},{"$f":"'→これより右側　健診センター作業シート'!$H711","v":0}]
[{"$f":"'→これより右側　健診センター作業シート'!$D712","v":0},{"$f":"'→これより右側　健診センター作業シート'!$B712","v":0},{"$f":"'→これより右側　健診センター作業シート'!$I712","v":0},{"$f":"'→これより右側　健診センター作業シート'!$G712","v":0},{"$f":"'→これより右側　健診センター作業シート'!$H712","v":0}]
[{"$f":"'→これより右側　健診センター作業シート'!$D713","v":0},{"$f":"'→これより右側　健診センター作業シート'!$B713","v":0},{"$f":"'→これより右側　健診センター作業シート'!$I713","v":0},{"$f":"'→これより右側　健診センター作業シート'!$G713","v":0},{"$f":"'→これより右側　健診センター作業シート'!$H713","v":0}]
[{"$f":"'→これより右側　健診センター作業シート'!$D714","v":0},{"$f":"'→これより右側　健診センター作業シート'!$B714","v":0},{"$f":"'→これより右側　健診センター作業シート'!$I714","v":0},{"$f":"'→これより右側　健診センター作業シート'!$G714","v":0},{"$f":"'→これより右側　健診センター作業シート'!$H714","v":0}]
[{"$f":"'→これより右側　健診センター作業シート'!$D715","v":0},{"$f":"'→これより右側　健診センター作業シート'!$B715","v":0},{"$f":"'→これより右側　健診センター作業シート'!$I715","v":0},{"$f":"'→これより右側　健診センター作業シート'!$G715","v":0},{"$f":"'→これより右側　健診センター作業シート'!$H715","v":0}]
[{"$f":"'→これより右側　健診センター作業シート'!$D716","v":0},{"$f":"'→これより右側　健診センター作業シート'!$B716","v":0},{"$f":"'→これより右側　健診センター作業シート'!$I716","v":0},{"$f":"'→これより右側　健診センター作業シート'!$G716","v":0},{"$f":"'→これより右側　健診センター作業シート'!$H716","v":0}]
[{"$f":"'→これより右側　健診センター作業シート'!$D717","v":0},{"$f":"'→これより右側　健診センター作業シート'!$B717","v":0},{"$f":"'→これより右側　健診センター作業シート'!$I717","v":0},{"$f":"'→これより右側　健診センター作業シート'!$G717","v":0},{"$f":"'→これより右側　健診センター作業シート'!$H717","v":0}]
[{"$f":"'→これより右側　健診センター作業シート'!$D718","v":0},{"$f":"'→これより右側　健診センター作業シート'!$B718","v":0},{"$f":"'→これより右側　健診センター作業シート'!$I718","v":0},{"$f":"'→これより右側　健診センター作業シート'!$G718","v":0},{"$f":"'→これより右側　健診センター作業シート'!$H718","v":0}]
[{"$f":"'→これより右側　健診センター作業シート'!$D719","v":0},{"$f":"'→これより右側　健診センター作業シート'!$B719","v":0},{"$f":"'→これより右側　健診センター作業シート'!$I719","v":0},{"$f":"'→これより右側　健診センター作業シート'!$G719","v":0},{"$f":"'→これより右側　健診センター作業シート'!$H719","v":0}]
[{"$f":"'→これより右側　健診センター作業シート'!$D720","v":0},{"$f":"'→これより右側　健診センター作業シート'!$B720","v":0},{"$f":"'→これより右側　健診センター作業シート'!$I720","v":0},{"$f":"'→これより右側　健診センター作業シート'!$G720","v":0},{"$f":"'→これより右側　健診センター作業シート'!$H720","v":0}]
[{"$f":"'→これより右側　健診センター作業シート'!$D721","v":0},{"$f":"'→これより右側　健診センター作業シート'!$B721","v":0},{"$f":"'→これより右側　健診センター作業シート'!$I721","v":0},{"$f":"'→これより右側　健診センター作業シート'!$G721","v":0},{"$f":"'→これより右側　健診センター作業シート'!$H721","v":0}]
[{"$f":"'→これより右側　健診センター作業シート'!$D722","v":0},{"$f":"'→これより右側　健診センター作業シート'!$B722","v":0},{"$f":"'→これより右側　健診センター作業シート'!$I722","v":0},{"$f":"'→これより右側　健診センター作業シート'!$G722","v":0},{"$f":"'→これより右側　健診センター作業シート'!$H722","v":0}]
[{"$f":"'→これより右側　健診センター作業シート'!$D723","v":0},{"$f":"'→これより右側　健診センター作業シート'!$B723","v":0},{"$f":"'→これより右側　健診センター作業シート'!$I723","v":0},{"$f":"'→これより右側　健診センター作業シート'!$G723","v":0},{"$f":"'→これより右側　健診センター作業シート'!$H723","v":0}]
[{"$f":"'→これより右側　健診センター作業シート'!$D724","v":0},{"$f":"'→これより右側　健診センター作業シート'!$B724","v":0},{"$f":"'→これより右側　健診センター作業シート'!$I724","v":0},{"$f":"'→これより右側　健診センター作業シート'!$G724","v":0},{"$f":"'→これより右側　健診センター作業シート'!$H724","v":0}]
[{"$f":"'→これより右側　健診センター作業シート'!$D725","v":0},{"$f":"'→これより右側　健診センター作業シート'!$B725","v":0},{"$f":"'→これより右側　健診センター作業シート'!$I725","v":0},{"$f":"'→これより右側　健診センター作業シート'!$G725","v":0},{"$f":"'→これより右側　健診センター作業シート'!$H725","v":0}]
[{"$f":"'→これより右側　健診センター作業シート'!$D726","v":0},{"$f":"'→これより右側　健診センター作業シート'!$B726","v":0},{"$f":"'→これより右側　健診センター作業シート'!$I726","v":0},{"$f":"'→これより右側　健診センター作業シート'!$G726","v":0},{"$f":"'→これより右側　健診センター作業シート'!$H726","v":0}]
[{"$f":"'→これより右側　健診センター作業シート'!$D727","v":0},{"$f":"'→これより右側　健診センター作業シート'!$B727","v":0},{"$f":"'→これより右側　健診センター作業シート'!$I727","v":0},{"$f":"'→これより右側　健診センター作業シート'!$G727","v":0},{"$f":"'→これより右側　健診センター作業シート'!$H727","v":0}]
[{"$f":"'→これより右側　健診センター作業シート'!$D728","v":0},{"$f":"'→これより右側　健診センター作業シート'!$B728","v":0},{"$f":"'→これより右側　健診センター作業シート'!$I728","v":0},{"$f":"'→これより右側　健診センター作業シート'!$G728","v":0},{"$f":"'→これより右側　健診センター作業シート'!$H728","v":0}]
[{"$f":"'→これより右側　健診センター作業シート'!$D729","v":0},{"$f":"'→これより右側　健診センター作業シート'!$B729","v":0},{"$f":"'→これより右側　健診センター作業シート'!$I729","v":0},{"$f":"'→これより右側　健診センター作業シート'!$G729","v":0},{"$f":"'→これより右側　健診センター作業シート'!$H729","v":0}]
[{"$f":"'→これより右側　健診センター作業シート'!$D730","v":0},{"$f":"'→これより右側　健診センター作業シート'!$B730","v":0},{"$f":"'→これより右側　健診センター作業シート'!$I730","v":0},{"$f":"'→これより右側　健診センター作業シート'!$G730","v":0},{"$f":"'→これより右側　健診センター作業シート'!$H730","v":0}]
[{"$f":"'→これより右側　健診センター作業シート'!$D731","v":0},{"$f":"'→これより右側　健診センター作業シート'!$B731","v":0},{"$f":"'→これより右側　健診センター作業シート'!$I731","v":0},{"$f":"'→これより右側　健診センター作業シート'!$G731","v":0},{"$f":"'→これより右側　健診センター作業シート'!$H731","v":0}]
[{"$f":"'→これより右側　健診センター作業シート'!$D732","v":0},{"$f":"'→これより右側　健診センター作業シート'!$B732","v":0},{"$f":"'→これより右側　健診センター作業シート'!$I732","v":0},{"$f":"'→これより右側　健診センター作業シート'!$G732","v":0},{"$f":"'→これより右側　健診センター作業シート'!$H732","v":0}]
[{"$f":"'→これより右側　健診センター作業シート'!$D733","v":0},{"$f":"'→これより右側　健診センター作業シート'!$B733","v":0},{"$f":"'→これより右側　健診センター作業シート'!$I733","v":0},{"$f":"'→これより右側　健診センター作業シート'!$G733","v":0},{"$f":"'→これより右側　健診センター作業シート'!$H733","v":0}]
[{"$f":"'→これより右側　健診センター作業シート'!$D734","v":0},{"$f":"'→これより右側　健診センター作業シート'!$B734","v":0},{"$f":"'→これより右側　健診センター作業シート'!$I734","v":0},{"$f":"'→これより右側　健診センター作業シート'!$G734","v":0},{"$f":"'→これより右側　健診センター作業シート'!$H734","v":0}]
[{"$f":"'→これより右側　健診センター作業シート'!$D735","v":0},{"$f":"'→これより右側　健診センター作業シート'!$B735","v":0},{"$f":"'→これより右側　健診センター作業シート'!$I735","v":0},{"$f":"'→これより右側　健診センター作業シート'!$G735","v":0},{"$f":"'→これより右側　健診センター作業シート'!$H735","v":0}]
[{"$f":"'→これより右側　健診センター作業シート'!$D736","v":0},{"$f":"'→これより右側　健診センター作業シート'!$B736","v":0},{"$f":"'→これより右側　健診センター作業シート'!$I736","v":0},{"$f":"'→これより右側　健診センター作業シート'!$G736","v":0},{"$f":"'→これより右側　健診センター作業シート'!$H736","v":0}]
[{"$f":"'→これより右側　健診センター作業シート'!$D737","v":0},{"$f":"'→これより右側　健診センター作業シート'!$B737","v":0},{"$f":"'→これより右側　健診センター作業シート'!$I737","v":0},{"$f":"'→これより右側　健診センター作業シート'!$G737","v":0},{"$f":"'→これより右側　健診センター作業シート'!$H737","v":0}]
[{"$f":"'→これより右側　健診センター作業シート'!$D738","v":0},{"$f":"'→これより右側　健診センター作業シート'!$B738","v":0},{"$f":"'→これより右側　健診センター作業シート'!$I738","v":0},{"$f":"'→これより右側　健診センター作業シート'!$G738","v":0},{"$f":"'→これより右側　健診センター作業シート'!$H738","v":0}]
[{"$f":"'→これより右側　健診センター作業シート'!$D739","v":0},{"$f":"'→これより右側　健診センター作業シート'!$B739","v":0},{"$f":"'→これより右側　健診センター作業シート'!$I739","v":0},{"$f":"'→これより右側　健診センター作業シート'!$G739","v":0},{"$f":"'→これより右側　健診センター作業シート'!$H739","v":0}]
[{"$f":"'→これより右側　健診センター作業シート'!$D740","v":0},{"$f":"'→これより右側　健診センター作業シート'!$B740","v":0},{"$f":"'→これより右側　健診センター作業シート'!$I740","v":0},{"$f":"'→これより右側　健診センター作業シート'!$G740","v":0},{"$f":"'→これより右側　健診センター作業シート'!$H740","v":0}]
[{"$f":"'→これより右側　健診センター作業シート'!$D741","v":0},{"$f":"'→これより右側　健診センター作業シート'!$B741","v":0},{"$f":"'→これより右側　健診センター作業シート'!$I741","v":0},{"$f":"'→これより右側　健診センター作業シート'!$G741","v":0},{"$f":"'→これより右側　健診センター作業シート'!$H741","v":0}]
[{"$f":"'→これより右側　健診センター作業シート'!$D742","v":0},{"$f":"'→これより右側　健診センター作業シート'!$B742","v":0},{"$f":"'→これより右側　健診センター作業シート'!$I742","v":0},{"$f":"'→これより右側　健診センター作業シート'!$G742","v":0},{"$f":"'→これより右側　健診センター作業シート'!$H742","v":0}]
[{"$f":"'→これより右側　健診センター作業シート'!$D743","v":0},{"$f":"'→これより右側　健診センター作業シート'!$B743","v":0},{"$f":"'→これより右側　健診センター作業シート'!$I743","v":0},{"$f":"'→これより右側　健診センター作業シート'!$G743","v":0},{"$f":"'→これより右側　健診センター作業シート'!$H743","v":0}]
[{"$f":"'→これより右側　健診センター作業シート'!$D744","v":0},{"$f":"'→これより右側　健診センター作業シート'!$B744","v":0},{"$f":"'→これより右側　健診センター作業シート'!$I744","v":0},{"$f":"'→これより右側　健診センター作業シート'!$G744","v":0},{"$f":"'→これより右側　健診センター作業シート'!$H744","v":0}]
[{"$f":"'→これより右側　健診センター作業シート'!$D745","v":0},{"$f":"'→これより右側　健診センター作業シート'!$B745","v":0},{"$f":"'→これより右側　健診センター作業シート'!$I745","v":0},{"$f":"'→これより右側　健診センター作業シート'!$G745","v":0},{"$f":"'→これより右側　健診センター作業シート'!$H745","v":0}]
[{"$f":"'→これより右側　健診センター作業シート'!$D746","v":0},{"$f":"'→これより右側　健診センター作業シート'!$B746","v":0},{"$f":"'→これより右側　健診センター作業シート'!$I746","v":0},{"$f":"'→これより右側　健診センター作業シート'!$G746","v":0},{"$f":"'→これより右側　健診センター作業シート'!$H746","v":0}]
[{"$f":"'→これより右側　健診センター作業シート'!$D747","v":0},{"$f":"'→これより右側　健診センター作業シート'!$B747","v":0},{"$f":"'→これより右側　健診センター作業シート'!$I747","v":0},{"$f":"'→これより右側　健診センター作業シート'!$G747","v":0},{"$f":"'→これより右側　健診センター作業シート'!$H747","v":0}]
[{"$f":"'→これより右側　健診センター作業シート'!$D748","v":0},{"$f":"'→これより右側　健診センター作業シート'!$B748","v":0},{"$f":"'→これより右側　健診センター作業シート'!$I748","v":0},{"$f":"'→これより右側　健診センター作業シート'!$G748","v":0},{"$f":"'→これより右側　健診センター作業シート'!$H748","v":0}]
[{"$f":"'→これより右側　健診センター作業シート'!$D749","v":0},{"$f":"'→これより右側　健診センター作業シート'!$B749","v":0},{"$f":"'→これより右側　健診センター作業シート'!$I749","v":0},{"$f":"'→これより右側　健診センター作業シート'!$G749","v":0},{"$f":"'→これより右側　健診センター作業シート'!$H749","v":0}]
[{"$f":"'→これより右側　健診センター作業シート'!$D750","v":0},{"$f":"'→これより右側　健診センター作業シート'!$B750","v":0},{"$f":"'→これより右側　健診センター作業シート'!$I750","v":0},{"$f":"'→これより右側　健診センター作業シート'!$G750","v":0},{"$f":"'→これより右側　健診センター作業シート'!$H750","v":0}]
[{"$f":"'→これより右側　健診センター作業シート'!$D751","v":0},{"$f":"'→これより右側　健診センター作業シート'!$B751","v":0},{"$f":"'→これより右側　健診センター作業シート'!$I751","v":0},{"$f":"'→これより右側　健診センター作業シート'!$G751","v":0},{"$f":"'→これより右側　健診センター作業シート'!$H751","v":0}]
[{"$f":"'→これより右側　健診センター作業シート'!$D752","v":0},{"$f":"'→これより右側　健診センター作業シート'!$B752","v":0},{"$f":"'→これより右側　健診センター作業シート'!$I752","v":0},{"$f":"'→これより右側　健診センター作業シート'!$G752","v":0},{"$f":"'→これより右側　健診センター作業シート'!$H752","v":0}]
[{"$f":"'→これより右側　健診センター作業シート'!$D753","v":0},{"$f":"'→これより右側　健診センター作業シート'!$B753","v":0},{"$f":"'→これより右側　健診センター作業シート'!$I753","v":0},{"$f":"'→これより右側　健診センター作業シート'!$G753","v":0},{"$f":"'→これより右側　健診センター作業シート'!$H753","v":0}]
[{"$f":"'→これより右側　健診センター作業シート'!$D754","v":0},{"$f":"'→これより右側　健診センター作業シート'!$B754","v":0},{"$f":"'→これより右側　健診センター作業シート'!$I754","v":0},{"$f":"'→これより右側　健診センター作業シート'!$G754","v":0},{"$f":"'→これより右側　健診センター作業シート'!$H754","v":0}]
[{"$f":"'→これより右側　健診センター作業シート'!$D755","v":0},{"$f":"'→これより右側　健診センター作業シート'!$B755","v":0},{"$f":"'→これより右側　健診センター作業シート'!$I755","v":0},{"$f":"'→これより右側　健診センター作業シート'!$G755","v":0},{"$f":"'→これより右側　健診センター作業シート'!$H755","v":0}]
[{"$f":"'→これより右側　健診センター作業シート'!$D756","v":0},{"$f":"'→これより右側　健診センター作業シート'!$B756","v":0},{"$f":"'→これより右側　健診センター作業シート'!$I756","v":0},{"$f":"'→これより右側　健診センター作業シート'!$G756","v":0},{"$f":"'→これより右側　健診センター作業シート'!$H756","v":0}]
[{"$f":"'→これより右側　健診センター作業シート'!$D757","v":0},{"$f":"'→これより右側　健診センター作業シート'!$B757","v":0},{"$f":"'→これより右側　健診センター作業シート'!$I757","v":0},{"$f":"'→これより右側　健診センター作業シート'!$G757","v":0},{"$f":"'→これより右側　健診センター作業シート'!$H757","v":0}]
[{"$f":"'→これより右側　健診センター作業シート'!$D758","v":0},{"$f":"'→これより右側　健診センター作業シート'!$B758","v":0},{"$f":"'→これより右側　健診センター作業シート'!$I758","v":0},{"$f":"'→これより右側　健診センター作業シート'!$G758","v":0},{"$f":"'→これより右側　健診センター作業シート'!$H758","v":0}]
[{"$f":"'→これより右側　健診センター作業シート'!$D759","v":0},{"$f":"'→これより右側　健診センター作業シート'!$B759","v":0},{"$f":"'→これより右側　健診センター作業シート'!$I759","v":0},{"$f":"'→これより右側　健診センター作業シート'!$G759","v":0},{"$f":"'→これより右側　健診センター作業シート'!$H759","v":0}]
[{"$f":"'→これより右側　健診センター作業シート'!$D760","v":0},{"$f":"'→これより右側　健診センター作業シート'!$B760","v":0},{"$f":"'→これより右側　健診センター作業シート'!$I760","v":0},{"$f":"'→これより右側　健診センター作業シート'!$G760","v":0},{"$f":"'→これより右側　健診センター作業シート'!$H760","v":0}]
[{"$f":"'→これより右側　健診センター作業シート'!$D761","v":0},{"$f":"'→これより右側　健診センター作業シート'!$B761","v":0},{"$f":"'→これより右側　健診センター作業シート'!$I761","v":0},{"$f":"'→これより右側　健診センター作業シート'!$G761","v":0},{"$f":"'→これより右側　健診センター作業シート'!$H761","v":0}]
[{"$f":"'→これより右側　健診センター作業シート'!$D762","v":0},{"$f":"'→これより右側　健診センター作業シート'!$B762","v":0},{"$f":"'→これより右側　健診センター作業シート'!$I762","v":0},{"$f":"'→これより右側　健診センター作業シート'!$G762","v":0},{"$f":"'→これより右側　健診センター作業シート'!$H762","v":0}]
[{"$f":"'→これより右側　健診センター作業シート'!$D763","v":0},{"$f":"'→これより右側　健診センター作業シート'!$B763","v":0},{"$f":"'→これより右側　健診センター作業シート'!$I763","v":0},{"$f":"'→これより右側　健診センター作業シート'!$G763","v":0},{"$f":"'→これより右側　健診センター作業シート'!$H763","v":0}]
[{"$f":"'→これより右側　健診センター作業シート'!$D764","v":0},{"$f":"'→これより右側　健診センター作業シート'!$B764","v":0},{"$f":"'→これより右側　健診センター作業シート'!$I764","v":0},{"$f":"'→これより右側　健診センター作業シート'!$G764","v":0},{"$f":"'→これより右側　健診センター作業シート'!$H764","v":0}]
[{"$f":"'→これより右側　健診センター作業シート'!$D765","v":0},{"$f":"'→これより右側　健診センター作業シート'!$B765","v":0},{"$f":"'→これより右側　健診センター作業シート'!$I765","v":0},{"$f":"'→これより右側　健診センター作業シート'!$G765","v":0},{"$f":"'→これより右側　健診センター作業シート'!$H765","v":0}]
[{"$f":"'→これより右側　健診センター作業シート'!$D766","v":0},{"$f":"'→これより右側　健診センター作業シート'!$B766","v":0},{"$f":"'→これより右側　健診センター作業シート'!$I766","v":0},{"$f":"'→これより右側　健診センター作業シート'!$G766","v":0},{"$f":"'→これより右側　健診センター作業シート'!$H766","v":0}]
[{"$f":"'→これより右側　健診センター作業シート'!$D767","v":0},{"$f":"'→これより右側　健診センター作業シート'!$B767","v":0},{"$f":"'→これより右側　健診センター作業シート'!$I767","v":0},{"$f":"'→これより右側　健診センター作業シート'!$G767","v":0},{"$f":"'→これより右側　健診センター作業シート'!$H767","v":0}]
[{"$f":"'→これより右側　健診センター作業シート'!$D768","v":0},{"$f":"'→これより右側　健診センター作業シート'!$B768","v":0},{"$f":"'→これより右側　健診センター作業シート'!$I768","v":0},{"$f":"'→これより右側　健診センター作業シート'!$G768","v":0},{"$f":"'→これより右側　健診センター作業シート'!$H768","v":0}]
[{"$f":"'→これより右側　健診センター作業シート'!$D769","v":0},{"$f":"'→これより右側　健診センター作業シート'!$B769","v":0},{"$f":"'→これより右側　健診センター作業シート'!$I769","v":0},{"$f":"'→これより右側　健診センター作業シート'!$G769","v":0},{"$f":"'→これより右側　健診センター作業シート'!$H769","v":0}]
[{"$f":"'→これより右側　健診センター作業シート'!$D770","v":0},{"$f":"'→これより右側　健診センター作業シート'!$B770","v":0},{"$f":"'→これより右側　健診センター作業シート'!$I770","v":0},{"$f":"'→これより右側　健診センター作業シート'!$G770","v":0},{"$f":"'→これより右側　健診センター作業シート'!$H770","v":0}]
[{"$f":"'→これより右側　健診センター作業シート'!$D771","v":0},{"$f":"'→これより右側　健診センター作業シート'!$B771","v":0},{"$f":"'→これより右側　健診センター作業シート'!$I771","v":0},{"$f":"'→これより右側　健診センター作業シート'!$G771","v":0},{"$f":"'→これより右側　健診センター作業シート'!$H771","v":0}]
[{"$f":"'→これより右側　健診センター作業シート'!$D772","v":0},{"$f":"'→これより右側　健診センター作業シート'!$B772","v":0},{"$f":"'→これより右側　健診センター作業シート'!$I772","v":0},{"$f":"'→これより右側　健診センター作業シート'!$G772","v":0},{"$f":"'→これより右側　健診センター作業シート'!$H772","v":0}]
[{"$f":"'→これより右側　健診センター作業シート'!$D773","v":0},{"$f":"'→これより右側　健診センター作業シート'!$B773","v":0},{"$f":"'→これより右側　健診センター作業シート'!$I773","v":0},{"$f":"'→これより右側　健診センター作業シート'!$G773","v":0},{"$f":"'→これより右側　健診センター作業シート'!$H773","v":0}]
[{"$f":"'→これより右側　健診センター作業シート'!$D774","v":0},{"$f":"'→これより右側　健診センター作業シート'!$B774","v":0},{"$f":"'→これより右側　健診センター作業シート'!$I774","v":0},{"$f":"'→これより右側　健診センター作業シート'!$G774","v":0},{"$f":"'→これより右側　健診センター作業シート'!$H774","v":0}]
[{"$f":"'→これより右側　健診センター作業シート'!$D775","v":0},{"$f":"'→これより右側　健診センター作業シート'!$B775","v":0},{"$f":"'→これより右側　健診センター作業シート'!$I775","v":0},{"$f":"'→これより右側　健診センター作業シート'!$G775","v":0},{"$f":"'→これより右側　健診センター作業シート'!$H775","v":0}]
[{"$f":"'→これより右側　健診センター作業シート'!$D776","v":0},{"$f":"'→これより右側　健診センター作業シート'!$B776","v":0},{"$f":"'→これより右側　健診センター作業シート'!$I776","v":0},{"$f":"'→これより右側　健診センター作業シート'!$G776","v":0},{"$f":"'→これより右側　健診センター作業シート'!$H776","v":0}]
[{"$f":"'→これより右側　健診センター作業シート'!$D777","v":0},{"$f":"'→これより右側　健診センター作業シート'!$B777","v":0},{"$f":"'→これより右側　健診センター作業シート'!$I777","v":0},{"$f":"'→これより右側　健診センター作業シート'!$G777","v":0},{"$f":"'→これより右側　健診センター作業シート'!$H777","v":0}]
[{"$f":"'→これより右側　健診センター作業シート'!$D778","v":0},{"$f":"'→これより右側　健診センター作業シート'!$B778","v":0},{"$f":"'→これより右側　健診センター作業シート'!$I778","v":0},{"$f":"'→これより右側　健診センター作業シート'!$G778","v":0},{"$f":"'→これより右側　健診センター作業シート'!$H778","v":0}]
[{"$f":"'→これより右側　健診センター作業シート'!$D779","v":0},{"$f":"'→これより右側　健診センター作業シート'!$B779","v":0},{"$f":"'→これより右側　健診センター作業シート'!$I779","v":0},{"$f":"'→これより右側　健診センター作業シート'!$G779","v":0},{"$f":"'→これより右側　健診センター作業シート'!$H779","v":0}]
[{"$f":"'→これより右側　健診センター作業シート'!$D780","v":0},{"$f":"'→これより右側　健診センター作業シート'!$B780","v":0},{"$f":"'→これより右側　健診センター作業シート'!$I780","v":0},{"$f":"'→これより右側　健診センター作業シート'!$G780","v":0},{"$f":"'→これより右側　健診センター作業シート'!$H780","v":0}]
[{"$f":"'→これより右側　健診センター作業シート'!$D781","v":0},{"$f":"'→これより右側　健診センター作業シート'!$B781","v":0},{"$f":"'→これより右側　健診センター作業シート'!$I781","v":0},{"$f":"'→これより右側　健診センター作業シート'!$G781","v":0},{"$f":"'→これより右側　健診センター作業シート'!$H781","v":0}]
[{"$f":"'→これより右側　健診センター作業シート'!$D782","v":0},{"$f":"'→これより右側　健診センター作業シート'!$B782","v":0},{"$f":"'→これより右側　健診センター作業シート'!$I782","v":0},{"$f":"'→これより右側　健診センター作業シート'!$G782","v":0},{"$f":"'→これより右側　健診センター作業シート'!$H782","v":0}]
[{"$f":"'→これより右側　健診センター作業シート'!$D783","v":0},{"$f":"'→これより右側　健診センター作業シート'!$B783","v":0},{"$f":"'→これより右側　健診センター作業シート'!$I783","v":0},{"$f":"'→これより右側　健診センター作業シート'!$G783","v":0},{"$f":"'→これより右側　健診センター作業シート'!$H783","v":0}]
[{"$f":"'→これより右側　健診センター作業シート'!$D784","v":0},{"$f":"'→これより右側　健診センター作業シート'!$B784","v":0},{"$f":"'→これより右側　健診センター作業シート'!$I784","v":0},{"$f":"'→これより右側　健診センター作業シート'!$G784","v":0},{"$f":"'→これより右側　健診センター作業シート'!$H784","v":0}]
[{"$f":"'→これより右側　健診センター作業シート'!$D785","v":0},{"$f":"'→これより右側　健診センター作業シート'!$B785","v":0},{"$f":"'→これより右側　健診センター作業シート'!$I785","v":0},{"$f":"'→これより右側　健診センター作業シート'!$G785","v":0},{"$f":"'→これより右側　健診センター作業シート'!$H785","v":0}]
[{"$f":"'→これより右側　健診センター作業シート'!$D786","v":0},{"$f":"'→これより右側　健診センター作業シート'!$B786","v":0},{"$f":"'→これより右側　健診センター作業シート'!$I786","v":0},{"$f":"'→これより右側　健診センター作業シート'!$G786","v":0},{"$f":"'→これより右側　健診センター作業シート'!$H786","v":0}]
[{"$f":"'→これより右側　健診センター作業シート'!$D787","v":0},{"$f":"'→これより右側　健診センター作業シート'!$B787","v":0},{"$f":"'→これより右側　健診センター作業シート'!$I787","v":0},{"$f":"'→これより右側　健診センター作業シート'!$G787","v":0},{"$f":"'→これより右側　健診センター作業シート'!$H787","v":0}]
[{"$f":"'→これより右側　健診センター作業シート'!$D788","v":0},{"$f":"'→これより右側　健診センター作業シート'!$B788","v":0},{"$f":"'→これより右側　健診センター作業シート'!$I788","v":0},{"$f":"'→これより右側　健診センター作業シート'!$G788","v":0},{"$f":"'→これより右側　健診センター作業シート'!$H788","v":0}]
[{"$f":"'→これより右側　健診センター作業シート'!$D789","v":0},{"$f":"'→これより右側　健診センター作業シート'!$B789","v":0},{"$f":"'→これより右側　健診センター作業シート'!$I789","v":0},{"$f":"'→これより右側　健診センター作業シート'!$G789","v":0},{"$f":"'→これより右側　健診センター作業シート'!$H789","v":0}]
[{"$f":"'→これより右側　健診センター作業シート'!$D790","v":0},{"$f":"'→これより右側　健診センター作業シート'!$B790","v":0},{"$f":"'→これより右側　健診センター作業シート'!$I790","v":0},{"$f":"'→これより右側　健診センター作業シート'!$G790","v":0},{"$f":"'→これより右側　健診センター作業シート'!$H790","v":0}]
[{"$f":"'→これより右側　健診センター作業シート'!$D791","v":0},{"$f":"'→これより右側　健診センター作業シート'!$B791","v":0},{"$f":"'→これより右側　健診センター作業シート'!$I791","v":0},{"$f":"'→これより右側　健診センター作業シート'!$G791","v":0},{"$f":"'→これより右側　健診センター作業シート'!$H791","v":0}]
[{"$f":"'→これより右側　健診センター作業シート'!$D792","v":0},{"$f":"'→これより右側　健診センター作業シート'!$B792","v":0},{"$f":"'→これより右側　健診センター作業シート'!$I792","v":0},{"$f":"'→これより右側　健診センター作業シート'!$G792","v":0},{"$f":"'→これより右側　健診センター作業シート'!$H792","v":0}]
[{"$f":"'→これより右側　健診センター作業シート'!$D793","v":0},{"$f":"'→これより右側　健診センター作業シート'!$B793","v":0},{"$f":"'→これより右側　健診センター作業シート'!$I793","v":0},{"$f":"'→これより右側　健診センター作業シート'!$G793","v":0},{"$f":"'→これより右側　健診センター作業シート'!$H793","v":0}]
[{"$f":"'→これより右側　健診センター作業シート'!$D794","v":0},{"$f":"'→これより右側　健診センター作業シート'!$B794","v":0},{"$f":"'→これより右側　健診センター作業シート'!$I794","v":0},{"$f":"'→これより右側　健診センター作業シート'!$G794","v":0},{"$f":"'→これより右側　健診センター作業シート'!$H794","v":0}]
[{"$f":"'→これより右側　健診センター作業シート'!$D795","v":0},{"$f":"'→これより右側　健診センター作業シート'!$B795","v":0},{"$f":"'→これより右側　健診センター作業シート'!$I795","v":0},{"$f":"'→これより右側　健診センター作業シート'!$G795","v":0},{"$f":"'→これより右側　健診センター作業シート'!$H795","v":0}]
[{"$f":"'→これより右側　健診センター作業シート'!$D796","v":0},{"$f":"'→これより右側　健診センター作業シート'!$B796","v":0},{"$f":"'→これより右側　健診センター作業シート'!$I796","v":0},{"$f":"'→これより右側　健診センター作業シート'!$G796","v":0},{"$f":"'→これより右側　健診センター作業シート'!$H796","v":0}]
[{"$f":"'→これより右側　健診センター作業シート'!$D797","v":0},{"$f":"'→これより右側　健診センター作業シート'!$B797","v":0},{"$f":"'→これより右側　健診センター作業シート'!$I797","v":0},{"$f":"'→これより右側　健診センター作業シート'!$G797","v":0},{"$f":"'→これより右側　健診センター作業シート'!$H797","v":0}]
[{"$f":"'→これより右側　健診センター作業シート'!$D798","v":0},{"$f":"'→これより右側　健診センター作業シート'!$B798","v":0},{"$f":"'→これより右側　健診センター作業シート'!$I798","v":0},{"$f":"'→これより右側　健診センター作業シート'!$G798","v":0},{"$f":"'→これより右側　健診センター作業シート'!$H798","v":0}]
[{"$f":"'→これより右側　健診センター作業シート'!$D799","v":0},{"$f":"'→これより右側　健診センター作業シート'!$B799","v":0},{"$f":"'→これより右側　健診センター作業シート'!$I799","v":0},{"$f":"'→これより右側　健診センター作業シート'!$G799","v":0},{"$f":"'→これより右側　健診センター作業シート'!$H799","v":0}]
[{"$f":"'→これより右側　健診センター作業シート'!$D800","v":0},{"$f":"'→これより右側　健診センター作業シート'!$B800","v":0},{"$f":"'→これより右側　健診センター作業シート'!$I800","v":0},{"$f":"'→これより右側　健診センター作業シート'!$G800","v":0},{"$f":"'→これより右側　健診センター作業シート'!$H800","v":0}]
[{"$f":"'→これより右側　健診センター作業シート'!$D801","v":0},{"$f":"'→これより右側　健診センター作業シート'!$B801","v":0},{"$f":"'→これより右側　健診センター作業シート'!$I801","v":0},{"$f":"'→これより右側　健診センター作業シート'!$G801","v":0},{"$f":"'→これより右側　健診センター作業シート'!$H801","v":0}]
[{"$f":"'→これより右側　健診センター作業シート'!$D802","v":0},{"$f":"'→これより右側　健診センター作業シート'!$B802","v":0},{"$f":"'→これより右側　健診センター作業シート'!$I802","v":0},{"$f":"'→これより右側　健診センター作業シート'!$G802","v":0},{"$f":"'→これより右側　健診センター作業シート'!$H802","v":0}]
[{"$f":"'→これより右側　健診センター作業シート'!$D803","v":0},{"$f":"'→これより右側　健診センター作業シート'!$B803","v":0},{"$f":"'→これより右側　健診センター作業シート'!$I803","v":0},{"$f":"'→これより右側　健診センター作業シート'!$G803","v":0},{"$f":"'→これより右側　健診センター作業シート'!$H803","v":0}]
[{"$f":"'→これより右側　健診センター作業シート'!$D804","v":0},{"$f":"'→これより右側　健診センター作業シート'!$B804","v":0},{"$f":"'→これより右側　健診センター作業シート'!$I804","v":0},{"$f":"'→これより右側　健診センター作業シート'!$G804","v":0},{"$f":"'→これより右側　健診センター作業シート'!$H804","v":0}]
[{"$f":"'→これより右側　健診センター作業シート'!$D805","v":0},{"$f":"'→これより右側　健診センター作業シート'!$B805","v":0},{"$f":"'→これより右側　健診センター作業シート'!$I805","v":0},{"$f":"'→これより右側　健診センター作業シート'!$G805","v":0},{"$f":"'→これより右側　健診センター作業シート'!$H805","v":0}]
[{"$f":"'→これより右側　健診センター作業シート'!$D806","v":0},{"$f":"'→これより右側　健診センター作業シート'!$B806","v":0},{"$f":"'→これより右側　健診センター作業シート'!$I806","v":0},{"$f":"'→これより右側　健診センター作業シート'!$G806","v":0},{"$f":"'→これより右側　健診センター作業シート'!$H806","v":0}]
[{"$f":"'→これより右側　健診センター作業シート'!$D807","v":0},{"$f":"'→これより右側　健診センター作業シート'!$B807","v":0},{"$f":"'→これより右側　健診センター作業シート'!$I807","v":0},{"$f":"'→これより右側　健診センター作業シート'!$G807","v":0},{"$f":"'→これより右側　健診センター作業シート'!$H807","v":0}]
[{"$f":"'→これより右側　健診センター作業シート'!$D808","v":0},{"$f":"'→これより右側　健診センター作業シート'!$B808","v":0},{"$f":"'→これより右側　健診センター作業シート'!$I808","v":0},{"$f":"'→これより右側　健診センター作業シート'!$G808","v":0},{"$f":"'→これより右側　健診センター作業シート'!$H808","v":0}]
[{"$f":"'→これより右側　健診センター作業シート'!$D809","v":0},{"$f":"'→これより右側　健診センター作業シート'!$B809","v":0},{"$f":"'→これより右側　健診センター作業シート'!$I809","v":0},{"$f":"'→これより右側　健診センター作業シート'!$G809","v":0},{"$f":"'→これより右側　健診センター作業シート'!$H809","v":0}]
[{"$f":"'→これより右側　健診センター作業シート'!$D810","v":0},{"$f":"'→これより右側　健診センター作業シート'!$B810","v":0},{"$f":"'→これより右側　健診センター作業シート'!$I810","v":0},{"$f":"'→これより右側　健診センター作業シート'!$G810","v":0},{"$f":"'→これより右側　健診センター作業シート'!$H810","v":0}]
[{"$f":"'→これより右側　健診センター作業シート'!$D811","v":0},{"$f":"'→これより右側　健診センター作業シート'!$B811","v":0},{"$f":"'→これより右側　健診センター作業シート'!$I811","v":0},{"$f":"'→これより右側　健診センター作業シート'!$G811","v":0},{"$f":"'→これより右側　健診センター作業シート'!$H811","v":0}]
[{"$f":"'→これより右側　健診センター作業シート'!$D812","v":0},{"$f":"'→これより右側　健診センター作業シート'!$B812","v":0},{"$f":"'→これより右側　健診センター作業シート'!$I812","v":0},{"$f":"'→これより右側　健診センター作業シート'!$G812","v":0},{"$f":"'→これより右側　健診センター作業シート'!$H812","v":0}]
[{"$f":"'→これより右側　健診センター作業シート'!$D813","v":0},{"$f":"'→これより右側　健診センター作業シート'!$B813","v":0},{"$f":"'→これより右側　健診センター作業シート'!$I813","v":0},{"$f":"'→これより右側　健診センター作業シート'!$G813","v":0},{"$f":"'→これより右側　健診センター作業シート'!$H813","v":0}]
[{"$f":"'→これより右側　健診センター作業シート'!$D814","v":0},{"$f":"'→これより右側　健診センター作業シート'!$B814","v":0},{"$f":"'→これより右側　健診センター作業シート'!$I814","v":0},{"$f":"'→これより右側　健診センター作業シート'!$G814","v":0},{"$f":"'→これより右側　健診センター作業シート'!$H814","v":0}]
[{"$f":"'→これより右側　健診センター作業シート'!$D815","v":0},{"$f":"'→これより右側　健診センター作業シート'!$B815","v":0},{"$f":"'→これより右側　健診センター作業シート'!$I815","v":0},{"$f":"'→これより右側　健診センター作業シート'!$G815","v":0},{"$f":"'→これより右側　健診センター作業シート'!$H815","v":0}]
[{"$f":"'→これより右側　健診センター作業シート'!$D816","v":0},{"$f":"'→これより右側　健診センター作業シート'!$B816","v":0},{"$f":"'→これより右側　健診センター作業シート'!$I816","v":0},{"$f":"'→これより右側　健診センター作業シート'!$G816","v":0},{"$f":"'→これより右側　健診センター作業シート'!$H816","v":0}]
[{"$f":"'→これより右側　健診センター作業シート'!$D817","v":0},{"$f":"'→これより右側　健診センター作業シート'!$B817","v":0},{"$f":"'→これより右側　健診センター作業シート'!$I817","v":0},{"$f":"'→これより右側　健診センター作業シート'!$G817","v":0},{"$f":"'→これより右側　健診センター作業シート'!$H817","v":0}]
[{"$f":"'→これより右側　健診センター作業シート'!$D818","v":0},{"$f":"'→これより右側　健診センター作業シート'!$B818","v":0},{"$f":"'→これより右側　健診センター作業シート'!$I818","v":0},{"$f":"'→これより右側　健診センター作業シート'!$G818","v":0},{"$f":"'→これより右側　健診センター作業シート'!$H818","v":0}]
[{"$f":"'→これより右側　健診センター作業シート'!$D819","v":0},{"$f":"'→これより右側　健診センター作業シート'!$B819","v":0},{"$f":"'→これより右側　健診センター作業シート'!$I819","v":0},{"$f":"'→これより右側　健診センター作業シート'!$G819","v":0},{"$f":"'→これより右側　健診センター作業シート'!$H819","v":0}]
[{"$f":"'→これより右側　健診センター作業シート'!$D820","v":0},{"$f":"'→これより右側　健診センター作業シート'!$B820","v":0},{"$f":"'→これより右側　健診センター作業シート'!$I820","v":0},{"$f":"'→これより右側　健診センター作業シート'!$G820","v":0},{"$f":"'→これより右側　健診センター作業シート'!$H820","v":0}]
[{"$f":"'→これより右側　健診センター作業シート'!$D821","v":0},{"$f":"'→これより右側　健診センター作業シート'!$B821","v":0},{"$f":"'→これより右側　健診センター作業シート'!$I821","v":0},{"$f":"'→これより右側　健診センター作業シート'!$G821","v":0},{"$f":"'→これより右側　健診センター作業シート'!$H821","v":0}]
[{"$f":"'→これより右側　健診センター作業シート'!$D822","v":0},{"$f":"'→これより右側　健診センター作業シート'!$B822","v":0},{"$f":"'→これより右側　健診センター作業シート'!$I822","v":0},{"$f":"'→これより右側　健診センター作業シート'!$G822","v":0},{"$f":"'→これより右側　健診センター作業シート'!$H822","v":0}]
[{"$f":"'→これより右側　健診センター作業シート'!$D823","v":0},{"$f":"'→これより右側　健診センター作業シート'!$B823","v":0},{"$f":"'→これより右側　健診センター作業シート'!$I823","v":0},{"$f":"'→これより右側　健診センター作業シート'!$G823","v":0},{"$f":"'→これより右側　健診センター作業シート'!$H823","v":0}]
[{"$f":"'→これより右側　健診センター作業シート'!$D824","v":0},{"$f":"'→これより右側　健診センター作業シート'!$B824","v":0},{"$f":"'→これより右側　健診センター作業シート'!$I824","v":0},{"$f":"'→これより右側　健診センター作業シート'!$G824","v":0},{"$f":"'→これより右側　健診センター作業シート'!$H824","v":0}]
[{"$f":"'→これより右側　健診センター作業シート'!$D825","v":0},{"$f":"'→これより右側　健診センター作業シート'!$B825","v":0},{"$f":"'→これより右側　健診センター作業シート'!$I825","v":0},{"$f":"'→これより右側　健診センター作業シート'!$G825","v":0},{"$f":"'→これより右側　健診センター作業シート'!$H825","v":0}]
[{"$f":"'→これより右側　健診センター作業シート'!$D826","v":0},{"$f":"'→これより右側　健診センター作業シート'!$B826","v":0},{"$f":"'→これより右側　健診センター作業シート'!$I826","v":0},{"$f":"'→これより右側　健診センター作業シート'!$G826","v":0},{"$f":"'→これより右側　健診センター作業シート'!$H826","v":0}]
[{"$f":"'→これより右側　健診センター作業シート'!$D827","v":0},{"$f":"'→これより右側　健診センター作業シート'!$B827","v":0},{"$f":"'→これより右側　健診センター作業シート'!$I827","v":0},{"$f":"'→これより右側　健診センター作業シート'!$G827","v":0},{"$f":"'→これより右側　健診センター作業シート'!$H827","v":0}]
[{"$f":"'→これより右側　健診センター作業シート'!$D828","v":0},{"$f":"'→これより右側　健診センター作業シート'!$B828","v":0},{"$f":"'→これより右側　健診センター作業シート'!$I828","v":0},{"$f":"'→これより右側　健診センター作業シート'!$G828","v":0},{"$f":"'→これより右側　健診センター作業シート'!$H828","v":0}]
[{"$f":"'→これより右側　健診センター作業シート'!$D829","v":0},{"$f":"'→これより右側　健診センター作業シート'!$B829","v":0},{"$f":"'→これより右側　健診センター作業シート'!$I829","v":0},{"$f":"'→これより右側　健診センター作業シート'!$G829","v":0},{"$f":"'→これより右側　健診センター作業シート'!$H829","v":0}]
[{"$f":"'→これより右側　健診センター作業シート'!$D830","v":0},{"$f":"'→これより右側　健診センター作業シート'!$B830","v":0},{"$f":"'→これより右側　健診センター作業シート'!$I830","v":0},{"$f":"'→これより右側　健診センター作業シート'!$G830","v":0},{"$f":"'→これより右側　健診センター作業シート'!$H830","v":0}]
[{"$f":"'→これより右側　健診センター作業シート'!$D831","v":0},{"$f":"'→これより右側　健診センター作業シート'!$B831","v":0},{"$f":"'→これより右側　健診センター作業シート'!$I831","v":0},{"$f":"'→これより右側　健診センター作業シート'!$G831","v":0},{"$f":"'→これより右側　健診センター作業シート'!$H831","v":0}]
[{"$f":"'→これより右側　健診センター作業シート'!$D832","v":0},{"$f":"'→これより右側　健診センター作業シート'!$B832","v":0},{"$f":"'→これより右側　健診センター作業シート'!$I832","v":0},{"$f":"'→これより右側　健診センター作業シート'!$G832","v":0},{"$f":"'→これより右側　健診センター作業シート'!$H832","v":0}]
[{"$f":"'→これより右側　健診センター作業シート'!$D833","v":0},{"$f":"'→これより右側　健診センター作業シート'!$B833","v":0},{"$f":"'→これより右側　健診センター作業シート'!$I833","v":0},{"$f":"'→これより右側　健診センター作業シート'!$G833","v":0},{"$f":"'→これより右側　健診センター作業シート'!$H833","v":0}]
[{"$f":"'→これより右側　健診センター作業シート'!$D834","v":0},{"$f":"'→これより右側　健診センター作業シート'!$B834","v":0},{"$f":"'→これより右側　健診センター作業シート'!$I834","v":0},{"$f":"'→これより右側　健診センター作業シート'!$G834","v":0},{"$f":"'→これより右側　健診センター作業シート'!$H834","v":0}]
[{"$f":"'→これより右側　健診センター作業シート'!$D835","v":0},{"$f":"'→これより右側　健診センター作業シート'!$B835","v":0},{"$f":"'→これより右側　健診センター作業シート'!$I835","v":0},{"$f":"'→これより右側　健診センター作業シート'!$G835","v":0},{"$f":"'→これより右側　健診センター作業シート'!$H835","v":0}]
[{"$f":"'→これより右側　健診センター作業シート'!$D836","v":0},{"$f":"'→これより右側　健診センター作業シート'!$B836","v":0},{"$f":"'→これより右側　健診センター作業シート'!$I836","v":0},{"$f":"'→これより右側　健診センター作業シート'!$G836","v":0},{"$f":"'→これより右側　健診センター作業シート'!$H836","v":0}]
[{"$f":"'→これより右側　健診センター作業シート'!$D837","v":0},{"$f":"'→これより右側　健診センター作業シート'!$B837","v":0},{"$f":"'→これより右側　健診センター作業シート'!$I837","v":0},{"$f":"'→これより右側　健診センター作業シート'!$G837","v":0},{"$f":"'→これより右側　健診センター作業シート'!$H837","v":0}]
[{"$f":"'→これより右側　健診センター作業シート'!$D838","v":0},{"$f":"'→これより右側　健診センター作業シート'!$B838","v":0},{"$f":"'→これより右側　健診センター作業シート'!$I838","v":0},{"$f":"'→これより右側　健診センター作業シート'!$G838","v":0},{"$f":"'→これより右側　健診センター作業シート'!$H838","v":0}]
[{"$f":"'→これより右側　健診センター作業シート'!$D839","v":0},{"$f":"'→これより右側　健診センター作業シート'!$B839","v":0},{"$f":"'→これより右側　健診センター作業シート'!$I839","v":0},{"$f":"'→これより右側　健診センター作業シート'!$G839","v":0},{"$f":"'→これより右側　健診センター作業シート'!$H839","v":0}]
[{"$f":"'→これより右側　健診センター作業シート'!$D840","v":0},{"$f":"'→これより右側　健診センター作業シート'!$B840","v":0},{"$f":"'→これより右側　健診センター作業シート'!$I840","v":0},{"$f":"'→これより右側　健診センター作業シート'!$G840","v":0},{"$f":"'→これより右側　健診センター作業シート'!$H840","v":0}]
[{"$f":"'→これより右側　健診センター作業シート'!$D841","v":0},{"$f":"'→これより右側　健診センター作業シート'!$B841","v":0},{"$f":"'→これより右側　健診センター作業シート'!$I841","v":0},{"$f":"'→これより右側　健診センター作業シート'!$G841","v":0},{"$f":"'→これより右側　健診センター作業シート'!$H841","v":0}]
[{"$f":"'→これより右側　健診センター作業シート'!$D842","v":0},{"$f":"'→これより右側　健診センター作業シート'!$B842","v":0},{"$f":"'→これより右側　健診センター作業シート'!$I842","v":0},{"$f":"'→これより右側　健診センター作業シート'!$G842","v":0},{"$f":"'→これより右側　健診センター作業シート'!$H842","v":0}]
[{"$f":"'→これより右側　健診センター作業シート'!$D843","v":0},{"$f":"'→これより右側　健診センター作業シート'!$B843","v":0},{"$f":"'→これより右側　健診センター作業シート'!$I843","v":0},{"$f":"'→これより右側　健診センター作業シート'!$G843","v":0},{"$f":"'→これより右側　健診センター作業シート'!$H843","v":0}]
[{"$f":"'→これより右側　健診センター作業シート'!$D844","v":0},{"$f":"'→これより右側　健診センター作業シート'!$B844","v":0},{"$f":"'→これより右側　健診センター作業シート'!$I844","v":0},{"$f":"'→これより右側　健診センター作業シート'!$G844","v":0},{"$f":"'→これより右側　健診センター作業シート'!$H844","v":0}]
[{"$f":"'→これより右側　健診センター作業シート'!$D845","v":0},{"$f":"'→これより右側　健診センター作業シート'!$B845","v":0},{"$f":"'→これより右側　健診センター作業シート'!$I845","v":0},{"$f":"'→これより右側　健診センター作業シート'!$G845","v":0},{"$f":"'→これより右側　健診センター作業シート'!$H845","v":0}]
[{"$f":"'→これより右側　健診センター作業シート'!$D846","v":0},{"$f":"'→これより右側　健診センター作業シート'!$B846","v":0},{"$f":"'→これより右側　健診センター作業シート'!$I846","v":0},{"$f":"'→これより右側　健診センター作業シート'!$G846","v":0},{"$f":"'→これより右側　健診センター作業シート'!$H846","v":0}]
[{"$f":"'→これより右側　健診センター作業シート'!$D847","v":0},{"$f":"'→これより右側　健診センター作業シート'!$B847","v":0},{"$f":"'→これより右側　健診センター作業シート'!$I847","v":0},{"$f":"'→これより右側　健診センター作業シート'!$G847","v":0},{"$f":"'→これより右側　健診センター作業シート'!$H847","v":0}]
[{"$f":"'→これより右側　健診センター作業シート'!$D848","v":0},{"$f":"'→これより右側　健診センター作業シート'!$B848","v":0},{"$f":"'→これより右側　健診センター作業シート'!$I848","v":0},{"$f":"'→これより右側　健診センター作業シート'!$G848","v":0},{"$f":"'→これより右側　健診センター作業シート'!$H848","v":0}]
[{"$f":"'→これより右側　健診センター作業シート'!$D849","v":0},{"$f":"'→これより右側　健診センター作業シート'!$B849","v":0},{"$f":"'→これより右側　健診センター作業シート'!$I849","v":0},{"$f":"'→これより右側　健診センター作業シート'!$G849","v":0},{"$f":"'→これより右側　健診センター作業シート'!$H849","v":0}]
[{"$f":"'→これより右側　健診センター作業シート'!$D850","v":0},{"$f":"'→これより右側　健診センター作業シート'!$B850","v":0},{"$f":"'→これより右側　健診センター作業シート'!$I850","v":0},{"$f":"'→これより右側　健診センター作業シート'!$G850","v":0},{"$f":"'→これより右側　健診センター作業シート'!$H850","v":0}]
[{"$f":"'→これより右側　健診センター作業シート'!$D851","v":0},{"$f":"'→これより右側　健診センター作業シート'!$B851","v":0},{"$f":"'→これより右側　健診センター作業シート'!$I851","v":0},{"$f":"'→これより右側　健診センター作業シート'!$G851","v":0},{"$f":"'→これより右側　健診センター作業シート'!$H851","v":0}]
[{"$f":"'→これより右側　健診センター作業シート'!$D852","v":0},{"$f":"'→これより右側　健診センター作業シート'!$B852","v":0},{"$f":"'→これより右側　健診センター作業シート'!$I852","v":0},{"$f":"'→これより右側　健診センター作業シート'!$G852","v":0},{"$f":"'→これより右側　健診センター作業シート'!$H852","v":0}]
[{"$f":"'→これより右側　健診センター作業シート'!$D853","v":0},{"$f":"'→これより右側　健診センター作業シート'!$B853","v":0},{"$f":"'→これより右側　健診センター作業シート'!$I853","v":0},{"$f":"'→これより右側　健診センター作業シート'!$G853","v":0},{"$f":"'→これより右側　健診センター作業シート'!$H853","v":0}]
[{"$f":"'→これより右側　健診センター作業シート'!$D854","v":0},{"$f":"'→これより右側　健診センター作業シート'!$B854","v":0},{"$f":"'→これより右側　健診センター作業シート'!$I854","v":0},{"$f":"'→これより右側　健診センター作業シート'!$G854","v":0},{"$f":"'→これより右側　健診センター作業シート'!$H854","v":0}]
[{"$f":"'→これより右側　健診センター作業シート'!$D855","v":0},{"$f":"'→これより右側　健診センター作業シート'!$B855","v":0},{"$f":"'→これより右側　健診センター作業シート'!$I855","v":0},{"$f":"'→これより右側　健診センター作業シート'!$G855","v":0},{"$f":"'→これより右側　健診センター作業シート'!$H855","v":0}]
[{"$f":"'→これより右側　健診センター作業シート'!$D856","v":0},{"$f":"'→これより右側　健診センター作業シート'!$B856","v":0},{"$f":"'→これより右側　健診センター作業シート'!$I856","v":0},{"$f":"'→これより右側　健診センター作業シート'!$G856","v":0},{"$f":"'→これより右側　健診センター作業シート'!$H856","v":0}]
[{"$f":"'→これより右側　健診センター作業シート'!$D857","v":0},{"$f":"'→これより右側　健診センター作業シート'!$B857","v":0},{"$f":"'→これより右側　健診センター作業シート'!$I857","v":0},{"$f":"'→これより右側　健診センター作業シート'!$G857","v":0},{"$f":"'→これより右側　健診センター作業シート'!$H857","v":0}]
[{"$f":"'→これより右側　健診センター作業シート'!$D858","v":0},{"$f":"'→これより右側　健診センター作業シート'!$B858","v":0},{"$f":"'→これより右側　健診センター作業シート'!$I858","v":0},{"$f":"'→これより右側　健診センター作業シート'!$G858","v":0},{"$f":"'→これより右側　健診センター作業シート'!$H858","v":0}]
[{"$f":"'→これより右側　健診センター作業シート'!$D859","v":0},{"$f":"'→これより右側　健診センター作業シート'!$B859","v":0},{"$f":"'→これより右側　健診センター作業シート'!$I859","v":0},{"$f":"'→これより右側　健診センター作業シート'!$G859","v":0},{"$f":"'→これより右側　健診センター作業シート'!$H859","v":0}]
[{"$f":"'→これより右側　健診センター作業シート'!$D860","v":0},{"$f":"'→これより右側　健診センター作業シート'!$B860","v":0},{"$f":"'→これより右側　健診センター作業シート'!$I860","v":0},{"$f":"'→これより右側　健診センター作業シート'!$G860","v":0},{"$f":"'→これより右側　健診センター作業シート'!$H860","v":0}]
[{"$f":"'→これより右側　健診センター作業シート'!$D861","v":0},{"$f":"'→これより右側　健診センター作業シート'!$B861","v":0},{"$f":"'→これより右側　健診センター作業シート'!$I861","v":0},{"$f":"'→これより右側　健診センター作業シート'!$G861","v":0},{"$f":"'→これより右側　健診センター作業シート'!$H861","v":0}]
[{"$f":"'→これより右側　健診センター作業シート'!$D862","v":0},{"$f":"'→これより右側　健診センター作業シート'!$B862","v":0},{"$f":"'→これより右側　健診センター作業シート'!$I862","v":0},{"$f":"'→これより右側　健診センター作業シート'!$G862","v":0},{"$f":"'→これより右側　健診センター作業シート'!$H862","v":0}]
[{"$f":"'→これより右側　健診センター作業シート'!$D863","v":0},{"$f":"'→これより右側　健診センター作業シート'!$B863","v":0},{"$f":"'→これより右側　健診センター作業シート'!$I863","v":0},{"$f":"'→これより右側　健診センター作業シート'!$G863","v":0},{"$f":"'→これより右側　健診センター作業シート'!$H863","v":0}]
[{"$f":"'→これより右側　健診センター作業シート'!$D864","v":0},{"$f":"'→これより右側　健診センター作業シート'!$B864","v":0},{"$f":"'→これより右側　健診センター作業シート'!$I864","v":0},{"$f":"'→これより右側　健診センター作業シート'!$G864","v":0},{"$f":"'→これより右側　健診センター作業シート'!$H864","v":0}]
[{"$f":"'→これより右側　健診センター作業シート'!$D865","v":0},{"$f":"'→これより右側　健診センター作業シート'!$B865","v":0},{"$f":"'→これより右側　健診センター作業シート'!$I865","v":0},{"$f":"'→これより右側　健診センター作業シート'!$G865","v":0},{"$f":"'→これより右側　健診センター作業シート'!$H865","v":0}]
[{"$f":"'→これより右側　健診センター作業シート'!$D866","v":0},{"$f":"'→これより右側　健診センター作業シート'!$B866","v":0},{"$f":"'→これより右側　健診センター作業シート'!$I866","v":0},{"$f":"'→これより右側　健診センター作業シート'!$G866","v":0},{"$f":"'→これより右側　健診センター作業シート'!$H866","v":0}]
[{"$f":"'→これより右側　健診センター作業シート'!$D867","v":0},{"$f":"'→これより右側　健診センター作業シート'!$B867","v":0},{"$f":"'→これより右側　健診センター作業シート'!$I867","v":0},{"$f":"'→これより右側　健診センター作業シート'!$G867","v":0},{"$f":"'→これより右側　健診センター作業シート'!$H867","v":0}]
[{"$f":"'→これより右側　健診センター作業シート'!$D868","v":0},{"$f":"'→これより右側　健診センター作業シート'!$B868","v":0},{"$f":"'→これより右側　健診センター作業シート'!$I868","v":0},{"$f":"'→これより右側　健診センター作業シート'!$G868","v":0},{"$f":"'→これより右側　健診センター作業シート'!$H868","v":0}]
[{"$f":"'→これより右側　健診センター作業シート'!$D869","v":0},{"$f":"'→これより右側　健診センター作業シート'!$B869","v":0},{"$f":"'→これより右側　健診センター作業シート'!$I869","v":0},{"$f":"'→これより右側　健診センター作業シート'!$G869","v":0},{"$f":"'→これより右側　健診センター作業シート'!$H869","v":0}]
[{"$f":"'→これより右側　健診センター作業シート'!$D870","v":0},{"$f":"'→これより右側　健診センター作業シート'!$B870","v":0},{"$f":"'→これより右側　健診センター作業シート'!$I870","v":0},{"$f":"'→これより右側　健診センター作業シート'!$G870","v":0},{"$f":"'→これより右側　健診センター作業シート'!$H870","v":0}]
[{"$f":"'→これより右側　健診センター作業シート'!$D871","v":0},{"$f":"'→これより右側　健診センター作業シート'!$B871","v":0},{"$f":"'→これより右側　健診センター作業シート'!$I871","v":0},{"$f":"'→これより右側　健診センター作業シート'!$G871","v":0},{"$f":"'→これより右側　健診センター作業シート'!$H871","v":0}]
[{"$f":"'→これより右側　健診センター作業シート'!$D872","v":0},{"$f":"'→これより右側　健診センター作業シート'!$B872","v":0},{"$f":"'→これより右側　健診センター作業シート'!$I872","v":0},{"$f":"'→これより右側　健診センター作業シート'!$G872","v":0},{"$f":"'→これより右側　健診センター作業シート'!$H872","v":0}]
[{"$f":"'→これより右側　健診センター作業シート'!$D873","v":0},{"$f":"'→これより右側　健診センター作業シート'!$B873","v":0},{"$f":"'→これより右側　健診センター作業シート'!$I873","v":0},{"$f":"'→これより右側　健診センター作業シート'!$G873","v":0},{"$f":"'→これより右側　健診センター作業シート'!$H873","v":0}]
[{"$f":"'→これより右側　健診センター作業シート'!$D874","v":0},{"$f":"'→これより右側　健診センター作業シート'!$B874","v":0},{"$f":"'→これより右側　健診センター作業シート'!$I874","v":0},{"$f":"'→これより右側　健診センター作業シート'!$G874","v":0},{"$f":"'→これより右側　健診センター作業シート'!$H874","v":0}]
[{"$f":"'→これより右側　健診センター作業シート'!$D875","v":0},{"$f":"'→これより右側　健診センター作業シート'!$B875","v":0},{"$f":"'→これより右側　健診センター作業シート'!$I875","v":0},{"$f":"'→これより右側　健診センター作業シート'!$G875","v":0},{"$f":"'→これより右側　健診センター作業シート'!$H875","v":0}]
[{"$f":"'→これより右側　健診センター作業シート'!$D876","v":0},{"$f":"'→これより右側　健診センター作業シート'!$B876","v":0},{"$f":"'→これより右側　健診センター作業シート'!$I876","v":0},{"$f":"'→これより右側　健診センター作業シート'!$G876","v":0},{"$f":"'→これより右側　健診センター作業シート'!$H876","v":0}]
[{"$f":"'→これより右側　健診センター作業シート'!$D877","v":0},{"$f":"'→これより右側　健診センター作業シート'!$B877","v":0},{"$f":"'→これより右側　健診センター作業シート'!$I877","v":0},{"$f":"'→これより右側　健診センター作業シート'!$G877","v":0},{"$f":"'→これより右側　健診センター作業シート'!$H877","v":0}]
[{"$f":"'→これより右側　健診センター作業シート'!$D878","v":0},{"$f":"'→これより右側　健診センター作業シート'!$B878","v":0},{"$f":"'→これより右側　健診センター作業シート'!$I878","v":0},{"$f":"'→これより右側　健診センター作業シート'!$G878","v":0},{"$f":"'→これより右側　健診センター作業シート'!$H878","v":0}]
[{"$f":"'→これより右側　健診センター作業シート'!$D879","v":0},{"$f":"'→これより右側　健診センター作業シート'!$B879","v":0},{"$f":"'→これより右側　健診センター作業シート'!$I879","v":0},{"$f":"'→これより右側　健診センター作業シート'!$G879","v":0},{"$f":"'→これより右側　健診センター作業シート'!$H879","v":0}]
[{"$f":"'→これより右側　健診センター作業シート'!$D880","v":0},{"$f":"'→これより右側　健診センター作業シート'!$B880","v":0},{"$f":"'→これより右側　健診センター作業シート'!$I880","v":0},{"$f":"'→これより右側　健診センター作業シート'!$G880","v":0},{"$f":"'→これより右側　健診センター作業シート'!$H880","v":0}]
[{"$f":"'→これより右側　健診センター作業シート'!$D881","v":0},{"$f":"'→これより右側　健診センター作業シート'!$B881","v":0},{"$f":"'→これより右側　健診センター作業シート'!$I881","v":0},{"$f":"'→これより右側　健診センター作業シート'!$G881","v":0},{"$f":"'→これより右側　健診センター作業シート'!$H881","v":0}]
[{"$f":"'→これより右側　健診センター作業シート'!$D882","v":0},{"$f":"'→これより右側　健診センター作業シート'!$B882","v":0},{"$f":"'→これより右側　健診センター作業シート'!$I882","v":0},{"$f":"'→これより右側　健診センター作業シート'!$G882","v":0},{"$f":"'→これより右側　健診センター作業シート'!$H882","v":0}]
[{"$f":"'→これより右側　健診センター作業シート'!$D883","v":0},{"$f":"'→これより右側　健診センター作業シート'!$B883","v":0},{"$f":"'→これより右側　健診センター作業シート'!$I883","v":0},{"$f":"'→これより右側　健診センター作業シート'!$G883","v":0},{"$f":"'→これより右側　健診センター作業シート'!$H883","v":0}]
[{"$f":"'→これより右側　健診センター作業シート'!$D884","v":0},{"$f":"'→これより右側　健診センター作業シート'!$B884","v":0},{"$f":"'→これより右側　健診センター作業シート'!$I884","v":0},{"$f":"'→これより右側　健診センター作業シート'!$G884","v":0},{"$f":"'→これより右側　健診センター作業シート'!$H884","v":0}]
[{"$f":"'→これより右側　健診センター作業シート'!$D885","v":0},{"$f":"'→これより右側　健診センター作業シート'!$B885","v":0},{"$f":"'→これより右側　健診センター作業シート'!$I885","v":0},{"$f":"'→これより右側　健診センター作業シート'!$G885","v":0},{"$f":"'→これより右側　健診センター作業シート'!$H885","v":0}]
[{"$f":"'→これより右側　健診センター作業シート'!$D886","v":0},{"$f":"'→これより右側　健診センター作業シート'!$B886","v":0},{"$f":"'→これより右側　健診センター作業シート'!$I886","v":0},{"$f":"'→これより右側　健診センター作業シート'!$G886","v":0},{"$f":"'→これより右側　健診センター作業シート'!$H886","v":0}]
[{"$f":"'→これより右側　健診センター作業シート'!$D887","v":0},{"$f":"'→これより右側　健診センター作業シート'!$B887","v":0},{"$f":"'→これより右側　健診センター作業シート'!$I887","v":0},{"$f":"'→これより右側　健診センター作業シート'!$G887","v":0},{"$f":"'→これより右側　健診センター作業シート'!$H887","v":0}]
[{"$f":"'→これより右側　健診センター作業シート'!$D888","v":0},{"$f":"'→これより右側　健診センター作業シート'!$B888","v":0},{"$f":"'→これより右側　健診センター作業シート'!$I888","v":0},{"$f":"'→これより右側　健診センター作業シート'!$G888","v":0},{"$f":"'→これより右側　健診センター作業シート'!$H888","v":0}]
[{"$f":"'→これより右側　健診センター作業シート'!$D889","v":0},{"$f":"'→これより右側　健診センター作業シート'!$B889","v":0},{"$f":"'→これより右側　健診センター作業シート'!$I889","v":0},{"$f":"'→これより右側　健診センター作業シート'!$G889","v":0},{"$f":"'→これより右側　健診センター作業シート'!$H889","v":0}]
[{"$f":"'→これより右側　健診センター作業シート'!$D890","v":0},{"$f":"'→これより右側　健診センター作業シート'!$B890","v":0},{"$f":"'→これより右側　健診センター作業シート'!$I890","v":0},{"$f":"'→これより右側　健診センター作業シート'!$G890","v":0},{"$f":"'→これより右側　健診センター作業シート'!$H890","v":0}]
[{"$f":"'→これより右側　健診センター作業シート'!$D891","v":0},{"$f":"'→これより右側　健診センター作業シート'!$B891","v":0},{"$f":"'→これより右側　健診センター作業シート'!$I891","v":0},{"$f":"'→これより右側　健診センター作業シート'!$G891","v":0},{"$f":"'→これより右側　健診センター作業シート'!$H891","v":0}]
[{"$f":"'→これより右側　健診センター作業シート'!$D892","v":0},{"$f":"'→これより右側　健診センター作業シート'!$B892","v":0},{"$f":"'→これより右側　健診センター作業シート'!$I892","v":0},{"$f":"'→これより右側　健診センター作業シート'!$G892","v":0},{"$f":"'→これより右側　健診センター作業シート'!$H892","v":0}]
[{"$f":"'→これより右側　健診センター作業シート'!$D893","v":0},{"$f":"'→これより右側　健診センター作業シート'!$B893","v":0},{"$f":"'→これより右側　健診センター作業シート'!$I893","v":0},{"$f":"'→これより右側　健診センター作業シート'!$G893","v":0},{"$f":"'→これより右側　健診センター作業シート'!$H893","v":0}]
[{"$f":"'→これより右側　健診センター作業シート'!$D894","v":0},{"$f":"'→これより右側　健診センター作業シート'!$B894","v":0},{"$f":"'→これより右側　健診センター作業シート'!$I894","v":0},{"$f":"'→これより右側　健診センター作業シート'!$G894","v":0},{"$f":"'→これより右側　健診センター作業シート'!$H894","v":0}]
[{"$f":"'→これより右側　健診センター作業シート'!$D895","v":0},{"$f":"'→これより右側　健診センター作業シート'!$B895","v":0},{"$f":"'→これより右側　健診センター作業シート'!$I895","v":0},{"$f":"'→これより右側　健診センター作業シート'!$G895","v":0},{"$f":"'→これより右側　健診センター作業シート'!$H895","v":0}]
[{"$f":"'→これより右側　健診センター作業シート'!$D896","v":0},{"$f":"'→これより右側　健診センター作業シート'!$B896","v":0},{"$f":"'→これより右側　健診センター作業シート'!$I896","v":0},{"$f":"'→これより右側　健診センター作業シート'!$G896","v":0},{"$f":"'→これより右側　健診センター作業シート'!$H896","v":0}]
[{"$f":"'→これより右側　健診センター作業シート'!$D897","v":0},{"$f":"'→これより右側　健診センター作業シート'!$B897","v":0},{"$f":"'→これより右側　健診センター作業シート'!$I897","v":0},{"$f":"'→これより右側　健診センター作業シート'!$G897","v":0},{"$f":"'→これより右側　健診センター作業シート'!$H897","v":0}]
[{"$f":"'→これより右側　健診センター作業シート'!$D898","v":0},{"$f":"'→これより右側　健診センター作業シート'!$B898","v":0},{"$f":"'→これより右側　健診センター作業シート'!$I898","v":0},{"$f":"'→これより右側　健診センター作業シート'!$G898","v":0},{"$f":"'→これより右側　健診センター作業シート'!$H898","v":0}]
[{"$f":"'→これより右側　健診センター作業シート'!$D899","v":0},{"$f":"'→これより右側　健診センター作業シート'!$B899","v":0},{"$f":"'→これより右側　健診センター作業シート'!$I899","v":0},{"$f":"'→これより右側　健診センター作業シート'!$G899","v":0},{"$f":"'→これより右側　健診センター作業シート'!$H899","v":0}]
[{"$f":"'→これより右側　健診センター作業シート'!$D900","v":0},{"$f":"'→これより右側　健診センター作業シート'!$B900","v":0},{"$f":"'→これより右側　健診センター作業シート'!$I900","v":0},{"$f":"'→これより右側　健診センター作業シート'!$G900","v":0},{"$f":"'→これより右側　健診センター作業シート'!$H900","v":0}]
[{"$f":"'→これより右側　健診センター作業シート'!$D901","v":0},{"$f":"'→これより右側　健診センター作業シート'!$B901","v":0},{"$f":"'→これより右側　健診センター作業シート'!$I901","v":0},{"$f":"'→これより右側　健診センター作業シート'!$G901","v":0},{"$f":"'→これより右側　健診センター作業シート'!$H901","v":0}]
[{"$f":"'→これより右側　健診センター作業シート'!$D902","v":0},{"$f":"'→これより右側　健診センター作業シート'!$B902","v":0},{"$f":"'→これより右側　健診センター作業シート'!$I902","v":0},{"$f":"'→これより右側　健診センター作業シート'!$G902","v":0},{"$f":"'→これより右側　健診センター作業シート'!$H902","v":0}]
[{"$f":"'→これより右側　健診センター作業シート'!$D903","v":0},{"$f":"'→これより右側　健診センター作業シート'!$B903","v":0},{"$f":"'→これより右側　健診センター作業シート'!$I903","v":0},{"$f":"'→これより右側　健診センター作業シート'!$G903","v":0},{"$f":"'→これより右側　健診センター作業シート'!$H903","v":0}]
[{"$f":"'→これより右側　健診センター作業シート'!$D904","v":0},{"$f":"'→これより右側　健診センター作業シート'!$B904","v":0},{"$f":"'→これより右側　健診センター作業シート'!$I904","v":0},{"$f":"'→これより右側　健診センター作業シート'!$G904","v":0},{"$f":"'→これより右側　健診センター作業シート'!$H904","v":0}]
[{"$f":"'→これより右側　健診センター作業シート'!$D905","v":0},{"$f":"'→これより右側　健診センター作業シート'!$B905","v":0},{"$f":"'→これより右側　健診センター作業シート'!$I905","v":0},{"$f":"'→これより右側　健診センター作業シート'!$G905","v":0},{"$f":"'→これより右側　健診センター作業シート'!$H905","v":0}]
[{"$f":"'→これより右側　健診センター作業シート'!$D906","v":0},{"$f":"'→これより右側　健診センター作業シート'!$B906","v":0},{"$f":"'→これより右側　健診センター作業シート'!$I906","v":0},{"$f":"'→これより右側　健診センター作業シート'!$G906","v":0},{"$f":"'→これより右側　健診センター作業シート'!$H906","v":0}]
[{"$f":"'→これより右側　健診センター作業シート'!$D907","v":0},{"$f":"'→これより右側　健診センター作業シート'!$B907","v":0},{"$f":"'→これより右側　健診センター作業シート'!$I907","v":0},{"$f":"'→これより右側　健診センター作業シート'!$G907","v":0},{"$f":"'→これより右側　健診センター作業シート'!$H907","v":0}]
[{"$f":"'→これより右側　健診センター作業シート'!$D908","v":0},{"$f":"'→これより右側　健診センター作業シート'!$B908","v":0},{"$f":"'→これより右側　健診センター作業シート'!$I908","v":0},{"$f":"'→これより右側　健診センター作業シート'!$G908","v":0},{"$f":"'→これより右側　健診センター作業シート'!$H908","v":0}]
[{"$f":"'→これより右側　健診センター作業シート'!$D909","v":0},{"$f":"'→これより右側　健診センター作業シート'!$B909","v":0},{"$f":"'→これより右側　健診センター作業シート'!$I909","v":0},{"$f":"'→これより右側　健診センター作業シート'!$G909","v":0},{"$f":"'→これより右側　健診センター作業シート'!$H909","v":0}]
[{"$f":"'→これより右側　健診センター作業シート'!$D910","v":0},{"$f":"'→これより右側　健診センター作業シート'!$B910","v":0},{"$f":"'→これより右側　健診センター作業シート'!$I910","v":0},{"$f":"'→これより右側　健診センター作業シート'!$G910","v":0},{"$f":"'→これより右側　健診センター作業シート'!$H910","v":0}]
[{"$f":"'→これより右側　健診センター作業シート'!$D911","v":0},{"$f":"'→これより右側　健診センター作業シート'!$B911","v":0},{"$f":"'→これより右側　健診センター作業シート'!$I911","v":0},{"$f":"'→これより右側　健診センター作業シート'!$G911","v":0},{"$f":"'→これより右側　健診センター作業シート'!$H911","v":0}]
[{"$f":"'→これより右側　健診センター作業シート'!$D912","v":0},{"$f":"'→これより右側　健診センター作業シート'!$B912","v":0},{"$f":"'→これより右側　健診センター作業シート'!$I912","v":0},{"$f":"'→これより右側　健診センター作業シート'!$G912","v":0},{"$f":"'→これより右側　健診センター作業シート'!$H912","v":0}]
[{"$f":"'→これより右側　健診センター作業シート'!$D913","v":0},{"$f":"'→これより右側　健診センター作業シート'!$B913","v":0},{"$f":"'→これより右側　健診センター作業シート'!$I913","v":0},{"$f":"'→これより右側　健診センター作業シート'!$G913","v":0},{"$f":"'→これより右側　健診センター作業シート'!$H913","v":0}]
[{"$f":"'→これより右側　健診センター作業シート'!$D914","v":0},{"$f":"'→これより右側　健診センター作業シート'!$B914","v":0},{"$f":"'→これより右側　健診センター作業シート'!$I914","v":0},{"$f":"'→これより右側　健診センター作業シート'!$G914","v":0},{"$f":"'→これより右側　健診センター作業シート'!$H914","v":0}]
[{"$f":"'→これより右側　健診センター作業シート'!$D915","v":0},{"$f":"'→これより右側　健診センター作業シート'!$B915","v":0},{"$f":"'→これより右側　健診センター作業シート'!$I915","v":0},{"$f":"'→これより右側　健診センター作業シート'!$G915","v":0},{"$f":"'→これより右側　健診センター作業シート'!$H915","v":0}]
[{"$f":"'→これより右側　健診センター作業シート'!$D916","v":0},{"$f":"'→これより右側　健診センター作業シート'!$B916","v":0},{"$f":"'→これより右側　健診センター作業シート'!$I916","v":0},{"$f":"'→これより右側　健診センター作業シート'!$G916","v":0},{"$f":"'→これより右側　健診センター作業シート'!$H916","v":0}]
[{"$f":"'→これより右側　健診センター作業シート'!$D917","v":0},{"$f":"'→これより右側　健診センター作業シート'!$B917","v":0},{"$f":"'→これより右側　健診センター作業シート'!$I917","v":0},{"$f":"'→これより右側　健診センター作業シート'!$G917","v":0},{"$f":"'→これより右側　健診センター作業シート'!$H917","v":0}]
[{"$f":"'→これより右側　健診センター作業シート'!$D918","v":0},{"$f":"'→これより右側　健診センター作業シート'!$B918","v":0},{"$f":"'→これより右側　健診センター作業シート'!$I918","v":0},{"$f":"'→これより右側　健診センター作業シート'!$G918","v":0},{"$f":"'→これより右側　健診センター作業シート'!$H918","v":0}]
[{"$f":"'→これより右側　健診センター作業シート'!$D919","v":0},{"$f":"'→これより右側　健診センター作業シート'!$B919","v":0},{"$f":"'→これより右側　健診センター作業シート'!$I919","v":0},{"$f":"'→これより右側　健診センター作業シート'!$G919","v":0},{"$f":"'→これより右側　健診センター作業シート'!$H919","v":0}]
[{"$f":"'→これより右側　健診センター作業シート'!$D920","v":0},{"$f":"'→これより右側　健診センター作業シート'!$B920","v":0},{"$f":"'→これより右側　健診センター作業シート'!$I920","v":0},{"$f":"'→これより右側　健診センター作業シート'!$G920","v":0},{"$f":"'→これより右側　健診センター作業シート'!$H920","v":0}]
[{"$f":"'→これより右側　健診センター作業シート'!$D921","v":0},{"$f":"'→これより右側　健診センター作業シート'!$B921","v":0},{"$f":"'→これより右側　健診センター作業シート'!$I921","v":0},{"$f":"'→これより右側　健診センター作業シート'!$G921","v":0},{"$f":"'→これより右側　健診センター作業シート'!$H921","v":0}]
[{"$f":"'→これより右側　健診センター作業シート'!$D922","v":0},{"$f":"'→これより右側　健診センター作業シート'!$B922","v":0},{"$f":"'→これより右側　健診センター作業シート'!$I922","v":0},{"$f":"'→これより右側　健診センター作業シート'!$G922","v":0},{"$f":"'→これより右側　健診センター作業シート'!$H922","v":0}]
[{"$f":"'→これより右側　健診センター作業シート'!$D923","v":0},{"$f":"'→これより右側　健診センター作業シート'!$B923","v":0},{"$f":"'→これより右側　健診センター作業シート'!$I923","v":0},{"$f":"'→これより右側　健診センター作業シート'!$G923","v":0},{"$f":"'→これより右側　健診センター作業シート'!$H923","v":0}]
[{"$f":"'→これより右側　健診センター作業シート'!$D924","v":0},{"$f":"'→これより右側　健診センター作業シート'!$B924","v":0},{"$f":"'→これより右側　健診センター作業シート'!$I924","v":0},{"$f":"'→これより右側　健診センター作業シート'!$G924","v":0},{"$f":"'→これより右側　健診センター作業シート'!$H924","v":0}]
[{"$f":"'→これより右側　健診センター作業シート'!$D925","v":0},{"$f":"'→これより右側　健診センター作業シート'!$B925","v":0},{"$f":"'→これより右側　健診センター作業シート'!$I925","v":0},{"$f":"'→これより右側　健診センター作業シート'!$G925","v":0},{"$f":"'→これより右側　健診センター作業シート'!$H925","v":0}]
[{"$f":"'→これより右側　健診センター作業シート'!$D926","v":0},{"$f":"'→これより右側　健診センター作業シート'!$B926","v":0},{"$f":"'→これより右側　健診センター作業シート'!$I926","v":0},{"$f":"'→これより右側　健診センター作業シート'!$G926","v":0},{"$f":"'→これより右側　健診センター作業シート'!$H926","v":0}]
[{"$f":"'→これより右側　健診センター作業シート'!$D927","v":0},{"$f":"'→これより右側　健診センター作業シート'!$B927","v":0},{"$f":"'→これより右側　健診センター作業シート'!$I927","v":0},{"$f":"'→これより右側　健診センター作業シート'!$G927","v":0},{"$f":"'→これより右側　健診センター作業シート'!$H927","v":0}]
[{"$f":"'→これより右側　健診センター作業シート'!$D928","v":0},{"$f":"'→これより右側　健診センター作業シート'!$B928","v":0},{"$f":"'→これより右側　健診センター作業シート'!$I928","v":0},{"$f":"'→これより右側　健診センター作業シート'!$G928","v":0},{"$f":"'→これより右側　健診センター作業シート'!$H928","v":0}]
[{"$f":"'→これより右側　健診センター作業シート'!$D929","v":0},{"$f":"'→これより右側　健診センター作業シート'!$B929","v":0},{"$f":"'→これより右側　健診センター作業シート'!$I929","v":0},{"$f":"'→これより右側　健診センター作業シート'!$G929","v":0},{"$f":"'→これより右側　健診センター作業シート'!$H929","v":0}]
[{"$f":"'→これより右側　健診センター作業シート'!$D930","v":0},{"$f":"'→これより右側　健診センター作業シート'!$B930","v":0},{"$f":"'→これより右側　健診センター作業シート'!$I930","v":0},{"$f":"'→これより右側　健診センター作業シート'!$G930","v":0},{"$f":"'→これより右側　健診センター作業シート'!$H930","v":0}]
[{"$f":"'→これより右側　健診センター作業シート'!$D931","v":0},{"$f":"'→これより右側　健診センター作業シート'!$B931","v":0},{"$f":"'→これより右側　健診センター作業シート'!$I931","v":0},{"$f":"'→これより右側　健診センター作業シート'!$G931","v":0},{"$f":"'→これより右側　健診センター作業シート'!$H931","v":0}]
[{"$f":"'→これより右側　健診センター作業シート'!$D932","v":0},{"$f":"'→これより右側　健診センター作業シート'!$B932","v":0},{"$f":"'→これより右側　健診センター作業シート'!$I932","v":0},{"$f":"'→これより右側　健診センター作業シート'!$G932","v":0},{"$f":"'→これより右側　健診センター作業シート'!$H932","v":0}]
[{"$f":"'→これより右側　健診センター作業シート'!$D933","v":0},{"$f":"'→これより右側　健診センター作業シート'!$B933","v":0},{"$f":"'→これより右側　健診センター作業シート'!$I933","v":0},{"$f":"'→これより右側　健診センター作業シート'!$G933","v":0},{"$f":"'→これより右側　健診センター作業シート'!$H933","v":0}]
[{"$f":"'→これより右側　健診センター作業シート'!$D934","v":0},{"$f":"'→これより右側　健診センター作業シート'!$B934","v":0},{"$f":"'→これより右側　健診センター作業シート'!$I934","v":0},{"$f":"'→これより右側　健診センター作業シート'!$G934","v":0},{"$f":"'→これより右側　健診センター作業シート'!$H934","v":0}]
[{"$f":"'→これより右側　健診センター作業シート'!$D935","v":0},{"$f":"'→これより右側　健診センター作業シート'!$B935","v":0},{"$f":"'→これより右側　健診センター作業シート'!$I935","v":0},{"$f":"'→これより右側　健診センター作業シート'!$G935","v":0},{"$f":"'→これより右側　健診センター作業シート'!$H935","v":0}]
[{"$f":"'→これより右側　健診センター作業シート'!$D936","v":0},{"$f":"'→これより右側　健診センター作業シート'!$B936","v":0},{"$f":"'→これより右側　健診センター作業シート'!$I936","v":0},{"$f":"'→これより右側　健診センター作業シート'!$G936","v":0},{"$f":"'→これより右側　健診センター作業シート'!$H936","v":0}]
[{"$f":"'→これより右側　健診センター作業シート'!$D937","v":0},{"$f":"'→これより右側　健診センター作業シート'!$B937","v":0},{"$f":"'→これより右側　健診センター作業シート'!$I937","v":0},{"$f":"'→これより右側　健診センター作業シート'!$G937","v":0},{"$f":"'→これより右側　健診センター作業シート'!$H937","v":0}]
[{"$f":"'→これより右側　健診センター作業シート'!$D938","v":0},{"$f":"'→これより右側　健診センター作業シート'!$B938","v":0},{"$f":"'→これより右側　健診センター作業シート'!$I938","v":0},{"$f":"'→これより右側　健診センター作業シート'!$G938","v":0},{"$f":"'→これより右側　健診センター作業シート'!$H938","v":0}]
[{"$f":"'→これより右側　健診センター作業シート'!$D939","v":0},{"$f":"'→これより右側　健診センター作業シート'!$B939","v":0},{"$f":"'→これより右側　健診センター作業シート'!$I939","v":0},{"$f":"'→これより右側　健診センター作業シート'!$G939","v":0},{"$f":"'→これより右側　健診センター作業シート'!$H939","v":0}]
[{"$f":"'→これより右側　健診センター作業シート'!$D940","v":0},{"$f":"'→これより右側　健診センター作業シート'!$B940","v":0},{"$f":"'→これより右側　健診センター作業シート'!$I940","v":0},{"$f":"'→これより右側　健診センター作業シート'!$G940","v":0},{"$f":"'→これより右側　健診センター作業シート'!$H940","v":0}]
[{"$f":"'→これより右側　健診センター作業シート'!$D941","v":0},{"$f":"'→これより右側　健診センター作業シート'!$B941","v":0},{"$f":"'→これより右側　健診センター作業シート'!$I941","v":0},{"$f":"'→これより右側　健診センター作業シート'!$G941","v":0},{"$f":"'→これより右側　健診センター作業シート'!$H941","v":0}]
[{"$f":"'→これより右側　健診センター作業シート'!$D942","v":0},{"$f":"'→これより右側　健診センター作業シート'!$B942","v":0},{"$f":"'→これより右側　健診センター作業シート'!$I942","v":0},{"$f":"'→これより右側　健診センター作業シート'!$G942","v":0},{"$f":"'→これより右側　健診センター作業シート'!$H942","v":0}]
[{"$f":"'→これより右側　健診センター作業シート'!$D943","v":0},{"$f":"'→これより右側　健診センター作業シート'!$B943","v":0},{"$f":"'→これより右側　健診センター作業シート'!$I943","v":0},{"$f":"'→これより右側　健診センター作業シート'!$G943","v":0},{"$f":"'→これより右側　健診センター作業シート'!$H943","v":0}]
[{"$f":"'→これより右側　健診センター作業シート'!$D944","v":0},{"$f":"'→これより右側　健診センター作業シート'!$B944","v":0},{"$f":"'→これより右側　健診センター作業シート'!$I944","v":0},{"$f":"'→これより右側　健診センター作業シート'!$G944","v":0},{"$f":"'→これより右側　健診センター作業シート'!$H944","v":0}]
[{"$f":"'→これより右側　健診センター作業シート'!$D945","v":0},{"$f":"'→これより右側　健診センター作業シート'!$B945","v":0},{"$f":"'→これより右側　健診センター作業シート'!$I945","v":0},{"$f":"'→これより右側　健診センター作業シート'!$G945","v":0},{"$f":"'→これより右側　健診センター作業シート'!$H945","v":0}]
[{"$f":"'→これより右側　健診センター作業シート'!$D946","v":0},{"$f":"'→これより右側　健診センター作業シート'!$B946","v":0},{"$f":"'→これより右側　健診センター作業シート'!$I946","v":0},{"$f":"'→これより右側　健診センター作業シート'!$G946","v":0},{"$f":"'→これより右側　健診センター作業シート'!$H946","v":0}]
[{"$f":"'→これより右側　健診センター作業シート'!$D947","v":0},{"$f":"'→これより右側　健診センター作業シート'!$B947","v":0},{"$f":"'→これより右側　健診センター作業シート'!$I947","v":0},{"$f":"'→これより右側　健診センター作業シート'!$G947","v":0},{"$f":"'→これより右側　健診センター作業シート'!$H947","v":0}]
[{"$f":"'→これより右側　健診センター作業シート'!$D948","v":0},{"$f":"'→これより右側　健診センター作業シート'!$B948","v":0},{"$f":"'→これより右側　健診センター作業シート'!$I948","v":0},{"$f":"'→これより右側　健診センター作業シート'!$G948","v":0},{"$f":"'→これより右側　健診センター作業シート'!$H948","v":0}]
[{"$f":"'→これより右側　健診センター作業シート'!$D949","v":0},{"$f":"'→これより右側　健診センター作業シート'!$B949","v":0},{"$f":"'→これより右側　健診センター作業シート'!$I949","v":0},{"$f":"'→これより右側　健診センター作業シート'!$G949","v":0},{"$f":"'→これより右側　健診センター作業シート'!$H949","v":0}]
[{"$f":"'→これより右側　健診センター作業シート'!$D950","v":0},{"$f":"'→これより右側　健診センター作業シート'!$B950","v":0},{"$f":"'→これより右側　健診センター作業シート'!$I950","v":0},{"$f":"'→これより右側　健診センター作業シート'!$G950","v":0},{"$f":"'→これより右側　健診センター作業シート'!$H950","v":0}]
[{"$f":"'→これより右側　健診センター作業シート'!$D951","v":0},{"$f":"'→これより右側　健診センター作業シート'!$B951","v":0},{"$f":"'→これより右側　健診センター作業シート'!$I951","v":0},{"$f":"'→これより右側　健診センター作業シート'!$G951","v":0},{"$f":"'→これより右側　健診センター作業シート'!$H951","v":0}]
[{"$f":"'→これより右側　健診センター作業シート'!$D952","v":0},{"$f":"'→これより右側　健診センター作業シート'!$B952","v":0},{"$f":"'→これより右側　健診センター作業シート'!$I952","v":0},{"$f":"'→これより右側　健診センター作業シート'!$G952","v":0},{"$f":"'→これより右側　健診センター作業シート'!$H952","v":0}]
[{"$f":"'→これより右側　健診センター作業シート'!$D953","v":0},{"$f":"'→これより右側　健診センター作業シート'!$B953","v":0},{"$f":"'→これより右側　健診センター作業シート'!$I953","v":0},{"$f":"'→これより右側　健診センター作業シート'!$G953","v":0},{"$f":"'→これより右側　健診センター作業シート'!$H953","v":0}]
[{"$f":"'→これより右側　健診センター作業シート'!$D954","v":0},{"$f":"'→これより右側　健診センター作業シート'!$B954","v":0},{"$f":"'→これより右側　健診センター作業シート'!$I954","v":0},{"$f":"'→これより右側　健診センター作業シート'!$G954","v":0},{"$f":"'→これより右側　健診センター作業シート'!$H954","v":0}]
[{"$f":"'→これより右側　健診センター作業シート'!$D955","v":0},{"$f":"'→これより右側　健診センター作業シート'!$B955","v":0},{"$f":"'→これより右側　健診センター作業シート'!$I955","v":0},{"$f":"'→これより右側　健診センター作業シート'!$G955","v":0},{"$f":"'→これより右側　健診センター作業シート'!$H955","v":0}]
[{"$f":"'→これより右側　健診センター作業シート'!$D956","v":0},{"$f":"'→これより右側　健診センター作業シート'!$B956","v":0},{"$f":"'→これより右側　健診センター作業シート'!$I956","v":0},{"$f":"'→これより右側　健診センター作業シート'!$G956","v":0},{"$f":"'→これより右側　健診センター作業シート'!$H956","v":0}]
[{"$f":"'→これより右側　健診センター作業シート'!$D957","v":0},{"$f":"'→これより右側　健診センター作業シート'!$B957","v":0},{"$f":"'→これより右側　健診センター作業シート'!$I957","v":0},{"$f":"'→これより右側　健診センター作業シート'!$G957","v":0},{"$f":"'→これより右側　健診センター作業シート'!$H957","v":0}]
[{"$f":"'→これより右側　健診センター作業シート'!$D958","v":0},{"$f":"'→これより右側　健診センター作業シート'!$B958","v":0},{"$f":"'→これより右側　健診センター作業シート'!$I958","v":0},{"$f":"'→これより右側　健診センター作業シート'!$G958","v":0},{"$f":"'→これより右側　健診センター作業シート'!$H958","v":0}]
[{"$f":"'→これより右側　健診センター作業シート'!$D959","v":0},{"$f":"'→これより右側　健診センター作業シート'!$B959","v":0},{"$f":"'→これより右側　健診センター作業シート'!$I959","v":0},{"$f":"'→これより右側　健診センター作業シート'!$G959","v":0},{"$f":"'→これより右側　健診センター作業シート'!$H959","v":0}]
[{"$f":"'→これより右側　健診センター作業シート'!$D960","v":0},{"$f":"'→これより右側　健診センター作業シート'!$B960","v":0},{"$f":"'→これより右側　健診センター作業シート'!$I960","v":0},{"$f":"'→これより右側　健診センター作業シート'!$G960","v":0},{"$f":"'→これより右側　健診センター作業シート'!$H960","v":0}]
[{"$f":"'→これより右側　健診センター作業シート'!$D961","v":0},{"$f":"'→これより右側　健診センター作業シート'!$B961","v":0},{"$f":"'→これより右側　健診センター作業シート'!$I961","v":0},{"$f":"'→これより右側　健診センター作業シート'!$G961","v":0},{"$f":"'→これより右側　健診センター作業シート'!$H961","v":0}]
[{"$f":"'→これより右側　健診センター作業シート'!$D962","v":0},{"$f":"'→これより右側　健診センター作業シート'!$B962","v":0},{"$f":"'→これより右側　健診センター作業シート'!$I962","v":0},{"$f":"'→これより右側　健診センター作業シート'!$G962","v":0},{"$f":"'→これより右側　健診センター作業シート'!$H962","v":0}]
[{"$f":"'→これより右側　健診センター作業シート'!$D963","v":0},{"$f":"'→これより右側　健診センター作業シート'!$B963","v":0},{"$f":"'→これより右側　健診センター作業シート'!$I963","v":0},{"$f":"'→これより右側　健診センター作業シート'!$G963","v":0},{"$f":"'→これより右側　健診センター作業シート'!$H963","v":0}]
[{"$f":"'→これより右側　健診センター作業シート'!$D964","v":0},{"$f":"'→これより右側　健診センター作業シート'!$B964","v":0},{"$f":"'→これより右側　健診センター作業シート'!$I964","v":0},{"$f":"'→これより右側　健診センター作業シート'!$G964","v":0},{"$f":"'→これより右側　健診センター作業シート'!$H964","v":0}]
[{"$f":"'→これより右側　健診センター作業シート'!$D965","v":0},{"$f":"'→これより右側　健診センター作業シート'!$B965","v":0},{"$f":"'→これより右側　健診センター作業シート'!$I965","v":0},{"$f":"'→これより右側　健診センター作業シート'!$G965","v":0},{"$f":"'→これより右側　健診センター作業シート'!$H965","v":0}]
[{"$f":"'→これより右側　健診センター作業シート'!$D966","v":0},{"$f":"'→これより右側　健診センター作業シート'!$B966","v":0},{"$f":"'→これより右側　健診センター作業シート'!$I966","v":0},{"$f":"'→これより右側　健診センター作業シート'!$G966","v":0},{"$f":"'→これより右側　健診センター作業シート'!$H966","v":0}]
[{"$f":"'→これより右側　健診センター作業シート'!$D967","v":0},{"$f":"'→これより右側　健診センター作業シート'!$B967","v":0},{"$f":"'→これより右側　健診センター作業シート'!$I967","v":0},{"$f":"'→これより右側　健診センター作業シート'!$G967","v":0},{"$f":"'→これより右側　健診センター作業シート'!$H967","v":0}]
[{"$f":"'→これより右側　健診センター作業シート'!$D968","v":0},{"$f":"'→これより右側　健診センター作業シート'!$B968","v":0},{"$f":"'→これより右側　健診センター作業シート'!$I968","v":0},{"$f":"'→これより右側　健診センター作業シート'!$G968","v":0},{"$f":"'→これより右側　健診センター作業シート'!$H968","v":0}]
[{"$f":"'→これより右側　健診センター作業シート'!$D969","v":0},{"$f":"'→これより右側　健診センター作業シート'!$B969","v":0},{"$f":"'→これより右側　健診センター作業シート'!$I969","v":0},{"$f":"'→これより右側　健診センター作業シート'!$G969","v":0},{"$f":"'→これより右側　健診センター作業シート'!$H969","v":0}]
[{"$f":"'→これより右側　健診センター作業シート'!$D970","v":0},{"$f":"'→これより右側　健診センター作業シート'!$B970","v":0},{"$f":"'→これより右側　健診センター作業シート'!$I970","v":0},{"$f":"'→これより右側　健診センター作業シート'!$G970","v":0},{"$f":"'→これより右側　健診センター作業シート'!$H970","v":0}]
[{"$f":"'→これより右側　健診センター作業シート'!$D971","v":0},{"$f":"'→これより右側　健診センター作業シート'!$B971","v":0},{"$f":"'→これより右側　健診センター作業シート'!$I971","v":0},{"$f":"'→これより右側　健診センター作業シート'!$G971","v":0},{"$f":"'→これより右側　健診センター作業シート'!$H971","v":0}]
[{"$f":"'→これより右側　健診センター作業シート'!$D972","v":0},{"$f":"'→これより右側　健診センター作業シート'!$B972","v":0},{"$f":"'→これより右側　健診センター作業シート'!$I972","v":0},{"$f":"'→これより右側　健診センター作業シート'!$G972","v":0},{"$f":"'→これより右側　健診センター作業シート'!$H972","v":0}]
[{"$f":"'→これより右側　健診センター作業シート'!$D973","v":0},{"$f":"'→これより右側　健診センター作業シート'!$B973","v":0},{"$f":"'→これより右側　健診センター作業シート'!$I973","v":0},{"$f":"'→これより右側　健診センター作業シート'!$G973","v":0},{"$f":"'→これより右側　健診センター作業シート'!$H973","v":0}]
[{"$f":"'→これより右側　健診センター作業シート'!$D974","v":0},{"$f":"'→これより右側　健診センター作業シート'!$B974","v":0},{"$f":"'→これより右側　健診センター作業シート'!$I974","v":0},{"$f":"'→これより右側　健診センター作業シート'!$G974","v":0},{"$f":"'→これより右側　健診センター作業シート'!$H974","v":0}]
[{"$f":"'→これより右側　健診センター作業シート'!$D975","v":0},{"$f":"'→これより右側　健診センター作業シート'!$B975","v":0},{"$f":"'→これより右側　健診センター作業シート'!$I975","v":0},{"$f":"'→これより右側　健診センター作業シート'!$G975","v":0},{"$f":"'→これより右側　健診センター作業シート'!$H975","v":0}]
[{"$f":"'→これより右側　健診センター作業シート'!$D976","v":0},{"$f":"'→これより右側　健診センター作業シート'!$B976","v":0},{"$f":"'→これより右側　健診センター作業シート'!$I976","v":0},{"$f":"'→これより右側　健診センター作業シート'!$G976","v":0},{"$f":"'→これより右側　健診センター作業シート'!$H976","v":0}]
[{"$f":"'→これより右側　健診センター作業シート'!$D977","v":0},{"$f":"'→これより右側　健診センター作業シート'!$B977","v":0},{"$f":"'→これより右側　健診センター作業シート'!$I977","v":0},{"$f":"'→これより右側　健診センター作業シート'!$G977","v":0},{"$f":"'→これより右側　健診センター作業シート'!$H977","v":0}]
[{"$f":"'→これより右側　健診センター作業シート'!$D978","v":0},{"$f":"'→これより右側　健診センター作業シート'!$B978","v":0},{"$f":"'→これより右側　健診センター作業シート'!$I978","v":0},{"$f":"'→これより右側　健診センター作業シート'!$G978","v":0},{"$f":"'→これより右側　健診センター作業シート'!$H978","v":0}]
[{"$f":"'→これより右側　健診センター作業シート'!$D979","v":0},{"$f":"'→これより右側　健診センター作業シート'!$B979","v":0},{"$f":"'→これより右側　健診センター作業シート'!$I979","v":0},{"$f":"'→これより右側　健診センター作業シート'!$G979","v":0},{"$f":"'→これより右側　健診センター作業シート'!$H979","v":0}]
[{"$f":"'→これより右側　健診センター作業シート'!$D980","v":0},{"$f":"'→これより右側　健診センター作業シート'!$B980","v":0},{"$f":"'→これより右側　健診センター作業シート'!$I980","v":0},{"$f":"'→これより右側　健診センター作業シート'!$G980","v":0},{"$f":"'→これより右側　健診センター作業シート'!$H980","v":0}]
[{"$f":"'→これより右側　健診センター作業シート'!$D981","v":0},{"$f":"'→これより右側　健診センター作業シート'!$B981","v":0},{"$f":"'→これより右側　健診センター作業シート'!$I981","v":0},{"$f":"'→これより右側　健診センター作業シート'!$G981","v":0},{"$f":"'→これより右側　健診センター作業シート'!$H981","v":0}]
[{"$f":"'→これより右側　健診センター作業シート'!$D982","v":0},{"$f":"'→これより右側　健診センター作業シート'!$B982","v":0},{"$f":"'→これより右側　健診センター作業シート'!$I982","v":0},{"$f":"'→これより右側　健診センター作業シート'!$G982","v":0},{"$f":"'→これより右側　健診センター作業シート'!$H982","v":0}]
[{"$f":"'→これより右側　健診センター作業シート'!$D983","v":0},{"$f":"'→これより右側　健診センター作業シート'!$B983","v":0},{"$f":"'→これより右側　健診センター作業シート'!$I983","v":0},{"$f":"'→これより右側　健診センター作業シート'!$G983","v":0},{"$f":"'→これより右側　健診センター作業シート'!$H983","v":0}]
[{"$f":"'→これより右側　健診センター作業シート'!$D984","v":0},{"$f":"'→これより右側　健診センター作業シート'!$B984","v":0},{"$f":"'→これより右側　健診センター作業シート'!$I984","v":0},{"$f":"'→これより右側　健診センター作業シート'!$G984","v":0},{"$f":"'→これより右側　健診センター作業シート'!$H984","v":0}]
[{"$f":"'→これより右側　健診センター作業シート'!$D985","v":0},{"$f":"'→これより右側　健診センター作業シート'!$B985","v":0},{"$f":"'→これより右側　健診センター作業シート'!$I985","v":0},{"$f":"'→これより右側　健診センター作業シート'!$G985","v":0},{"$f":"'→これより右側　健診センター作業シート'!$H985","v":0}]
[{"$f":"'→これより右側　健診センター作業シート'!$D986","v":0},{"$f":"'→これより右側　健診センター作業シート'!$B986","v":0},{"$f":"'→これより右側　健診センター作業シート'!$I986","v":0},{"$f":"'→これより右側　健診センター作業シート'!$G986","v":0},{"$f":"'→これより右側　健診センター作業シート'!$H986","v":0}]
[{"$f":"'→これより右側　健診センター作業シート'!$D987","v":0},{"$f":"'→これより右側　健診センター作業シート'!$B987","v":0},{"$f":"'→これより右側　健診センター作業シート'!$I987","v":0},{"$f":"'→これより右側　健診センター作業シート'!$G987","v":0},{"$f":"'→これより右側　健診センター作業シート'!$H987","v":0}]
[{"$f":"'→これより右側　健診センター作業シート'!$D988","v":0},{"$f":"'→これより右側　健診センター作業シート'!$B988","v":0},{"$f":"'→これより右側　健診センター作業シート'!$I988","v":0},{"$f":"'→これより右側　健診センター作業シート'!$G988","v":0},{"$f":"'→これより右側　健診センター作業シート'!$H988","v":0}]
[{"$f":"'→これより右側　健診センター作業シート'!$D989","v":0},{"$f":"'→これより右側　健診センター作業シート'!$B989","v":0},{"$f":"'→これより右側　健診センター作業シート'!$I989","v":0},{"$f":"'→これより右側　健診センター作業シート'!$G989","v":0},{"$f":"'→これより右側　健診センター作業シート'!$H989","v":0}]
[{"$f":"'→これより右側　健診センター作業シート'!$D990","v":0},{"$f":"'→これより右側　健診センター作業シート'!$B990","v":0},{"$f":"'→これより右側　健診センター作業シート'!$I990","v":0},{"$f":"'→これより右側　健診センター作業シート'!$G990","v":0},{"$f":"'→これより右側　健診センター作業シート'!$H990","v":0}]
[{"$f":"'→これより右側　健診センター作業シート'!$D991","v":0},{"$f":"'→これより右側　健診センター作業シート'!$B991","v":0},{"$f":"'→これより右側　健診センター作業シート'!$I991","v":0},{"$f":"'→これより右側　健診センター作業シート'!$G991","v":0},{"$f":"'→これより右側　健診センター作業シート'!$H991","v":0}]
[{"$f":"'→これより右側　健診センター作業シート'!$D992","v":0},{"$f":"'→これより右側　健診センター作業シート'!$B992","v":0},{"$f":"'→これより右側　健診センター作業シート'!$I992","v":0},{"$f":"'→これより右側　健診センター作業シート'!$G992","v":0},{"$f":"'→これより右側　健診センター作業シート'!$H992","v":0}]
[{"$f":"'→これより右側　健診センター作業シート'!$D993","v":0},{"$f":"'→これより右側　健診センター作業シート'!$B993","v":0},{"$f":"'→これより右側　健診センター作業シート'!$I993","v":0},{"$f":"'→これより右側　健診センター作業シート'!$G993","v":0},{"$f":"'→これより右側　健診センター作業シート'!$H993","v":0}]
[{"$f":"'→これより右側　健診センター作業シート'!$D994","v":0},{"$f":"'→これより右側　健診センター作業シート'!$B994","v":0},{"$f":"'→これより右側　健診センター作業シート'!$I994","v":0},{"$f":"'→これより右側　健診センター作業シート'!$G994","v":0},{"$f":"'→これより右側　健診センター作業シート'!$H994","v":0}]
[{"$f":"'→これより右側　健診センター作業シート'!$D995","v":0},{"$f":"'→これより右側　健診センター作業シート'!$B995","v":0},{"$f":"'→これより右側　健診センター作業シート'!$I995","v":0},{"$f":"'→これより右側　健診センター作業シート'!$G995","v":0},{"$f":"'→これより右側　健診センター作業シート'!$H995","v":0}]
[{"$f":"'→これより右側　健診センター作業シート'!$D996","v":0},{"$f":"'→これより右側　健診センター作業シート'!$B996","v":0},{"$f":"'→これより右側　健診センター作業シート'!$I996","v":0},{"$f":"'→これより右側　健診センター作業シート'!$G996","v":0},{"$f":"'→これより右側　健診センター作業シート'!$H996","v":0}]
[{"$f":"'→これより右側　健診センター作業シート'!$D997","v":0},{"$f":"'→これより右側　健診センター作業シート'!$B997","v":0},{"$f":"'→これより右側　健診センター作業シート'!$I997","v":0},{"$f":"'→これより右側　健診センター作業シート'!$G997","v":0},{"$f":"'→これより右側　健診センター作業シート'!$H997","v":0}]
[{"$f":"'→これより右側　健診センター作業シート'!$D998","v":0},{"$f":"'→これより右側　健診センター作業シート'!$B998","v":0},{"$f":"'→これより右側　健診センター作業シート'!$I998","v":0},{"$f":"'→これより右側　健診センター作業シート'!$G998","v":0},{"$f":"'→これより右側　健診センター作業シート'!$H998","v":0}]
[{"$f":"'→これより右側　健診センター作業シート'!$D999","v":0},{"$f":"'→これより右側　健診センター作業シート'!$B999","v":0},{"$f":"'→これより右側　健診センター作業シート'!$I999","v":0},{"$f":"'→これより右側　健診センター作業シート'!$G999","v":0},{"$f":"'→これより右側　健診センター作業シート'!$H999","v":0}]
[{"$f":"'→これより右側　健診センター作業シート'!$D1000","v":0},{"$f":"'→これより右側　健診センター作業シート'!$B1000","v":0},{"$f":"'→これより右側　健診センター作業シート'!$I1000","v":0},{"$f":"'→これより右側　健診センター作業シート'!$G1000","v":0},{"$f":"'→これより右側　健診センター作業シート'!$H1000","v":0}]
[{"$f":"'→これより右側　健診センター作業シート'!$D1001","v":0},{"$f":"'→これより右側　健診センター作業シート'!$B1001","v":0},{"$f":"'→これより右側　健診センター作業シート'!$I1001","v":0},{"$f":"'→これより右側　健診センター作業シート'!$G1001","v":0},{"$f":"'→これより右側　健診センター作業シート'!$H1001","v":0}]
[{"$f":"'→これより右側　健診センター作業シート'!$D1002","v":0},{"$f":"'→これより右側　健診センター作業シート'!$B1002","v":0},{"$f":"'→これより右側　健診センター作業シート'!$I1002","v":0},{"$f":"'→これより右側　健診センター作業シート'!$G1002","v":0},{"$f":"'→これより右側　健診センター作業シート'!$H1002","v":0}]
[{"$f":"'→これより右側　健診センター作業シート'!$D1003","v":0},{"$f":"'→これより右側　健診センター作業シート'!$B1003","v":0},{"$f":"'→これより右側　健診センター作業シート'!$I1003","v":0},{"$f":"'→これより右側　健診センター作業シート'!$G1003","v":0},{"$f":"'→これより右側　健診センター作業シート'!$H1003","v":0}]
[{"$f":"'→これより右側　健診センター作業シート'!$D1004","v":0},{"$f":"'→これより右側　健診センター作業シート'!$B1004","v":0},{"$f":"'→これより右側　健診センター作業シート'!$I1004","v":0},{"$f":"'→これより右側　健診センター作業シート'!$G1004","v":0},{"$f":"'→これより右側　健診センター作業シート'!$H1004","v":0}]
[{"$f":"'→これより右側　健診センター作業シート'!$D1005","v":0},{"$f":"'→これより右側　健診センター作業シート'!$B1005","v":0},{"$f":"'→これより右側　健診センター作業シート'!$I1005","v":0},{"$f":"'→これより右側　健診センター作業シート'!$G1005","v":0},{"$f":"'→これより右側　健診センター作業シート'!$H1005","v":0}]
[{"$f":"'→これより右側　健診センター作業シート'!$D1006","v":0},{"$f":"'→これより右側　健診センター作業シート'!$B1006","v":0},{"$f":"'→これより右側　健診センター作業シート'!$I1006","v":0},{"$f":"'→これより右側　健診センター作業シート'!$G1006","v":0},{"$f":"'→これより右側　健診センター作業シート'!$H1006","v":0}]
[{"$f":"'→これより右側　健診センター作業シート'!$D1007","v":0},{"$f":"'→これより右側　健診センター作業シート'!$B1007","v":0},{"$f":"'→これより右側　健診センター作業シート'!$I1007","v":0},{"$f":"'→これより右側　健診センター作業シート'!$G1007","v":0},{"$f":"'→これより右側　健診センター作業シート'!$H1007","v":0}]
[{"$f":"'→これより右側　健診センター作業シート'!$D1008","v":0},{"$f":"'→これより右側　健診センター作業シート'!$B1008","v":0},{"$f":"'→これより右側　健診センター作業シート'!$I1008","v":0},{"$f":"'→これより右側　健診センター作業シート'!$G1008","v":0},{"$f":"'→これより右側　健診センター作業シート'!$H1008","v":0}]
[{"$f":"'→これより右側　健診センター作業シート'!$D1009","v":0},{"$f":"'→これより右側　健診センター作業シート'!$B1009","v":0},{"$f":"'→これより右側　健診センター作業シート'!$I1009","v":0},{"$f":"'→これより右側　健診センター作業シート'!$G1009","v":0},{"$f":"'→これより右側　健診センター作業シート'!$H1009","v":0}]
[{"$f":"'→これより右側　健診センター作業シート'!$D1010","v":0},{"$f":"'→これより右側　健診センター作業シート'!$B1010","v":0},{"$f":"'→これより右側　健診センター作業シート'!$I1010","v":0},{"$f":"'→これより右側　健診センター作業シート'!$G1010","v":0},{"$f":"'→これより右側　健診センター作業シート'!$H1010","v":0}]
[{"$f":"'→これより右側　健診センター作業シート'!$D1011","v":0},{"$f":"'→これより右側　健診センター作業シート'!$B1011","v":0},{"$f":"'→これより右側　健診センター作業シート'!$I1011","v":0},{"$f":"'→これより右側　健診センター作業シート'!$G1011","v":0},{"$f":"'→これより右側　健診センター作業シート'!$H1011","v":0}]
[{"$f":"'→これより右側　健診センター作業シート'!$D1012","v":0},{"$f":"'→これより右側　健診センター作業シート'!$B1012","v":0},{"$f":"'→これより右側　健診センター作業シート'!$I1012","v":0},{"$f":"'→これより右側　健診センター作業シート'!$G1012","v":0},{"$f":"'→これより右側　健診センター作業シート'!$H1012","v":0}]
[{"$f":"'→これより右側　健診センター作業シート'!$D1013","v":0},{"$f":"'→これより右側　健診センター作業シート'!$B1013","v":0},{"$f":"'→これより右側　健診センター作業シート'!$I1013","v":0},{"$f":"'→これより右側　健診センター作業シート'!$G1013","v":0},{"$f":"'→これより右側　健診センター作業シート'!$H1013","v":0}]
[{"$f":"'→これより右側　健診センター作業シート'!$D1014","v":0},{"$f":"'→これより右側　健診センター作業シート'!$B1014","v":0},{"$f":"'→これより右側　健診センター作業シート'!$I1014","v":0},{"$f":"'→これより右側　健診センター作業シート'!$G1014","v":0},{"$f":"'→これより右側　健診センター作業シート'!$H1014","v":0}]
[{"$f":"'→これより右側　健診センター作業シート'!$D1015","v":0},{"$f":"'→これより右側　健診センター作業シート'!$B1015","v":0},{"$f":"'→これより右側　健診センター作業シート'!$I1015","v":0},{"$f":"'→これより右側　健診センター作業シート'!$G1015","v":0},{"$f":"'→これより右側　健診センター作業シート'!$H1015","v":0}]
[{"$f":"'→これより右側　健診センター作業シート'!$D1016","v":0},{"$f":"'→これより右側　健診センター作業シート'!$B1016","v":0},{"$f":"'→これより右側　健診センター作業シート'!$I1016","v":0},{"$f":"'→これより右側　健診センター作業シート'!$G1016","v":0},{"$f":"'→これより右側　健診センター作業シート'!$H1016","v":0}]
[{"$f":"'→これより右側　健診センター作業シート'!$D1017","v":0},{"$f":"'→これより右側　健診センター作業シート'!$B1017","v":0},{"$f":"'→これより右側　健診センター作業シート'!$I1017","v":0},{"$f":"'→これより右側　健診センター作業シート'!$G1017","v":0},{"$f":"'→これより右側　健診センター作業シート'!$H1017","v":0}]
[{"$f":"'→これより右側　健診センター作業シート'!$D1018","v":0},{"$f":"'→これより右側　健診センター作業シート'!$B1018","v":0},{"$f":"'→これより右側　健診センター作業シート'!$I1018","v":0},{"$f":"'→これより右側　健診センター作業シート'!$G1018","v":0},{"$f":"'→これより右側　健診センター作業シート'!$H1018","v":0}]
[{"$f":"'→これより右側　健診センター作業シート'!$D1019","v":0},{"$f":"'→これより右側　健診センター作業シート'!$B1019","v":0},{"$f":"'→これより右側　健診センター作業シート'!$I1019","v":0},{"$f":"'→これより右側　健診センター作業シート'!$G1019","v":0},{"$f":"'→これより右側　健診センター作業シート'!$H1019","v":0}]
[{"$f":"'→これより右側　健診センター作業シート'!$D1020","v":0},{"$f":"'→これより右側　健診センター作業シート'!$B1020","v":0},{"$f":"'→これより右側　健診センター作業シート'!$I1020","v":0},{"$f":"'→これより右側　健診センター作業シート'!$G1020","v":0},{"$f":"'→これより右側　健診センター作業シート'!$H1020","v":0}]
[{"$f":"'→これより右側　健診センター作業シート'!$D1021","v":0},{"$f":"'→これより右側　健診センター作業シート'!$B1021","v":0},{"$f":"'→これより右側　健診センター作業シート'!$I1021","v":0},{"$f":"'→これより右側　健診センター作業シート'!$G1021","v":0},{"$f":"'→これより右側　健診センター作業シート'!$H1021","v":0}]
[{"$f":"'→これより右側　健診センター作業シート'!$D1022","v":0},{"$f":"'→これより右側　健診センター作業シート'!$B1022","v":0},{"$f":"'→これより右側　健診センター作業シート'!$I1022","v":0},{"$f":"'→これより右側　健診センター作業シート'!$G1022","v":0},{"$f":"'→これより右側　健診センター作業シート'!$H1022","v":0}]
[{"$f":"'→これより右側　健診センター作業シート'!$D1023","v":0},{"$f":"'→これより右側　健診センター作業シート'!$B1023","v":0},{"$f":"'→これより右側　健診センター作業シート'!$I1023","v":0},{"$f":"'→これより右側　健診センター作業シート'!$G1023","v":0},{"$f":"'→これより右側　健診センター作業シート'!$H1023","v":0}]
[{"$f":"'→これより右側　健診センター作業シート'!$D1024","v":0},{"$f":"'→これより右側　健診センター作業シート'!$B1024","v":0},{"$f":"'→これより右側　健診センター作業シート'!$I1024","v":0},{"$f":"'→これより右側　健診センター作業シート'!$G1024","v":0},{"$f":"'→これより右側　健診センター作業シート'!$H1024","v":0}]
[{"$f":"'→これより右側　健診センター作業シート'!$D1025","v":0},{"$f":"'→これより右側　健診センター作業シート'!$B1025","v":0},{"$f":"'→これより右側　健診センター作業シート'!$I1025","v":0},{"$f":"'→これより右側　健診センター作業シート'!$G1025","v":0},{"$f":"'→これより右側　健診センター作業シート'!$H1025","v":0}]
[{"$f":"'→これより右側　健診センター作業シート'!$D1026","v":0},{"$f":"'→これより右側　健診センター作業シート'!$B1026","v":0},{"$f":"'→これより右側　健診センター作業シート'!$I1026","v":0},{"$f":"'→これより右側　健診センター作業シート'!$G1026","v":0},{"$f":"'→これより右側　健診センター作業シート'!$H1026","v":0}]
[{"$f":"'→これより右側　健診センター作業シート'!$D1027","v":0},{"$f":"'→これより右側　健診センター作業シート'!$B1027","v":0},{"$f":"'→これより右側　健診センター作業シート'!$I1027","v":0},{"$f":"'→これより右側　健診センター作業シート'!$G1027","v":0},{"$f":"'→これより右側　健診センター作業シート'!$H1027","v":0}]
[{"$f":"'→これより右側　健診センター作業シート'!$D1028","v":0},{"$f":"'→これより右側　健診センター作業シート'!$B1028","v":0},{"$f":"'→これより右側　健診センター作業シート'!$I1028","v":0},{"$f":"'→これより右側　健診センター作業シート'!$G1028","v":0},{"$f":"'→これより右側　健診センター作業シート'!$H1028","v":0}]
[{"$f":"'→これより右側　健診センター作業シート'!$D1029","v":0},{"$f":"'→これより右側　健診センター作業シート'!$B1029","v":0},{"$f":"'→これより右側　健診センター作業シート'!$I1029","v":0},{"$f":"'→これより右側　健診センター作業シート'!$G1029","v":0},{"$f":"'→これより右側　健診センター作業シート'!$H1029","v":0}]
[{"$f":"'→これより右側　健診センター作業シート'!$D1030","v":0},{"$f":"'→これより右側　健診センター作業シート'!$B1030","v":0},{"$f":"'→これより右側　健診センター作業シート'!$I1030","v":0},{"$f":"'→これより右側　健診センター作業シート'!$G1030","v":0},{"$f":"'→これより右側　健診センター作業シート'!$H1030","v":0}]
[{"$f":"'→これより右側　健診センター作業シート'!$D1031","v":0},{"$f":"'→これより右側　健診センター作業シート'!$B1031","v":0},{"$f":"'→これより右側　健診センター作業シート'!$I1031","v":0},{"$f":"'→これより右側　健診センター作業シート'!$G1031","v":0},{"$f":"'→これより右側　健診センター作業シート'!$H1031","v":0}]
[{"$f":"'→これより右側　健診センター作業シート'!$D1032","v":0},{"$f":"'→これより右側　健診センター作業シート'!$B1032","v":0},{"$f":"'→これより右側　健診センター作業シート'!$I1032","v":0},{"$f":"'→これより右側　健診センター作業シート'!$G1032","v":0},{"$f":"'→これより右側　健診センター作業シート'!$H1032","v":0}]
[{"$f":"'→これより右側　健診センター作業シート'!$D1033","v":0},{"$f":"'→これより右側　健診センター作業シート'!$B1033","v":0},{"$f":"'→これより右側　健診センター作業シート'!$I1033","v":0},{"$f":"'→これより右側　健診センター作業シート'!$G1033","v":0},{"$f":"'→これより右側　健診センター作業シート'!$H1033","v":0}]
[{"$f":"'→これより右側　健診センター作業シート'!$D1034","v":0},{"$f":"'→これより右側　健診センター作業シート'!$B1034","v":0},{"$f":"'→これより右側　健診センター作業シート'!$I1034","v":0},{"$f":"'→これより右側　健診センター作業シート'!$G1034","v":0},{"$f":"'→これより右側　健診センター作業シート'!$H1034","v":0}]
[{"$f":"'→これより右側　健診センター作業シート'!$D1035","v":0},{"$f":"'→これより右側　健診センター作業シート'!$B1035","v":0},{"$f":"'→これより右側　健診センター作業シート'!$I1035","v":0},{"$f":"'→これより右側　健診センター作業シート'!$G1035","v":0},{"$f":"'→これより右側　健診センター作業シート'!$H1035","v":0}]
[{"$f":"'→これより右側　健診センター作業シート'!$D1036","v":0},{"$f":"'→これより右側　健診センター作業シート'!$B1036","v":0},{"$f":"'→これより右側　健診センター作業シート'!$I1036","v":0},{"$f":"'→これより右側　健診センター作業シート'!$G1036","v":0},{"$f":"'→これより右側　健診センター作業シート'!$H1036","v":0}]
[{"$f":"'→これより右側　健診センター作業シート'!$D1037","v":0},{"$f":"'→これより右側　健診センター作業シート'!$B1037","v":0},{"$f":"'→これより右側　健診センター作業シート'!$I1037","v":0},{"$f":"'→これより右側　健診センター作業シート'!$G1037","v":0},{"$f":"'→これより右側　健診センター作業シート'!$H1037","v":0}]
[{"$f":"'→これより右側　健診センター作業シート'!$D1038","v":0},{"$f":"'→これより右側　健診センター作業シート'!$B1038","v":0},{"$f":"'→これより右側　健診センター作業シート'!$I1038","v":0},{"$f":"'→これより右側　健診センター作業シート'!$G1038","v":0},{"$f":"'→これより右側　健診センター作業シート'!$H1038","v":0}]
[{"$f":"'→これより右側　健診センター作業シート'!$D1039","v":0},{"$f":"'→これより右側　健診センター作業シート'!$B1039","v":0},{"$f":"'→これより右側　健診センター作業シート'!$I1039","v":0},{"$f":"'→これより右側　健診センター作業シート'!$G1039","v":0},{"$f":"'→これより右側　健診センター作業シート'!$H1039","v":0}]
[{"$f":"'→これより右側　健診センター作業シート'!$D1040","v":0},{"$f":"'→これより右側　健診センター作業シート'!$B1040","v":0},{"$f":"'→これより右側　健診センター作業シート'!$I1040","v":0},{"$f":"'→これより右側　健診センター作業シート'!$G1040","v":0},{"$f":"'→これより右側　健診センター作業シート'!$H1040","v":0}]
[{"$f":"'→これより右側　健診センター作業シート'!$D1041","v":0},{"$f":"'→これより右側　健診センター作業シート'!$B1041","v":0},{"$f":"'→これより右側　健診センター作業シート'!$I1041","v":0},{"$f":"'→これより右側　健診センター作業シート'!$G1041","v":0},{"$f":"'→これより右側　健診センター作業シート'!$H1041","v":0}]
[{"$f":"'→これより右側　健診センター作業シート'!$D1042","v":0},{"$f":"'→これより右側　健診センター作業シート'!$B1042","v":0},{"$f":"'→これより右側　健診センター作業シート'!$I1042","v":0},{"$f":"'→これより右側　健診センター作業シート'!$G1042","v":0},{"$f":"'→これより右側　健診センター作業シート'!$H1042","v":0}]
[{"$f":"'→これより右側　健診センター作業シート'!$D1043","v":0},{"$f":"'→これより右側　健診センター作業シート'!$B1043","v":0},{"$f":"'→これより右側　健診センター作業シート'!$I1043","v":0},{"$f":"'→これより右側　健診センター作業シート'!$G1043","v":0},{"$f":"'→これより右側　健診センター作業シート'!$H1043","v":0}]
[{"$f":"'→これより右側　健診センター作業シート'!$D1044","v":0},{"$f":"'→これより右側　健診センター作業シート'!$B1044","v":0},{"$f":"'→これより右側　健診センター作業シート'!$I1044","v":0},{"$f":"'→これより右側　健診センター作業シート'!$G1044","v":0},{"$f":"'→これより右側　健診センター作業シート'!$H1044","v":0}]
[{"$f":"'→これより右側　健診センター作業シート'!$D1045","v":0},{"$f":"'→これより右側　健診センター作業シート'!$B1045","v":0},{"$f":"'→これより右側　健診センター作業シート'!$I1045","v":0},{"$f":"'→これより右側　健診センター作業シート'!$G1045","v":0},{"$f":"'→これより右側　健診センター作業シート'!$H1045","v":0}]
[{"$f":"'→これより右側　健診センター作業シート'!$D1046","v":0},{"$f":"'→これより右側　健診センター作業シート'!$B1046","v":0},{"$f":"'→これより右側　健診センター作業シート'!$I1046","v":0},{"$f":"'→これより右側　健診センター作業シート'!$G1046","v":0},{"$f":"'→これより右側　健診センター作業シート'!$H1046","v":0}]
[{"$f":"'→これより右側　健診センター作業シート'!$D1047","v":0},{"$f":"'→これより右側　健診センター作業シート'!$B1047","v":0},{"$f":"'→これより右側　健診センター作業シート'!$I1047","v":0},{"$f":"'→これより右側　健診センター作業シート'!$G1047","v":0},{"$f":"'→これより右側　健診センター作業シート'!$H1047","v":0}]
[{"$f":"'→これより右側　健診センター作業シート'!$D1048","v":0},{"$f":"'→これより右側　健診センター作業シート'!$B1048","v":0},{"$f":"'→これより右側　健診センター作業シート'!$I1048","v":0},{"$f":"'→これより右側　健診センター作業シート'!$G1048","v":0},{"$f":"'→これより右側　健診センター作業シート'!$H1048","v":0}]
[{"$f":"'→これより右側　健診センター作業シート'!$D1049","v":0},{"$f":"'→これより右側　健診センター作業シート'!$B1049","v":0},{"$f":"'→これより右側　健診センター作業シート'!$I1049","v":0},{"$f":"'→これより右側　健診センター作業シート'!$G1049","v":0},{"$f":"'→これより右側　健診センター作業シート'!$H1049","v":0}]
[{"$f":"'→これより右側　健診センター作業シート'!$D1050","v":0},{"$f":"'→これより右側　健診センター作業シート'!$B1050","v":0},{"$f":"'→これより右側　健診センター作業シート'!$I1050","v":0},{"$f":"'→これより右側　健診センター作業シート'!$G1050","v":0},{"$f":"'→これより右側　健診センター作業シート'!$H1050","v":0}]
[{"$f":"'→これより右側　健診センター作業シート'!$D1051","v":0},{"$f":"'→これより右側　健診センター作業シート'!$B1051","v":0},{"$f":"'→これより右側　健診センター作業シート'!$I1051","v":0},{"$f":"'→これより右側　健診センター作業シート'!$G1051","v":0},{"$f":"'→これより右側　健診センター作業シート'!$H1051","v":0}]
[{"$f":"'→これより右側　健診センター作業シート'!$D1052","v":0},{"$f":"'→これより右側　健診センター作業シート'!$B1052","v":0},{"$f":"'→これより右側　健診センター作業シート'!$I1052","v":0},{"$f":"'→これより右側　健診センター作業シート'!$G1052","v":0},{"$f":"'→これより右側　健診センター作業シート'!$H1052","v":0}]
[{"$f":"'→これより右側　健診センター作業シート'!$D1053","v":0},{"$f":"'→これより右側　健診センター作業シート'!$B1053","v":0},{"$f":"'→これより右側　健診センター作業シート'!$I1053","v":0},{"$f":"'→これより右側　健診センター作業シート'!$G1053","v":0},{"$f":"'→これより右側　健診センター作業シート'!$H1053","v":0}]
[{"$f":"'→これより右側　健診センター作業シート'!$D1054","v":0},{"$f":"'→これより右側　健診センター作業シート'!$B1054","v":0},{"$f":"'→これより右側　健診センター作業シート'!$I1054","v":0},{"$f":"'→これより右側　健診センター作業シート'!$G1054","v":0},{"$f":"'→これより右側　健診センター作業シート'!$H1054","v":0}]
[{"$f":"'→これより右側　健診センター作業シート'!$D1055","v":0},{"$f":"'→これより右側　健診センター作業シート'!$B1055","v":0},{"$f":"'→これより右側　健診センター作業シート'!$I1055","v":0},{"$f":"'→これより右側　健診センター作業シート'!$G1055","v":0},{"$f":"'→これより右側　健診センター作業シート'!$H1055","v":0}]
[{"$f":"'→これより右側　健診センター作業シート'!$D1056","v":0},{"$f":"'→これより右側　健診センター作業シート'!$B1056","v":0},{"$f":"'→これより右側　健診センター作業シート'!$I1056","v":0},{"$f":"'→これより右側　健診センター作業シート'!$G1056","v":0},{"$f":"'→これより右側　健診センター作業シート'!$H1056","v":0}]
[{"$f":"'→これより右側　健診センター作業シート'!$D1057","v":0},{"$f":"'→これより右側　健診センター作業シート'!$B1057","v":0},{"$f":"'→これより右側　健診センター作業シート'!$I1057","v":0},{"$f":"'→これより右側　健診センター作業シート'!$G1057","v":0},{"$f":"'→これより右側　健診センター作業シート'!$H1057","v":0}]
[{"$f":"'→これより右側　健診センター作業シート'!$D1058","v":0},{"$f":"'→これより右側　健診センター作業シート'!$B1058","v":0},{"$f":"'→これより右側　健診センター作業シート'!$I1058","v":0},{"$f":"'→これより右側　健診センター作業シート'!$G1058","v":0},{"$f":"'→これより右側　健診センター作業シート'!$H1058","v":0}]
[{"$f":"'→これより右側　健診センター作業シート'!$D1059","v":0},{"$f":"'→これより右側　健診センター作業シート'!$B1059","v":0},{"$f":"'→これより右側　健診センター作業シート'!$I1059","v":0},{"$f":"'→これより右側　健診センター作業シート'!$G1059","v":0},{"$f":"'→これより右側　健診センター作業シート'!$H1059","v":0}]
[{"$f":"'→これより右側　健診センター作業シート'!$D1060","v":0},{"$f":"'→これより右側　健診センター作業シート'!$B1060","v":0},{"$f":"'→これより右側　健診センター作業シート'!$I1060","v":0},{"$f":"'→これより右側　健診センター作業シート'!$G1060","v":0},{"$f":"'→これより右側　健診センター作業シート'!$H1060","v":0}]
[{"$f":"'→これより右側　健診センター作業シート'!$D1061","v":0},{"$f":"'→これより右側　健診センター作業シート'!$B1061","v":0},{"$f":"'→これより右側　健診センター作業シート'!$I1061","v":0},{"$f":"'→これより右側　健診センター作業シート'!$G1061","v":0},{"$f":"'→これより右側　健診センター作業シート'!$H1061","v":0}]
[{"$f":"'→これより右側　健診センター作業シート'!$D1062","v":0},{"$f":"'→これより右側　健診センター作業シート'!$B1062","v":0},{"$f":"'→これより右側　健診センター作業シート'!$I1062","v":0},{"$f":"'→これより右側　健診センター作業シート'!$G1062","v":0},{"$f":"'→これより右側　健診センター作業シート'!$H1062","v":0}]
[{"$f":"'→これより右側　健診センター作業シート'!$D1063","v":0},{"$f":"'→これより右側　健診センター作業シート'!$B1063","v":0},{"$f":"'→これより右側　健診センター作業シート'!$I1063","v":0},{"$f":"'→これより右側　健診センター作業シート'!$G1063","v":0},{"$f":"'→これより右側　健診センター作業シート'!$H1063","v":0}]
[{"$f":"'→これより右側　健診センター作業シート'!$D1064","v":0},{"$f":"'→これより右側　健診センター作業シート'!$B1064","v":0},{"$f":"'→これより右側　健診センター作業シート'!$I1064","v":0},{"$f":"'→これより右側　健診センター作業シート'!$G1064","v":0},{"$f":"'→これより右側　健診センター作業シート'!$H1064","v":0}]
[{"$f":"'→これより右側　健診センター作業シート'!$D1065","v":0},{"$f":"'→これより右側　健診センター作業シート'!$B1065","v":0},{"$f":"'→これより右側　健診センター作業シート'!$I1065","v":0},{"$f":"'→これより右側　健診センター作業シート'!$G1065","v":0},{"$f":"'→これより右側　健診センター作業シート'!$H1065","v":0}]
[{"$f":"'→これより右側　健診センター作業シート'!$D1066","v":0},{"$f":"'→これより右側　健診センター作業シート'!$B1066","v":0},{"$f":"'→これより右側　健診センター作業シート'!$I1066","v":0},{"$f":"'→これより右側　健診センター作業シート'!$G1066","v":0},{"$f":"'→これより右側　健診センター作業シート'!$H1066","v":0}]
[{"$f":"'→これより右側　健診センター作業シート'!$D1067","v":0},{"$f":"'→これより右側　健診センター作業シート'!$B1067","v":0},{"$f":"'→これより右側　健診センター作業シート'!$I1067","v":0},{"$f":"'→これより右側　健診センター作業シート'!$G1067","v":0},{"$f":"'→これより右側　健診センター作業シート'!$H1067","v":0}]
[{"$f":"'→これより右側　健診センター作業シート'!$D1068","v":0},{"$f":"'→これより右側　健診センター作業シート'!$B1068","v":0},{"$f":"'→これより右側　健診センター作業シート'!$I1068","v":0},{"$f":"'→これより右側　健診センター作業シート'!$G1068","v":0},{"$f":"'→これより右側　健診センター作業シート'!$H1068","v":0}]
[{"$f":"'→これより右側　健診センター作業シート'!$D1069","v":0},{"$f":"'→これより右側　健診センター作業シート'!$B1069","v":0},{"$f":"'→これより右側　健診センター作業シート'!$I1069","v":0},{"$f":"'→これより右側　健診センター作業シート'!$G1069","v":0},{"$f":"'→これより右側　健診センター作業シート'!$H1069","v":0}]
[{"$f":"'→これより右側　健診センター作業シート'!$D1070","v":0},{"$f":"'→これより右側　健診センター作業シート'!$B1070","v":0},{"$f":"'→これより右側　健診センター作業シート'!$I1070","v":0},{"$f":"'→これより右側　健診センター作業シート'!$G1070","v":0},{"$f":"'→これより右側　健診センター作業シート'!$H1070","v":0}]
[{"$f":"'→これより右側　健診センター作業シート'!$D1071","v":0},{"$f":"'→これより右側　健診センター作業シート'!$B1071","v":0},{"$f":"'→これより右側　健診センター作業シート'!$I1071","v":0},{"$f":"'→これより右側　健診センター作業シート'!$G1071","v":0},{"$f":"'→これより右側　健診センター作業シート'!$H1071","v":0}]
[{"$f":"'→これより右側　健診センター作業シート'!$D1072","v":0},{"$f":"'→これより右側　健診センター作業シート'!$B1072","v":0},{"$f":"'→これより右側　健診センター作業シート'!$I1072","v":0},{"$f":"'→これより右側　健診センター作業シート'!$G1072","v":0},{"$f":"'→これより右側　健診センター作業シート'!$H1072","v":0}]
[{"$f":"'→これより右側　健診センター作業シート'!$D1073","v":0},{"$f":"'→これより右側　健診センター作業シート'!$B1073","v":0},{"$f":"'→これより右側　健診センター作業シート'!$I1073","v":0},{"$f":"'→これより右側　健診センター作業シート'!$G1073","v":0},{"$f":"'→これより右側　健診センター作業シート'!$H1073","v":0}]
[{"$f":"'→これより右側　健診センター作業シート'!$D1074","v":0},{"$f":"'→これより右側　健診センター作業シート'!$B1074","v":0},{"$f":"'→これより右側　健診センター作業シート'!$I1074","v":0},{"$f":"'→これより右側　健診センター作業シート'!$G1074","v":0},{"$f":"'→これより右側　健診センター作業シート'!$H1074","v":0}]
[{"$f":"'→これより右側　健診センター作業シート'!$D1075","v":0},{"$f":"'→これより右側　健診センター作業シート'!$B1075","v":0},{"$f":"'→これより右側　健診センター作業シート'!$I1075","v":0},{"$f":"'→これより右側　健診センター作業シート'!$G1075","v":0},{"$f":"'→これより右側　健診センター作業シート'!$H1075","v":0}]
[{"$f":"'→これより右側　健診センター作業シート'!$D1076","v":0},{"$f":"'→これより右側　健診センター作業シート'!$B1076","v":0},{"$f":"'→これより右側　健診センター作業シート'!$I1076","v":0},{"$f":"'→これより右側　健診センター作業シート'!$G1076","v":0},{"$f":"'→これより右側　健診センター作業シート'!$H1076","v":0}]
[{"$f":"'→これより右側　健診センター作業シート'!$D1077","v":0},{"$f":"'→これより右側　健診センター作業シート'!$B1077","v":0},{"$f":"'→これより右側　健診センター作業シート'!$I1077","v":0},{"$f":"'→これより右側　健診センター作業シート'!$G1077","v":0},{"$f":"'→これより右側　健診センター作業シート'!$H1077","v":0}]
[{"$f":"'→これより右側　健診センター作業シート'!$D1078","v":0},{"$f":"'→これより右側　健診センター作業シート'!$B1078","v":0},{"$f":"'→これより右側　健診センター作業シート'!$I1078","v":0},{"$f":"'→これより右側　健診センター作業シート'!$G1078","v":0},{"$f":"'→これより右側　健診センター作業シート'!$H1078","v":0}]
[{"$f":"'→これより右側　健診センター作業シート'!$D1079","v":0},{"$f":"'→これより右側　健診センター作業シート'!$B1079","v":0},{"$f":"'→これより右側　健診センター作業シート'!$I1079","v":0},{"$f":"'→これより右側　健診センター作業シート'!$G1079","v":0},{"$f":"'→これより右側　健診センター作業シート'!$H1079","v":0}]
[{"$f":"'→これより右側　健診センター作業シート'!$D1080","v":0},{"$f":"'→これより右側　健診センター作業シート'!$B1080","v":0},{"$f":"'→これより右側　健診センター作業シート'!$I1080","v":0},{"$f":"'→これより右側　健診センター作業シート'!$G1080","v":0},{"$f":"'→これより右側　健診センター作業シート'!$H1080","v":0}]
[{"$f":"'→これより右側　健診センター作業シート'!$D1081","v":0},{"$f":"'→これより右側　健診センター作業シート'!$B1081","v":0},{"$f":"'→これより右側　健診センター作業シート'!$I1081","v":0},{"$f":"'→これより右側　健診センター作業シート'!$G1081","v":0},{"$f":"'→これより右側　健診センター作業シート'!$H1081","v":0}]
[{"$f":"'→これより右側　健診センター作業シート'!$D1082","v":0},{"$f":"'→これより右側　健診センター作業シート'!$B1082","v":0},{"$f":"'→これより右側　健診センター作業シート'!$I1082","v":0},{"$f":"'→これより右側　健診センター作業シート'!$G1082","v":0},{"$f":"'→これより右側　健診センター作業シート'!$H1082","v":0}]
[{"$f":"'→これより右側　健診センター作業シート'!$D1083","v":0},{"$f":"'→これより右側　健診センター作業シート'!$B1083","v":0},{"$f":"'→これより右側　健診センター作業シート'!$I1083","v":0},{"$f":"'→これより右側　健診センター作業シート'!$G1083","v":0},{"$f":"'→これより右側　健診センター作業シート'!$H1083","v":0}]
[{"$f":"'→これより右側　健診センター作業シート'!$D1084","v":0},{"$f":"'→これより右側　健診センター作業シート'!$B1084","v":0},{"$f":"'→これより右側　健診センター作業シート'!$I1084","v":0},{"$f":"'→これより右側　健診センター作業シート'!$G1084","v":0},{"$f":"'→これより右側　健診センター作業シート'!$H1084","v":0}]
[{"$f":"'→これより右側　健診センター作業シート'!$D1085","v":0},{"$f":"'→これより右側　健診センター作業シート'!$B1085","v":0},{"$f":"'→これより右側　健診センター作業シート'!$I1085","v":0},{"$f":"'→これより右側　健診センター作業シート'!$G1085","v":0},{"$f":"'→これより右側　健診センター作業シート'!$H1085","v":0}]
[{"$f":"'→これより右側　健診センター作業シート'!$D1086","v":0},{"$f":"'→これより右側　健診センター作業シート'!$B1086","v":0},{"$f":"'→これより右側　健診センター作業シート'!$I1086","v":0},{"$f":"'→これより右側　健診センター作業シート'!$G1086","v":0},{"$f":"'→これより右側　健診センター作業シート'!$H1086","v":0}]
[{"$f":"'→これより右側　健診センター作業シート'!$D1087","v":0},{"$f":"'→これより右側　健診センター作業シート'!$B1087","v":0},{"$f":"'→これより右側　健診センター作業シート'!$I1087","v":0},{"$f":"'→これより右側　健診センター作業シート'!$G1087","v":0},{"$f":"'→これより右側　健診センター作業シート'!$H1087","v":0}]
[{"$f":"'→これより右側　健診センター作業シート'!$D1088","v":0},{"$f":"'→これより右側　健診センター作業シート'!$B1088","v":0},{"$f":"'→これより右側　健診センター作業シート'!$I1088","v":0},{"$f":"'→これより右側　健診センター作業シート'!$G1088","v":0},{"$f":"'→これより右側　健診センター作業シート'!$H1088","v":0}]
[{"$f":"'→これより右側　健診センター作業シート'!$D1089","v":0},{"$f":"'→これより右側　健診センター作業シート'!$B1089","v":0},{"$f":"'→これより右側　健診センター作業シート'!$I1089","v":0},{"$f":"'→これより右側　健診センター作業シート'!$G1089","v":0},{"$f":"'→これより右側　健診センター作業シート'!$H1089","v":0}]
[{"$f":"'→これより右側　健診センター作業シート'!$D1090","v":0},{"$f":"'→これより右側　健診センター作業シート'!$B1090","v":0},{"$f":"'→これより右側　健診センター作業シート'!$I1090","v":0},{"$f":"'→これより右側　健診センター作業シート'!$G1090","v":0},{"$f":"'→これより右側　健診センター作業シート'!$H1090","v":0}]
[{"$f":"'→これより右側　健診センター作業シート'!$D1091","v":0},{"$f":"'→これより右側　健診センター作業シート'!$B1091","v":0},{"$f":"'→これより右側　健診センター作業シート'!$I1091","v":0},{"$f":"'→これより右側　健診センター作業シート'!$G1091","v":0},{"$f":"'→これより右側　健診センター作業シート'!$H1091","v":0}]
[{"$f":"'→これより右側　健診センター作業シート'!$D1092","v":0},{"$f":"'→これより右側　健診センター作業シート'!$B1092","v":0},{"$f":"'→これより右側　健診センター作業シート'!$I1092","v":0},{"$f":"'→これより右側　健診センター作業シート'!$G1092","v":0},{"$f":"'→これより右側　健診センター作業シート'!$H1092","v":0}]
[{"$f":"'→これより右側　健診センター作業シート'!$D1093","v":0},{"$f":"'→これより右側　健診センター作業シート'!$B1093","v":0},{"$f":"'→これより右側　健診センター作業シート'!$I1093","v":0},{"$f":"'→これより右側　健診センター作業シート'!$G1093","v":0},{"$f":"'→これより右側　健診センター作業シート'!$H1093","v":0}]
[{"$f":"'→これより右側　健診センター作業シート'!$D1094","v":0},{"$f":"'→これより右側　健診センター作業シート'!$B1094","v":0},{"$f":"'→これより右側　健診センター作業シート'!$I1094","v":0},{"$f":"'→これより右側　健診センター作業シート'!$G1094","v":0},{"$f":"'→これより右側　健診センター作業シート'!$H1094","v":0}]
[{"$f":"'→これより右側　健診センター作業シート'!$D1095","v":0},{"$f":"'→これより右側　健診センター作業シート'!$B1095","v":0},{"$f":"'→これより右側　健診センター作業シート'!$I1095","v":0},{"$f":"'→これより右側　健診センター作業シート'!$G1095","v":0},{"$f":"'→これより右側　健診センター作業シート'!$H1095","v":0}]
[{"$f":"'→これより右側　健診センター作業シート'!$D1096","v":0},{"$f":"'→これより右側　健診センター作業シート'!$B1096","v":0},{"$f":"'→これより右側　健診センター作業シート'!$I1096","v":0},{"$f":"'→これより右側　健診センター作業シート'!$G1096","v":0},{"$f":"'→これより右側　健診センター作業シート'!$H1096","v":0}]
[{"$f":"'→これより右側　健診センター作業シート'!$D1097","v":0},{"$f":"'→これより右側　健診センター作業シート'!$B1097","v":0},{"$f":"'→これより右側　健診センター作業シート'!$I1097","v":0},{"$f":"'→これより右側　健診センター作業シート'!$G1097","v":0},{"$f":"'→これより右側　健診センター作業シート'!$H1097","v":0}]
[{"$f":"'→これより右側　健診センター作業シート'!$D1098","v":0},{"$f":"'→これより右側　健診センター作業シート'!$B1098","v":0},{"$f":"'→これより右側　健診センター作業シート'!$I1098","v":0},{"$f":"'→これより右側　健診センター作業シート'!$G1098","v":0},{"$f":"'→これより右側　健診センター作業シート'!$H1098","v":0}]
[{"$f":"'→これより右側　健診センター作業シート'!$D1099","v":0},{"$f":"'→これより右側　健診センター作業シート'!$B1099","v":0},{"$f":"'→これより右側　健診センター作業シート'!$I1099","v":0},{"$f":"'→これより右側　健診センター作業シート'!$G1099","v":0},{"$f":"'→これより右側　健診センター作業シート'!$H1099","v":0}]
[{"$f":"'→これより右側　健診センター作業シート'!$D1100","v":0},{"$f":"'→これより右側　健診センター作業シート'!$B1100","v":0},{"$f":"'→これより右側　健診センター作業シート'!$I1100","v":0},{"$f":"'→これより右側　健診センター作業シート'!$G1100","v":0},{"$f":"'→これより右側　健診センター作業シート'!$H1100","v":0}]
[{"$f":"'→これより右側　健診センター作業シート'!$D1101","v":0},{"$f":"'→これより右側　健診センター作業シート'!$B1101","v":0},{"$f":"'→これより右側　健診センター作業シート'!$I1101","v":0},{"$f":"'→これより右側　健診センター作業シート'!$G1101","v":0},{"$f":"'→これより右側　健診センター作業シート'!$H1101","v":0}]
[{"$f":"'→これより右側　健診センター作業シート'!$D1102","v":0},{"$f":"'→これより右側　健診センター作業シート'!$B1102","v":0},{"$f":"'→これより右側　健診センター作業シート'!$I1102","v":0},{"$f":"'→これより右側　健診センター作業シート'!$G1102","v":0},{"$f":"'→これより右側　健診センター作業シート'!$H1102","v":0}]
[{"$f":"'→これより右側　健診センター作業シート'!$D1103","v":0},{"$f":"'→これより右側　健診センター作業シート'!$B1103","v":0},{"$f":"'→これより右側　健診センター作業シート'!$I1103","v":0},{"$f":"'→これより右側　健診センター作業シート'!$G1103","v":0},{"$f":"'→これより右側　健診センター作業シート'!$H1103","v":0}]
[{"$f":"'→これより右側　健診センター作業シート'!$D1104","v":0},{"$f":"'→これより右側　健診センター作業シート'!$B1104","v":0},{"$f":"'→これより右側　健診センター作業シート'!$I1104","v":0},{"$f":"'→これより右側　健診センター作業シート'!$G1104","v":0},{"$f":"'→これより右側　健診センター作業シート'!$H1104","v":0}]
[{"$f":"'→これより右側　健診センター作業シート'!$D1105","v":0},{"$f":"'→これより右側　健診センター作業シート'!$B1105","v":0},{"$f":"'→これより右側　健診センター作業シート'!$I1105","v":0},{"$f":"'→これより右側　健診センター作業シート'!$G1105","v":0},{"$f":"'→これより右側　健診センター作業シート'!$H1105","v":0}]
[{"$f":"'→これより右側　健診センター作業シート'!$D1106","v":0},{"$f":"'→これより右側　健診センター作業シート'!$B1106","v":0},{"$f":"'→これより右側　健診センター作業シート'!$I1106","v":0},{"$f":"'→これより右側　健診センター作業シート'!$G1106","v":0},{"$f":"'→これより右側　健診センター作業シート'!$H1106","v":0}]
[{"$f":"'→これより右側　健診センター作業シート'!$D1107","v":0},{"$f":"'→これより右側　健診センター作業シート'!$B1107","v":0},{"$f":"'→これより右側　健診センター作業シート'!$I1107","v":0},{"$f":"'→これより右側　健診センター作業シート'!$G1107","v":0},{"$f":"'→これより右側　健診センター作業シート'!$H1107","v":0}]
[{"$f":"'→これより右側　健診センター作業シート'!$D1108","v":0},{"$f":"'→これより右側　健診センター作業シート'!$B1108","v":0},{"$f":"'→これより右側　健診センター作業シート'!$I1108","v":0},{"$f":"'→これより右側　健診センター作業シート'!$G1108","v":0},{"$f":"'→これより右側　健診センター作業シート'!$H1108","v":0}]
[{"$f":"'→これより右側　健診センター作業シート'!$D1109","v":0},{"$f":"'→これより右側　健診センター作業シート'!$B1109","v":0},{"$f":"'→これより右側　健診センター作業シート'!$I1109","v":0},{"$f":"'→これより右側　健診センター作業シート'!$G1109","v":0},{"$f":"'→これより右側　健診センター作業シート'!$H1109","v":0}]
[{"$f":"'→これより右側　健診センター作業シート'!$D1110","v":0},{"$f":"'→これより右側　健診センター作業シート'!$B1110","v":0},{"$f":"'→これより右側　健診センター作業シート'!$I1110","v":0},{"$f":"'→これより右側　健診センター作業シート'!$G1110","v":0},{"$f":"'→これより右側　健診センター作業シート'!$H1110","v":0}]
[{"$f":"'→これより右側　健診センター作業シート'!$D1111","v":0},{"$f":"'→これより右側　健診センター作業シート'!$B1111","v":0},{"$f":"'→これより右側　健診センター作業シート'!$I1111","v":0},{"$f":"'→これより右側　健診センター作業シート'!$G1111","v":0},{"$f":"'→これより右側　健診センター作業シート'!$H1111","v":0}]
[{"$f":"'→これより右側　健診センター作業シート'!$D1112","v":0},{"$f":"'→これより右側　健診センター作業シート'!$B1112","v":0},{"$f":"'→これより右側　健診センター作業シート'!$I1112","v":0},{"$f":"'→これより右側　健診センター作業シート'!$G1112","v":0},{"$f":"'→これより右側　健診センター作業シート'!$H1112","v":0}]
[{"$f":"'→これより右側　健診センター作業シート'!$D1113","v":0},{"$f":"'→これより右側　健診センター作業シート'!$B1113","v":0},{"$f":"'→これより右側　健診センター作業シート'!$I1113","v":0},{"$f":"'→これより右側　健診センター作業シート'!$G1113","v":0},{"$f":"'→これより右側　健診センター作業シート'!$H1113","v":0}]
[{"$f":"'→これより右側　健診センター作業シート'!$D1114","v":0},{"$f":"'→これより右側　健診センター作業シート'!$B1114","v":0},{"$f":"'→これより右側　健診センター作業シート'!$I1114","v":0},{"$f":"'→これより右側　健診センター作業シート'!$G1114","v":0},{"$f":"'→これより右側　健診センター作業シート'!$H1114","v":0}]
[{"$f":"'→これより右側　健診センター作業シート'!$D1115","v":0},{"$f":"'→これより右側　健診センター作業シート'!$B1115","v":0},{"$f":"'→これより右側　健診センター作業シート'!$I1115","v":0},{"$f":"'→これより右側　健診センター作業シート'!$G1115","v":0},{"$f":"'→これより右側　健診センター作業シート'!$H1115","v":0}]
[{"$f":"'→これより右側　健診センター作業シート'!$D1116","v":0},{"$f":"'→これより右側　健診センター作業シート'!$B1116","v":0},{"$f":"'→これより右側　健診センター作業シート'!$I1116","v":0},{"$f":"'→これより右側　健診センター作業シート'!$G1116","v":0},{"$f":"'→これより右側　健診センター作業シート'!$H1116","v":0}]
[{"$f":"'→これより右側　健診センター作業シート'!$D1117","v":0},{"$f":"'→これより右側　健診センター作業シート'!$B1117","v":0},{"$f":"'→これより右側　健診センター作業シート'!$I1117","v":0},{"$f":"'→これより右側　健診センター作業シート'!$G1117","v":0},{"$f":"'→これより右側　健診センター作業シート'!$H1117","v":0}]
[{"$f":"'→これより右側　健診センター作業シート'!$D1118","v":0},{"$f":"'→これより右側　健診センター作業シート'!$B1118","v":0},{"$f":"'→これより右側　健診センター作業シート'!$I1118","v":0},{"$f":"'→これより右側　健診センター作業シート'!$G1118","v":0},{"$f":"'→これより右側　健診センター作業シート'!$H1118","v":0}]
[{"$f":"'→これより右側　健診センター作業シート'!$D1119","v":0},{"$f":"'→これより右側　健診センター作業シート'!$B1119","v":0},{"$f":"'→これより右側　健診センター作業シート'!$I1119","v":0},{"$f":"'→これより右側　健診センター作業シート'!$G1119","v":0},{"$f":"'→これより右側　健診センター作業シート'!$H1119","v":0}]
[{"$f":"'→これより右側　健診センター作業シート'!$D1120","v":0},{"$f":"'→これより右側　健診センター作業シート'!$B1120","v":0},{"$f":"'→これより右側　健診センター作業シート'!$I1120","v":0},{"$f":"'→これより右側　健診センター作業シート'!$G1120","v":0},{"$f":"'→これより右側　健診センター作業シート'!$H1120","v":0}]
[{"$f":"'→これより右側　健診センター作業シート'!$D1121","v":0},{"$f":"'→これより右側　健診センター作業シート'!$B1121","v":0},{"$f":"'→これより右側　健診センター作業シート'!$I1121","v":0},{"$f":"'→これより右側　健診センター作業シート'!$G1121","v":0},{"$f":"'→これより右側　健診センター作業シート'!$H1121","v":0}]
[{"$f":"'→これより右側　健診センター作業シート'!$D1122","v":0},{"$f":"'→これより右側　健診センター作業シート'!$B1122","v":0},{"$f":"'→これより右側　健診センター作業シート'!$I1122","v":0},{"$f":"'→これより右側　健診センター作業シート'!$G1122","v":0},{"$f":"'→これより右側　健診センター作業シート'!$H1122","v":0}]
[{"$f":"'→これより右側　健診センター作業シート'!$D1123","v":0},{"$f":"'→これより右側　健診センター作業シート'!$B1123","v":0},{"$f":"'→これより右側　健診センター作業シート'!$I1123","v":0},{"$f":"'→これより右側　健診センター作業シート'!$G1123","v":0},{"$f":"'→これより右側　健診センター作業シート'!$H1123","v":0}]
[{"$f":"'→これより右側　健診センター作業シート'!$D1124","v":0},{"$f":"'→これより右側　健診センター作業シート'!$B1124","v":0},{"$f":"'→これより右側　健診センター作業シート'!$I1124","v":0},{"$f":"'→これより右側　健診センター作業シート'!$G1124","v":0},{"$f":"'→これより右側　健診センター作業シート'!$H1124","v":0}]
[{"$f":"'→これより右側　健診センター作業シート'!$D1125","v":0},{"$f":"'→これより右側　健診センター作業シート'!$B1125","v":0},{"$f":"'→これより右側　健診センター作業シート'!$I1125","v":0},{"$f":"'→これより右側　健診センター作業シート'!$G1125","v":0},{"$f":"'→これより右側　健診センター作業シート'!$H1125","v":0}]
[{"$f":"'→これより右側　健診センター作業シート'!$D1126","v":0},{"$f":"'→これより右側　健診センター作業シート'!$B1126","v":0},{"$f":"'→これより右側　健診センター作業シート'!$I1126","v":0},{"$f":"'→これより右側　健診センター作業シート'!$G1126","v":0},{"$f":"'→これより右側　健診センター作業シート'!$H1126","v":0}]
[{"$f":"'→これより右側　健診センター作業シート'!$D1127","v":0},{"$f":"'→これより右側　健診センター作業シート'!$B1127","v":0},{"$f":"'→これより右側　健診センター作業シート'!$I1127","v":0},{"$f":"'→これより右側　健診センター作業シート'!$G1127","v":0},{"$f":"'→これより右側　健診センター作業シート'!$H1127","v":0}]
[{"$f":"'→これより右側　健診センター作業シート'!$D1128","v":0},{"$f":"'→これより右側　健診センター作業シート'!$B1128","v":0},{"$f":"'→これより右側　健診センター作業シート'!$I1128","v":0},{"$f":"'→これより右側　健診センター作業シート'!$G1128","v":0},{"$f":"'→これより右側　健診センター作業シート'!$H1128","v":0}]
[{"$f":"'→これより右側　健診センター作業シート'!$D1129","v":0},{"$f":"'→これより右側　健診センター作業シート'!$B1129","v":0},{"$f":"'→これより右側　健診センター作業シート'!$I1129","v":0},{"$f":"'→これより右側　健診センター作業シート'!$G1129","v":0},{"$f":"'→これより右側　健診センター作業シート'!$H1129","v":0}]
[{"$f":"'→これより右側　健診センター作業シート'!$D1130","v":0},{"$f":"'→これより右側　健診センター作業シート'!$B1130","v":0},{"$f":"'→これより右側　健診センター作業シート'!$I1130","v":0},{"$f":"'→これより右側　健診センター作業シート'!$G1130","v":0},{"$f":"'→これより右側　健診センター作業シート'!$H1130","v":0}]
[{"$f":"'→これより右側　健診センター作業シート'!$D1131","v":0},{"$f":"'→これより右側　健診センター作業シート'!$B1131","v":0},{"$f":"'→これより右側　健診センター作業シート'!$I1131","v":0},{"$f":"'→これより右側　健診センター作業シート'!$G1131","v":0},{"$f":"'→これより右側　健診センター作業シート'!$H1131","v":0}]
[{"$f":"'→これより右側　健診センター作業シート'!$D1132","v":0},{"$f":"'→これより右側　健診センター作業シート'!$B1132","v":0},{"$f":"'→これより右側　健診センター作業シート'!$I1132","v":0},{"$f":"'→これより右側　健診センター作業シート'!$G1132","v":0},{"$f":"'→これより右側　健診センター作業シート'!$H1132","v":0}]
[{"$f":"'→これより右側　健診センター作業シート'!$D1133","v":0},{"$f":"'→これより右側　健診センター作業シート'!$B1133","v":0},{"$f":"'→これより右側　健診センター作業シート'!$I1133","v":0},{"$f":"'→これより右側　健診センター作業シート'!$G1133","v":0},{"$f":"'→これより右側　健診センター作業シート'!$H1133","v":0}]
[{"$f":"'→これより右側　健診センター作業シート'!$D1134","v":0},{"$f":"'→これより右側　健診センター作業シート'!$B1134","v":0},{"$f":"'→これより右側　健診センター作業シート'!$I1134","v":0},{"$f":"'→これより右側　健診センター作業シート'!$G1134","v":0},{"$f":"'→これより右側　健診センター作業シート'!$H1134","v":0}]
[{"$f":"'→これより右側　健診センター作業シート'!$D1135","v":0},{"$f":"'→これより右側　健診センター作業シート'!$B1135","v":0},{"$f":"'→これより右側　健診センター作業シート'!$I1135","v":0},{"$f":"'→これより右側　健診センター作業シート'!$G1135","v":0},{"$f":"'→これより右側　健診センター作業シート'!$H1135","v":0}]
[{"$f":"'→これより右側　健診センター作業シート'!$D1136","v":0},{"$f":"'→これより右側　健診センター作業シート'!$B1136","v":0},{"$f":"'→これより右側　健診センター作業シート'!$I1136","v":0},{"$f":"'→これより右側　健診センター作業シート'!$G1136","v":0},{"$f":"'→これより右側　健診センター作業シート'!$H1136","v":0}]
[{"$f":"'→これより右側　健診センター作業シート'!$D1137","v":0},{"$f":"'→これより右側　健診センター作業シート'!$B1137","v":0},{"$f":"'→これより右側　健診センター作業シート'!$I1137","v":0},{"$f":"'→これより右側　健診センター作業シート'!$G1137","v":0},{"$f":"'→これより右側　健診センター作業シート'!$H1137","v":0}]
[{"$f":"'→これより右側　健診センター作業シート'!$D1138","v":0},{"$f":"'→これより右側　健診センター作業シート'!$B1138","v":0},{"$f":"'→これより右側　健診センター作業シート'!$I1138","v":0},{"$f":"'→これより右側　健診センター作業シート'!$G1138","v":0},{"$f":"'→これより右側　健診センター作業シート'!$H1138","v":0}]
[{"$f":"'→これより右側　健診センター作業シート'!$D1139","v":0},{"$f":"'→これより右側　健診センター作業シート'!$B1139","v":0},{"$f":"'→これより右側　健診センター作業シート'!$I1139","v":0},{"$f":"'→これより右側　健診センター作業シート'!$G1139","v":0},{"$f":"'→これより右側　健診センター作業シート'!$H1139","v":0}]
[{"$f":"'→これより右側　健診センター作業シート'!$D1140","v":0},{"$f":"'→これより右側　健診センター作業シート'!$B1140","v":0},{"$f":"'→これより右側　健診センター作業シート'!$I1140","v":0},{"$f":"'→これより右側　健診センター作業シート'!$G1140","v":0},{"$f":"'→これより右側　健診センター作業シート'!$H1140","v":0}]
[{"$f":"'→これより右側　健診センター作業シート'!$D1141","v":0},{"$f":"'→これより右側　健診センター作業シート'!$B1141","v":0},{"$f":"'→これより右側　健診センター作業シート'!$I1141","v":0},{"$f":"'→これより右側　健診センター作業シート'!$G1141","v":0},{"$f":"'→これより右側　健診センター作業シート'!$H1141","v":0}]
[{"$f":"'→これより右側　健診センター作業シート'!$D1142","v":0},{"$f":"'→これより右側　健診センター作業シート'!$B1142","v":0},{"$f":"'→これより右側　健診センター作業シート'!$I1142","v":0},{"$f":"'→これより右側　健診センター作業シート'!$G1142","v":0},{"$f":"'→これより右側　健診センター作業シート'!$H1142","v":0}]
[{"$f":"'→これより右側　健診センター作業シート'!$D1143","v":0},{"$f":"'→これより右側　健診センター作業シート'!$B1143","v":0},{"$f":"'→これより右側　健診センター作業シート'!$I1143","v":0},{"$f":"'→これより右側　健診センター作業シート'!$G1143","v":0},{"$f":"'→これより右側　健診センター作業シート'!$H1143","v":0}]
[{"$f":"'→これより右側　健診センター作業シート'!$D1144","v":0},{"$f":"'→これより右側　健診センター作業シート'!$B1144","v":0},{"$f":"'→これより右側　健診センター作業シート'!$I1144","v":0},{"$f":"'→これより右側　健診センター作業シート'!$G1144","v":0},{"$f":"'→これより右側　健診センター作業シート'!$H1144","v":0}]
[{"$f":"'→これより右側　健診センター作業シート'!$D1145","v":0},{"$f":"'→これより右側　健診センター作業シート'!$B1145","v":0},{"$f":"'→これより右側　健診センター作業シート'!$I1145","v":0},{"$f":"'→これより右側　健診センター作業シート'!$G1145","v":0},{"$f":"'→これより右側　健診センター作業シート'!$H1145","v":0}]
[{"$f":"'→これより右側　健診センター作業シート'!$D1146","v":0},{"$f":"'→これより右側　健診センター作業シート'!$B1146","v":0},{"$f":"'→これより右側　健診センター作業シート'!$I1146","v":0},{"$f":"'→これより右側　健診センター作業シート'!$G1146","v":0},{"$f":"'→これより右側　健診センター作業シート'!$H1146","v":0}]
[{"$f":"'→これより右側　健診センター作業シート'!$D1147","v":0},{"$f":"'→これより右側　健診センター作業シート'!$B1147","v":0},{"$f":"'→これより右側　健診センター作業シート'!$I1147","v":0},{"$f":"'→これより右側　健診センター作業シート'!$G1147","v":0},{"$f":"'→これより右側　健診センター作業シート'!$H1147","v":0}]
[{"$f":"'→これより右側　健診センター作業シート'!$D1148","v":0},{"$f":"'→これより右側　健診センター作業シート'!$B1148","v":0},{"$f":"'→これより右側　健診センター作業シート'!$I1148","v":0},{"$f":"'→これより右側　健診センター作業シート'!$G1148","v":0},{"$f":"'→これより右側　健診センター作業シート'!$H1148","v":0}]
[{"$f":"'→これより右側　健診センター作業シート'!$D1149","v":0},{"$f":"'→これより右側　健診センター作業シート'!$B1149","v":0},{"$f":"'→これより右側　健診センター作業シート'!$I1149","v":0},{"$f":"'→これより右側　健診センター作業シート'!$G1149","v":0},{"$f":"'→これより右側　健診センター作業シート'!$H1149","v":0}]
[{"$f":"'→これより右側　健診センター作業シート'!$D1150","v":0},{"$f":"'→これより右側　健診センター作業シート'!$B1150","v":0},{"$f":"'→これより右側　健診センター作業シート'!$I1150","v":0},{"$f":"'→これより右側　健診センター作業シート'!$G1150","v":0},{"$f":"'→これより右側　健診センター作業シート'!$H1150","v":0}]
[{"$f":"'→これより右側　健診センター作業シート'!$D1151","v":0},{"$f":"'→これより右側　健診センター作業シート'!$B1151","v":0},{"$f":"'→これより右側　健診センター作業シート'!$I1151","v":0},{"$f":"'→これより右側　健診センター作業シート'!$G1151","v":0},{"$f":"'→これより右側　健診センター作業シート'!$H1151","v":0}]
[{"$f":"'→これより右側　健診センター作業シート'!$D1152","v":0},{"$f":"'→これより右側　健診センター作業シート'!$B1152","v":0},{"$f":"'→これより右側　健診センター作業シート'!$I1152","v":0},{"$f":"'→これより右側　健診センター作業シート'!$G1152","v":0},{"$f":"'→これより右側　健診センター作業シート'!$H1152","v":0}]
[{"$f":"'→これより右側　健診センター作業シート'!$D1153","v":0},{"$f":"'→これより右側　健診センター作業シート'!$B1153","v":0},{"$f":"'→これより右側　健診センター作業シート'!$I1153","v":0},{"$f":"'→これより右側　健診センター作業シート'!$G1153","v":0},{"$f":"'→これより右側　健診センター作業シート'!$H1153","v":0}]
[{"$f":"'→これより右側　健診センター作業シート'!$D1154","v":0},{"$f":"'→これより右側　健診センター作業シート'!$B1154","v":0},{"$f":"'→これより右側　健診センター作業シート'!$I1154","v":0},{"$f":"'→これより右側　健診センター作業シート'!$G1154","v":0},{"$f":"'→これより右側　健診センター作業シート'!$H1154","v":0}]
[{"$f":"'→これより右側　健診センター作業シート'!$D1155","v":0},{"$f":"'→これより右側　健診センター作業シート'!$B1155","v":0},{"$f":"'→これより右側　健診センター作業シート'!$I1155","v":0},{"$f":"'→これより右側　健診センター作業シート'!$G1155","v":0},{"$f":"'→これより右側　健診センター作業シート'!$H1155","v":0}]
[{"$f":"'→これより右側　健診センター作業シート'!$D1156","v":0},{"$f":"'→これより右側　健診センター作業シート'!$B1156","v":0},{"$f":"'→これより右側　健診センター作業シート'!$I1156","v":0},{"$f":"'→これより右側　健診センター作業シート'!$G1156","v":0},{"$f":"'→これより右側　健診センター作業シート'!$H1156","v":0}]
[{"$f":"'→これより右側　健診センター作業シート'!$D1157","v":0},{"$f":"'→これより右側　健診センター作業シート'!$B1157","v":0},{"$f":"'→これより右側　健診センター作業シート'!$I1157","v":0},{"$f":"'→これより右側　健診センター作業シート'!$G1157","v":0},{"$f":"'→これより右側　健診センター作業シート'!$H1157","v":0}]
[{"$f":"'→これより右側　健診センター作業シート'!$D1158","v":0},{"$f":"'→これより右側　健診センター作業シート'!$B1158","v":0},{"$f":"'→これより右側　健診センター作業シート'!$I1158","v":0},{"$f":"'→これより右側　健診センター作業シート'!$G1158","v":0},{"$f":"'→これより右側　健診センター作業シート'!$H1158","v":0}]
[{"$f":"'→これより右側　健診センター作業シート'!$D1159","v":0},{"$f":"'→これより右側　健診センター作業シート'!$B1159","v":0},{"$f":"'→これより右側　健診センター作業シート'!$I1159","v":0},{"$f":"'→これより右側　健診センター作業シート'!$G1159","v":0},{"$f":"'→これより右側　健診センター作業シート'!$H1159","v":0}]
[{"$f":"'→これより右側　健診センター作業シート'!$D1160","v":0},{"$f":"'→これより右側　健診センター作業シート'!$B1160","v":0},{"$f":"'→これより右側　健診センター作業シート'!$I1160","v":0},{"$f":"'→これより右側　健診センター作業シート'!$G1160","v":0},{"$f":"'→これより右側　健診センター作業シート'!$H1160","v":0}]
[{"$f":"'→これより右側　健診センター作業シート'!$D1161","v":0},{"$f":"'→これより右側　健診センター作業シート'!$B1161","v":0},{"$f":"'→これより右側　健診センター作業シート'!$I1161","v":0},{"$f":"'→これより右側　健診センター作業シート'!$G1161","v":0},{"$f":"'→これより右側　健診センター作業シート'!$H1161","v":0}]
[{"$f":"'→これより右側　健診センター作業シート'!$D1162","v":0},{"$f":"'→これより右側　健診センター作業シート'!$B1162","v":0},{"$f":"'→これより右側　健診センター作業シート'!$I1162","v":0},{"$f":"'→これより右側　健診センター作業シート'!$G1162","v":0},{"$f":"'→これより右側　健診センター作業シート'!$H1162","v":0}]
[{"$f":"'→これより右側　健診センター作業シート'!$D1163","v":0},{"$f":"'→これより右側　健診センター作業シート'!$B1163","v":0},{"$f":"'→これより右側　健診センター作業シート'!$I1163","v":0},{"$f":"'→これより右側　健診センター作業シート'!$G1163","v":0},{"$f":"'→これより右側　健診センター作業シート'!$H1163","v":0}]
[{"$f":"'→これより右側　健診センター作業シート'!$D1164","v":0},{"$f":"'→これより右側　健診センター作業シート'!$B1164","v":0},{"$f":"'→これより右側　健診センター作業シート'!$I1164","v":0},{"$f":"'→これより右側　健診センター作業シート'!$G1164","v":0},{"$f":"'→これより右側　健診センター作業シート'!$H1164","v":0}]
[{"$f":"'→これより右側　健診センター作業シート'!$D1165","v":0},{"$f":"'→これより右側　健診センター作業シート'!$B1165","v":0},{"$f":"'→これより右側　健診センター作業シート'!$I1165","v":0},{"$f":"'→これより右側　健診センター作業シート'!$G1165","v":0},{"$f":"'→これより右側　健診センター作業シート'!$H1165","v":0}]
[{"$f":"'→これより右側　健診センター作業シート'!$D1166","v":0},{"$f":"'→これより右側　健診センター作業シート'!$B1166","v":0},{"$f":"'→これより右側　健診センター作業シート'!$I1166","v":0},{"$f":"'→これより右側　健診センター作業シート'!$G1166","v":0},{"$f":"'→これより右側　健診センター作業シート'!$H1166","v":0}]
[{"$f":"'→これより右側　健診センター作業シート'!$D1167","v":0},{"$f":"'→これより右側　健診センター作業シート'!$B1167","v":0},{"$f":"'→これより右側　健診センター作業シート'!$I1167","v":0},{"$f":"'→これより右側　健診センター作業シート'!$G1167","v":0},{"$f":"'→これより右側　健診センター作業シート'!$H1167","v":0}]
[{"$f":"'→これより右側　健診センター作業シート'!$D1168","v":0},{"$f":"'→これより右側　健診センター作業シート'!$B1168","v":0},{"$f":"'→これより右側　健診センター作業シート'!$I1168","v":0},{"$f":"'→これより右側　健診センター作業シート'!$G1168","v":0},{"$f":"'→これより右側　健診センター作業シート'!$H1168","v":0}]
[{"$f":"'→これより右側　健診センター作業シート'!$D1169","v":0},{"$f":"'→これより右側　健診センター作業シート'!$B1169","v":0},{"$f":"'→これより右側　健診センター作業シート'!$I1169","v":0},{"$f":"'→これより右側　健診センター作業シート'!$G1169","v":0},{"$f":"'→これより右側　健診センター作業シート'!$H1169","v":0}]
[{"$f":"'→これより右側　健診センター作業シート'!$D1170","v":0},{"$f":"'→これより右側　健診センター作業シート'!$B1170","v":0},{"$f":"'→これより右側　健診センター作業シート'!$I1170","v":0},{"$f":"'→これより右側　健診センター作業シート'!$G1170","v":0},{"$f":"'→これより右側　健診センター作業シート'!$H1170","v":0}]
[{"$f":"'→これより右側　健診センター作業シート'!$D1171","v":0},{"$f":"'→これより右側　健診センター作業シート'!$B1171","v":0},{"$f":"'→これより右側　健診センター作業シート'!$I1171","v":0},{"$f":"'→これより右側　健診センター作業シート'!$G1171","v":0},{"$f":"'→これより右側　健診センター作業シート'!$H1171","v":0}]
[{"$f":"'→これより右側　健診センター作業シート'!$D1172","v":0},{"$f":"'→これより右側　健診センター作業シート'!$B1172","v":0},{"$f":"'→これより右側　健診センター作業シート'!$I1172","v":0},{"$f":"'→これより右側　健診センター作業シート'!$G1172","v":0},{"$f":"'→これより右側　健診センター作業シート'!$H1172","v":0}]
[{"$f":"'→これより右側　健診センター作業シート'!$D1173","v":0},{"$f":"'→これより右側　健診センター作業シート'!$B1173","v":0},{"$f":"'→これより右側　健診センター作業シート'!$I1173","v":0},{"$f":"'→これより右側　健診センター作業シート'!$G1173","v":0},{"$f":"'→これより右側　健診センター作業シート'!$H1173","v":0}]
[{"$f":"'→これより右側　健診センター作業シート'!$D1174","v":0},{"$f":"'→これより右側　健診センター作業シート'!$B1174","v":0},{"$f":"'→これより右側　健診センター作業シート'!$I1174","v":0},{"$f":"'→これより右側　健診センター作業シート'!$G1174","v":0},{"$f":"'→これより右側　健診センター作業シート'!$H1174","v":0}]
[{"$f":"'→これより右側　健診センター作業シート'!$D1175","v":0},{"$f":"'→これより右側　健診センター作業シート'!$B1175","v":0},{"$f":"'→これより右側　健診センター作業シート'!$I1175","v":0},{"$f":"'→これより右側　健診センター作業シート'!$G1175","v":0},{"$f":"'→これより右側　健診センター作業シート'!$H1175","v":0}]
[{"$f":"'→これより右側　健診センター作業シート'!$D1176","v":0},{"$f":"'→これより右側　健診センター作業シート'!$B1176","v":0},{"$f":"'→これより右側　健診センター作業シート'!$I1176","v":0},{"$f":"'→これより右側　健診センター作業シート'!$G1176","v":0},{"$f":"'→これより右側　健診センター作業シート'!$H1176","v":0}]
[{"$f":"'→これより右側　健診センター作業シート'!$D1177","v":0},{"$f":"'→これより右側　健診センター作業シート'!$B1177","v":0},{"$f":"'→これより右側　健診センター作業シート'!$I1177","v":0},{"$f":"'→これより右側　健診センター作業シート'!$G1177","v":0},{"$f":"'→これより右側　健診センター作業シート'!$H1177","v":0}]
[{"$f":"'→これより右側　健診センター作業シート'!$D1178","v":0},{"$f":"'→これより右側　健診センター作業シート'!$B1178","v":0},{"$f":"'→これより右側　健診センター作業シート'!$I1178","v":0},{"$f":"'→これより右側　健診センター作業シート'!$G1178","v":0},{"$f":"'→これより右側　健診センター作業シート'!$H1178","v":0}]
[{"$f":"'→これより右側　健診センター作業シート'!$D1179","v":0},{"$f":"'→これより右側　健診センター作業シート'!$B1179","v":0},{"$f":"'→これより右側　健診センター作業シート'!$I1179","v":0},{"$f":"'→これより右側　健診センター作業シート'!$G1179","v":0},{"$f":"'→これより右側　健診センター作業シート'!$H1179","v":0}]
[{"$f":"'→これより右側　健診センター作業シート'!$D1180","v":0},{"$f":"'→これより右側　健診センター作業シート'!$B1180","v":0},{"$f":"'→これより右側　健診センター作業シート'!$I1180","v":0},{"$f":"'→これより右側　健診センター作業シート'!$G1180","v":0},{"$f":"'→これより右側　健診センター作業シート'!$H1180","v":0}]
[{"$f":"'→これより右側　健診センター作業シート'!$D1181","v":0},{"$f":"'→これより右側　健診センター作業シート'!$B1181","v":0},{"$f":"'→これより右側　健診センター作業シート'!$I1181","v":0},{"$f":"'→これより右側　健診センター作業シート'!$G1181","v":0},{"$f":"'→これより右側　健診センター作業シート'!$H1181","v":0}]
[{"$f":"'→これより右側　健診センター作業シート'!$D1182","v":0},{"$f":"'→これより右側　健診センター作業シート'!$B1182","v":0},{"$f":"'→これより右側　健診センター作業シート'!$I1182","v":0},{"$f":"'→これより右側　健診センター作業シート'!$G1182","v":0},{"$f":"'→これより右側　健診センター作業シート'!$H1182","v":0}]
[{"$f":"'→これより右側　健診センター作業シート'!$D1183","v":0},{"$f":"'→これより右側　健診センター作業シート'!$B1183","v":0},{"$f":"'→これより右側　健診センター作業シート'!$I1183","v":0},{"$f":"'→これより右側　健診センター作業シート'!$G1183","v":0},{"$f":"'→これより右側　健診センター作業シート'!$H1183","v":0}]
[{"$f":"'→これより右側　健診センター作業シート'!$D1184","v":0},{"$f":"'→これより右側　健診センター作業シート'!$B1184","v":0},{"$f":"'→これより右側　健診センター作業シート'!$I1184","v":0},{"$f":"'→これより右側　健診センター作業シート'!$G1184","v":0},{"$f":"'→これより右側　健診センター作業シート'!$H1184","v":0}]
[{"$f":"'→これより右側　健診センター作業シート'!$D1185","v":0},{"$f":"'→これより右側　健診センター作業シート'!$B1185","v":0},{"$f":"'→これより右側　健診センター作業シート'!$I1185","v":0},{"$f":"'→これより右側　健診センター作業シート'!$G1185","v":0},{"$f":"'→これより右側　健診センター作業シート'!$H1185","v":0}]
[{"$f":"'→これより右側　健診センター作業シート'!$D1186","v":0},{"$f":"'→これより右側　健診センター作業シート'!$B1186","v":0},{"$f":"'→これより右側　健診センター作業シート'!$I1186","v":0},{"$f":"'→これより右側　健診センター作業シート'!$G1186","v":0},{"$f":"'→これより右側　健診センター作業シート'!$H1186","v":0}]
[{"$f":"'→これより右側　健診センター作業シート'!$D1187","v":0},{"$f":"'→これより右側　健診センター作業シート'!$B1187","v":0},{"$f":"'→これより右側　健診センター作業シート'!$I1187","v":0},{"$f":"'→これより右側　健診センター作業シート'!$G1187","v":0},{"$f":"'→これより右側　健診センター作業シート'!$H1187","v":0}]
[{"$f":"'→これより右側　健診センター作業シート'!$D1188","v":0},{"$f":"'→これより右側　健診センター作業シート'!$B1188","v":0},{"$f":"'→これより右側　健診センター作業シート'!$I1188","v":0},{"$f":"'→これより右側　健診センター作業シート'!$G1188","v":0},{"$f":"'→これより右側　健診センター作業シート'!$H1188","v":0}]
[{"$f":"'→これより右側　健診センター作業シート'!$D1189","v":0},{"$f":"'→これより右側　健診センター作業シート'!$B1189","v":0},{"$f":"'→これより右側　健診センター作業シート'!$I1189","v":0},{"$f":"'→これより右側　健診センター作業シート'!$G1189","v":0},{"$f":"'→これより右側　健診センター作業シート'!$H1189","v":0}]
[{"$f":"'→これより右側　健診センター作業シート'!$D1190","v":0},{"$f":"'→これより右側　健診センター作業シート'!$B1190","v":0},{"$f":"'→これより右側　健診センター作業シート'!$I1190","v":0},{"$f":"'→これより右側　健診センター作業シート'!$G1190","v":0},{"$f":"'→これより右側　健診センター作業シート'!$H1190","v":0}]
[{"$f":"'→これより右側　健診センター作業シート'!$D1191","v":0},{"$f":"'→これより右側　健診センター作業シート'!$B1191","v":0},{"$f":"'→これより右側　健診センター作業シート'!$I1191","v":0},{"$f":"'→これより右側　健診センター作業シート'!$G1191","v":0},{"$f":"'→これより右側　健診センター作業シート'!$H1191","v":0}]
[{"$f":"'→これより右側　健診センター作業シート'!$D1192","v":0},{"$f":"'→これより右側　健診センター作業シート'!$B1192","v":0},{"$f":"'→これより右側　健診センター作業シート'!$I1192","v":0},{"$f":"'→これより右側　健診センター作業シート'!$G1192","v":0},{"$f":"'→これより右側　健診センター作業シート'!$H1192","v":0}]
[{"$f":"'→これより右側　健診センター作業シート'!$D1193","v":0},{"$f":"'→これより右側　健診センター作業シート'!$B1193","v":0},{"$f":"'→これより右側　健診センター作業シート'!$I1193","v":0},{"$f":"'→これより右側　健診センター作業シート'!$G1193","v":0},{"$f":"'→これより右側　健診センター作業シート'!$H1193","v":0}]
[{"$f":"'→これより右側　健診センター作業シート'!$D1194","v":0},{"$f":"'→これより右側　健診センター作業シート'!$B1194","v":0},{"$f":"'→これより右側　健診センター作業シート'!$I1194","v":0},{"$f":"'→これより右側　健診センター作業シート'!$G1194","v":0},{"$f":"'→これより右側　健診センター作業シート'!$H1194","v":0}]
[{"$f":"'→これより右側　健診センター作業シート'!$D1195","v":0},{"$f":"'→これより右側　健診センター作業シート'!$B1195","v":0},{"$f":"'→これより右側　健診センター作業シート'!$I1195","v":0},{"$f":"'→これより右側　健診センター作業シート'!$G1195","v":0},{"$f":"'→これより右側　健診センター作業シート'!$H1195","v":0}]
[{"$f":"'→これより右側　健診センター作業シート'!$D1196","v":0},{"$f":"'→これより右側　健診センター作業シート'!$B1196","v":0},{"$f":"'→これより右側　健診センター作業シート'!$I1196","v":0},{"$f":"'→これより右側　健診センター作業シート'!$G1196","v":0},{"$f":"'→これより右側　健診センター作業シート'!$H1196","v":0}]
[{"$f":"'→これより右側　健診センター作業シート'!$D1197","v":0},{"$f":"'→これより右側　健診センター作業シート'!$B1197","v":0},{"$f":"'→これより右側　健診センター作業シート'!$I1197","v":0},{"$f":"'→これより右側　健診センター作業シート'!$G1197","v":0},{"$f":"'→これより右側　健診センター作業シート'!$H1197","v":0}]
[{"$f":"'→これより右側　健診センター作業シート'!$D1198","v":0},{"$f":"'→これより右側　健診センター作業シート'!$B1198","v":0},{"$f":"'→これより右側　健診センター作業シート'!$I1198","v":0},{"$f":"'→これより右側　健診センター作業シート'!$G1198","v":0},{"$f":"'→これより右側　健診センター作業シート'!$H1198","v":0}]
[{"$f":"'→これより右側　健診センター作業シート'!$D1199","v":0},{"$f":"'→これより右側　健診センター作業シート'!$B1199","v":0},{"$f":"'→これより右側　健診センター作業シート'!$I1199","v":0},{"$f":"'→これより右側　健診センター作業シート'!$G1199","v":0},{"$f":"'→これより右側　健診センター作業シート'!$H1199","v":0}]
[{"$f":"'→これより右側　健診センター作業シート'!$D1200","v":0},{"$f":"'→これより右側　健診センター作業シート'!$B1200","v":0},{"$f":"'→これより右側　健診センター作業シート'!$I1200","v":0},{"$f":"'→これより右側　健診センター作業シート'!$G1200","v":0},{"$f":"'→これより右側　健診センター作業シート'!$H1200","v":0}]
[{"$f":"'→これより右側　健診センター作業シート'!$D1201","v":0},{"$f":"'→これより右側　健診センター作業シート'!$B1201","v":0},{"$f":"'→これより右側　健診センター作業シート'!$I1201","v":0},{"$f":"'→これより右側　健診センター作業シート'!$G1201","v":0},{"$f":"'→これより右側　健診センター作業シート'!$H1201","v":0}]
[{"$f":"'→これより右側　健診センター作業シート'!$D1202","v":0},{"$f":"'→これより右側　健診センター作業シート'!$B1202","v":0},{"$f":"'→これより右側　健診センター作業シート'!$I1202","v":0},{"$f":"'→これより右側　健診センター作業シート'!$G1202","v":0},{"$f":"'→これより右側　健診センター作業シート'!$H1202","v":0}]
[{"$f":"'→これより右側　健診センター作業シート'!$D1203","v":0},{"$f":"'→これより右側　健診センター作業シート'!$B1203","v":0},{"$f":"'→これより右側　健診センター作業シート'!$I1203","v":0},{"$f":"'→これより右側　健診センター作業シート'!$G1203","v":0},{"$f":"'→これより右側　健診センター作業シート'!$H1203","v":0}]
[{"$f":"'→これより右側　健診センター作業シート'!$D1204","v":0},{"$f":"'→これより右側　健診センター作業シート'!$B1204","v":0},{"$f":"'→これより右側　健診センター作業シート'!$I1204","v":0},{"$f":"'→これより右側　健診センター作業シート'!$G1204","v":0},{"$f":"'→これより右側　健診センター作業シート'!$H1204","v":0}]
[{"$f":"'→これより右側　健診センター作業シート'!$D1205","v":0},{"$f":"'→これより右側　健診センター作業シート'!$B1205","v":0},{"$f":"'→これより右側　健診センター作業シート'!$I1205","v":0},{"$f":"'→これより右側　健診センター作業シート'!$G1205","v":0},{"$f":"'→これより右側　健診センター作業シート'!$H1205","v":0}]
[{"$f":"'→これより右側　健診センター作業シート'!$D1206","v":0},{"$f":"'→これより右側　健診センター作業シート'!$B1206","v":0},{"$f":"'→これより右側　健診センター作業シート'!$I1206","v":0},{"$f":"'→これより右側　健診センター作業シート'!$G1206","v":0},{"$f":"'→これより右側　健診センター作業シート'!$H1206","v":0}]
[{"$f":"'→これより右側　健診センター作業シート'!$D1207","v":0},{"$f":"'→これより右側　健診センター作業シート'!$B1207","v":0},{"$f":"'→これより右側　健診センター作業シート'!$I1207","v":0},{"$f":"'→これより右側　健診センター作業シート'!$G1207","v":0},{"$f":"'→これより右側　健診センター作業シート'!$H1207","v":0}]
[{"$f":"'→これより右側　健診センター作業シート'!$D1208","v":0},{"$f":"'→これより右側　健診センター作業シート'!$B1208","v":0},{"$f":"'→これより右側　健診センター作業シート'!$I1208","v":0},{"$f":"'→これより右側　健診センター作業シート'!$G1208","v":0},{"$f":"'→これより右側　健診センター作業シート'!$H1208","v":0}]
[{"$f":"'→これより右側　健診センター作業シート'!$D1209","v":0},{"$f":"'→これより右側　健診センター作業シート'!$B1209","v":0},{"$f":"'→これより右側　健診センター作業シート'!$I1209","v":0},{"$f":"'→これより右側　健診センター作業シート'!$G1209","v":0},{"$f":"'→これより右側　健診センター作業シート'!$H1209","v":0}]
[{"$f":"'→これより右側　健診センター作業シート'!$D1210","v":0},{"$f":"'→これより右側　健診センター作業シート'!$B1210","v":0},{"$f":"'→これより右側　健診センター作業シート'!$I1210","v":0},{"$f":"'→これより右側　健診センター作業シート'!$G1210","v":0},{"$f":"'→これより右側　健診センター作業シート'!$H1210","v":0}]
[{"$f":"'→これより右側　健診センター作業シート'!$D1211","v":0},{"$f":"'→これより右側　健診センター作業シート'!$B1211","v":0},{"$f":"'→これより右側　健診センター作業シート'!$I1211","v":0},{"$f":"'→これより右側　健診センター作業シート'!$G1211","v":0},{"$f":"'→これより右側　健診センター作業シート'!$H1211","v":0}]
[{"$f":"'→これより右側　健診センター作業シート'!$D1212","v":0},{"$f":"'→これより右側　健診センター作業シート'!$B1212","v":0},{"$f":"'→これより右側　健診センター作業シート'!$I1212","v":0},{"$f":"'→これより右側　健診センター作業シート'!$G1212","v":0},{"$f":"'→これより右側　健診センター作業シート'!$H1212","v":0}]
[{"$f":"'→これより右側　健診センター作業シート'!$D1213","v":0},{"$f":"'→これより右側　健診センター作業シート'!$B1213","v":0},{"$f":"'→これより右側　健診センター作業シート'!$I1213","v":0},{"$f":"'→これより右側　健診センター作業シート'!$G1213","v":0},{"$f":"'→これより右側　健診センター作業シート'!$H1213","v":0}]
[{"$f":"'→これより右側　健診センター作業シート'!$D1214","v":0},{"$f":"'→これより右側　健診センター作業シート'!$B1214","v":0},{"$f":"'→これより右側　健診センター作業シート'!$I1214","v":0},{"$f":"'→これより右側　健診センター作業シート'!$G1214","v":0},{"$f":"'→これより右側　健診センター作業シート'!$H1214","v":0}]
[{"$f":"'→これより右側　健診センター作業シート'!$D1215","v":0},{"$f":"'→これより右側　健診センター作業シート'!$B1215","v":0},{"$f":"'→これより右側　健診センター作業シート'!$I1215","v":0},{"$f":"'→これより右側　健診センター作業シート'!$G1215","v":0},{"$f":"'→これより右側　健診センター作業シート'!$H1215","v":0}]
[{"$f":"'→これより右側　健診センター作業シート'!$D1216","v":0},{"$f":"'→これより右側　健診センター作業シート'!$B1216","v":0},{"$f":"'→これより右側　健診センター作業シート'!$I1216","v":0},{"$f":"'→これより右側　健診センター作業シート'!$G1216","v":0},{"$f":"'→これより右側　健診センター作業シート'!$H1216","v":0}]
[{"$f":"'→これより右側　健診センター作業シート'!$D1217","v":0},{"$f":"'→これより右側　健診センター作業シート'!$B1217","v":0},{"$f":"'→これより右側　健診センター作業シート'!$I1217","v":0},{"$f":"'→これより右側　健診センター作業シート'!$G1217","v":0},{"$f":"'→これより右側　健診センター作業シート'!$H1217","v":0}]
[{"$f":"'→これより右側　健診センター作業シート'!$D1218","v":0},{"$f":"'→これより右側　健診センター作業シート'!$B1218","v":0},{"$f":"'→これより右側　健診センター作業シート'!$I1218","v":0},{"$f":"'→これより右側　健診センター作業シート'!$G1218","v":0},{"$f":"'→これより右側　健診センター作業シート'!$H1218","v":0}]
[{"$f":"'→これより右側　健診センター作業シート'!$D1219","v":0},{"$f":"'→これより右側　健診センター作業シート'!$B1219","v":0},{"$f":"'→これより右側　健診センター作業シート'!$I1219","v":0},{"$f":"'→これより右側　健診センター作業シート'!$G1219","v":0},{"$f":"'→これより右側　健診センター作業シート'!$H1219","v":0}]
[{"$f":"'→これより右側　健診センター作業シート'!$D1220","v":0},{"$f":"'→これより右側　健診センター作業シート'!$B1220","v":0},{"$f":"'→これより右側　健診センター作業シート'!$I1220","v":0},{"$f":"'→これより右側　健診センター作業シート'!$G1220","v":0},{"$f":"'→これより右側　健診センター作業シート'!$H1220","v":0}]
[{"$f":"'→これより右側　健診センター作業シート'!$D1221","v":0},{"$f":"'→これより右側　健診センター作業シート'!$B1221","v":0},{"$f":"'→これより右側　健診センター作業シート'!$I1221","v":0},{"$f":"'→これより右側　健診センター作業シート'!$G1221","v":0},{"$f":"'→これより右側　健診センター作業シート'!$H1221","v":0}]
[{"$f":"'→これより右側　健診センター作業シート'!$D1222","v":0},{"$f":"'→これより右側　健診センター作業シート'!$B1222","v":0},{"$f":"'→これより右側　健診センター作業シート'!$I1222","v":0},{"$f":"'→これより右側　健診センター作業シート'!$G1222","v":0},{"$f":"'→これより右側　健診センター作業シート'!$H1222","v":0}]
[{"$f":"'→これより右側　健診センター作業シート'!$D1223","v":0},{"$f":"'→これより右側　健診センター作業シート'!$B1223","v":0},{"$f":"'→これより右側　健診センター作業シート'!$I1223","v":0},{"$f":"'→これより右側　健診センター作業シート'!$G1223","v":0},{"$f":"'→これより右側　健診センター作業シート'!$H1223","v":0}]
[{"$f":"'→これより右側　健診センター作業シート'!$D1224","v":0},{"$f":"'→これより右側　健診センター作業シート'!$B1224","v":0},{"$f":"'→これより右側　健診センター作業シート'!$I1224","v":0},{"$f":"'→これより右側　健診センター作業シート'!$G1224","v":0},{"$f":"'→これより右側　健診センター作業シート'!$H1224","v":0}]
[{"$f":"'→これより右側　健診センター作業シート'!$D1225","v":0},{"$f":"'→これより右側　健診センター作業シート'!$B1225","v":0},{"$f":"'→これより右側　健診センター作業シート'!$I1225","v":0},{"$f":"'→これより右側　健診センター作業シート'!$G1225","v":0},{"$f":"'→これより右側　健診センター作業シート'!$H1225","v":0}]
[{"$f":"'→これより右側　健診センター作業シート'!$D1226","v":0},{"$f":"'→これより右側　健診センター作業シート'!$B1226","v":0},{"$f":"'→これより右側　健診センター作業シート'!$I1226","v":0},{"$f":"'→これより右側　健診センター作業シート'!$G1226","v":0},{"$f":"'→これより右側　健診センター作業シート'!$H1226","v":0}]
[{"$f":"'→これより右側　健診センター作業シート'!$D1227","v":0},{"$f":"'→これより右側　健診センター作業シート'!$B1227","v":0},{"$f":"'→これより右側　健診センター作業シート'!$I1227","v":0},{"$f":"'→これより右側　健診センター作業シート'!$G1227","v":0},{"$f":"'→これより右側　健診センター作業シート'!$H1227","v":0}]
[{"$f":"'→これより右側　健診センター作業シート'!$D1228","v":0},{"$f":"'→これより右側　健診センター作業シート'!$B1228","v":0},{"$f":"'→これより右側　健診センター作業シート'!$I1228","v":0},{"$f":"'→これより右側　健診センター作業シート'!$G1228","v":0},{"$f":"'→これより右側　健診センター作業シート'!$H1228","v":0}]
[{"$f":"'→これより右側　健診センター作業シート'!$D1229","v":0},{"$f":"'→これより右側　健診センター作業シート'!$B1229","v":0},{"$f":"'→これより右側　健診センター作業シート'!$I1229","v":0},{"$f":"'→これより右側　健診センター作業シート'!$G1229","v":0},{"$f":"'→これより右側　健診センター作業シート'!$H1229","v":0}]
[{"$f":"'→これより右側　健診センター作業シート'!$D1230","v":0},{"$f":"'→これより右側　健診センター作業シート'!$B1230","v":0},{"$f":"'→これより右側　健診センター作業シート'!$I1230","v":0},{"$f":"'→これより右側　健診センター作業シート'!$G1230","v":0},{"$f":"'→これより右側　健診センター作業シート'!$H1230","v":0}]
[{"$f":"'→これより右側　健診センター作業シート'!$D1231","v":0},{"$f":"'→これより右側　健診センター作業シート'!$B1231","v":0},{"$f":"'→これより右側　健診センター作業シート'!$I1231","v":0},{"$f":"'→これより右側　健診センター作業シート'!$G1231","v":0},{"$f":"'→これより右側　健診センター作業シート'!$H1231","v":0}]
[{"$f":"'→これより右側　健診センター作業シート'!$D1232","v":0},{"$f":"'→これより右側　健診センター作業シート'!$B1232","v":0},{"$f":"'→これより右側　健診センター作業シート'!$I1232","v":0},{"$f":"'→これより右側　健診センター作業シート'!$G1232","v":0},{"$f":"'→これより右側　健診センター作業シート'!$H1232","v":0}]
[{"$f":"'→これより右側　健診センター作業シート'!$D1233","v":0},{"$f":"'→これより右側　健診センター作業シート'!$B1233","v":0},{"$f":"'→これより右側　健診センター作業シート'!$I1233","v":0},{"$f":"'→これより右側　健診センター作業シート'!$G1233","v":0},{"$f":"'→これより右側　健診センター作業シート'!$H1233","v":0}]
[{"$f":"'→これより右側　健診センター作業シート'!$D1234","v":0},{"$f":"'→これより右側　健診センター作業シート'!$B1234","v":0},{"$f":"'→これより右側　健診センター作業シート'!$I1234","v":0},{"$f":"'→これより右側　健診センター作業シート'!$G1234","v":0},{"$f":"'→これより右側　健診センター作業シート'!$H1234","v":0}]
[{"$f":"'→これより右側　健診センター作業シート'!$D1235","v":0},{"$f":"'→これより右側　健診センター作業シート'!$B1235","v":0},{"$f":"'→これより右側　健診センター作業シート'!$I1235","v":0},{"$f":"'→これより右側　健診センター作業シート'!$G1235","v":0},{"$f":"'→これより右側　健診センター作業シート'!$H1235","v":0}]
[{"$f":"'→これより右側　健診センター作業シート'!$D1236","v":0},{"$f":"'→これより右側　健診センター作業シート'!$B1236","v":0},{"$f":"'→これより右側　健診センター作業シート'!$I1236","v":0},{"$f":"'→これより右側　健診センター作業シート'!$G1236","v":0},{"$f":"'→これより右側　健診センター作業シート'!$H1236","v":0}]
[{"$f":"'→これより右側　健診センター作業シート'!$D1237","v":0},{"$f":"'→これより右側　健診センター作業シート'!$B1237","v":0},{"$f":"'→これより右側　健診センター作業シート'!$I1237","v":0},{"$f":"'→これより右側　健診センター作業シート'!$G1237","v":0},{"$f":"'→これより右側　健診センター作業シート'!$H1237","v":0}]
[{"$f":"'→これより右側　健診センター作業シート'!$D1238","v":0},{"$f":"'→これより右側　健診センター作業シート'!$B1238","v":0},{"$f":"'→これより右側　健診センター作業シート'!$I1238","v":0},{"$f":"'→これより右側　健診センター作業シート'!$G1238","v":0},{"$f":"'→これより右側　健診センター作業シート'!$H1238","v":0}]
[{"$f":"'→これより右側　健診センター作業シート'!$D1239","v":0},{"$f":"'→これより右側　健診センター作業シート'!$B1239","v":0},{"$f":"'→これより右側　健診センター作業シート'!$I1239","v":0},{"$f":"'→これより右側　健診センター作業シート'!$G1239","v":0},{"$f":"'→これより右側　健診センター作業シート'!$H1239","v":0}]
[{"$f":"'→これより右側　健診センター作業シート'!$D1240","v":0},{"$f":"'→これより右側　健診センター作業シート'!$B1240","v":0},{"$f":"'→これより右側　健診センター作業シート'!$I1240","v":0},{"$f":"'→これより右側　健診センター作業シート'!$G1240","v":0},{"$f":"'→これより右側　健診センター作業シート'!$H1240","v":0}]
[{"$f":"'→これより右側　健診センター作業シート'!$D1241","v":0},{"$f":"'→これより右側　健診センター作業シート'!$B1241","v":0},{"$f":"'→これより右側　健診センター作業シート'!$I1241","v":0},{"$f":"'→これより右側　健診センター作業シート'!$G1241","v":0},{"$f":"'→これより右側　健診センター作業シート'!$H1241","v":0}]
[{"$f":"'→これより右側　健診センター作業シート'!$D1242","v":0},{"$f":"'→これより右側　健診センター作業シート'!$B1242","v":0},{"$f":"'→これより右側　健診センター作業シート'!$I1242","v":0},{"$f":"'→これより右側　健診センター作業シート'!$G1242","v":0},{"$f":"'→これより右側　健診センター作業シート'!$H1242","v":0}]
[{"$f":"'→これより右側　健診センター作業シート'!$D1243","v":0},{"$f":"'→これより右側　健診センター作業シート'!$B1243","v":0},{"$f":"'→これより右側　健診センター作業シート'!$I1243","v":0},{"$f":"'→これより右側　健診センター作業シート'!$G1243","v":0},{"$f":"'→これより右側　健診センター作業シート'!$H1243","v":0}]
[{"$f":"'→これより右側　健診センター作業シート'!$D1244","v":0},{"$f":"'→これより右側　健診センター作業シート'!$B1244","v":0},{"$f":"'→これより右側　健診センター作業シート'!$I1244","v":0},{"$f":"'→これより右側　健診センター作業シート'!$G1244","v":0},{"$f":"'→これより右側　健診センター作業シート'!$H1244","v":0}]
[{"$f":"'→これより右側　健診センター作業シート'!$D1245","v":0},{"$f":"'→これより右側　健診センター作業シート'!$B1245","v":0},{"$f":"'→これより右側　健診センター作業シート'!$I1245","v":0},{"$f":"'→これより右側　健診センター作業シート'!$G1245","v":0},{"$f":"'→これより右側　健診センター作業シート'!$H1245","v":0}]
[{"$f":"'→これより右側　健診センター作業シート'!$D1246","v":0},{"$f":"'→これより右側　健診センター作業シート'!$B1246","v":0},{"$f":"'→これより右側　健診センター作業シート'!$I1246","v":0},{"$f":"'→これより右側　健診センター作業シート'!$G1246","v":0},{"$f":"'→これより右側　健診センター作業シート'!$H1246","v":0}]
[{"$f":"'→これより右側　健診センター作業シート'!$D1247","v":0},{"$f":"'→これより右側　健診センター作業シート'!$B1247","v":0},{"$f":"'→これより右側　健診センター作業シート'!$I1247","v":0},{"$f":"'→これより右側　健診センター作業シート'!$G1247","v":0},{"$f":"'→これより右側　健診センター作業シート'!$H1247","v":0}]
[{"$f":"'→これより右側　健診センター作業シート'!$D1248","v":0},{"$f":"'→これより右側　健診センター作業シート'!$B1248","v":0},{"$f":"'→これより右側　健診センター作業シート'!$I1248","v":0},{"$f":"'→これより右側　健診センター作業シート'!$G1248","v":0},{"$f":"'→これより右側　健診センター作業シート'!$H1248","v":0}]
[{"$f":"'→これより右側　健診センター作業シート'!$D1249","v":0},{"$f":"'→これより右側　健診センター作業シート'!$B1249","v":0},{"$f":"'→これより右側　健診センター作業シート'!$I1249","v":0},{"$f":"'→これより右側　健診センター作業シート'!$G1249","v":0},{"$f":"'→これより右側　健診センター作業シート'!$H1249","v":0}]
[{"$f":"'→これより右側　健診センター作業シート'!$D1250","v":0},{"$f":"'→これより右側　健診センター作業シート'!$B1250","v":0},{"$f":"'→これより右側　健診センター作業シート'!$I1250","v":0},{"$f":"'→これより右側　健診センター作業シート'!$G1250","v":0},{"$f":"'→これより右側　健診センター作業シート'!$H1250","v":0}]
[{"$f":"'→これより右側　健診センター作業シート'!$D1251","v":0},{"$f":"'→これより右側　健診センター作業シート'!$B1251","v":0},{"$f":"'→これより右側　健診センター作業シート'!$I1251","v":0},{"$f":"'→これより右側　健診センター作業シート'!$G1251","v":0},{"$f":"'→これより右側　健診センター作業シート'!$H1251","v":0}]
[{"$f":"'→これより右側　健診センター作業シート'!$D1252","v":0},{"$f":"'→これより右側　健診センター作業シート'!$B1252","v":0},{"$f":"'→これより右側　健診センター作業シート'!$I1252","v":0},{"$f":"'→これより右側　健診センター作業シート'!$G1252","v":0},{"$f":"'→これより右側　健診センター作業シート'!$H1252","v":0}]
[{"$f":"'→これより右側　健診センター作業シート'!$D1253","v":0},{"$f":"'→これより右側　健診センター作業シート'!$B1253","v":0},{"$f":"'→これより右側　健診センター作業シート'!$I1253","v":0},{"$f":"'→これより右側　健診センター作業シート'!$G1253","v":0},{"$f":"'→これより右側　健診センター作業シート'!$H1253","v":0}]
[{"$f":"'→これより右側　健診センター作業シート'!$D1254","v":0},{"$f":"'→これより右側　健診センター作業シート'!$B1254","v":0},{"$f":"'→これより右側　健診センター作業シート'!$I1254","v":0},{"$f":"'→これより右側　健診センター作業シート'!$G1254","v":0},{"$f":"'→これより右側　健診センター作業シート'!$H1254","v":0}]
[{"$f":"'→これより右側　健診センター作業シート'!$D1255","v":0},{"$f":"'→これより右側　健診センター作業シート'!$B1255","v":0},{"$f":"'→これより右側　健診センター作業シート'!$I1255","v":0},{"$f":"'→これより右側　健診センター作業シート'!$G1255","v":0},{"$f":"'→これより右側　健診センター作業シート'!$H1255","v":0}]
[{"$f":"'→これより右側　健診センター作業シート'!$D1256","v":0},{"$f":"'→これより右側　健診センター作業シート'!$B1256","v":0},{"$f":"'→これより右側　健診センター作業シート'!$I1256","v":0},{"$f":"'→これより右側　健診センター作業シート'!$G1256","v":0},{"$f":"'→これより右側　健診センター作業シート'!$H1256","v":0}]
[{"$f":"'→これより右側　健診センター作業シート'!$D1257","v":0},{"$f":"'→これより右側　健診センター作業シート'!$B1257","v":0},{"$f":"'→これより右側　健診センター作業シート'!$I1257","v":0},{"$f":"'→これより右側　健診センター作業シート'!$G1257","v":0},{"$f":"'→これより右側　健診センター作業シート'!$H1257","v":0}]
[{"$f":"'→これより右側　健診センター作業シート'!$D1258","v":0},{"$f":"'→これより右側　健診センター作業シート'!$B1258","v":0},{"$f":"'→これより右側　健診センター作業シート'!$I1258","v":0},{"$f":"'→これより右側　健診センター作業シート'!$G1258","v":0},{"$f":"'→これより右側　健診センター作業シート'!$H1258","v":0}]
[{"$f":"'→これより右側　健診センター作業シート'!$D1259","v":0},{"$f":"'→これより右側　健診センター作業シート'!$B1259","v":0},{"$f":"'→これより右側　健診センター作業シート'!$I1259","v":0},{"$f":"'→これより右側　健診センター作業シート'!$G1259","v":0},{"$f":"'→これより右側　健診センター作業シート'!$H1259","v":0}]
[{"$f":"'→これより右側　健診センター作業シート'!$D1260","v":0},{"$f":"'→これより右側　健診センター作業シート'!$B1260","v":0},{"$f":"'→これより右側　健診センター作業シート'!$I1260","v":0},{"$f":"'→これより右側　健診センター作業シート'!$G1260","v":0},{"$f":"'→これより右側　健診センター作業シート'!$H1260","v":0}]
[{"$f":"'→これより右側　健診センター作業シート'!$D1261","v":0},{"$f":"'→これより右側　健診センター作業シート'!$B1261","v":0},{"$f":"'→これより右側　健診センター作業シート'!$I1261","v":0},{"$f":"'→これより右側　健診センター作業シート'!$G1261","v":0},{"$f":"'→これより右側　健診センター作業シート'!$H1261","v":0}]
[{"$f":"'→これより右側　健診センター作業シート'!$D1262","v":0},{"$f":"'→これより右側　健診センター作業シート'!$B1262","v":0},{"$f":"'→これより右側　健診センター作業シート'!$I1262","v":0},{"$f":"'→これより右側　健診センター作業シート'!$G1262","v":0},{"$f":"'→これより右側　健診センター作業シート'!$H1262","v":0}]
[{"$f":"'→これより右側　健診センター作業シート'!$D1263","v":0},{"$f":"'→これより右側　健診センター作業シート'!$B1263","v":0},{"$f":"'→これより右側　健診センター作業シート'!$I1263","v":0},{"$f":"'→これより右側　健診センター作業シート'!$G1263","v":0},{"$f":"'→これより右側　健診センター作業シート'!$H1263","v":0}]
[{"$f":"'→これより右側　健診センター作業シート'!$D1264","v":0},{"$f":"'→これより右側　健診センター作業シート'!$B1264","v":0},{"$f":"'→これより右側　健診センター作業シート'!$I1264","v":0},{"$f":"'→これより右側　健診センター作業シート'!$G1264","v":0},{"$f":"'→これより右側　健診センター作業シート'!$H1264","v":0}]
[{"$f":"'→これより右側　健診センター作業シート'!$D1265","v":0},{"$f":"'→これより右側　健診センター作業シート'!$B1265","v":0},{"$f":"'→これより右側　健診センター作業シート'!$I1265","v":0},{"$f":"'→これより右側　健診センター作業シート'!$G1265","v":0},{"$f":"'→これより右側　健診センター作業シート'!$H1265","v":0}]
[{"$f":"'→これより右側　健診センター作業シート'!$D1266","v":0},{"$f":"'→これより右側　健診センター作業シート'!$B1266","v":0},{"$f":"'→これより右側　健診センター作業シート'!$I1266","v":0},{"$f":"'→これより右側　健診センター作業シート'!$G1266","v":0},{"$f":"'→これより右側　健診センター作業シート'!$H1266","v":0}]
[{"$f":"'→これより右側　健診センター作業シート'!$D1267","v":0},{"$f":"'→これより右側　健診センター作業シート'!$B1267","v":0},{"$f":"'→これより右側　健診センター作業シート'!$I1267","v":0},{"$f":"'→これより右側　健診センター作業シート'!$G1267","v":0},{"$f":"'→これより右側　健診センター作業シート'!$H1267","v":0}]
[{"$f":"'→これより右側　健診センター作業シート'!$D1268","v":0},{"$f":"'→これより右側　健診センター作業シート'!$B1268","v":0},{"$f":"'→これより右側　健診センター作業シート'!$I1268","v":0},{"$f":"'→これより右側　健診センター作業シート'!$G1268","v":0},{"$f":"'→これより右側　健診センター作業シート'!$H1268","v":0}]
[{"$f":"'→これより右側　健診センター作業シート'!$D1269","v":0},{"$f":"'→これより右側　健診センター作業シート'!$B1269","v":0},{"$f":"'→これより右側　健診センター作業シート'!$I1269","v":0},{"$f":"'→これより右側　健診センター作業シート'!$G1269","v":0},{"$f":"'→これより右側　健診センター作業シート'!$H1269","v":0}]
[{"$f":"'→これより右側　健診センター作業シート'!$D1270","v":0},{"$f":"'→これより右側　健診センター作業シート'!$B1270","v":0},{"$f":"'→これより右側　健診センター作業シート'!$I1270","v":0},{"$f":"'→これより右側　健診センター作業シート'!$G1270","v":0},{"$f":"'→これより右側　健診センター作業シート'!$H1270","v":0}]
[{"$f":"'→これより右側　健診センター作業シート'!$D1271","v":0},{"$f":"'→これより右側　健診センター作業シート'!$B1271","v":0},{"$f":"'→これより右側　健診センター作業シート'!$I1271","v":0},{"$f":"'→これより右側　健診センター作業シート'!$G1271","v":0},{"$f":"'→これより右側　健診センター作業シート'!$H1271","v":0}]
[{"$f":"'→これより右側　健診センター作業シート'!$D1272","v":0},{"$f":"'→これより右側　健診センター作業シート'!$B1272","v":0},{"$f":"'→これより右側　健診センター作業シート'!$I1272","v":0},{"$f":"'→これより右側　健診センター作業シート'!$G1272","v":0},{"$f":"'→これより右側　健診センター作業シート'!$H1272","v":0}]
[{"$f":"'→これより右側　健診センター作業シート'!$D1273","v":0},{"$f":"'→これより右側　健診センター作業シート'!$B1273","v":0},{"$f":"'→これより右側　健診センター作業シート'!$I1273","v":0},{"$f":"'→これより右側　健診センター作業シート'!$G1273","v":0},{"$f":"'→これより右側　健診センター作業シート'!$H1273","v":0}]
[{"$f":"'→これより右側　健診センター作業シート'!$D1274","v":0},{"$f":"'→これより右側　健診センター作業シート'!$B1274","v":0},{"$f":"'→これより右側　健診センター作業シート'!$I1274","v":0},{"$f":"'→これより右側　健診センター作業シート'!$G1274","v":0},{"$f":"'→これより右側　健診センター作業シート'!$H1274","v":0}]
[{"$f":"'→これより右側　健診センター作業シート'!$D1275","v":0},{"$f":"'→これより右側　健診センター作業シート'!$B1275","v":0},{"$f":"'→これより右側　健診センター作業シート'!$I1275","v":0},{"$f":"'→これより右側　健診センター作業シート'!$G1275","v":0},{"$f":"'→これより右側　健診センター作業シート'!$H1275","v":0}]
[{"$f":"'→これより右側　健診センター作業シート'!$D1276","v":0},{"$f":"'→これより右側　健診センター作業シート'!$B1276","v":0},{"$f":"'→これより右側　健診センター作業シート'!$I1276","v":0},{"$f":"'→これより右側　健診センター作業シート'!$G1276","v":0},{"$f":"'→これより右側　健診センター作業シート'!$H1276","v":0}]
[{"$f":"'→これより右側　健診センター作業シート'!$D1277","v":0},{"$f":"'→これより右側　健診センター作業シート'!$B1277","v":0},{"$f":"'→これより右側　健診センター作業シート'!$I1277","v":0},{"$f":"'→これより右側　健診センター作業シート'!$G1277","v":0},{"$f":"'→これより右側　健診センター作業シート'!$H1277","v":0}]
[{"$f":"'→これより右側　健診センター作業シート'!$D1278","v":0},{"$f":"'→これより右側　健診センター作業シート'!$B1278","v":0},{"$f":"'→これより右側　健診センター作業シート'!$I1278","v":0},{"$f":"'→これより右側　健診センター作業シート'!$G1278","v":0},{"$f":"'→これより右側　健診センター作業シート'!$H1278","v":0}]
[{"$f":"'→これより右側　健診センター作業シート'!$D1279","v":0},{"$f":"'→これより右側　健診センター作業シート'!$B1279","v":0},{"$f":"'→これより右側　健診センター作業シート'!$I1279","v":0},{"$f":"'→これより右側　健診センター作業シート'!$G1279","v":0},{"$f":"'→これより右側　健診センター作業シート'!$H1279","v":0}]
[{"$f":"'→これより右側　健診センター作業シート'!$D1280","v":0},{"$f":"'→これより右側　健診センター作業シート'!$B1280","v":0},{"$f":"'→これより右側　健診センター作業シート'!$I1280","v":0},{"$f":"'→これより右側　健診センター作業シート'!$G1280","v":0},{"$f":"'→これより右側　健診センター作業シート'!$H1280","v":0}]
[{"$f":"'→これより右側　健診センター作業シート'!$D1281","v":0},{"$f":"'→これより右側　健診センター作業シート'!$B1281","v":0},{"$f":"'→これより右側　健診センター作業シート'!$I1281","v":0},{"$f":"'→これより右側　健診センター作業シート'!$G1281","v":0},{"$f":"'→これより右側　健診センター作業シート'!$H1281","v":0}]
[{"$f":"'→これより右側　健診センター作業シート'!$D1282","v":0},{"$f":"'→これより右側　健診センター作業シート'!$B1282","v":0},{"$f":"'→これより右側　健診センター作業シート'!$I1282","v":0},{"$f":"'→これより右側　健診センター作業シート'!$G1282","v":0},{"$f":"'→これより右側　健診センター作業シート'!$H1282","v":0}]
[{"$f":"'→これより右側　健診センター作業シート'!$D1283","v":0},{"$f":"'→これより右側　健診センター作業シート'!$B1283","v":0},{"$f":"'→これより右側　健診センター作業シート'!$I1283","v":0},{"$f":"'→これより右側　健診センター作業シート'!$G1283","v":0},{"$f":"'→これより右側　健診センター作業シート'!$H1283","v":0}]
[{"$f":"'→これより右側　健診センター作業シート'!$D1284","v":0},{"$f":"'→これより右側　健診センター作業シート'!$B1284","v":0},{"$f":"'→これより右側　健診センター作業シート'!$I1284","v":0},{"$f":"'→これより右側　健診センター作業シート'!$G1284","v":0},{"$f":"'→これより右側　健診センター作業シート'!$H1284","v":0}]
[{"$f":"'→これより右側　健診センター作業シート'!$D1285","v":0},{"$f":"'→これより右側　健診センター作業シート'!$B1285","v":0},{"$f":"'→これより右側　健診センター作業シート'!$I1285","v":0},{"$f":"'→これより右側　健診センター作業シート'!$G1285","v":0},{"$f":"'→これより右側　健診センター作業シート'!$H1285","v":0}]
[{"$f":"'→これより右側　健診センター作業シート'!$D1286","v":0},{"$f":"'→これより右側　健診センター作業シート'!$B1286","v":0},{"$f":"'→これより右側　健診センター作業シート'!$I1286","v":0},{"$f":"'→これより右側　健診センター作業シート'!$G1286","v":0},{"$f":"'→これより右側　健診センター作業シート'!$H1286","v":0}]
[{"$f":"'→これより右側　健診センター作業シート'!$D1287","v":0},{"$f":"'→これより右側　健診センター作業シート'!$B1287","v":0},{"$f":"'→これより右側　健診センター作業シート'!$I1287","v":0},{"$f":"'→これより右側　健診センター作業シート'!$G1287","v":0},{"$f":"'→これより右側　健診センター作業シート'!$H1287","v":0}]
[{"$f":"'→これより右側　健診センター作業シート'!$D1288","v":0},{"$f":"'→これより右側　健診センター作業シート'!$B1288","v":0},{"$f":"'→これより右側　健診センター作業シート'!$I1288","v":0},{"$f":"'→これより右側　健診センター作業シート'!$G1288","v":0},{"$f":"'→これより右側　健診センター作業シート'!$H1288","v":0}]
[{"$f":"'→これより右側　健診センター作業シート'!$D1289","v":0},{"$f":"'→これより右側　健診センター作業シート'!$B1289","v":0},{"$f":"'→これより右側　健診センター作業シート'!$I1289","v":0},{"$f":"'→これより右側　健診センター作業シート'!$G1289","v":0},{"$f":"'→これより右側　健診センター作業シート'!$H1289","v":0}]
[{"$f":"'→これより右側　健診センター作業シート'!$D1290","v":0},{"$f":"'→これより右側　健診センター作業シート'!$B1290","v":0},{"$f":"'→これより右側　健診センター作業シート'!$I1290","v":0},{"$f":"'→これより右側　健診センター作業シート'!$G1290","v":0},{"$f":"'→これより右側　健診センター作業シート'!$H1290","v":0}]
[{"$f":"'→これより右側　健診センター作業シート'!$D1291","v":0},{"$f":"'→これより右側　健診センター作業シート'!$B1291","v":0},{"$f":"'→これより右側　健診センター作業シート'!$I1291","v":0},{"$f":"'→これより右側　健診センター作業シート'!$G1291","v":0},{"$f":"'→これより右側　健診センター作業シート'!$H1291","v":0}]
[{"$f":"'→これより右側　健診センター作業シート'!$D1292","v":0},{"$f":"'→これより右側　健診センター作業シート'!$B1292","v":0},{"$f":"'→これより右側　健診センター作業シート'!$I1292","v":0},{"$f":"'→これより右側　健診センター作業シート'!$G1292","v":0},{"$f":"'→これより右側　健診センター作業シート'!$H1292","v":0}]
[{"$f":"'→これより右側　健診センター作業シート'!$D1293","v":0},{"$f":"'→これより右側　健診センター作業シート'!$B1293","v":0},{"$f":"'→これより右側　健診センター作業シート'!$I1293","v":0},{"$f":"'→これより右側　健診センター作業シート'!$G1293","v":0},{"$f":"'→これより右側　健診センター作業シート'!$H1293","v":0}]
[{"$f":"'→これより右側　健診センター作業シート'!$D1294","v":0},{"$f":"'→これより右側　健診センター作業シート'!$B1294","v":0},{"$f":"'→これより右側　健診センター作業シート'!$I1294","v":0},{"$f":"'→これより右側　健診センター作業シート'!$G1294","v":0},{"$f":"'→これより右側　健診センター作業シート'!$H1294","v":0}]
[{"$f":"'→これより右側　健診センター作業シート'!$D1295","v":0},{"$f":"'→これより右側　健診センター作業シート'!$B1295","v":0},{"$f":"'→これより右側　健診センター作業シート'!$I1295","v":0},{"$f":"'→これより右側　健診センター作業シート'!$G1295","v":0},{"$f":"'→これより右側　健診センター作業シート'!$H1295","v":0}]
[{"$f":"'→これより右側　健診センター作業シート'!$D1296","v":0},{"$f":"'→これより右側　健診センター作業シート'!$B1296","v":0},{"$f":"'→これより右側　健診センター作業シート'!$I1296","v":0},{"$f":"'→これより右側　健診センター作業シート'!$G1296","v":0},{"$f":"'→これより右側　健診センター作業シート'!$H1296","v":0}]
[{"$f":"'→これより右側　健診センター作業シート'!$D1297","v":0},{"$f":"'→これより右側　健診センター作業シート'!$B1297","v":0},{"$f":"'→これより右側　健診センター作業シート'!$I1297","v":0},{"$f":"'→これより右側　健診センター作業シート'!$G1297","v":0},{"$f":"'→これより右側　健診センター作業シート'!$H1297","v":0}]
[{"$f":"'→これより右側　健診センター作業シート'!$D1298","v":0},{"$f":"'→これより右側　健診センター作業シート'!$B1298","v":0},{"$f":"'→これより右側　健診センター作業シート'!$I1298","v":0},{"$f":"'→これより右側　健診センター作業シート'!$G1298","v":0},{"$f":"'→これより右側　健診センター作業シート'!$H1298","v":0}]
[{"$f":"'→これより右側　健診センター作業シート'!$D1299","v":0},{"$f":"'→これより右側　健診センター作業シート'!$B1299","v":0},{"$f":"'→これより右側　健診センター作業シート'!$I1299","v":0},{"$f":"'→これより右側　健診センター作業シート'!$G1299","v":0},{"$f":"'→これより右側　健診センター作業シート'!$H1299","v":0}]
[{"$f":"'→これより右側　健診センター作業シート'!$D1300","v":0},{"$f":"'→これより右側　健診センター作業シート'!$B1300","v":0},{"$f":"'→これより右側　健診センター作業シート'!$I1300","v":0},{"$f":"'→これより右側　健診センター作業シート'!$G1300","v":0},{"$f":"'→これより右側　健診センター作業シート'!$H1300","v":0}]
[{"$f":"'→これより右側　健診センター作業シート'!$D1301","v":0},{"$f":"'→これより右側　健診センター作業シート'!$B1301","v":0},{"$f":"'→これより右側　健診センター作業シート'!$I1301","v":0},{"$f":"'→これより右側　健診センター作業シート'!$G1301","v":0},{"$f":"'→これより右側　健診センター作業シート'!$H1301","v":0}]
[{"$f":"'→これより右側　健診センター作業シート'!$D1302","v":0},{"$f":"'→これより右側　健診センター作業シート'!$B1302","v":0},{"$f":"'→これより右側　健診センター作業シート'!$I1302","v":0},{"$f":"'→これより右側　健診センター作業シート'!$G1302","v":0},{"$f":"'→これより右側　健診センター作業シート'!$H1302","v":0}]
[{"$f":"'→これより右側　健診センター作業シート'!$D1303","v":0},{"$f":"'→これより右側　健診センター作業シート'!$B1303","v":0},{"$f":"'→これより右側　健診センター作業シート'!$I1303","v":0},{"$f":"'→これより右側　健診センター作業シート'!$G1303","v":0},{"$f":"'→これより右側　健診センター作業シート'!$H1303","v":0}]
[{"$f":"'→これより右側　健診センター作業シート'!$D1304","v":0},{"$f":"'→これより右側　健診センター作業シート'!$B1304","v":0},{"$f":"'→これより右側　健診センター作業シート'!$I1304","v":0},{"$f":"'→これより右側　健診センター作業シート'!$G1304","v":0},{"$f":"'→これより右側　健診センター作業シート'!$H1304","v":0}]
[{"$f":"'→これより右側　健診センター作業シート'!$D1305","v":0},{"$f":"'→これより右側　健診センター作業シート'!$B1305","v":0},{"$f":"'→これより右側　健診センター作業シート'!$I1305","v":0},{"$f":"'→これより右側　健診センター作業シート'!$G1305","v":0},{"$f":"'→これより右側　健診センター作業シート'!$H1305","v":0}]
[{"$f":"'→これより右側　健診センター作業シート'!$D1306","v":0},{"$f":"'→これより右側　健診センター作業シート'!$B1306","v":0},{"$f":"'→これより右側　健診センター作業シート'!$I1306","v":0},{"$f":"'→これより右側　健診センター作業シート'!$G1306","v":0},{"$f":"'→これより右側　健診センター作業シート'!$H1306","v":0}]
[{"$f":"'→これより右側　健診センター作業シート'!$D1307","v":0},{"$f":"'→これより右側　健診センター作業シート'!$B1307","v":0},{"$f":"'→これより右側　健診センター作業シート'!$I1307","v":0},{"$f":"'→これより右側　健診センター作業シート'!$G1307","v":0},{"$f":"'→これより右側　健診センター作業シート'!$H1307","v":0}]
[{"$f":"'→これより右側　健診センター作業シート'!$D1308","v":0},{"$f":"'→これより右側　健診センター作業シート'!$B1308","v":0},{"$f":"'→これより右側　健診センター作業シート'!$I1308","v":0},{"$f":"'→これより右側　健診センター作業シート'!$G1308","v":0},{"$f":"'→これより右側　健診センター作業シート'!$H1308","v":0}]
[{"$f":"'→これより右側　健診センター作業シート'!$D1309","v":0},{"$f":"'→これより右側　健診センター作業シート'!$B1309","v":0},{"$f":"'→これより右側　健診センター作業シート'!$I1309","v":0},{"$f":"'→これより右側　健診センター作業シート'!$G1309","v":0},{"$f":"'→これより右側　健診センター作業シート'!$H1309","v":0}]
[{"$f":"'→これより右側　健診センター作業シート'!$D1310","v":0},{"$f":"'→これより右側　健診センター作業シート'!$B1310","v":0},{"$f":"'→これより右側　健診センター作業シート'!$I1310","v":0},{"$f":"'→これより右側　健診センター作業シート'!$G1310","v":0},{"$f":"'→これより右側　健診センター作業シート'!$H1310","v":0}]
[{"$f":"'→これより右側　健診センター作業シート'!$D1311","v":0},{"$f":"'→これより右側　健診センター作業シート'!$B1311","v":0},{"$f":"'→これより右側　健診センター作業シート'!$I1311","v":0},{"$f":"'→これより右側　健診センター作業シート'!$G1311","v":0},{"$f":"'→これより右側　健診センター作業シート'!$H1311","v":0}]
[{"$f":"'→これより右側　健診センター作業シート'!$D1312","v":0},{"$f":"'→これより右側　健診センター作業シート'!$B1312","v":0},{"$f":"'→これより右側　健診センター作業シート'!$I1312","v":0},{"$f":"'→これより右側　健診センター作業シート'!$G1312","v":0},{"$f":"'→これより右側　健診センター作業シート'!$H1312","v":0}]
[{"$f":"'→これより右側　健診センター作業シート'!$D1313","v":0},{"$f":"'→これより右側　健診センター作業シート'!$B1313","v":0},{"$f":"'→これより右側　健診センター作業シート'!$I1313","v":0},{"$f":"'→これより右側　健診センター作業シート'!$G1313","v":0},{"$f":"'→これより右側　健診センター作業シート'!$H1313","v":0}]
[{"$f":"'→これより右側　健診センター作業シート'!$D1314","v":0},{"$f":"'→これより右側　健診センター作業シート'!$B1314","v":0},{"$f":"'→これより右側　健診センター作業シート'!$I1314","v":0},{"$f":"'→これより右側　健診センター作業シート'!$G1314","v":0},{"$f":"'→これより右側　健診センター作業シート'!$H1314","v":0}]
[{"$f":"'→これより右側　健診センター作業シート'!$D1315","v":0},{"$f":"'→これより右側　健診センター作業シート'!$B1315","v":0},{"$f":"'→これより右側　健診センター作業シート'!$I1315","v":0},{"$f":"'→これより右側　健診センター作業シート'!$G1315","v":0},{"$f":"'→これより右側　健診センター作業シート'!$H1315","v":0}]
[{"$f":"'→これより右側　健診センター作業シート'!$D1316","v":0},{"$f":"'→これより右側　健診センター作業シート'!$B1316","v":0},{"$f":"'→これより右側　健診センター作業シート'!$I1316","v":0},{"$f":"'→これより右側　健診センター作業シート'!$G1316","v":0},{"$f":"'→これより右側　健診センター作業シート'!$H1316","v":0}]
[{"$f":"'→これより右側　健診センター作業シート'!$D1317","v":0},{"$f":"'→これより右側　健診センター作業シート'!$B1317","v":0},{"$f":"'→これより右側　健診センター作業シート'!$I1317","v":0},{"$f":"'→これより右側　健診センター作業シート'!$G1317","v":0},{"$f":"'→これより右側　健診センター作業シート'!$H1317","v":0}]
[{"$f":"'→これより右側　健診センター作業シート'!$D1318","v":0},{"$f":"'→これより右側　健診センター作業シート'!$B1318","v":0},{"$f":"'→これより右側　健診センター作業シート'!$I1318","v":0},{"$f":"'→これより右側　健診センター作業シート'!$G1318","v":0},{"$f":"'→これより右側　健診センター作業シート'!$H1318","v":0}]
[{"$f":"'→これより右側　健診センター作業シート'!$D1319","v":0},{"$f":"'→これより右側　健診センター作業シート'!$B1319","v":0},{"$f":"'→これより右側　健診センター作業シート'!$I1319","v":0},{"$f":"'→これより右側　健診センター作業シート'!$G1319","v":0},{"$f":"'→これより右側　健診センター作業シート'!$H1319","v":0}]
[{"$f":"'→これより右側　健診センター作業シート'!$D1320","v":0},{"$f":"'→これより右側　健診センター作業シート'!$B1320","v":0},{"$f":"'→これより右側　健診センター作業シート'!$I1320","v":0},{"$f":"'→これより右側　健診センター作業シート'!$G1320","v":0},{"$f":"'→これより右側　健診センター作業シート'!$H1320","v":0}]
[{"$f":"'→これより右側　健診センター作業シート'!$D1321","v":0},{"$f":"'→これより右側　健診センター作業シート'!$B1321","v":0},{"$f":"'→これより右側　健診センター作業シート'!$I1321","v":0},{"$f":"'→これより右側　健診センター作業シート'!$G1321","v":0},{"$f":"'→これより右側　健診センター作業シート'!$H1321","v":0}]
[{"$f":"'→これより右側　健診センター作業シート'!$D1322","v":0},{"$f":"'→これより右側　健診センター作業シート'!$B1322","v":0},{"$f":"'→これより右側　健診センター作業シート'!$I1322","v":0},{"$f":"'→これより右側　健診センター作業シート'!$G1322","v":0},{"$f":"'→これより右側　健診センター作業シート'!$H1322","v":0}]
[{"$f":"'→これより右側　健診センター作業シート'!$D1323","v":0},{"$f":"'→これより右側　健診センター作業シート'!$B1323","v":0},{"$f":"'→これより右側　健診センター作業シート'!$I1323","v":0},{"$f":"'→これより右側　健診センター作業シート'!$G1323","v":0},{"$f":"'→これより右側　健診センター作業シート'!$H1323","v":0}]
[{"$f":"'→これより右側　健診センター作業シート'!$D1324","v":0},{"$f":"'→これより右側　健診センター作業シート'!$B1324","v":0},{"$f":"'→これより右側　健診センター作業シート'!$I1324","v":0},{"$f":"'→これより右側　健診センター作業シート'!$G1324","v":0},{"$f":"'→これより右側　健診センター作業シート'!$H1324","v":0}]
[{"$f":"'→これより右側　健診センター作業シート'!$D1325","v":0},{"$f":"'→これより右側　健診センター作業シート'!$B1325","v":0},{"$f":"'→これより右側　健診センター作業シート'!$I1325","v":0},{"$f":"'→これより右側　健診センター作業シート'!$G1325","v":0},{"$f":"'→これより右側　健診センター作業シート'!$H1325","v":0}]
[{"$f":"'→これより右側　健診センター作業シート'!$D1326","v":0},{"$f":"'→これより右側　健診センター作業シート'!$B1326","v":0},{"$f":"'→これより右側　健診センター作業シート'!$I1326","v":0},{"$f":"'→これより右側　健診センター作業シート'!$G1326","v":0},{"$f":"'→これより右側　健診センター作業シート'!$H1326","v":0}]
[{"$f":"'→これより右側　健診センター作業シート'!$D1327","v":0},{"$f":"'→これより右側　健診センター作業シート'!$B1327","v":0},{"$f":"'→これより右側　健診センター作業シート'!$I1327","v":0},{"$f":"'→これより右側　健診センター作業シート'!$G1327","v":0},{"$f":"'→これより右側　健診センター作業シート'!$H1327","v":0}]
[{"$f":"'→これより右側　健診センター作業シート'!$D1328","v":0},{"$f":"'→これより右側　健診センター作業シート'!$B1328","v":0},{"$f":"'→これより右側　健診センター作業シート'!$I1328","v":0},{"$f":"'→これより右側　健診センター作業シート'!$G1328","v":0},{"$f":"'→これより右側　健診センター作業シート'!$H1328","v":0}]
[{"$f":"'→これより右側　健診センター作業シート'!$D1329","v":0},{"$f":"'→これより右側　健診センター作業シート'!$B1329","v":0},{"$f":"'→これより右側　健診センター作業シート'!$I1329","v":0},{"$f":"'→これより右側　健診センター作業シート'!$G1329","v":0},{"$f":"'→これより右側　健診センター作業シート'!$H1329","v":0}]
[{"$f":"'→これより右側　健診センター作業シート'!$D1330","v":0},{"$f":"'→これより右側　健診センター作業シート'!$B1330","v":0},{"$f":"'→これより右側　健診センター作業シート'!$I1330","v":0},{"$f":"'→これより右側　健診センター作業シート'!$G1330","v":0},{"$f":"'→これより右側　健診センター作業シート'!$H1330","v":0}]
[{"$f":"'→これより右側　健診センター作業シート'!$D1331","v":0},{"$f":"'→これより右側　健診センター作業シート'!$B1331","v":0},{"$f":"'→これより右側　健診センター作業シート'!$I1331","v":0},{"$f":"'→これより右側　健診センター作業シート'!$G1331","v":0},{"$f":"'→これより右側　健診センター作業シート'!$H1331","v":0}]
[{"$f":"'→これより右側　健診センター作業シート'!$D1332","v":0},{"$f":"'→これより右側　健診センター作業シート'!$B1332","v":0},{"$f":"'→これより右側　健診センター作業シート'!$I1332","v":0},{"$f":"'→これより右側　健診センター作業シート'!$G1332","v":0},{"$f":"'→これより右側　健診センター作業シート'!$H1332","v":0}]
[{"$f":"'→これより右側　健診センター作業シート'!$D1333","v":0},{"$f":"'→これより右側　健診センター作業シート'!$B1333","v":0},{"$f":"'→これより右側　健診センター作業シート'!$I1333","v":0},{"$f":"'→これより右側　健診センター作業シート'!$G1333","v":0},{"$f":"'→これより右側　健診センター作業シート'!$H1333","v":0}]
[{"$f":"'→これより右側　健診センター作業シート'!$D1334","v":0},{"$f":"'→これより右側　健診センター作業シート'!$B1334","v":0},{"$f":"'→これより右側　健診センター作業シート'!$I1334","v":0},{"$f":"'→これより右側　健診センター作業シート'!$G1334","v":0},{"$f":"'→これより右側　健診センター作業シート'!$H1334","v":0}]
[{"$f":"'→これより右側　健診センター作業シート'!$D1335","v":0},{"$f":"'→これより右側　健診センター作業シート'!$B1335","v":0},{"$f":"'→これより右側　健診センター作業シート'!$I1335","v":0},{"$f":"'→これより右側　健診センター作業シート'!$G1335","v":0},{"$f":"'→これより右側　健診センター作業シート'!$H1335","v":0}]
[{"$f":"'→これより右側　健診センター作業シート'!$D1336","v":0},{"$f":"'→これより右側　健診センター作業シート'!$B1336","v":0},{"$f":"'→これより右側　健診センター作業シート'!$I1336","v":0},{"$f":"'→これより右側　健診センター作業シート'!$G1336","v":0},{"$f":"'→これより右側　健診センター作業シート'!$H1336","v":0}]
[{"$f":"'→これより右側　健診センター作業シート'!$D1337","v":0},{"$f":"'→これより右側　健診センター作業シート'!$B1337","v":0},{"$f":"'→これより右側　健診センター作業シート'!$I1337","v":0},{"$f":"'→これより右側　健診センター作業シート'!$G1337","v":0},{"$f":"'→これより右側　健診センター作業シート'!$H1337","v":0}]
[{"$f":"'→これより右側　健診センター作業シート'!$D1338","v":0},{"$f":"'→これより右側　健診センター作業シート'!$B1338","v":0},{"$f":"'→これより右側　健診センター作業シート'!$I1338","v":0},{"$f":"'→これより右側　健診センター作業シート'!$G1338","v":0},{"$f":"'→これより右側　健診センター作業シート'!$H1338","v":0}]
[{"$f":"'→これより右側　健診センター作業シート'!$D1339","v":0},{"$f":"'→これより右側　健診センター作業シート'!$B1339","v":0},{"$f":"'→これより右側　健診センター作業シート'!$I1339","v":0},{"$f":"'→これより右側　健診センター作業シート'!$G1339","v":0},{"$f":"'→これより右側　健診センター作業シート'!$H1339","v":0}]
[{"$f":"'→これより右側　健診センター作業シート'!$D1340","v":0},{"$f":"'→これより右側　健診センター作業シート'!$B1340","v":0},{"$f":"'→これより右側　健診センター作業シート'!$I1340","v":0},{"$f":"'→これより右側　健診センター作業シート'!$G1340","v":0},{"$f":"'→これより右側　健診センター作業シート'!$H1340","v":0}]
[{"$f":"'→これより右側　健診センター作業シート'!$D1341","v":0},{"$f":"'→これより右側　健診センター作業シート'!$B1341","v":0},{"$f":"'→これより右側　健診センター作業シート'!$I1341","v":0},{"$f":"'→これより右側　健診センター作業シート'!$G1341","v":0},{"$f":"'→これより右側　健診センター作業シート'!$H1341","v":0}]
[{"$f":"'→これより右側　健診センター作業シート'!$D1342","v":0},{"$f":"'→これより右側　健診センター作業シート'!$B1342","v":0},{"$f":"'→これより右側　健診センター作業シート'!$I1342","v":0},{"$f":"'→これより右側　健診センター作業シート'!$G1342","v":0},{"$f":"'→これより右側　健診センター作業シート'!$H1342","v":0}]
[{"$f":"'→これより右側　健診センター作業シート'!$D1343","v":0},{"$f":"'→これより右側　健診センター作業シート'!$B1343","v":0},{"$f":"'→これより右側　健診センター作業シート'!$I1343","v":0},{"$f":"'→これより右側　健診センター作業シート'!$G1343","v":0},{"$f":"'→これより右側　健診センター作業シート'!$H1343","v":0}]
[{"$f":"'→これより右側　健診センター作業シート'!$D1344","v":0},{"$f":"'→これより右側　健診センター作業シート'!$B1344","v":0},{"$f":"'→これより右側　健診センター作業シート'!$I1344","v":0},{"$f":"'→これより右側　健診センター作業シート'!$G1344","v":0},{"$f":"'→これより右側　健診センター作業シート'!$H1344","v":0}]
[{"$f":"'→これより右側　健診センター作業シート'!$D1345","v":0},{"$f":"'→これより右側　健診センター作業シート'!$B1345","v":0},{"$f":"'→これより右側　健診センター作業シート'!$I1345","v":0},{"$f":"'→これより右側　健診センター作業シート'!$G1345","v":0},{"$f":"'→これより右側　健診センター作業シート'!$H1345","v":0}]
[{"$f":"'→これより右側　健診センター作業シート'!$D1346","v":0},{"$f":"'→これより右側　健診センター作業シート'!$B1346","v":0},{"$f":"'→これより右側　健診センター作業シート'!$I1346","v":0},{"$f":"'→これより右側　健診センター作業シート'!$G1346","v":0},{"$f":"'→これより右側　健診センター作業シート'!$H1346","v":0}]
[{"$f":"'→これより右側　健診センター作業シート'!$D1347","v":0},{"$f":"'→これより右側　健診センター作業シート'!$B1347","v":0},{"$f":"'→これより右側　健診センター作業シート'!$I1347","v":0},{"$f":"'→これより右側　健診センター作業シート'!$G1347","v":0},{"$f":"'→これより右側　健診センター作業シート'!$H1347","v":0}]
[{"$f":"'→これより右側　健診センター作業シート'!$D1348","v":0},{"$f":"'→これより右側　健診センター作業シート'!$B1348","v":0},{"$f":"'→これより右側　健診センター作業シート'!$I1348","v":0},{"$f":"'→これより右側　健診センター作業シート'!$G1348","v":0},{"$f":"'→これより右側　健診センター作業シート'!$H1348","v":0}]
[{"$f":"'→これより右側　健診センター作業シート'!$D1349","v":0},{"$f":"'→これより右側　健診センター作業シート'!$B1349","v":0},{"$f":"'→これより右側　健診センター作業シート'!$I1349","v":0},{"$f":"'→これより右側　健診センター作業シート'!$G1349","v":0},{"$f":"'→これより右側　健診センター作業シート'!$H1349","v":0}]
[{"$f":"'→これより右側　健診センター作業シート'!$D1350","v":0},{"$f":"'→これより右側　健診センター作業シート'!$B1350","v":0},{"$f":"'→これより右側　健診センター作業シート'!$I1350","v":0},{"$f":"'→これより右側　健診センター作業シート'!$G1350","v":0},{"$f":"'→これより右側　健診センター作業シート'!$H1350","v":0}]
[{"$f":"'→これより右側　健診センター作業シート'!$D1351","v":0},{"$f":"'→これより右側　健診センター作業シート'!$B1351","v":0},{"$f":"'→これより右側　健診センター作業シート'!$I1351","v":0},{"$f":"'→これより右側　健診センター作業シート'!$G1351","v":0},{"$f":"'→これより右側　健診センター作業シート'!$H1351","v":0}]
[{"$f":"'→これより右側　健診センター作業シート'!$D1352","v":0},{"$f":"'→これより右側　健診センター作業シート'!$B1352","v":0},{"$f":"'→これより右側　健診センター作業シート'!$I1352","v":0},{"$f":"'→これより右側　健診センター作業シート'!$G1352","v":0},{"$f":"'→これより右側　健診センター作業シート'!$H1352","v":0}]
[{"$f":"'→これより右側　健診センター作業シート'!$D1353","v":0},{"$f":"'→これより右側　健診センター作業シート'!$B1353","v":0},{"$f":"'→これより右側　健診センター作業シート'!$I1353","v":0},{"$f":"'→これより右側　健診センター作業シート'!$G1353","v":0},{"$f":"'→これより右側　健診センター作業シート'!$H1353","v":0}]
[{"$f":"'→これより右側　健診センター作業シート'!$D1354","v":0},{"$f":"'→これより右側　健診センター作業シート'!$B1354","v":0},{"$f":"'→これより右側　健診センター作業シート'!$I1354","v":0},{"$f":"'→これより右側　健診センター作業シート'!$G1354","v":0},{"$f":"'→これより右側　健診センター作業シート'!$H1354","v":0}]
[{"$f":"'→これより右側　健診センター作業シート'!$D1355","v":0},{"$f":"'→これより右側　健診センター作業シート'!$B1355","v":0},{"$f":"'→これより右側　健診センター作業シート'!$I1355","v":0},{"$f":"'→これより右側　健診センター作業シート'!$G1355","v":0},{"$f":"'→これより右側　健診センター作業シート'!$H1355","v":0}]
[{"$f":"'→これより右側　健診センター作業シート'!$D1356","v":0},{"$f":"'→これより右側　健診センター作業シート'!$B1356","v":0},{"$f":"'→これより右側　健診センター作業シート'!$I1356","v":0},{"$f":"'→これより右側　健診センター作業シート'!$G1356","v":0},{"$f":"'→これより右側　健診センター作業シート'!$H1356","v":0}]
[{"$f":"'→これより右側　健診センター作業シート'!$D1357","v":0},{"$f":"'→これより右側　健診センター作業シート'!$B1357","v":0},{"$f":"'→これより右側　健診センター作業シート'!$I1357","v":0},{"$f":"'→これより右側　健診センター作業シート'!$G1357","v":0},{"$f":"'→これより右側　健診センター作業シート'!$H1357","v":0}]
[{"$f":"'→これより右側　健診センター作業シート'!$D1358","v":0},{"$f":"'→これより右側　健診センター作業シート'!$B1358","v":0},{"$f":"'→これより右側　健診センター作業シート'!$I1358","v":0},{"$f":"'→これより右側　健診センター作業シート'!$G1358","v":0},{"$f":"'→これより右側　健診センター作業シート'!$H1358","v":0}]
[{"$f":"'→これより右側　健診センター作業シート'!$D1359","v":0},{"$f":"'→これより右側　健診センター作業シート'!$B1359","v":0},{"$f":"'→これより右側　健診センター作業シート'!$I1359","v":0},{"$f":"'→これより右側　健診センター作業シート'!$G1359","v":0},{"$f":"'→これより右側　健診センター作業シート'!$H1359","v":0}]
[{"$f":"'→これより右側　健診センター作業シート'!$D1360","v":0},{"$f":"'→これより右側　健診センター作業シート'!$B1360","v":0},{"$f":"'→これより右側　健診センター作業シート'!$I1360","v":0},{"$f":"'→これより右側　健診センター作業シート'!$G1360","v":0},{"$f":"'→これより右側　健診センター作業シート'!$H1360","v":0}]
[{"$f":"'→これより右側　健診センター作業シート'!$D1361","v":0},{"$f":"'→これより右側　健診センター作業シート'!$B1361","v":0},{"$f":"'→これより右側　健診センター作業シート'!$I1361","v":0},{"$f":"'→これより右側　健診センター作業シート'!$G1361","v":0},{"$f":"'→これより右側　健診センター作業シート'!$H1361","v":0}]
[{"$f":"'→これより右側　健診センター作業シート'!$D1362","v":0},{"$f":"'→これより右側　健診センター作業シート'!$B1362","v":0},{"$f":"'→これより右側　健診センター作業シート'!$I1362","v":0},{"$f":"'→これより右側　健診センター作業シート'!$G1362","v":0},{"$f":"'→これより右側　健診センター作業シート'!$H1362","v":0}]
[{"$f":"'→これより右側　健診センター作業シート'!$D1363","v":0},{"$f":"'→これより右側　健診センター作業シート'!$B1363","v":0},{"$f":"'→これより右側　健診センター作業シート'!$I1363","v":0},{"$f":"'→これより右側　健診センター作業シート'!$G1363","v":0},{"$f":"'→これより右側　健診センター作業シート'!$H1363","v":0}]
[{"$f":"'→これより右側　健診センター作業シート'!$D1364","v":0},{"$f":"'→これより右側　健診センター作業シート'!$B1364","v":0},{"$f":"'→これより右側　健診センター作業シート'!$I1364","v":0},{"$f":"'→これより右側　健診センター作業シート'!$G1364","v":0},{"$f":"'→これより右側　健診センター作業シート'!$H1364","v":0}]
[{"$f":"'→これより右側　健診センター作業シート'!$D1365","v":0},{"$f":"'→これより右側　健診センター作業シート'!$B1365","v":0},{"$f":"'→これより右側　健診センター作業シート'!$I1365","v":0},{"$f":"'→これより右側　健診センター作業シート'!$G1365","v":0},{"$f":"'→これより右側　健診センター作業シート'!$H1365","v":0}]
[{"$f":"'→これより右側　健診センター作業シート'!$D1366","v":0},{"$f":"'→これより右側　健診センター作業シート'!$B1366","v":0},{"$f":"'→これより右側　健診センター作業シート'!$I1366","v":0},{"$f":"'→これより右側　健診センター作業シート'!$G1366","v":0},{"$f":"'→これより右側　健診センター作業シート'!$H1366","v":0}]
[{"$f":"'→これより右側　健診センター作業シート'!$D1367","v":0},{"$f":"'→これより右側　健診センター作業シート'!$B1367","v":0},{"$f":"'→これより右側　健診センター作業シート'!$I1367","v":0},{"$f":"'→これより右側　健診センター作業シート'!$G1367","v":0},{"$f":"'→これより右側　健診センター作業シート'!$H1367","v":0}]
[{"$f":"'→これより右側　健診センター作業シート'!$D1368","v":0},{"$f":"'→これより右側　健診センター作業シート'!$B1368","v":0},{"$f":"'→これより右側　健診センター作業シート'!$I1368","v":0},{"$f":"'→これより右側　健診センター作業シート'!$G1368","v":0},{"$f":"'→これより右側　健診センター作業シート'!$H1368","v":0}]
[{"$f":"'→これより右側　健診センター作業シート'!$D1369","v":0},{"$f":"'→これより右側　健診センター作業シート'!$B1369","v":0},{"$f":"'→これより右側　健診センター作業シート'!$I1369","v":0},{"$f":"'→これより右側　健診センター作業シート'!$G1369","v":0},{"$f":"'→これより右側　健診センター作業シート'!$H1369","v":0}]
[{"$f":"'→これより右側　健診センター作業シート'!$D1370","v":0},{"$f":"'→これより右側　健診センター作業シート'!$B1370","v":0},{"$f":"'→これより右側　健診センター作業シート'!$I1370","v":0},{"$f":"'→これより右側　健診センター作業シート'!$G1370","v":0},{"$f":"'→これより右側　健診センター作業シート'!$H1370","v":0}]
[{"$f":"'→これより右側　健診センター作業シート'!$D1371","v":0},{"$f":"'→これより右側　健診センター作業シート'!$B1371","v":0},{"$f":"'→これより右側　健診センター作業シート'!$I1371","v":0},{"$f":"'→これより右側　健診センター作業シート'!$G1371","v":0},{"$f":"'→これより右側　健診センター作業シート'!$H1371","v":0}]
[{"$f":"'→これより右側　健診センター作業シート'!$D1372","v":0},{"$f":"'→これより右側　健診センター作業シート'!$B1372","v":0},{"$f":"'→これより右側　健診センター作業シート'!$I1372","v":0},{"$f":"'→これより右側　健診センター作業シート'!$G1372","v":0},{"$f":"'→これより右側　健診センター作業シート'!$H1372","v":0}]
[{"$f":"'→これより右側　健診センター作業シート'!$D1373","v":0},{"$f":"'→これより右側　健診センター作業シート'!$B1373","v":0},{"$f":"'→これより右側　健診センター作業シート'!$I1373","v":0},{"$f":"'→これより右側　健診センター作業シート'!$G1373","v":0},{"$f":"'→これより右側　健診センター作業シート'!$H1373","v":0}]
[{"$f":"'→これより右側　健診センター作業シート'!$D1374","v":0},{"$f":"'→これより右側　健診センター作業シート'!$B1374","v":0},{"$f":"'→これより右側　健診センター作業シート'!$I1374","v":0},{"$f":"'→これより右側　健診センター作業シート'!$G1374","v":0},{"$f":"'→これより右側　健診センター作業シート'!$H1374","v":0}]
[{"$f":"'→これより右側　健診センター作業シート'!$D1375","v":0},{"$f":"'→これより右側　健診センター作業シート'!$B1375","v":0},{"$f":"'→これより右側　健診センター作業シート'!$I1375","v":0},{"$f":"'→これより右側　健診センター作業シート'!$G1375","v":0},{"$f":"'→これより右側　健診センター作業シート'!$H1375","v":0}]
[{"$f":"'→これより右側　健診センター作業シート'!$D1376","v":0},{"$f":"'→これより右側　健診センター作業シート'!$B1376","v":0},{"$f":"'→これより右側　健診センター作業シート'!$I1376","v":0},{"$f":"'→これより右側　健診センター作業シート'!$G1376","v":0},{"$f":"'→これより右側　健診センター作業シート'!$H1376","v":0}]
[{"$f":"'→これより右側　健診センター作業シート'!$D1377","v":0},{"$f":"'→これより右側　健診センター作業シート'!$B1377","v":0},{"$f":"'→これより右側　健診センター作業シート'!$I1377","v":0},{"$f":"'→これより右側　健診センター作業シート'!$G1377","v":0},{"$f":"'→これより右側　健診センター作業シート'!$H1377","v":0}]
[{"$f":"'→これより右側　健診センター作業シート'!$D1378","v":0},{"$f":"'→これより右側　健診センター作業シート'!$B1378","v":0},{"$f":"'→これより右側　健診センター作業シート'!$I1378","v":0},{"$f":"'→これより右側　健診センター作業シート'!$G1378","v":0},{"$f":"'→これより右側　健診センター作業シート'!$H1378","v":0}]
[{"$f":"'→これより右側　健診センター作業シート'!$D1379","v":0},{"$f":"'→これより右側　健診センター作業シート'!$B1379","v":0},{"$f":"'→これより右側　健診センター作業シート'!$I1379","v":0},{"$f":"'→これより右側　健診センター作業シート'!$G1379","v":0},{"$f":"'→これより右側　健診センター作業シート'!$H1379","v":0}]
[{"$f":"'→これより右側　健診センター作業シート'!$D1380","v":0},{"$f":"'→これより右側　健診センター作業シート'!$B1380","v":0},{"$f":"'→これより右側　健診センター作業シート'!$I1380","v":0},{"$f":"'→これより右側　健診センター作業シート'!$G1380","v":0},{"$f":"'→これより右側　健診センター作業シート'!$H1380","v":0}]
[{"$f":"'→これより右側　健診センター作業シート'!$D1381","v":0},{"$f":"'→これより右側　健診センター作業シート'!$B1381","v":0},{"$f":"'→これより右側　健診センター作業シート'!$I1381","v":0},{"$f":"'→これより右側　健診センター作業シート'!$G1381","v":0},{"$f":"'→これより右側　健診センター作業シート'!$H1381","v":0}]
[{"$f":"'→これより右側　健診センター作業シート'!$D1382","v":0},{"$f":"'→これより右側　健診センター作業シート'!$B1382","v":0},{"$f":"'→これより右側　健診センター作業シート'!$I1382","v":0},{"$f":"'→これより右側　健診センター作業シート'!$G1382","v":0},{"$f":"'→これより右側　健診センター作業シート'!$H1382","v":0}]
[{"$f":"'→これより右側　健診センター作業シート'!$D1383","v":0},{"$f":"'→これより右側　健診センター作業シート'!$B1383","v":0},{"$f":"'→これより右側　健診センター作業シート'!$I1383","v":0},{"$f":"'→これより右側　健診センター作業シート'!$G1383","v":0},{"$f":"'→これより右側　健診センター作業シート'!$H1383","v":0}]
[{"$f":"'→これより右側　健診センター作業シート'!$D1384","v":0},{"$f":"'→これより右側　健診センター作業シート'!$B1384","v":0},{"$f":"'→これより右側　健診センター作業シート'!$I1384","v":0},{"$f":"'→これより右側　健診センター作業シート'!$G1384","v":0},{"$f":"'→これより右側　健診センター作業シート'!$H1384","v":0}]
[{"$f":"'→これより右側　健診センター作業シート'!$D1385","v":0},{"$f":"'→これより右側　健診センター作業シート'!$B1385","v":0},{"$f":"'→これより右側　健診センター作業シート'!$I1385","v":0},{"$f":"'→これより右側　健診センター作業シート'!$G1385","v":0},{"$f":"'→これより右側　健診センター作業シート'!$H1385","v":0}]
[{"$f":"'→これより右側　健診センター作業シート'!$D1386","v":0},{"$f":"'→これより右側　健診センター作業シート'!$B1386","v":0},{"$f":"'→これより右側　健診センター作業シート'!$I1386","v":0},{"$f":"'→これより右側　健診センター作業シート'!$G1386","v":0},{"$f":"'→これより右側　健診センター作業シート'!$H1386","v":0}]
[{"$f":"'→これより右側　健診センター作業シート'!$D1387","v":0},{"$f":"'→これより右側　健診センター作業シート'!$B1387","v":0},{"$f":"'→これより右側　健診センター作業シート'!$I1387","v":0},{"$f":"'→これより右側　健診センター作業シート'!$G1387","v":0},{"$f":"'→これより右側　健診センター作業シート'!$H1387","v":0}]
[{"$f":"'→これより右側　健診センター作業シート'!$D1388","v":0},{"$f":"'→これより右側　健診センター作業シート'!$B1388","v":0},{"$f":"'→これより右側　健診センター作業シート'!$I1388","v":0},{"$f":"'→これより右側　健診センター作業シート'!$G1388","v":0},{"$f":"'→これより右側　健診センター作業シート'!$H1388","v":0}]
[{"$f":"'→これより右側　健診センター作業シート'!$D1389","v":0},{"$f":"'→これより右側　健診センター作業シート'!$B1389","v":0},{"$f":"'→これより右側　健診センター作業シート'!$I1389","v":0},{"$f":"'→これより右側　健診センター作業シート'!$G1389","v":0},{"$f":"'→これより右側　健診センター作業シート'!$H1389","v":0}]
[{"$f":"'→これより右側　健診センター作業シート'!$D1390","v":0},{"$f":"'→これより右側　健診センター作業シート'!$B1390","v":0},{"$f":"'→これより右側　健診センター作業シート'!$I1390","v":0},{"$f":"'→これより右側　健診センター作業シート'!$G1390","v":0},{"$f":"'→これより右側　健診センター作業シート'!$H1390","v":0}]
[{"$f":"'→これより右側　健診センター作業シート'!$D1391","v":0},{"$f":"'→これより右側　健診センター作業シート'!$B1391","v":0},{"$f":"'→これより右側　健診センター作業シート'!$I1391","v":0},{"$f":"'→これより右側　健診センター作業シート'!$G1391","v":0},{"$f":"'→これより右側　健診センター作業シート'!$H1391","v":0}]
[{"$f":"'→これより右側　健診センター作業シート'!$D1392","v":0},{"$f":"'→これより右側　健診センター作業シート'!$B1392","v":0},{"$f":"'→これより右側　健診センター作業シート'!$I1392","v":0},{"$f":"'→これより右側　健診センター作業シート'!$G1392","v":0},{"$f":"'→これより右側　健診センター作業シート'!$H1392","v":0}]
[{"$f":"'→これより右側　健診センター作業シート'!$D1393","v":0},{"$f":"'→これより右側　健診センター作業シート'!$B1393","v":0},{"$f":"'→これより右側　健診センター作業シート'!$I1393","v":0},{"$f":"'→これより右側　健診センター作業シート'!$G1393","v":0},{"$f":"'→これより右側　健診センター作業シート'!$H1393","v":0}]
[{"$f":"'→これより右側　健診センター作業シート'!$D1394","v":0},{"$f":"'→これより右側　健診センター作業シート'!$B1394","v":0},{"$f":"'→これより右側　健診センター作業シート'!$I1394","v":0},{"$f":"'→これより右側　健診センター作業シート'!$G1394","v":0},{"$f":"'→これより右側　健診センター作業シート'!$H1394","v":0}]
[{"$f":"'→これより右側　健診センター作業シート'!$D1395","v":0},{"$f":"'→これより右側　健診センター作業シート'!$B1395","v":0},{"$f":"'→これより右側　健診センター作業シート'!$I1395","v":0},{"$f":"'→これより右側　健診センター作業シート'!$G1395","v":0},{"$f":"'→これより右側　健診センター作業シート'!$H1395","v":0}]
[{"$f":"'→これより右側　健診センター作業シート'!$D1396","v":0},{"$f":"'→これより右側　健診センター作業シート'!$B1396","v":0},{"$f":"'→これより右側　健診センター作業シート'!$I1396","v":0},{"$f":"'→これより右側　健診センター作業シート'!$G1396","v":0},{"$f":"'→これより右側　健診センター作業シート'!$H1396","v":0}]
[{"$f":"'→これより右側　健診センター作業シート'!$D1397","v":0},{"$f":"'→これより右側　健診センター作業シート'!$B1397","v":0},{"$f":"'→これより右側　健診センター作業シート'!$I1397","v":0},{"$f":"'→これより右側　健診センター作業シート'!$G1397","v":0},{"$f":"'→これより右側　健診センター作業シート'!$H1397","v":0}]
[{"$f":"'→これより右側　健診センター作業シート'!$D1398","v":0},{"$f":"'→これより右側　健診センター作業シート'!$B1398","v":0},{"$f":"'→これより右側　健診センター作業シート'!$I1398","v":0},{"$f":"'→これより右側　健診センター作業シート'!$G1398","v":0},{"$f":"'→これより右側　健診センター作業シート'!$H1398","v":0}]
[{"$f":"'→これより右側　健診センター作業シート'!$D1399","v":0},{"$f":"'→これより右側　健診センター作業シート'!$B1399","v":0},{"$f":"'→これより右側　健診センター作業シート'!$I1399","v":0},{"$f":"'→これより右側　健診センター作業シート'!$G1399","v":0},{"$f":"'→これより右側　健診センター作業シート'!$H1399","v":0}]
[{"$f":"'→これより右側　健診センター作業シート'!$D1400","v":0},{"$f":"'→これより右側　健診センター作業シート'!$B1400","v":0},{"$f":"'→これより右側　健診センター作業シート'!$I1400","v":0},{"$f":"'→これより右側　健診センター作業シート'!$G1400","v":0},{"$f":"'→これより右側　健診センター作業シート'!$H1400","v":0}]
[{"$f":"'→これより右側　健診センター作業シート'!$D1401","v":0},{"$f":"'→これより右側　健診センター作業シート'!$B1401","v":0},{"$f":"'→これより右側　健診センター作業シート'!$I1401","v":0},{"$f":"'→これより右側　健診センター作業シート'!$G1401","v":0},{"$f":"'→これより右側　健診センター作業シート'!$H1401","v":0}]
[{"$f":"'→これより右側　健診センター作業シート'!$D1402","v":0},{"$f":"'→これより右側　健診センター作業シート'!$B1402","v":0},{"$f":"'→これより右側　健診センター作業シート'!$I1402","v":0},{"$f":"'→これより右側　健診センター作業シート'!$G1402","v":0},{"$f":"'→これより右側　健診センター作業シート'!$H1402","v":0}]
[{"$f":"'→これより右側　健診センター作業シート'!$D1403","v":0},{"$f":"'→これより右側　健診センター作業シート'!$B1403","v":0},{"$f":"'→これより右側　健診センター作業シート'!$I1403","v":0},{"$f":"'→これより右側　健診センター作業シート'!$G1403","v":0},{"$f":"'→これより右側　健診センター作業シート'!$H1403","v":0}]
[{"$f":"'→これより右側　健診センター作業シート'!$D1404","v":0},{"$f":"'→これより右側　健診センター作業シート'!$B1404","v":0},{"$f":"'→これより右側　健診センター作業シート'!$I1404","v":0},{"$f":"'→これより右側　健診センター作業シート'!$G1404","v":0},{"$f":"'→これより右側　健診センター作業シート'!$H1404","v":0}]
[{"$f":"'→これより右側　健診センター作業シート'!$D1405","v":0},{"$f":"'→これより右側　健診センター作業シート'!$B1405","v":0},{"$f":"'→これより右側　健診センター作業シート'!$I1405","v":0},{"$f":"'→これより右側　健診センター作業シート'!$G1405","v":0},{"$f":"'→これより右側　健診センター作業シート'!$H1405","v":0}]
[{"$f":"'→これより右側　健診センター作業シート'!$D1406","v":0},{"$f":"'→これより右側　健診センター作業シート'!$B1406","v":0},{"$f":"'→これより右側　健診センター作業シート'!$I1406","v":0},{"$f":"'→これより右側　健診センター作業シート'!$G1406","v":0},{"$f":"'→これより右側　健診センター作業シート'!$H1406","v":0}]
[{"$f":"'→これより右側　健診センター作業シート'!$D1407","v":0},{"$f":"'→これより右側　健診センター作業シート'!$B1407","v":0},{"$f":"'→これより右側　健診センター作業シート'!$I1407","v":0},{"$f":"'→これより右側　健診センター作業シート'!$G1407","v":0},{"$f":"'→これより右側　健診センター作業シート'!$H1407","v":0}]
[{"$f":"'→これより右側　健診センター作業シート'!$D1408","v":0},{"$f":"'→これより右側　健診センター作業シート'!$B1408","v":0},{"$f":"'→これより右側　健診センター作業シート'!$I1408","v":0},{"$f":"'→これより右側　健診センター作業シート'!$G1408","v":0},{"$f":"'→これより右側　健診センター作業シート'!$H1408","v":0}]
[{"$f":"'→これより右側　健診センター作業シート'!$D1409","v":0},{"$f":"'→これより右側　健診センター作業シート'!$B1409","v":0},{"$f":"'→これより右側　健診センター作業シート'!$I1409","v":0},{"$f":"'→これより右側　健診センター作業シート'!$G1409","v":0},{"$f":"'→これより右側　健診センター作業シート'!$H1409","v":0}]
[{"$f":"'→これより右側　健診センター作業シート'!$D1410","v":0},{"$f":"'→これより右側　健診センター作業シート'!$B1410","v":0},{"$f":"'→これより右側　健診センター作業シート'!$I1410","v":0},{"$f":"'→これより右側　健診センター作業シート'!$G1410","v":0},{"$f":"'→これより右側　健診センター作業シート'!$H1410","v":0}]
[{"$f":"'→これより右側　健診センター作業シート'!$D1411","v":0},{"$f":"'→これより右側　健診センター作業シート'!$B1411","v":0},{"$f":"'→これより右側　健診センター作業シート'!$I1411","v":0},{"$f":"'→これより右側　健診センター作業シート'!$G1411","v":0},{"$f":"'→これより右側　健診センター作業シート'!$H1411","v":0}]
[{"$f":"'→これより右側　健診センター作業シート'!$D1412","v":0},{"$f":"'→これより右側　健診センター作業シート'!$B1412","v":0},{"$f":"'→これより右側　健診センター作業シート'!$I1412","v":0},{"$f":"'→これより右側　健診センター作業シート'!$G1412","v":0},{"$f":"'→これより右側　健診センター作業シート'!$H1412","v":0}]
[{"$f":"'→これより右側　健診センター作業シート'!$D1413","v":0},{"$f":"'→これより右側　健診センター作業シート'!$B1413","v":0},{"$f":"'→これより右側　健診センター作業シート'!$I1413","v":0},{"$f":"'→これより右側　健診センター作業シート'!$G1413","v":0},{"$f":"'→これより右側　健診センター作業シート'!$H1413","v":0}]
[{"$f":"'→これより右側　健診センター作業シート'!$D1414","v":0},{"$f":"'→これより右側　健診センター作業シート'!$B1414","v":0},{"$f":"'→これより右側　健診センター作業シート'!$I1414","v":0},{"$f":"'→これより右側　健診センター作業シート'!$G1414","v":0},{"$f":"'→これより右側　健診センター作業シート'!$H1414","v":0}]
[{"$f":"'→これより右側　健診センター作業シート'!$D1415","v":0},{"$f":"'→これより右側　健診センター作業シート'!$B1415","v":0},{"$f":"'→これより右側　健診センター作業シート'!$I1415","v":0},{"$f":"'→これより右側　健診センター作業シート'!$G1415","v":0},{"$f":"'→これより右側　健診センター作業シート'!$H1415","v":0}]
[{"$f":"'→これより右側　健診センター作業シート'!$D1416","v":0},{"$f":"'→これより右側　健診センター作業シート'!$B1416","v":0},{"$f":"'→これより右側　健診センター作業シート'!$I1416","v":0},{"$f":"'→これより右側　健診センター作業シート'!$G1416","v":0},{"$f":"'→これより右側　健診センター作業シート'!$H1416","v":0}]
[{"$f":"'→これより右側　健診センター作業シート'!$D1417","v":0},{"$f":"'→これより右側　健診センター作業シート'!$B1417","v":0},{"$f":"'→これより右側　健診センター作業シート'!$I1417","v":0},{"$f":"'→これより右側　健診センター作業シート'!$G1417","v":0},{"$f":"'→これより右側　健診センター作業シート'!$H1417","v":0}]
[{"$f":"'→これより右側　健診センター作業シート'!$D1418","v":0},{"$f":"'→これより右側　健診センター作業シート'!$B1418","v":0},{"$f":"'→これより右側　健診センター作業シート'!$I1418","v":0},{"$f":"'→これより右側　健診センター作業シート'!$G1418","v":0},{"$f":"'→これより右側　健診センター作業シート'!$H1418","v":0}]
[{"$f":"'→これより右側　健診センター作業シート'!$D1419","v":0},{"$f":"'→これより右側　健診センター作業シート'!$B1419","v":0},{"$f":"'→これより右側　健診センター作業シート'!$I1419","v":0},{"$f":"'→これより右側　健診センター作業シート'!$G1419","v":0},{"$f":"'→これより右側　健診センター作業シート'!$H1419","v":0}]
[{"$f":"'→これより右側　健診センター作業シート'!$D1420","v":0},{"$f":"'→これより右側　健診センター作業シート'!$B1420","v":0},{"$f":"'→これより右側　健診センター作業シート'!$I1420","v":0},{"$f":"'→これより右側　健診センター作業シート'!$G1420","v":0},{"$f":"'→これより右側　健診センター作業シート'!$H1420","v":0}]
[{"$f":"'→これより右側　健診センター作業シート'!$D1421","v":0},{"$f":"'→これより右側　健診センター作業シート'!$B1421","v":0},{"$f":"'→これより右側　健診センター作業シート'!$I1421","v":0},{"$f":"'→これより右側　健診センター作業シート'!$G1421","v":0},{"$f":"'→これより右側　健診センター作業シート'!$H1421","v":0}]
[{"$f":"'→これより右側　健診センター作業シート'!$D1422","v":0},{"$f":"'→これより右側　健診センター作業シート'!$B1422","v":0},{"$f":"'→これより右側　健診センター作業シート'!$I1422","v":0},{"$f":"'→これより右側　健診センター作業シート'!$G1422","v":0},{"$f":"'→これより右側　健診センター作業シート'!$H1422","v":0}]
[{"$f":"'→これより右側　健診センター作業シート'!$D1423","v":0},{"$f":"'→これより右側　健診センター作業シート'!$B1423","v":0},{"$f":"'→これより右側　健診センター作業シート'!$I1423","v":0},{"$f":"'→これより右側　健診センター作業シート'!$G1423","v":0},{"$f":"'→これより右側　健診センター作業シート'!$H1423","v":0}]
[{"$f":"'→これより右側　健診センター作業シート'!$D1424","v":0},{"$f":"'→これより右側　健診センター作業シート'!$B1424","v":0},{"$f":"'→これより右側　健診センター作業シート'!$I1424","v":0},{"$f":"'→これより右側　健診センター作業シート'!$G1424","v":0},{"$f":"'→これより右側　健診センター作業シート'!$H1424","v":0}]
[{"$f":"'→これより右側　健診センター作業シート'!$D1425","v":0},{"$f":"'→これより右側　健診センター作業シート'!$B1425","v":0},{"$f":"'→これより右側　健診センター作業シート'!$I1425","v":0},{"$f":"'→これより右側　健診センター作業シート'!$G1425","v":0},{"$f":"'→これより右側　健診センター作業シート'!$H1425","v":0}]
[{"$f":"'→これより右側　健診センター作業シート'!$D1426","v":0},{"$f":"'→これより右側　健診センター作業シート'!$B1426","v":0},{"$f":"'→これより右側　健診センター作業シート'!$I1426","v":0},{"$f":"'→これより右側　健診センター作業シート'!$G1426","v":0},{"$f":"'→これより右側　健診センター作業シート'!$H1426","v":0}]
[{"$f":"'→これより右側　健診センター作業シート'!$D1427","v":0},{"$f":"'→これより右側　健診センター作業シート'!$B1427","v":0},{"$f":"'→これより右側　健診センター作業シート'!$I1427","v":0},{"$f":"'→これより右側　健診センター作業シート'!$G1427","v":0},{"$f":"'→これより右側　健診センター作業シート'!$H1427","v":0}]
[{"$f":"'→これより右側　健診センター作業シート'!$D1428","v":0},{"$f":"'→これより右側　健診センター作業シート'!$B1428","v":0},{"$f":"'→これより右側　健診センター作業シート'!$I1428","v":0},{"$f":"'→これより右側　健診センター作業シート'!$G1428","v":0},{"$f":"'→これより右側　健診センター作業シート'!$H1428","v":0}]
[{"$f":"'→これより右側　健診センター作業シート'!$D1429","v":0},{"$f":"'→これより右側　健診センター作業シート'!$B1429","v":0},{"$f":"'→これより右側　健診センター作業シート'!$I1429","v":0},{"$f":"'→これより右側　健診センター作業シート'!$G1429","v":0},{"$f":"'→これより右側　健診センター作業シート'!$H1429","v":0}]
[{"$f":"'→これより右側　健診センター作業シート'!$D1430","v":0},{"$f":"'→これより右側　健診センター作業シート'!$B1430","v":0},{"$f":"'→これより右側　健診センター作業シート'!$I1430","v":0},{"$f":"'→これより右側　健診センター作業シート'!$G1430","v":0},{"$f":"'→これより右側　健診センター作業シート'!$H1430","v":0}]
[{"$f":"'→これより右側　健診センター作業シート'!$D1431","v":0},{"$f":"'→これより右側　健診センター作業シート'!$B1431","v":0},{"$f":"'→これより右側　健診センター作業シート'!$I1431","v":0},{"$f":"'→これより右側　健診センター作業シート'!$G1431","v":0},{"$f":"'→これより右側　健診センター作業シート'!$H1431","v":0}]
[{"$f":"'→これより右側　健診センター作業シート'!$D1432","v":0},{"$f":"'→これより右側　健診センター作業シート'!$B1432","v":0},{"$f":"'→これより右側　健診センター作業シート'!$I1432","v":0},{"$f":"'→これより右側　健診センター作業シート'!$G1432","v":0},{"$f":"'→これより右側　健診センター作業シート'!$H1432","v":0}]
[{"$f":"'→これより右側　健診センター作業シート'!$D1433","v":0},{"$f":"'→これより右側　健診センター作業シート'!$B1433","v":0},{"$f":"'→これより右側　健診センター作業シート'!$I1433","v":0},{"$f":"'→これより右側　健診センター作業シート'!$G1433","v":0},{"$f":"'→これより右側　健診センター作業シート'!$H1433","v":0}]
[{"$f":"'→これより右側　健診センター作業シート'!$D1434","v":0},{"$f":"'→これより右側　健診センター作業シート'!$B1434","v":0},{"$f":"'→これより右側　健診センター作業シート'!$I1434","v":0},{"$f":"'→これより右側　健診センター作業シート'!$G1434","v":0},{"$f":"'→これより右側　健診センター作業シート'!$H1434","v":0}]
[{"$f":"'→これより右側　健診センター作業シート'!$D1435","v":0},{"$f":"'→これより右側　健診センター作業シート'!$B1435","v":0},{"$f":"'→これより右側　健診センター作業シート'!$I1435","v":0},{"$f":"'→これより右側　健診センター作業シート'!$G1435","v":0},{"$f":"'→これより右側　健診センター作業シート'!$H1435","v":0}]
[{"$f":"'→これより右側　健診センター作業シート'!$D1436","v":0},{"$f":"'→これより右側　健診センター作業シート'!$B1436","v":0},{"$f":"'→これより右側　健診センター作業シート'!$I1436","v":0},{"$f":"'→これより右側　健診センター作業シート'!$G1436","v":0},{"$f":"'→これより右側　健診センター作業シート'!$H1436","v":0}]
[{"$f":"'→これより右側　健診センター作業シート'!$D1437","v":0},{"$f":"'→これより右側　健診センター作業シート'!$B1437","v":0},{"$f":"'→これより右側　健診センター作業シート'!$I1437","v":0},{"$f":"'→これより右側　健診センター作業シート'!$G1437","v":0},{"$f":"'→これより右側　健診センター作業シート'!$H1437","v":0}]
[{"$f":"'→これより右側　健診センター作業シート'!$D1438","v":0},{"$f":"'→これより右側　健診センター作業シート'!$B1438","v":0},{"$f":"'→これより右側　健診センター作業シート'!$I1438","v":0},{"$f":"'→これより右側　健診センター作業シート'!$G1438","v":0},{"$f":"'→これより右側　健診センター作業シート'!$H1438","v":0}]
[{"$f":"'→これより右側　健診センター作業シート'!$D1439","v":0},{"$f":"'→これより右側　健診センター作業シート'!$B1439","v":0},{"$f":"'→これより右側　健診センター作業シート'!$I1439","v":0},{"$f":"'→これより右側　健診センター作業シート'!$G1439","v":0},{"$f":"'→これより右側　健診センター作業シート'!$H1439","v":0}]
[{"$f":"'→これより右側　健診センター作業シート'!$D1440","v":0},{"$f":"'→これより右側　健診センター作業シート'!$B1440","v":0},{"$f":"'→これより右側　健診センター作業シート'!$I1440","v":0},{"$f":"'→これより右側　健診センター作業シート'!$G1440","v":0},{"$f":"'→これより右側　健診センター作業シート'!$H1440","v":0}]
[{"$f":"'→これより右側　健診センター作業シート'!$D1441","v":0},{"$f":"'→これより右側　健診センター作業シート'!$B1441","v":0},{"$f":"'→これより右側　健診センター作業シート'!$I1441","v":0},{"$f":"'→これより右側　健診センター作業シート'!$G1441","v":0},{"$f":"'→これより右側　健診センター作業シート'!$H1441","v":0}]
[{"$f":"'→これより右側　健診センター作業シート'!$D1442","v":0},{"$f":"'→これより右側　健診センター作業シート'!$B1442","v":0},{"$f":"'→これより右側　健診センター作業シート'!$I1442","v":0},{"$f":"'→これより右側　健診センター作業シート'!$G1442","v":0},{"$f":"'→これより右側　健診センター作業シート'!$H1442","v":0}]
[{"$f":"'→これより右側　健診センター作業シート'!$D1443","v":0},{"$f":"'→これより右側　健診センター作業シート'!$B1443","v":0},{"$f":"'→これより右側　健診センター作業シート'!$I1443","v":0},{"$f":"'→これより右側　健診センター作業シート'!$G1443","v":0},{"$f":"'→これより右側　健診センター作業シート'!$H1443","v":0}]
[{"$f":"'→これより右側　健診センター作業シート'!$D1444","v":0},{"$f":"'→これより右側　健診センター作業シート'!$B1444","v":0},{"$f":"'→これより右側　健診センター作業シート'!$I1444","v":0},{"$f":"'→これより右側　健診センター作業シート'!$G1444","v":0},{"$f":"'→これより右側　健診センター作業シート'!$H1444","v":0}]
[{"$f":"'→これより右側　健診センター作業シート'!$D1445","v":0},{"$f":"'→これより右側　健診センター作業シート'!$B1445","v":0},{"$f":"'→これより右側　健診センター作業シート'!$I1445","v":0},{"$f":"'→これより右側　健診センター作業シート'!$G1445","v":0},{"$f":"'→これより右側　健診センター作業シート'!$H1445","v":0}]
[{"$f":"'→これより右側　健診センター作業シート'!$D1446","v":0},{"$f":"'→これより右側　健診センター作業シート'!$B1446","v":0},{"$f":"'→これより右側　健診センター作業シート'!$I1446","v":0},{"$f":"'→これより右側　健診センター作業シート'!$G1446","v":0},{"$f":"'→これより右側　健診センター作業シート'!$H1446","v":0}]
[{"$f":"'→これより右側　健診センター作業シート'!$D1447","v":0},{"$f":"'→これより右側　健診センター作業シート'!$B1447","v":0},{"$f":"'→これより右側　健診センター作業シート'!$I1447","v":0},{"$f":"'→これより右側　健診センター作業シート'!$G1447","v":0},{"$f":"'→これより右側　健診センター作業シート'!$H1447","v":0}]
[{"$f":"'→これより右側　健診センター作業シート'!$D1448","v":0},{"$f":"'→これより右側　健診センター作業シート'!$B1448","v":0},{"$f":"'→これより右側　健診センター作業シート'!$I1448","v":0},{"$f":"'→これより右側　健診センター作業シート'!$G1448","v":0},{"$f":"'→これより右側　健診センター作業シート'!$H1448","v":0}]
[{"$f":"'→これより右側　健診センター作業シート'!$D1449","v":0},{"$f":"'→これより右側　健診センター作業シート'!$B1449","v":0},{"$f":"'→これより右側　健診センター作業シート'!$I1449","v":0},{"$f":"'→これより右側　健診センター作業シート'!$G1449","v":0},{"$f":"'→これより右側　健診センター作業シート'!$H1449","v":0}]
[{"$f":"'→これより右側　健診センター作業シート'!$D1450","v":0},{"$f":"'→これより右側　健診センター作業シート'!$B1450","v":0},{"$f":"'→これより右側　健診センター作業シート'!$I1450","v":0},{"$f":"'→これより右側　健診センター作業シート'!$G1450","v":0},{"$f":"'→これより右側　健診センター作業シート'!$H1450","v":0}]
[{"$f":"'→これより右側　健診センター作業シート'!$D1451","v":0},{"$f":"'→これより右側　健診センター作業シート'!$B1451","v":0},{"$f":"'→これより右側　健診センター作業シート'!$I1451","v":0},{"$f":"'→これより右側　健診センター作業シート'!$G1451","v":0},{"$f":"'→これより右側　健診センター作業シート'!$H1451","v":0}]
[{"$f":"'→これより右側　健診センター作業シート'!$D1452","v":0},{"$f":"'→これより右側　健診センター作業シート'!$B1452","v":0},{"$f":"'→これより右側　健診センター作業シート'!$I1452","v":0},{"$f":"'→これより右側　健診センター作業シート'!$G1452","v":0},{"$f":"'→これより右側　健診センター作業シート'!$H1452","v":0}]
[{"$f":"'→これより右側　健診センター作業シート'!$D1453","v":0},{"$f":"'→これより右側　健診センター作業シート'!$B1453","v":0},{"$f":"'→これより右側　健診センター作業シート'!$I1453","v":0},{"$f":"'→これより右側　健診センター作業シート'!$G1453","v":0},{"$f":"'→これより右側　健診センター作業シート'!$H1453","v":0}]
[{"$f":"'→これより右側　健診センター作業シート'!$D1454","v":0},{"$f":"'→これより右側　健診センター作業シート'!$B1454","v":0},{"$f":"'→これより右側　健診センター作業シート'!$I1454","v":0},{"$f":"'→これより右側　健診センター作業シート'!$G1454","v":0},{"$f":"'→これより右側　健診センター作業シート'!$H1454","v":0}]
[{"$f":"'→これより右側　健診センター作業シート'!$D1455","v":0},{"$f":"'→これより右側　健診センター作業シート'!$B1455","v":0},{"$f":"'→これより右側　健診センター作業シート'!$I1455","v":0},{"$f":"'→これより右側　健診センター作業シート'!$G1455","v":0},{"$f":"'→これより右側　健診センター作業シート'!$H1455","v":0}]
[{"$f":"'→これより右側　健診センター作業シート'!$D1456","v":0},{"$f":"'→これより右側　健診センター作業シート'!$B1456","v":0},{"$f":"'→これより右側　健診センター作業シート'!$I1456","v":0},{"$f":"'→これより右側　健診センター作業シート'!$G1456","v":0},{"$f":"'→これより右側　健診センター作業シート'!$H1456","v":0}]
[{"$f":"'→これより右側　健診センター作業シート'!$D1457","v":0},{"$f":"'→これより右側　健診センター作業シート'!$B1457","v":0},{"$f":"'→これより右側　健診センター作業シート'!$I1457","v":0},{"$f":"'→これより右側　健診センター作業シート'!$G1457","v":0},{"$f":"'→これより右側　健診センター作業シート'!$H1457","v":0}]
[{"$f":"'→これより右側　健診センター作業シート'!$D1458","v":0},{"$f":"'→これより右側　健診センター作業シート'!$B1458","v":0},{"$f":"'→これより右側　健診センター作業シート'!$I1458","v":0},{"$f":"'→これより右側　健診センター作業シート'!$G1458","v":0},{"$f":"'→これより右側　健診センター作業シート'!$H1458","v":0}]
[{"$f":"'→これより右側　健診センター作業シート'!$D1459","v":0},{"$f":"'→これより右側　健診センター作業シート'!$B1459","v":0},{"$f":"'→これより右側　健診センター作業シート'!$I1459","v":0},{"$f":"'→これより右側　健診センター作業シート'!$G1459","v":0},{"$f":"'→これより右側　健診センター作業シート'!$H1459","v":0}]
[{"$f":"'→これより右側　健診センター作業シート'!$D1460","v":0},{"$f":"'→これより右側　健診センター作業シート'!$B1460","v":0},{"$f":"'→これより右側　健診センター作業シート'!$I1460","v":0},{"$f":"'→これより右側　健診センター作業シート'!$G1460","v":0},{"$f":"'→これより右側　健診センター作業シート'!$H1460","v":0}]
[{"$f":"'→これより右側　健診センター作業シート'!$D1461","v":0},{"$f":"'→これより右側　健診センター作業シート'!$B1461","v":0},{"$f":"'→これより右側　健診センター作業シート'!$I1461","v":0},{"$f":"'→これより右側　健診センター作業シート'!$G1461","v":0},{"$f":"'→これより右側　健診センター作業シート'!$H1461","v":0}]
[{"$f":"'→これより右側　健診センター作業シート'!$D1462","v":0},{"$f":"'→これより右側　健診センター作業シート'!$B1462","v":0},{"$f":"'→これより右側　健診センター作業シート'!$I1462","v":0},{"$f":"'→これより右側　健診センター作業シート'!$G1462","v":0},{"$f":"'→これより右側　健診センター作業シート'!$H1462","v":0}]
[{"$f":"'→これより右側　健診センター作業シート'!$D1463","v":0},{"$f":"'→これより右側　健診センター作業シート'!$B1463","v":0},{"$f":"'→これより右側　健診センター作業シート'!$I1463","v":0},{"$f":"'→これより右側　健診センター作業シート'!$G1463","v":0},{"$f":"'→これより右側　健診センター作業シート'!$H1463","v":0}]
[{"$f":"'→これより右側　健診センター作業シート'!$D1464","v":0},{"$f":"'→これより右側　健診センター作業シート'!$B1464","v":0},{"$f":"'→これより右側　健診センター作業シート'!$I1464","v":0},{"$f":"'→これより右側　健診センター作業シート'!$G1464","v":0},{"$f":"'→これより右側　健診センター作業シート'!$H1464","v":0}]
[{"$f":"'→これより右側　健診センター作業シート'!$D1465","v":0},{"$f":"'→これより右側　健診センター作業シート'!$B1465","v":0},{"$f":"'→これより右側　健診センター作業シート'!$I1465","v":0},{"$f":"'→これより右側　健診センター作業シート'!$G1465","v":0},{"$f":"'→これより右側　健診センター作業シート'!$H1465","v":0}]
[{"$f":"'→これより右側　健診センター作業シート'!$D1466","v":0},{"$f":"'→これより右側　健診センター作業シート'!$B1466","v":0},{"$f":"'→これより右側　健診センター作業シート'!$I1466","v":0},{"$f":"'→これより右側　健診センター作業シート'!$G1466","v":0},{"$f":"'→これより右側　健診センター作業シート'!$H1466","v":0}]
[{"$f":"'→これより右側　健診センター作業シート'!$D1467","v":0},{"$f":"'→これより右側　健診センター作業シート'!$B1467","v":0},{"$f":"'→これより右側　健診センター作業シート'!$I1467","v":0},{"$f":"'→これより右側　健診センター作業シート'!$G1467","v":0},{"$f":"'→これより右側　健診センター作業シート'!$H1467","v":0}]
[{"$f":"'→これより右側　健診センター作業シート'!$D1468","v":0},{"$f":"'→これより右側　健診センター作業シート'!$B1468","v":0},{"$f":"'→これより右側　健診センター作業シート'!$I1468","v":0},{"$f":"'→これより右側　健診センター作業シート'!$G1468","v":0},{"$f":"'→これより右側　健診センター作業シート'!$H1468","v":0}]
[{"$f":"'→これより右側　健診センター作業シート'!$D1469","v":0},{"$f":"'→これより右側　健診センター作業シート'!$B1469","v":0},{"$f":"'→これより右側　健診センター作業シート'!$I1469","v":0},{"$f":"'→これより右側　健診センター作業シート'!$G1469","v":0},{"$f":"'→これより右側　健診センター作業シート'!$H1469","v":0}]
[{"$f":"'→これより右側　健診センター作業シート'!$D1470","v":0},{"$f":"'→これより右側　健診センター作業シート'!$B1470","v":0},{"$f":"'→これより右側　健診センター作業シート'!$I1470","v":0},{"$f":"'→これより右側　健診センター作業シート'!$G1470","v":0},{"$f":"'→これより右側　健診センター作業シート'!$H1470","v":0}]
[{"$f":"'→これより右側　健診センター作業シート'!$D1471","v":0},{"$f":"'→これより右側　健診センター作業シート'!$B1471","v":0},{"$f":"'→これより右側　健診センター作業シート'!$I1471","v":0},{"$f":"'→これより右側　健診センター作業シート'!$G1471","v":0},{"$f":"'→これより右側　健診センター作業シート'!$H1471","v":0}]
[{"$f":"'→これより右側　健診センター作業シート'!$D1472","v":0},{"$f":"'→これより右側　健診センター作業シート'!$B1472","v":0},{"$f":"'→これより右側　健診センター作業シート'!$I1472","v":0},{"$f":"'→これより右側　健診センター作業シート'!$G1472","v":0},{"$f":"'→これより右側　健診センター作業シート'!$H1472","v":0}]
[{"$f":"'→これより右側　健診センター作業シート'!$D1473","v":0},{"$f":"'→これより右側　健診センター作業シート'!$B1473","v":0},{"$f":"'→これより右側　健診センター作業シート'!$I1473","v":0},{"$f":"'→これより右側　健診センター作業シート'!$G1473","v":0},{"$f":"'→これより右側　健診センター作業シート'!$H1473","v":0}]
[{"$f":"'→これより右側　健診センター作業シート'!$D1474","v":0},{"$f":"'→これより右側　健診センター作業シート'!$B1474","v":0},{"$f":"'→これより右側　健診センター作業シート'!$I1474","v":0},{"$f":"'→これより右側　健診センター作業シート'!$G1474","v":0},{"$f":"'→これより右側　健診センター作業シート'!$H1474","v":0}]
[{"$f":"'→これより右側　健診センター作業シート'!$D1475","v":0},{"$f":"'→これより右側　健診センター作業シート'!$B1475","v":0},{"$f":"'→これより右側　健診センター作業シート'!$I1475","v":0},{"$f":"'→これより右側　健診センター作業シート'!$G1475","v":0},{"$f":"'→これより右側　健診センター作業シート'!$H1475","v":0}]
[{"$f":"'→これより右側　健診センター作業シート'!$D1476","v":0},{"$f":"'→これより右側　健診センター作業シート'!$B1476","v":0},{"$f":"'→これより右側　健診センター作業シート'!$I1476","v":0},{"$f":"'→これより右側　健診センター作業シート'!$G1476","v":0},{"$f":"'→これより右側　健診センター作業シート'!$H1476","v":0}]
[{"$f":"'→これより右側　健診センター作業シート'!$D1477","v":0},{"$f":"'→これより右側　健診センター作業シート'!$B1477","v":0},{"$f":"'→これより右側　健診センター作業シート'!$I1477","v":0},{"$f":"'→これより右側　健診センター作業シート'!$G1477","v":0},{"$f":"'→これより右側　健診センター作業シート'!$H1477","v":0}]
[{"$f":"'→これより右側　健診センター作業シート'!$D1478","v":0},{"$f":"'→これより右側　健診センター作業シート'!$B1478","v":0},{"$f":"'→これより右側　健診センター作業シート'!$I1478","v":0},{"$f":"'→これより右側　健診センター作業シート'!$G1478","v":0},{"$f":"'→これより右側　健診センター作業シート'!$H1478","v":0}]
[{"$f":"'→これより右側　健診センター作業シート'!$D1479","v":0},{"$f":"'→これより右側　健診センター作業シート'!$B1479","v":0},{"$f":"'→これより右側　健診センター作業シート'!$I1479","v":0},{"$f":"'→これより右側　健診センター作業シート'!$G1479","v":0},{"$f":"'→これより右側　健診センター作業シート'!$H1479","v":0}]
[{"$f":"'→これより右側　健診センター作業シート'!$D1480","v":0},{"$f":"'→これより右側　健診センター作業シート'!$B1480","v":0},{"$f":"'→これより右側　健診センター作業シート'!$I1480","v":0},{"$f":"'→これより右側　健診センター作業シート'!$G1480","v":0},{"$f":"'→これより右側　健診センター作業シート'!$H1480","v":0}]
[{"$f":"'→これより右側　健診センター作業シート'!$D1481","v":0},{"$f":"'→これより右側　健診センター作業シート'!$B1481","v":0},{"$f":"'→これより右側　健診センター作業シート'!$I1481","v":0},{"$f":"'→これより右側　健診センター作業シート'!$G1481","v":0},{"$f":"'→これより右側　健診センター作業シート'!$H1481","v":0}]
[{"$f":"'→これより右側　健診センター作業シート'!$D1482","v":0},{"$f":"'→これより右側　健診センター作業シート'!$B1482","v":0},{"$f":"'→これより右側　健診センター作業シート'!$I1482","v":0},{"$f":"'→これより右側　健診センター作業シート'!$G1482","v":0},{"$f":"'→これより右側　健診センター作業シート'!$H1482","v":0}]
[{"$f":"'→これより右側　健診センター作業シート'!$D1483","v":0},{"$f":"'→これより右側　健診センター作業シート'!$B1483","v":0},{"$f":"'→これより右側　健診センター作業シート'!$I1483","v":0},{"$f":"'→これより右側　健診センター作業シート'!$G1483","v":0},{"$f":"'→これより右側　健診センター作業シート'!$H1483","v":0}]
[{"$f":"'→これより右側　健診センター作業シート'!$D1484","v":0},{"$f":"'→これより右側　健診センター作業シート'!$B1484","v":0},{"$f":"'→これより右側　健診センター作業シート'!$I1484","v":0},{"$f":"'→これより右側　健診センター作業シート'!$G1484","v":0},{"$f":"'→これより右側　健診センター作業シート'!$H1484","v":0}]
[{"$f":"'→これより右側　健診センター作業シート'!$D1485","v":0},{"$f":"'→これより右側　健診センター作業シート'!$B1485","v":0},{"$f":"'→これより右側　健診センター作業シート'!$I1485","v":0},{"$f":"'→これより右側　健診センター作業シート'!$G1485","v":0},{"$f":"'→これより右側　健診センター作業シート'!$H1485","v":0}]
[{"$f":"'→これより右側　健診センター作業シート'!$D1486","v":0},{"$f":"'→これより右側　健診センター作業シート'!$B1486","v":0},{"$f":"'→これより右側　健診センター作業シート'!$I1486","v":0},{"$f":"'→これより右側　健診センター作業シート'!$G1486","v":0},{"$f":"'→これより右側　健診センター作業シート'!$H1486","v":0}]
[{"$f":"'→これより右側　健診センター作業シート'!$D1487","v":0},{"$f":"'→これより右側　健診センター作業シート'!$B1487","v":0},{"$f":"'→これより右側　健診センター作業シート'!$I1487","v":0},{"$f":"'→これより右側　健診センター作業シート'!$G1487","v":0},{"$f":"'→これより右側　健診センター作業シート'!$H1487","v":0}]
[{"$f":"'→これより右側　健診センター作業シート'!$D1488","v":0},{"$f":"'→これより右側　健診センター作業シート'!$B1488","v":0},{"$f":"'→これより右側　健診センター作業シート'!$I1488","v":0},{"$f":"'→これより右側　健診センター作業シート'!$G1488","v":0},{"$f":"'→これより右側　健診センター作業シート'!$H1488","v":0}]
[{"$f":"'→これより右側　健診センター作業シート'!$D1489","v":0},{"$f":"'→これより右側　健診センター作業シート'!$B1489","v":0},{"$f":"'→これより右側　健診センター作業シート'!$I1489","v":0},{"$f":"'→これより右側　健診センター作業シート'!$G1489","v":0},{"$f":"'→これより右側　健診センター作業シート'!$H1489","v":0}]
[{"$f":"'→これより右側　健診センター作業シート'!$D1490","v":0},{"$f":"'→これより右側　健診センター作業シート'!$B1490","v":0},{"$f":"'→これより右側　健診センター作業シート'!$I1490","v":0},{"$f":"'→これより右側　健診センター作業シート'!$G1490","v":0},{"$f":"'→これより右側　健診センター作業シート'!$H1490","v":0}]
[{"$f":"'→これより右側　健診センター作業シート'!$D1491","v":0},{"$f":"'→これより右側　健診センター作業シート'!$B1491","v":0},{"$f":"'→これより右側　健診センター作業シート'!$I1491","v":0},{"$f":"'→これより右側　健診センター作業シート'!$G1491","v":0},{"$f":"'→これより右側　健診センター作業シート'!$H1491","v":0}]
[{"$f":"'→これより右側　健診センター作業シート'!$D1492","v":0},{"$f":"'→これより右側　健診センター作業シート'!$B1492","v":0},{"$f":"'→これより右側　健診センター作業シート'!$I1492","v":0},{"$f":"'→これより右側　健診センター作業シート'!$G1492","v":0},{"$f":"'→これより右側　健診センター作業シート'!$H1492","v":0}]
[{"$f":"'→これより右側　健診センター作業シート'!$D1493","v":0},{"$f":"'→これより右側　健診センター作業シート'!$B1493","v":0},{"$f":"'→これより右側　健診センター作業シート'!$I1493","v":0},{"$f":"'→これより右側　健診センター作業シート'!$G1493","v":0},{"$f":"'→これより右側　健診センター作業シート'!$H1493","v":0}]
[{"$f":"'→これより右側　健診センター作業シート'!$D1494","v":0},{"$f":"'→これより右側　健診センター作業シート'!$B1494","v":0},{"$f":"'→これより右側　健診センター作業シート'!$I1494","v":0},{"$f":"'→これより右側　健診センター作業シート'!$G1494","v":0},{"$f":"'→これより右側　健診センター作業シート'!$H1494","v":0}]
[{"$f":"'→これより右側　健診センター作業シート'!$D1495","v":0},{"$f":"'→これより右側　健診センター作業シート'!$B1495","v":0},{"$f":"'→これより右側　健診センター作業シート'!$I1495","v":0},{"$f":"'→これより右側　健診センター作業シート'!$G1495","v":0},{"$f":"'→これより右側　健診センター作業シート'!$H1495","v":0}]
[{"$f":"'→これより右側　健診センター作業シート'!$D1496","v":0},{"$f":"'→これより右側　健診センター作業シート'!$B1496","v":0},{"$f":"'→これより右側　健診センター作業シート'!$I1496","v":0},{"$f":"'→これより右側　健診センター作業シート'!$G1496","v":0},{"$f":"'→これより右側　健診センター作業シート'!$H1496","v":0}]
[{"$f":"'→これより右側　健診センター作業シート'!$D1497","v":0},{"$f":"'→これより右側　健診センター作業シート'!$B1497","v":0},{"$f":"'→これより右側　健診センター作業シート'!$I1497","v":0},{"$f":"'→これより右側　健診センター作業シート'!$G1497","v":0},{"$f":"'→これより右側　健診センター作業シート'!$H1497","v":0}]
[{"$f":"'→これより右側　健診センター作業シート'!$D1498","v":0},{"$f":"'→これより右側　健診センター作業シート'!$B1498","v":0},{"$f":"'→これより右側　健診センター作業シート'!$I1498","v":0},{"$f":"'→これより右側　健診センター作業シート'!$G1498","v":0},{"$f":"'→これより右側　健診センター作業シート'!$H1498","v":0}]
[{"$f":"'→これより右側　健診センター作業シート'!$D1499","v":0},{"$f":"'→これより右側　健診センター作業シート'!$B1499","v":0},{"$f":"'→これより右側　健診センター作業シート'!$I1499","v":0},{"$f":"'→これより右側　健診センター作業シート'!$G1499","v":0},{"$f":"'→これより右側　健診センター作業シート'!$H1499","v":0}]
[{"$f":"'→これより右側　健診センター作業シート'!$D1500","v":0},{"$f":"'→これより右側　健診センター作業シート'!$B1500","v":0},{"$f":"'→これより右側　健診センター作業シート'!$I1500","v":0},{"$f":"'→これより右側　健診センター作業シート'!$G1500","v":0},{"$f":"'→これより右側　健診センター作業シート'!$H1500","v":0}]